{"text_format":"1","workbook":"xlsx","n_sheets":14,"sheets":["Menu","Data","Volume Summary","Class Summary","Speed Summary","Vol Graph","Traffic Data Summary","Offsets","ImportData","RawData_HeadingInfo","RawData","Dir1","Dir2","Dir_Both"],"not_rendered":{"charts":3,"images":17,"macros":1,"external_links":1,"defined_names":31,"comments":0,"pivot_tables":0},"unopened":[],"bounds":{"document_bytes":16777216,"sheet_cells":100000,"rows_first":2000,"rows_last":500,"rows_between":2000,"halvings":0,"cell_chars":16384,"cell_head_chars":4096},"cells_cut":0,"cells_raw":0,"read":"whole","date_system":"1900"}

{"sheet":"Menu","index":0,"n_rows":6,"n_cols":8,"rows_kept":6,"cut":false,"hidden":false,"merged":[[1,0,8,1],[5,7,5,10],[3,7,3,10],[4,7,4,10]]}
[]
[null,null,null,null,null,null,"Site",{"$f":"+Offsets!G3","v":"Piercy End - North"}]
[null,null,null,null,null,null,"Location",{"$f":"+Offsets!H3","v":"Kirkbymoorside"}]
[null,null,null,null,null,null,"Site No",{"$f":"Offsets!I3","v":2}]
[null,null,null,null,null,null,"Directions",{"$f":"+Offsets!J3&\" \"&+Offsets!K3","v":"NB SB"}]
[null,null,null,null,null,null,"Start",{"$f":"+Offsets!L3","v":"2022-05-11"}]

{"sheet":"Data","index":1,"n_rows":6571,"n_cols":189,"rows_kept":562,"cut":true,"hidden":true,"merged":[[6381,159,6381,168],[6381,169,6381,178],[6381,179,6381,188],[6353,143,6354,143],[6353,144,6354,144],[6353,145,6354,145],[6353,146,6354,146],[6353,147,6354,147],[6353,148,6354,148],[6353,149,6354,149],[6353,150,6354,150],[6353,151,6354,151],[6352,143,6352,155],[6352,156,6352,162],[6352,163,6352,169],[6352,170,6352,176],[6352,177,6352,179],[6353,152,6354,152],[6353,153,6354,153],[6353,154,6354,154],[6353,155,6354,155],[6353,177,6354,177],[6353,178,6354,178],[6353,179,6354,179],[6352,0,6354,1],[6352,2,6352,36],[6352,37,6353,38],[6352,41,6352,75],[6352,76,6353,77],[6352,78,6352,114],[6352,115,6353,116],[6352,117,6352,129],[6352,130,6352,142],[6353,138,6354,138],[6353,139,6354,139],[6353,140,6354,140],[6353,141,6354,141],[6353,142,6354,142],[6353,2,6353,13],[6353,14,6353,36],[6353,41,6353,52],[6353,80,6353,91],[6353,92,6353,114],[6353,117,6354,117],[6353,125,6354,125],[6353,126,6354,126],[6353,127,6354,127],[6353,128,6354,128],[6353,129,6354,129],[6134,2,6134,13],[6134,14,6134,36],[6134,41,6134,52],[6134,80,6134,91],[6134,92,6134,114],[6134,117,6135,117],[6134,125,6135,125],[6134,126,6135,126],[6134,127,6135,127],[6134,128,6135,128],[6134,129,6135,129],[6134,130,6135,130],[6134,131,6135,131],[6134,132,6135,132],[6134,133,6135,133],[6353,136,6354,136],[6353,137,6354,137],[6353,130,6354,130],[6353,131,6354,131],[6353,132,6354,132],[6353,133,6354,133],[6353,134,6354,134],[6353,135,6354,135],[6134,178,6135,178],[6134,179,6135,179],[6162,159,6162,168],[6162,169,6162,178],[6162,179,6162,188],[6134,143,6135,143],[6134,144,6135,144],[6134,145,6135,145],[6134,146,6135,146],[6134,147,6135,147],[6134,148,6135,148],[6134,149,6135,149],[6134,150,6135,150],[6134,151,6135,151],[6133,143,6133,155],[6133,156,6133,162],[6133,163,6133,169],[6133,170,6133,176],[6133,177,6133,179],[6134,152,6135,152],[6134,153,6135,153],[6134,154,6135,154],[5943,159,5943,168],[5943,169,5943,178],[5943,179,5943,188],[5915,143,5916,143],[5915,144,5916,144],[5915,145,5916,145],[5915,146,5916,146],[5915,147,5916,147],[5915,148,5916,148],[5915,149,5916,149],[5915,150,5916,150],[5915,151,5916,151],[6134,134,6135,134],[6134,135,6135,135],[6134,136,6135,136],[6134,137,6135,137],[6133,0,6135,1],[6133,2,6133,36],[6133,37,6134,38],[6133,41,6133,75],[6133,76,6134,77],[6133,78,6133,114],[6133,115,6134,116],[6133,117,6133,129],[6133,130,6133,142],[6134,138,6135,138],[6134,139,6135,139],[6134,140,6135,140],[6134,141,6135,141],[6134,142,6135,142],[6134,155,6135,155],[6134,177,6135,177],[5914,143,5914,155],[5914,156,5914,162],[5914,163,5914,169],[5914,170,5914,176],[5914,177,5914,179],[5915,2,5915,13],[5915,14,5915,36],[5915,41,5915,52],[5915,80,5915,91],[5915,92,5915,114],[5915,117,5916,117],[5915,125,5916,125],[5915,126,5916,126],[5915,127,5916,127],[5915,128,5916,128],[5915,129,5916,129],[5915,130,5916,130],[5915,131,5916,131],[5915,132,5916,132],[5915,133,5916,133],[5915,134,5916,134],[5915,135,5916,135],[5915,136,5916,136],[5915,137,5916,137],[5915,152,5916,152],[5915,153,5916,153],[5915,154,5916,154],[5915,155,5916,155],[5915,177,5916,177],[5915,178,5916,178],[5915,179,5916,179],[5914,0,5916,1],[5914,2,5914,36],[5914,37,5915,38],[5914,41,5914,75],[5914,76,5915,77],[5914,78,5914,114],[5914,115,5915,116],[5914,117,5914,129],[5914,130,5914,142],[5915,138,5916,138],[5915,139,5916,139],[5915,140,5916,140],[5915,141,5916,141],[5915,142,5916,142],[5696,152,5697,152],[5696,153,5697,153],[5696,154,5697,154],[5696,2,5696,13],[5696,14,5696,36],[5696,41,5696,52],[5696,80,5696,91],[5696,92,5696,114],[5696,117,5697,117],[5696,125,5697,125],[5696,126,5697,126],[5696,127,5697,127],[5696,128,5697,128],[5696,129,5697,129],[5696,130,5697,130],[5696,131,5697,131],[5696,132,5697,132],[5696,133,5697,133],[5696,178,5697,178],[5696,179,5697,179],[5724,159,5724,168],[5724,169,5724,178],[5724,179,5724,188],[5696,143,5697,143],[5696,144,5697,144],[5696,145,5697,145],[5696,146,5697,146],[5696,147,5697,147],[5696,148,5697,148],[5696,149,5697,149],[5696,150,5697,150],[5696,151,5697,151],[5695,143,5695,155],[5695,156,5695,162],[5695,163,5695,169],[5695,170,5695,176],[5695,177,5695,179],[5505,159,5505,168],[5505,169,5505,178],[5505,179,5505,188],[5477,143,5478,143],[5477,144,5478,144],[5477,145,5478,145],[5477,146,5478,146],[5477,147,5478,147],[5477,148,5478,148],[5477,149,5478,149],[5477,150,5478,150],[5477,151,5478,151],[5696,134,5697,134],[5696,135,5697,135],[5696,136,5697,136],[5696,137,5697,137],[5695,0,5697,1],[5695,2,5695,36],[5695,37,5696,38],[5695,41,5695,75],[5695,76,5696,77],[5695,78,5695,114],[5695,115,5696,116],[5695,117,5695,129],[5695,130,5695,142],[5696,138,5697,138],[5696,139,5697,139],[5696,140,5697,140],[5696,141,5697,141],[5696,142,5697,142],[5696,155,5697,155],[5696,177,5697,177],[5476,143,5476,155],[5476,156,5476,162],[5476,163,5476,169],[5476,170,5476,176],[5476,177,5476,179],[5477,2,5477,13],[5477,14,5477,36],[5477,41,5477,52],[5477,80,5477,91],[5477,92,5477,114],[5477,117,5478,117],[5477,125,5478,125],[5477,126,5478,126],[5477,127,5478,127],[5477,128,5478,128],[5477,129,5478,129],[5477,130,5478,130],[5477,131,5478,131],[5477,132,5478,132],[5477,133,5478,133],[5477,134,5478,134],[5477,135,5478,135],[5477,136,5478,136],[5477,137,5478,137],[5477,152,5478,152],[5477,153,5478,153],[5477,154,5478,154],[5477,155,5478,155],[5477,177,5478,177],[5477,178,5478,178],[5477,179,5478,179],[5476,0,5478,1],[5476,2,5476,36],[5476,37,5477,38],[5476,41,5476,75],[5476,76,5477,77],[5476,78,5476,114],[5476,115,5477,116],[5476,117,5476,129],[5476,130,5476,142],[5477,138,5478,138],[5477,139,5478,139],[5477,140,5478,140],[5477,141,5478,141],[5477,142,5478,142],[5258,152,5259,152],[5258,153,5259,153],[5258,154,5259,154],[5258,2,5258,13],[5258,14,5258,36],[5258,41,5258,52],[5258,80,5258,91],[5258,92,5258,114],[5258,117,5259,117],[5258,125,5259,125],[5258,126,5259,126],[5258,127,5259,127],[5258,128,5259,128],[5258,129,5259,129],[5258,130,5259,130],[5258,131,5259,131],[5258,132,5259,132],[5258,133,5259,133],[5258,178,5259,178],[5258,179,5259,179],[5286,159,5286,168],[5286,169,5286,178],[5286,179,5286,188],[5258,143,5259,143],[5258,144,5259,144],[5258,145,5259,145],[5258,146,5259,146],[5258,147,5259,147],[5258,148,5259,148],[5258,149,5259,149],[5258,150,5259,150],[5258,151,5259,151],[5257,143,5257,155],[5257,156,5257,162],[5257,163,5257,169],[5257,170,5257,176],[5257,177,5257,179],[5067,159,5067,168],[5067,169,5067,178],[5067,179,5067,188],[5039,143,5040,143],[5039,144,5040,144],[5039,145,5040,145],[5039,146,5040,146],[5039,147,5040,147],[5039,148,5040,148],[5039,149,5040,149],[5039,150,5040,150],[5039,151,5040,151],[5258,134,5259,134],[5258,135,5259,135],[5258,136,5259,136],[5258,137,5259,137],[5257,0,5259,1],[5257,2,5257,36],[5257,37,5258,38],[5257,41,5257,75],[5257,76,5258,77],[5257,78,5257,114],[5257,115,5258,116],[5257,117,5257,129],[5257,130,5257,142],[5258,138,5259,138],[5258,139,5259,139],[5258,140,5259,140],[5258,141,5259,141],[5258,142,5259,142],[5258,155,5259,155],[5258,177,5259,177],[5038,143,5038,155],[5038,156,5038,162],[5038,163,5038,169],[5038,170,5038,176],[5038,177,5038,179],[5039,2,5039,13],[5039,14,5039,36],[5039,41,5039,52],[5039,80,5039,91],[5039,92,5039,114],[5039,117,5040,117],[5039,125,5040,125],[5039,126,5040,126],[5039,127,5040,127],[5039,128,5040,128],[5039,129,5040,129],[5039,130,5040,130],[5039,131,5040,131],[5039,132,5040,132],[5039,133,5040,133],[5039,134,5040,134],[5039,135,5040,135],[5039,136,5040,136],[5039,137,5040,137],[5039,152,5040,152],[5039,153,5040,153],[5039,154,5040,154],[5039,155,5040,155],[5039,177,5040,177],[5039,178,5040,178],[5039,179,5040,179],[5038,0,5040,1],[5038,2,5038,36],[5038,37,5039,38],[5038,41,5038,75],[5038,76,5039,77],[5038,78,5038,114],[5038,115,5039,116],[5038,117,5038,129],[5038,130,5038,142],[5039,138,5040,138],[5039,139,5040,139],[5039,140,5040,140],[5039,141,5040,141],[5039,142,5040,142],[4820,152,4821,152],[4820,153,4821,153],[4820,154,4821,154],[4820,2,4820,13],[4820,14,4820,36],[4820,41,4820,52],[4820,80,4820,91],[4820,92,4820,114],[4820,117,4821,117],[4820,125,4821,125],[4820,126,4821,126],[4820,127,4821,127],[4820,128,4821,128],[4820,129,4821,129],[4820,130,4821,130],[4820,131,4821,131],[4820,132,4821,132],[4820,133,4821,133],[4820,178,4821,178],[4820,179,4821,179],[4848,159,4848,168],[4848,169,4848,178],[4848,179,4848,188],[4820,143,4821,143],[4820,144,4821,144],[4820,145,4821,145],[4820,146,4821,146],[4820,147,4821,147],[4820,148,4821,148],[4820,149,4821,149],[4820,150,4821,150],[4820,151,4821,151],[4819,143,4819,155],[4819,156,4819,162],[4819,163,4819,169],[4819,170,4819,176],[4819,177,4819,179],[4629,159,4629,168],[4629,169,4629,178],[4629,179,4629,188],[4601,143,4602,143],[4601,144,4602,144],[4601,145,4602,145],[4601,146,4602,146],[4601,147,4602,147],[4601,148,4602,148],[4601,149,4602,149],[4601,150,4602,150],[4601,151,4602,151],[4820,134,4821,134],[4820,135,4821,135],[4820,136,4821,136],[4820,137,4821,137],[4819,0,4821,1],[4819,2,4819,36],[4819,37,4820,38],[4819,41,4819,75],[4819,76,4820,77],[4819,78,4819,114],[4819,115,4820,116],[4819,117,4819,129],[4819,130,4819,142],[4820,138,4821,138],[4820,139,4821,139],[4820,140,4821,140],[4820,141,4821,141],[4820,142,4821,142],[4820,155,4821,155],[4820,177,4821,177],[4600,143,4600,155],[4600,156,4600,162],[4600,163,4600,169],[4600,170,4600,176],[4600,177,4600,179],[4601,2,4601,13],[4601,14,4601,36],[4601,41,4601,52],[4601,80,4601,91],[4601,92,4601,114],[4601,117,4602,117],[4601,125,4602,125],[4601,126,4602,126],[4601,127,4602,127],[4601,128,4602,128],[4601,129,4602,129],[4601,130,4602,130],[4601,131,4602,131],[4601,132,4602,132],[4601,133,4602,133],[4601,134,4602,134],[4601,135,4602,135],[4601,136,4602,136],[4601,137,4602,137],[4601,152,4602,152],[4601,153,4602,153],[4601,154,4602,154],[4601,155,4602,155],[4601,177,4602,177],[4601,178,4602,178],[4601,179,4602,179],[4600,0,4602,1],[4600,2,4600,36],[4600,37,4601,38],[4600,41,4600,75],[4600,76,4601,77],[4600,78,4600,114],[4600,115,4601,116],[4600,117,4600,129],[4600,130,4600,142],[4601,138,4602,138],[4601,139,4602,139],[4601,140,4602,140],[4601,141,4602,141],[4601,142,4602,142],[4382,152,4383,152],[4382,153,4383,153],[4382,154,4383,154],[4382,2,4382,13],[4382,14,4382,36],[4382,41,4382,52],[4382,80,4382,91],[4382,92,4382,114],[4382,117,4383,117],[4382,125,4383,125],[4382,126,4383,126],[4382,127,4383,127],[4382,128,4383,128],[4382,129,4383,129],[4382,130,4383,130],[4382,131,4383,131],[4382,132,4383,132],[4382,133,4383,133],[4382,178,4383,178],[4382,179,4383,179],[4410,159,4410,168],[4410,169,4410,178],[4410,179,4410,188],[4382,143,4383,143],[4382,144,4383,144],[4382,145,4383,145],[4382,146,4383,146],[4382,147,4383,147],[4382,148,4383,148],[4382,149,4383,149],[4382,150,4383,150],[4382,151,4383,151],[4381,143,4381,155],[4381,156,4381,162],[4381,163,4381,169],[4381,170,4381,176],[4381,177,4381,179],[4191,159,4191,168],[4191,169,4191,178],[4191,179,4191,188],[4163,143,4164,143],[4163,144,4164,144],[4163,145,4164,145],[4163,146,4164,146],[4163,147,4164,147],[4163,148,4164,148],[4163,149,4164,149],[4163,150,4164,150],[4163,151,4164,151],[4382,134,4383,134],[4382,135,4383,135],[4382,136,4383,136],[4382,137,4383,137],[4381,0,4383,1],[4381,2,4381,36],[4381,37,4382,38],[4381,41,4381,75],[4381,76,4382,77],[4381,78,4381,114],[4381,115,4382,116],[4381,117,4381,129],[4381,130,4381,142],[4382,138,4383,138],[4382,139,4383,139],[4382,140,4383,140],[4382,141,4383,141],[4382,142,4383,142],[4382,155,4383,155],[4382,177,4383,177],[4162,143,4162,155],[4162,156,4162,162],[4162,163,4162,169],[4162,170,4162,176],[4162,177,4162,179],[4163,2,4163,13],[4163,14,4163,36],[4163,41,4163,52],[4163,80,4163,91],[4163,92,4163,114],[4163,117,4164,117],[4163,125,4164,125],[4163,126,4164,126],[4163,127,4164,127],[4163,128,4164,128],[4163,129,4164,129],[4163,130,4164,130],[4163,131,4164,131],[4163,132,4164,132],[4163,133,4164,133],[4163,134,4164,134],[4163,135,4164,135],[4163,136,4164,136],[4163,137,4164,137],[4163,152,4164,152],[4163,153,4164,153],[4163,154,4164,154],[4163,155,4164,155],[4163,177,4164,177],[4163,178,4164,178],[4163,179,4164,179],[4162,0,4164,1],[4162,2,4162,36],[4162,37,4163,38],[4162,41,4162,75],[4162,76,4163,77],[4162,78,4162,114],[4162,115,4163,116],[4162,117,4162,129],[4162,130,4162,142],[4163,138,4164,138],[4163,139,4164,139],[4163,140,4164,140],[4163,141,4164,141],[4163,142,4164,142],[3944,152,3945,152],[3944,153,3945,153],[3944,154,3945,154],[3944,2,3944,13],[3944,14,3944,36],[3944,41,3944,52],[3944,80,3944,91],[3944,92,3944,114],[3944,117,3945,117],[3944,125,3945,125],[3944,126,3945,126],[3944,127,3945,127],[3944,128,3945,128],[3944,129,3945,129],[3944,130,3945,130],[3944,131,3945,131],[3944,132,3945,132],[3944,133,3945,133],[3944,178,3945,178],[3944,179,3945,179],[3972,159,3972,168],[3972,169,3972,178],[3972,179,3972,188],[3944,143,3945,143],[3944,144,3945,144],[3944,145,3945,145],[3944,146,3945,146],[3944,147,3945,147],[3944,148,3945,148],[3944,149,3945,149],[3944,150,3945,150],[3944,151,3945,151],[3943,143,3943,155],[3943,156,3943,162],[3943,163,3943,169],[3943,170,3943,176],[3943,177,3943,179],[3753,159,3753,168],[3753,169,3753,178],[3753,179,3753,188],[3725,143,3726,143],[3725,144,3726,144],[3725,145,3726,145],[3725,146,3726,146],[3725,147,3726,147],[3725,148,3726,148],[3725,149,3726,149],[3725,150,3726,150],[3725,151,3726,151],[3944,134,3945,134],[3944,135,3945,135],[3944,136,3945,136],[3944,137,3945,137],[3943,0,3945,1],[3943,2,3943,36],[3943,37,3944,38],[3943,41,3943,75],[3943,76,3944,77],[3943,78,3943,114],[3943,115,3944,116],[3943,117,3943,129],[3943,130,3943,142],[3944,138,3945,138],[3944,139,3945,139],[3944,140,3945,140],[3944,141,3945,141],[3944,142,3945,142],[3944,155,3945,155],[3944,177,3945,177],[3724,143,3724,155],[3724,156,3724,162],[3724,163,3724,169],[3724,170,3724,176],[3724,177,3724,179],[3725,2,3725,13],[3725,14,3725,36],[3725,41,3725,52],[3725,80,3725,91],[3725,92,3725,114],[3725,117,3726,117],[3725,125,3726,125],[3725,126,3726,126],[3725,127,3726,127],[3725,128,3726,128],[3725,129,3726,129],[3725,130,3726,130],[3725,131,3726,131],[3725,132,3726,132],[3725,133,3726,133],[3725,134,3726,134],[3725,135,3726,135],[3725,136,3726,136],[3725,137,3726,137],[3725,152,3726,152],[3725,153,3726,153],[3725,154,3726,154],[3725,155,3726,155],[3725,177,3726,177],[3725,178,3726,178],[3725,179,3726,179],[3724,0,3726,1],[3724,2,3724,36],[3724,37,3725,38],[3724,41,3724,75],[3724,76,3725,77],[3724,78,3724,114],[3724,115,3725,116],[3724,117,3724,129],[3724,130,3724,142],[3725,138,3726,138],[3725,139,3726,139],[3725,140,3726,140],[3725,141,3726,141],[3725,142,3726,142],[3506,152,3507,152],[3506,153,3507,153],[3506,154,3507,154],[3506,2,3506,13],[3506,14,3506,36],[3506,41,3506,52],[3506,80,3506,91],[3506,92,3506,114],[3506,117,3507,117],[3506,125,3507,125],[3506,126,3507,126],[3506,127,3507,127],[3506,128,3507,128],[3506,129,3507,129],[3506,130,3507,130],[3506,131,3507,131],[3506,132,3507,132],[3506,133,3507,133],[3506,178,3507,178],[3506,179,3507,179],[3534,159,3534,168],[3534,169,3534,178],[3534,179,3534,188],[3506,143,3507,143],[3506,144,3507,144],[3506,145,3507,145],[3506,146,3507,146],[3506,147,3507,147],[3506,148,3507,148],[3506,149,3507,149],[3506,150,3507,150],[3506,151,3507,151],[3505,143,3505,155],[3505,156,3505,162],[3505,163,3505,169],[3505,170,3505,176],[3505,177,3505,179],[3315,159,3315,168],[3315,169,3315,178],[3315,179,3315,188],[3287,143,3288,143],[3287,144,3288,144],[3287,145,3288,145],[3287,146,3288,146],[3287,147,3288,147],[3287,148,3288,148],[3287,149,3288,149],[3287,150,3288,150],[3287,151,3288,151],[3506,134,3507,134],[3506,135,3507,135],[3506,136,3507,136],[3506,137,3507,137],[3505,0,3507,1],[3505,2,3505,36],[3505,37,3506,38],[3505,41,3505,75],[3505,76,3506,77],[3505,78,3505,114],[3505,115,3506,116],[3505,117,3505,129],[3505,130,3505,142],[3506,138,3507,138],[3506,139,3507,139],[3506,140,3507,140],[3506,141,3507,141],[3506,142,3507,142],[3506,155,3507,155],[3506,177,3507,177],[3286,143,3286,155],[3286,156,3286,162],[3286,163,3286,169],[3286,170,3286,176],[3286,177,3286,179],[3287,2,3287,13],[3287,14,3287,36],[3287,41,3287,52],[3287,80,3287,91],[3287,92,3287,114],[3287,117,3288,117],[3287,125,3288,125],[3287,126,3288,126],[3287,127,3288,127],[3287,128,3288,128],[3287,129,3288,129],[3287,130,3288,130],[3287,131,3288,131],[3287,132,3288,132],[3287,133,3288,133],[3287,134,3288,134],[3287,135,3288,135],[3287,136,3288,136],[3287,137,3288,137],[3287,152,3288,152],[3287,153,3288,153],[3287,154,3288,154],[3287,155,3288,155],[3287,177,3288,177],[3287,178,3288,178],[3287,179,3288,179],[3286,0,3288,1],[3286,2,3286,36],[3286,37,3287,38],[3286,41,3286,75],[3286,76,3287,77],[3286,78,3286,114],[3286,115,3287,116],[3286,117,3286,129],[3286,130,3286,142],[3287,138,3288,138],[3287,139,3288,139],[3287,140,3288,140],[3287,141,3288,141],[3287,142,3288,142],[3068,152,3069,152],[3068,153,3069,153],[3068,154,3069,154],[3068,2,3068,13],[3068,14,3068,36],[3068,41,3068,52],[3068,80,3068,91],[3068,92,3068,114],[3068,117,3069,117],[3068,125,3069,125],[3068,126,3069,126],[3068,127,3069,127],[3068,128,3069,128],[3068,129,3069,129],[3068,130,3069,130],[3068,131,3069,131],[3068,132,3069,132],[3068,133,3069,133],[3068,178,3069,178],[3068,179,3069,179],[3096,159,3096,168],[3096,169,3096,178],[3096,179,3096,188],[3068,143,3069,143],[3068,144,3069,144],[3068,145,3069,145],[3068,146,3069,146],[3068,147,3069,147],[3068,148,3069,148],[3068,149,3069,149],[3068,150,3069,150],[3068,151,3069,151],[3067,143,3067,155],[3067,156,3067,162],[3067,163,3067,169],[3067,170,3067,176],[3067,177,3067,179],[2877,159,2877,168],[2877,169,2877,178],[2877,179,2877,188],[2849,143,2850,143],[2849,144,2850,144],[2849,145,2850,145],[2849,146,2850,146],[2849,147,2850,147],[2849,148,2850,148],[2849,149,2850,149],[2849,150,2850,150],[2849,151,2850,151],[3068,134,3069,134],[3068,135,3069,135],[3068,136,3069,136],[3068,137,3069,137],[3067,0,3069,1],[3067,2,3067,36],[3067,37,3068,38],[3067,41,3067,75],[3067,76,3068,77],[3067,78,3067,114],[3067,115,3068,116],[3067,117,3067,129],[3067,130,3067,142],[3068,138,3069,138],[3068,139,3069,139],[3068,140,3069,140],[3068,141,3069,141],[3068,142,3069,142],[3068,155,3069,155],[3068,177,3069,177],[2848,143,2848,155],[2848,156,2848,162],[2848,163,2848,169],[2848,170,2848,176],[2848,177,2848,179],[2849,2,2849,13],[2849,14,2849,36],[2849,41,2849,52],[2849,80,2849,91],[2849,92,2849,114],[2849,117,2850,117],[2849,125,2850,125],[2849,126,2850,126],[2849,127,2850,127],[2849,128,2850,128],[2849,129,2850,129],[2849,130,2850,130],[2849,131,2850,131],[2849,132,2850,132],[2849,133,2850,133],[2849,134,2850,134],[2849,135,2850,135],[2849,136,2850,136],[2849,137,2850,137],[2849,152,2850,152],[2849,153,2850,153],[2849,154,2850,154],[2849,155,2850,155],[2849,177,2850,177],[2849,178,2850,178],[2849,179,2850,179],[2848,0,2850,1],[2848,2,2848,36],[2848,37,2849,38],[2848,41,2848,75],[2848,76,2849,77],[2848,78,2848,114],[2848,115,2849,116],[2848,117,2848,129],[2848,130,2848,142],[2849,138,2850,138],[2849,139,2850,139],[2849,140,2850,140],[2849,141,2850,141],[2849,142,2850,142],[2630,152,2631,152],[2630,153,2631,153],[2630,154,2631,154],[2630,2,2630,13],[2630,14,2630,36],[2630,41,2630,52],[2630,80,2630,91],[2630,92,2630,114],[2630,117,2631,117],[2630,125,2631,125],[2630,126,2631,126],[2630,127,2631,127],[2630,128,2631,128],[2630,129,2631,129],[2630,130,2631,130],[2630,131,2631,131],[2630,132,2631,132],[2630,133,2631,133],[2630,178,2631,178],[2630,179,2631,179],[2658,159,2658,168],[2658,169,2658,178],[2658,179,2658,188],[2630,143,2631,143],[2630,144,2631,144],[2630,145,2631,145],[2630,146,2631,146],[2630,147,2631,147],[2630,148,2631,148],[2630,149,2631,149],[2630,150,2631,150]],"bounds":{"rows_first":250,"rows_last":62,"rows_between":250,"halvings":3},"merged_total":1710,"flags":["merged_cut"]}
[]
[1,null,{"$f":"+Offsets!J5","v":"NB"},null,null,null,null,null,null,null,null,null,null,null,null,null,null,null,null,null,null,null,null,null,null,null,null,null,null,null,null,null,null,null,null,null,null,"Speed",null,null,null,{"$f":"+Offsets!K5","v":"SB"},null,null,null,null,null,null,null,null,null,null,null,null,null,null,null,null,null,null,null,null,null,null,null,null,null,null,null,null,null,null,null,null,null,null,"Speed",null,"Combined ",null,null,null,null,null,null,null,null,null,null,null,null,null,null,null,null,null,null,null,null,null,null,null,null,null,null,null,null,null,null,null,null,null,null,null,null,"Speed",null,{"$f":"+C2","v":"NB"},null,null,null,null,null,null,null,null,null,null,null,null,{"$f":"+AP2","v":"SB"},null,null,null,null,null,null,null,null,null,null,null,null,"Combined",null,null,null,null,null,null,null,null,null,null,null,null,{"$f":"+DN2","v":"NB"},null,null,null,null,null,null,{"$f":"+EA2","v":"SB"},null,null,null,null,null,null,"Combined",null,null,null,null,null,null,"Weekday Average"]
[null,null,"Vehicle Classification",null,null,null,null,null,null,null,null,null,null,null,"Vehicle Speed Bins",null,null,null,null,null,null,null,null,null,null,null,null,null,null,null,null,null,null,null,null,null,null,null,null,null,null,"Vehicle Classification",null,null,null,null,null,null,null,null,null,null,null,"Vehicle Speed Bins",null,null,null,null,null,null,null,null,null,null,null,null,null,null,null,null,null,null,null,null,null,null,null,null,null,null,"Vehicle Classification",null,null,null,null,null,null,null,null,null,null,null,"Vehicle Speed Bins",null,null,null,null,null,null,null,null,null,null,null,null,null,null,null,null,null,null,null,null,null,null,null,null,"C1",null,null,null,null,null,null,null,"C9","C10","C11","C12","Total","C1","C2","C3","C4","C5","C6","C7","C8","C9","C10","C11","C12","Total","C1","C2","C3","C4","C5","C6","C7","C8","C9","C10","C11","C12","Total",null,null,null,null,null,null,null,null,null,null,null,null,null,null,null,null,null,null,null,null,null,{"$f":"FA2","v":"NB"},{"$f":"FH2","v":"SB"},{"$f":"FO2","v":"Combined"}]
[null,null,1,2,3,4,5,6,7,8,9,10,11,12,510,1015,1520,2025,2530,3035,3540,4045,4550,5055,5560,6065,6570,7075,7580,8085,8590,9095,95100,100105,105110,110115,"115+","Ave","85%ile",null,null,1,2,3,4,5,6,7,8,9,10,11,12,510,1015,1520,2025,2530,3035,3540,4045,4550,5055,5560,6065,6570,7075,7580,8085,8590,9095,95100,100105,105110,110115,"115+","Ave","85%ile",null,null,1,2,3,4,5,6,7,8,9,10,11,12,510,1015,1520,2025,2530,3035,3540,4045,4550,5055,5560,6065,6570,7075,7580,8085,8590,9095,95100,100105,105110,110115,"115+","Ave","85%ile",null,"C2","C3","C4","C5","C6","C7","C8",null,null,null,null,null,null,null,null,null,null,null,null,null,null,null,null,null,null,null,null,null,null,null,null,null,null,null,null,null,null,null,"Mon","Tue","Wed","Thu","Fri","Sat","Sun","Mon","Tue","Wed","Thu","Fri","Sat","Sun","Mon","Tue","Wed","Thu","Fri","Sat","Sun"]
["Mon",0,0,0,0,2,0,0,0,0,0,0,0,0,0,0,0,0,2,0,0,0,0,0,0,0,0,0,0,0,0,0,0,0,0,0,0,26.96,"-","Mon",0,0,0,0,1,0,0,0,0,0,0,0,0,0,0,0,1,0,0,0,0,0,0,0,0,0,0,0,0,0,0,0,0,0,0,0,20.21,"-","Mon",0,0,0,0,3,0,0,0,0,0,0,0,0,0,0,0,1,2,0,0,0,0,0,0,0,0,0,0,0,0,0,0,0,0,0,0,24.71,"-",{"$f":"SUM(C5)","v":0},{"$f":"SUM(D5)","v":0},{"$f":"SUM(E5)","v":0},{"$f":"SUM(F5)","v":2},{"$f":"SUM(G5)","v":0},{"$f":"SUM(H5)","v":0},{"$f":"SUM(I5)","v":0},{"$f":"SUM(J5)","v":0},{"$f":"SUM(K5)","v":0},{"$f":"SUM(L5)","v":0},{"$f":"SUM(M5)","v":0},{"$f":"SUM(N5)","v":0},{"$f":"SUM(C5:N5)","v":2},{"$f":"SUM(AP5)","v":0},{"$f":"SUM(AQ5)","v":0},{"$f":"SUM(AR5)","v":0},{"$f":"SUM(AS5)","v":1},{"$f":"SUM(AT5)","v":0},{"$f":"SUM(AU5)","v":0},{"$f":"SUM(AV5)","v":0},{"$f":"SUM(AW5)","v":0},{"$f":"SUM(AX5)","v":0},{"$f":"SUM(AY5)","v":0},{"$f":"SUM(AZ5)","v":0},{"$f":"SUM(BA5)","v":0},{"$f":"SUM(AP5:BA5)","v":1},{"$f":"SUM(DN5+EA5)","v":0},{"$f":"SUM(DO5+EB5)","v":0},{"$f":"SUM(DP5+EC5)","v":0},{"$f":"SUM(DQ5+ED5)","v":3},{"$f":"SUM(DR5+EE5)","v":0},{"$f":"SUM(DS5+EF5)","v":0},{"$f":"SUM(DT5+EG5)","v":0},{"$f":"SUM(DU5+EH5)","v":0},{"$f":"SUM(DV5+EI5)","v":0},{"$f":"SUM(DW5+EJ5)","v":0},{"$f":"SUM(DX5+EK5)","v":0},{"$f":"SUM(DY5+EL5)","v":0},{"$f":"SUM(DZ5+EM5)","v":3},{"$f":"+DZ5","v":2},{"$f":"+DZ29","v":2},{"$f":"+DZ53","v":3},{"$f":"+DZ77","v":0},{"$f":"+DZ101","v":4},{"$f":"+DZ125","v":1},{"$f":"+DZ149","v":8},{"$f":"+EM5","v":1},{"$f":"+EM29","v":1},{"$f":"+EM53","v":1},{"$f":"+EM77","v":2},{"$f":"+EM101","v":3},{"$f":"+EM125","v":1},{"$f":"+EM149","v":9},{"$f":"SUM(FA5+FH5)","v":3},{"$f":"SUM(FB5+FI5)","v":3},{"$f":"SUM(FC5+FJ5)","v":4},{"$f":"SUM(FD5+FK5)","v":2},{"$f":"SUM(FE5+FL5)","v":7},{"$f":"SUM(FF5+FM5)","v":2},{"$f":"SUM(FG5+FN5)","v":17},{"$f":"ROUND(AVERAGE(FA5:FE5),0)","v":2},{"$f":"ROUND(AVERAGE(FH5:FL5),0)","v":2},{"$f":"ROUND(AVERAGE(FO5:FS5),0)","v":4}]
[{"$f":"+A5","v":"Mon"},100,0,0,1,0,0,0,0,0,0,0,0,0,0,0,0,0,0,1,0,0,0,0,0,0,0,0,0,0,0,0,0,0,0,0,0,34.26,"-","Mon",100,0,0,0,0,0,0,0,0,0,0,0,0,0,0,0,0,0,0,0,0,0,0,0,0,0,0,0,0,0,0,0,0,0,0,0,"-","-","Mon",100,0,0,1,0,0,0,0,0,0,0,0,0,0,0,0,0,0,1,0,0,0,0,0,0,0,0,0,0,0,0,0,0,0,0,0,34.26,"-",0,0,1,0,0,0,0,0,0,0,0,0,1,0,0,0,0,0,0,0,0,0,0,0,0,0,0,0,1,0,0,0,0,0,0,0,0,0,1,1,0,0,2,0,0,7,0,0,1,0,1,0,6,{"$f":"SUM(FA6+FH6)","v":1},0,1,2,1,0,13,{"$f":"ROUND(AVERAGE(FA6:FE6),0)","v":1},{"$f":"ROUND(AVERAGE(FH6:FL6),0)","v":0},{"$f":"ROUND(AVERAGE(FO6:FS6),0)","v":1}]
[{"$f":"+A6","v":"Mon"},200,0,0,0,1,0,0,0,0,0,0,0,0,0,0,0,1,0,0,0,0,0,0,0,0,0,0,0,0,0,0,0,0,0,0,0,22.15,"-","Mon",200,0,0,0,1,0,0,0,0,0,0,0,0,0,0,0,1,0,0,0,0,0,0,0,0,0,0,0,0,0,0,0,0,0,0,0,22.2,"-","Mon",200,0,0,0,2,0,0,0,0,0,0,0,0,0,0,0,2,0,0,0,0,0,0,0,0,0,0,0,0,0,0,0,0,0,0,0,22.18,"-",0,0,0,1,0,0,0,0,0,0,0,0,1,0,0,0,1,0,0,0,0,0,0,0,0,1,0,0,0,2,0,0,0,0,0,0,0,0,2,1,0,1,0,0,0,0,1,0,2,2,0,0,2,2,0,3,2,0,0,2,0,1,1]
["Mon",300,0,0,1,0,1,0,0,0,0,0,0,0,0,0,0,1,0,1,0,0,0,0,0,0,0,0,0,0,0,0,0,0,0,0,0,27.44,"-","Mon",300,0,0,0,1,1,0,0,0,0,0,0,0,0,0,0,2,0,0,0,0,0,0,0,0,0,0,0,0,0,0,0,0,0,0,0,22.85,"-","Mon",300,0,0,1,1,2,0,0,0,0,0,0,0,0,0,0,3,0,1,0,0,0,0,0,0,0,0,0,0,0,0,0,0,0,0,0,25.14,"-",0,0,1,0,1,0,0,0,0,0,0,0,2,0,0,0,1,1,0,0,0,0,0,0,0,2,0,0,1,1,2,0,0,0,0,0,0,0,4,2,1,0,1,1,1,0,2,0,0,0,1,1,0,4,1,0,1,2,2,0,1,1,2]
["Mon",400,0,0,1,1,1,0,0,0,0,0,0,0,0,0,1,1,1,0,0,0,0,0,0,0,0,0,0,0,0,0,0,0,0,0,0,22.89,"-","Mon",400,0,0,1,2,1,0,0,0,0,0,0,0,0,0,1,2,1,0,0,0,0,0,0,0,0,0,0,0,0,0,0,0,0,0,0,22.1,"-","Mon",400,0,0,2,3,2,0,0,0,0,0,0,0,0,0,2,3,2,0,0,0,0,0,0,0,0,0,0,0,0,0,0,0,0,0,0,22.44,"-",0,0,1,1,1,0,0,0,0,0,0,0,3,0,0,1,2,1,0,0,0,0,0,0,0,4,0,0,2,3,2,0,0,0,0,0,0,0,7,3,4,2,3,4,1,1,4,3,3,0,3,2,1,7,7,5,3,7,3,2,3,3,6]
["Mon",500,0,0,5,11,0,0,0,0,0,0,0,0,0,0,4,7,3,2,0,0,0,0,0,0,0,0,0,0,0,0,0,0,0,0,0,24.04,28.34,"Mon",500,0,0,3,1,0,0,0,0,0,0,0,0,0,1,1,2,0,0,0,0,0,0,0,0,0,0,0,0,0,0,0,0,0,0,0,19.55,"-","Mon",500,0,0,8,12,0,0,0,0,0,0,0,0,0,1,5,9,3,2,0,0,0,0,0,0,0,0,0,0,0,0,0,0,0,0,0,23.14,28.12,0,0,5,11,0,0,0,0,0,0,0,0,16,0,0,3,1,0,0,0,0,0,0,0,0,4,0,0,8,12,0,0,0,0,0,0,0,0,20,16,15,16,12,13,7,2,4,8,5,6,5,1,1,20,23,21,18,18,8,3,14,6,20]
["Mon",600,0,0,19,18,1,1,0,1,0,0,0,0,0,2,8,18,11,1,0,0,0,0,0,0,0,0,0,0,0,0,0,0,0,0,0,22.55,26.97,"Mon",600,0,0,4,6,0,1,0,0,0,0,0,0,0,2,3,4,2,0,0,0,0,0,0,0,0,0,0,0,0,0,0,0,0,0,0,20.07,24.04,"Mon",600,0,0,23,24,1,2,0,1,0,0,0,0,0,4,11,22,13,1,0,0,0,0,0,0,0,0,0,0,0,0,0,0,0,0,0,22.02,26.67,0,0,19,18,1,1,0,1,0,0,0,0,40,0,0,4,6,0,1,0,0,0,0,0,0,11,0,0,23,24,1,2,0,1,0,0,0,0,51,40,48,42,52,37,27,8,11,14,14,19,14,10,6,51,62,56,71,51,37,14,44,14,58]
["Mon",700,0,0,42,82,4,1,0,0,0,0,1,0,0,5,26,62,30,7,0,0,0,0,0,0,0,0,0,0,0,0,0,0,0,0,0,22.9,27.09,"Mon",700,0,0,25,28,5,0,1,0,0,0,1,0,1,5,21,30,2,1,0,0,0,0,0,0,0,0,0,0,0,0,0,0,0,0,0,19.79,23.26,"Mon",700,0,0,67,110,9,1,1,0,0,0,2,0,1,10,47,92,32,8,0,0,0,0,0,0,0,0,0,0,0,0,0,0,0,0,0,21.92,26.23,0,0,42,82,4,1,0,0,0,0,1,0,130,0,0,25,28,5,0,1,0,0,0,1,0,60,0,0,67,110,9,1,1,0,0,0,2,0,190,130,136,120,125,121,51,31,60,85,72,77,60,44,26,190,221,192,202,181,95,57,126,71,197]
["Mon",800,0,4,56,94,7,0,0,2,0,0,1,0,1,13,51,83,16,0,0,0,0,0,0,0,0,0,0,0,0,0,0,0,0,0,0,20.399999999999999,24.14,"Mon",800,3,1,41,58,6,0,0,0,0,0,1,0,2,25,46,35,1,1,0,0,0,0,0,0,0,0,0,0,0,0,0,0,0,0,0,18.12,22.27,"Mon",800,3,5,97,152,13,0,0,2,0,0,2,0,3,38,97,118,17,1,0,0,0,0,0,0,0,0,0,0,0,0,0,0,0,0,0,19.489999999999998,23.47,0,4,56,94,7,0,0,2,0,0,1,0,164,3,1,41,58,6,0,0,0,0,0,1,0,110,3,5,97,152,13,0,0,2,0,0,2,0,274,164,176,161,177,145,117,68,110,122,145,166,119,98,30,274,298,306,343,264,215,98,165,132,297]
["Mon",900,0,1,50,94,6,0,0,1,0,0,1,0,4,20,67,52,9,1,0,0,0,0,0,0,0,0,0,0,0,0,0,0,0,0,0,18.95,22.27,"Mon",900,1,0,58,73,10,0,0,0,0,0,0,0,4,30,65,42,1,0,0,0,0,0,0,0,0,0,0,0,0,0,0,0,0,0,0,17.899999999999999,22.14,"Mon",900,1,1,108,167,16,0,0,1,0,0,1,0,8,50,132,94,10,1,0,0,0,0,0,0,0,0,0,0,0,0,0,0,0,0,0,18.440000000000001,22.21,0,1,50,94,6,0,0,1,0,0,1,0,153,1,0,58,73,10,0,0,0,0,0,0,0,142,1,1,108,167,16,0,0,1,0,0,1,0,295,153,166,165,162,171,183,97,142,150,125,139,158,148,76,295,316,290,301,329,331,173,163,143,306]
["Mon",1000,1,0,43,74,14,1,0,0,0,0,1,0,0,17,60,50,7,0,0,0,0,0,0,0,0,0,0,0,0,0,0,0,0,0,0,19.25,22.72,"Mon",1000,0,0,47,62,4,3,0,2,0,0,0,0,2,27,51,34,4,0,0,0,0,0,0,0,0,0,0,0,0,0,0,0,0,0,0,17.97,21.99,"Mon",1000,1,0,90,136,18,4,0,2,0,0,1,0,2,44,111,84,11,0,0,0,0,0,0,0,0,0,0,0,0,0,0,0,0,0,0,18.649999999999999,22.16,1,0,43,74,14,1,0,0,0,0,1,0,134,0,0,47,62,4,3,0,2,0,0,0,0,118,1,0,90,136,18,4,0,2,0,0,1,0,252,134,158,164,157,183,211,143,118,127,164,136,138,244,108,252,285,328,293,321,455,251,159,137,296]
["Mon",1100,1,1,69,102,3,1,0,0,0,0,1,1,5,43,80,43,8,0,0,0,0,0,0,0,0,0,0,0,0,0,0,0,0,0,0,17.82,21.97,"Mon",1100,0,0,63,60,5,0,0,0,0,0,1,1,1,38,63,25,3,0,0,0,0,0,0,0,0,0,0,0,0,0,0,0,0,0,0,17.059999999999999,21.08,"Mon",1100,1,1,132,162,8,1,0,0,0,0,2,2,6,81,143,68,11,0,0,0,0,0,0,0,0,0,0,0,0,0,0,0,0,0,0,17.5,21.65,1,1,69,102,3,1,0,0,0,0,1,1,179,0,0,63,60,5,0,0,0,0,0,1,1,130,1,1,132,162,8,1,0,0,0,0,2,2,309,179,153,153,153,172,204,161,130,150,145,152,162,186,102,309,303,298,305,334,390,263,162,148,310]
["Mon",1200,1,0,72,97,6,0,0,0,0,1,2,0,1,29,93,46,10,0,0,0,0,0,0,0,0,0,0,0,0,0,0,0,0,0,0,18.489999999999998,22.21,"Mon",1200,0,0,71,69,7,0,0,0,0,0,0,0,5,29,74,38,1,0,0,0,0,0,0,0,0,0,0,0,0,0,0,0,0,0,0,17.440000000000001,21.09,"Mon",1200,1,0,143,166,13,0,0,0,0,1,2,0,6,58,167,84,11,0,0,0,0,0,0,0,0,0,0,0,0,0,0,0,0,0,0,18.02,21.72,1,0,72,97,6,0,0,0,0,1,2,0,179,0,0,71,69,7,0,0,0,0,0,0,0,147,1,0,143,166,13,0,0,0,0,1,2,0,326,179,130,183,173,162,194,142,147,150,146,147,170,158,118,326,280,329,320,332,352,260,165,152,317]
["Mon",1300,0,0,56,85,6,0,0,0,0,0,1,0,0,13,63,65,7,0,0,0,0,0,0,0,0,0,0,0,0,0,0,0,0,0,0,19.420000000000002,22.4,"Mon",1300,1,0,64,50,5,0,0,0,0,0,0,0,2,28,53,32,5,0,0,0,0,0,0,0,0,0,0,0,0,0,0,0,0,0,0,17.79,21.73,"Mon",1300,1,0,120,135,11,0,0,0,0,0,1,0,2,41,116,97,12,0,0,0,0,0,0,0,0,0,0,0,0,0,0,0,0,0,0,18.690000000000001,22.18,0,0,56,85,6,0,0,0,0,0,1,0,148,1,0,64,50,5,0,0,0,0,0,0,0,120,1,0,120,135,11,0,0,0,0,0,1,0,268,148,145,150,151,175,153,118,120,135,132,115,146,137,99,268,280,282,266,321,290,217,154,130,283]
["Mon",1400,0,1,44,94,5,0,0,2,0,0,1,1,0,26,67,43,12,0,0,0,0,0,0,0,0,0,0,0,0,0,0,0,0,0,0,18.809999999999999,22.8,"Mon",1400,0,2,67,73,2,1,0,1,0,0,0,0,6,27,65,42,6,0,0,0,0,0,0,0,0,0,0,0,0,0,0,0,0,0,0,17.920000000000002,21.95,"Mon",1400,0,3,111,167,7,1,0,3,0,0,1,1,6,53,132,85,18,0,0,0,0,0,0,0,0,0,0,0,0,0,0,0,0,0,0,18.37,22.54,0,1,44,94,5,0,0,2,0,0,1,1,148,0,2,67,73,2,1,0,1,0,0,0,0,146,0,3,111,167,7,1,0,3,0,0,1,1,294,148,147,154,140,151,158,107,146,126,133,107,176,151,98,294,273,287,247,327,309,205,148,138,286]
["Mon",1500,0,0,55,110,6,1,0,1,0,0,1,0,0,20,90,57,7,0,0,0,0,0,0,0,0,0,0,0,0,0,0,0,0,0,0,18.97,22.78,"Mon",1500,1,0,70,76,3,0,0,1,0,0,0,0,2,26,78,42,3,0,0,0,0,0,0,0,0,0,0,0,0,0,0,0,0,0,0,18.29,21.66,"Mon",1500,1,0,125,186,9,1,0,2,0,0,1,0,2,46,168,99,10,0,0,0,0,0,0,0,0,0,0,0,0,0,0,0,0,0,0,18.649999999999999,22.3,0,0,55,110,6,1,0,1,0,0,1,0,174,1,0,70,76,3,0,0,1,0,0,0,0,151,1,0,125,186,9,1,0,2,0,0,1,0,325,174,196,165,148,193,106,101,151,201,162,146,213,123,110,325,397,327,294,406,229,211,175,175,350]
["Mon",1600,1,0,62,91,5,0,0,1,0,0,3,0,2,18,79,57,7,0,0,0,0,0,0,0,0,0,0,0,0,0,0,0,0,0,0,19.2,22.46,"Mon",1600,1,1,78,94,2,0,0,0,0,0,1,0,2,45,77,44,9,0,0,0,0,0,0,0,0,0,0,0,0,0,0,0,0,0,0,17.77,21.98,"Mon",1600,2,1,140,185,7,0,0,1,0,0,4,0,4,63,156,101,16,0,0,0,0,0,0,0,0,0,0,0,0,0,0,0,0,0,0,18.46,22.39,1,0,62,91,5,0,0,1,0,0,3,0,163,1,1,78,94,2,0,0,0,0,0,1,0,177,2,1,140,185,7,0,0,1,0,0,4,0,340,163,177,190,149,179,123,91,177,206,210,193,197,141,115,340,383,400,342,376,264,206,172,197,368]
["Mon",1700,0,0,43,74,1,0,0,1,0,0,0,0,1,7,56,41,10,4,0,0,0,0,0,0,0,0,0,0,0,0,0,0,0,0,0,20.37,24.26,"Mon",1700,0,2,86,63,1,0,0,1,0,0,0,1,2,9,68,67,8,0,0,0,0,0,0,0,0,0,0,0,0,0,0,0,0,0,0,19.579999999999998,22.98,"Mon",1700,0,2,129,137,2,0,0,2,0,0,0,1,3,16,124,108,18,4,0,0,0,0,0,0,0,0,0,0,0,0,0,0,0,0,0,19.93,23.59,0,0,43,74,1,0,0,1,0,0,0,0,119,0,2,86,63,1,0,0,1,0,0,0,1,154,0,2,129,137,2,0,0,2,0,0,0,1,273,119,154,142,153,166,121,82,154,179,172,175,207,116,117,273,333,314,328,373,237,199,147,177,324]
["Mon",1800,0,0,40,62,3,0,0,1,0,0,2,0,0,8,22,57,21,0,0,0,0,0,0,0,0,0,0,0,0,0,0,0,0,0,0,21.65,25.73,"Mon",1800,0,2,59,52,0,0,0,0,0,0,0,1,3,20,40,44,7,0,0,0,0,0,0,0,0,0,0,0,0,0,0,0,0,0,0,19.010000000000002,22.92,"Mon",1800,0,2,99,114,3,0,0,1,0,0,2,1,3,28,62,101,28,0,0,0,0,0,0,0,0,0,0,0,0,0,0,0,0,0,0,20.3,24.53,0,0,40,62,3,0,0,1,0,0,2,0,108,0,2,59,52,0,0,0,0,0,0,0,1,114,0,2,99,114,3,0,0,1,0,0,2,1,222,108,108,126,108,147,73,112,114,105,136,142,136,93,96,222,213,262,250,283,166,208,119,127,246]
["Mon",1900,0,1,22,50,1,0,0,0,0,0,0,0,0,4,17,38,14,1,0,0,0,0,0,0,0,0,0,0,0,0,0,0,0,0,0,22.01,25.98,"Mon",1900,0,0,35,36,2,0,0,0,0,0,0,0,1,11,15,42,4,0,0,0,0,0,0,0,0,0,0,0,0,0,0,0,0,0,0,19.989999999999998,23.64,"Mon",1900,0,1,57,86,3,0,0,0,0,0,0,0,1,15,32,80,18,1,0,0,0,0,0,0,0,0,0,0,0,0,0,0,0,0,0,21.01,24.83,0,1,22,50,1,0,0,0,0,0,0,0,74,0,0,35,36,2,0,0,0,0,0,0,0,73,0,1,57,86,3,0,0,0,0,0,0,0,147,74,66,89,86,96,89,76,73,93,98,99,77,86,87,147,159,187,185,173,175,163,82,88,170]
["Mon",2000,1,1,13,35,2,0,0,0,0,0,0,0,0,4,13,24,10,1,0,0,0,0,0,0,0,0,0,0,0,0,0,0,0,0,0,21.72,26.38,"Mon",2000,0,1,35,40,2,0,0,0,0,0,0,0,0,2,31,37,8,0,0,0,0,0,0,0,0,0,0,0,0,0,0,0,0,0,0,20.84,24.63,"Mon",2000,1,2,48,75,4,0,0,0,0,0,0,0,0,6,44,61,18,1,0,0,0,0,0,0,0,0,0,0,0,0,0,0,0,0,0,21.19,24.99,1,1,13,35,2,0,0,0,0,0,0,0,52,0,1,35,40,2,0,0,0,0,0,0,0,78,1,2,48,75,4,0,0,0,0,0,0,0,130,52,65,71,50,57,69,29,78,46,62,60,60,63,37,130,111,133,110,117,132,66,59,61,120]
["Mon",2100,0,0,8,31,1,0,0,0,0,0,0,0,0,4,15,14,6,1,0,0,0,0,0,0,0,0,0,0,0,0,0,0,0,0,0,20.83,25.22,"Mon",2100,0,0,20,16,1,0,0,0,0,0,0,0,0,3,18,14,2,0,0,0,0,0,0,0,0,0,0,0,0,0,0,0,0,0,0,19.420000000000002,21.71,"Mon",2100,0,0,28,47,2,0,0,0,0,0,0,0,0,7,33,28,8,1,0,0,0,0,0,0,0,0,0,0,0,0,0,0,0,0,0,20.149999999999999,24.05,0,0,8,31,1,0,0,0,0,0,0,0,40,0,0,20,16,1,0,0,0,0,0,0,0,37,0,0,28,47,2,0,0,0,0,0,0,0,77,40,53,41,47,35,39,32,37,41,49,48,38,54,26,77,94,90,95,73,93,58,43,43,86]
["Mon",2200,0,0,5,7,0,0,0,0,0,0,0,0,0,0,2,6,3,1,0,0,0,0,0,0,0,0,0,0,0,0,0,0,0,0,0,23.96,29.07,"Mon",2200,0,0,8,9,0,0,0,0,0,0,0,0,0,0,1,10,5,1,0,0,0,0,0,0,0,0,0,0,0,0,0,0,0,0,0,23.94,26.81,"Mon",2200,0,0,13,16,0,0,0,0,0,0,0,0,0,0,3,16,8,2,0,0,0,0,0,0,0,0,0,0,0,0,0,0,0,0,0,23.95,28.45,0,0,5,7,0,0,0,0,0,0,0,0,12,0,0,8,9,0,0,0,0,0,0,0,0,17,0,0,13,16,0,0,0,0,0,0,0,0,29,12,13,14,13,16,19,10,17,21,21,20,22,26,14,29,34,35,33,38,45,24,14,20,34]
["Mon",2300,0,0,3,1,0,0,0,0,0,0,0,0,0,0,0,2,2,0,0,0,0,0,0,0,0,0,0,0,0,0,0,0,0,0,0,24.56,"-","Mon",2300,0,0,5,0,0,0,0,0,0,0,0,0,0,0,2,1,2,0,0,0,0,0,0,0,0,0,0,0,0,0,0,0,0,0,0,22.04,"-","Mon",2300,0,0,8,1,0,0,0,0,0,0,0,0,0,0,2,3,4,0,0,0,0,0,0,0,0,0,0,0,0,0,0,0,0,0,0,23.16,"-",0,0,3,1,0,0,0,0,0,0,0,0,4,0,0,5,0,0,0,0,0,0,0,0,0,5,0,0,8,1,0,0,0,0,0,0,0,0,9,4,6,4,6,4,6,1,5,12,6,8,14,16,1,9,18,10,14,18,22,2,5,9,14]
["Tue",0,0,0,0,2,0,0,0,0,0,0,0,0,0,0,0,0,2,0,0,0,0,0,0,0,0,0,0,0,0,0,0,0,0,0,0,26.49,"-","Tue",0,0,0,0,1,0,0,0,0,0,0,0,0,0,0,0,0,0,1,0,0,0,0,0,0,0,0,0,0,0,0,0,0,0,0,0,30.59,"-","Tue",0,0,0,0,3,0,0,0,0,0,0,0,0,0,0,0,0,2,1,0,0,0,0,0,0,0,0,0,0,0,0,0,0,0,0,0,27.86,"-",0,0,0,2,0,0,0,0,0,0,0,0,2,0,0,0,1,0,0,0,0,0,0,0,0,1,0,0,0,3,0,0,0,0,0,0,0,0,3,{"$f":"SUM(FA5:FA28)","v":2046},{"$f":"SUM(FB5:FB28)","v":2119},2156,2068,2232,1953,1427,1802,1975,2004,1959,2120,1899,1285,3848,4094,4160,4027,4352,3852,2712]
["Tue",100,0,0,0,0,0,0,0,0,0,0,0,0,0,0,0,0,0,0,0,0,0,0,0,0,0,0,0,0,0,0,0,0,0,0,0,"-","-","Tue",100,0,0,0,0,0,0,0,0,0,0,0,0,0,0,0,0,0,0,0,0,0,0,0,0,0,0,0,0,0,0,0,0,0,0,0,"-","-","Tue",100,0,0,0,0,0,0,0,0,0,0,0,0,0,0,0,0,0,0,0,0,0,0,0,0,0,0,0,0,0,0,0,0,0,0,0,"-","-",0,0,0,0,0,0,0,0,0,0,0,0,0,0,0,0,0,0,0,0,0,0,0,0,0,0,0,0,0,0,0,0,0,0,0,0,0,0,0]
["Tue",200,0,0,0,0,0,0,0,0,0,0,0,0,0,0,0,0,0,0,0,0,0,0,0,0,0,0,0,0,0,0,0,0,0,0,0,"-","-","Tue",200,0,0,0,0,0,0,0,0,0,0,0,0,0,0,0,0,0,0,0,0,0,0,0,0,0,0,0,0,0,0,0,0,0,0,0,"-","-","Tue",200,0,0,0,0,0,0,0,0,0,0,0,0,0,0,0,0,0,0,0,0,0,0,0,0,0,0,0,0,0,0,0,0,0,0,0,"-","-",0,0,0,0,0,0,0,0,0,0,0,0,0,0,0,0,0,0,0,0,0,0,0,0,0,0,0,0,0,0,0,0,0,0,0,0,0,0,0,null,null,null,{"$f":"FA2","v":"NB"},null,null,null,null,null,null,null,null,null,{"$f":"FH2","v":"SB"},null,null,null,null,null,null,null,null,null,"Combined"]
["Tue",300,0,0,1,0,0,0,0,0,0,0,0,0,0,0,0,0,1,0,0,0,0,0,0,0,0,0,0,0,0,0,0,0,0,0,0,26.32,"-","Tue",300,0,0,0,0,0,0,0,0,0,0,0,0,0,0,0,0,0,0,0,0,0,0,0,0,0,0,0,0,0,0,0,0,0,0,0,"-","-","Tue",300,0,0,1,0,0,0,0,0,0,0,0,0,0,0,0,0,1,0,0,0,0,0,0,0,0,0,0,0,0,0,0,0,0,0,0,26.32,"-",0,0,1,0,0,0,0,0,0,0,0,0,1,0,0,0,0,0,0,0,0,0,0,0,0,0,0,0,1,0,0,0,0,0,0,0,0,0,1,null,null,"Headway >=0","Min","Median","Average",0.85,0.95,"Max","StDev","15Kph Pace Lower Bound","Pace Count","Count > PSL ","Min","Median","Average",0.85,0.95,"Max","StDev","15Kph Pace Lower Bound","Pace Count","Count > PSL ","Min","Median","Average",0.85,0.95,"Max","StDev","15Kph Pace Lower Bound","Pace Count","Count > PSL "]
["Tue",400,0,0,1,1,2,0,0,0,0,0,0,0,0,0,0,1,3,0,0,0,0,0,0,0,0,0,0,0,0,0,0,0,0,0,0,25.2,"-","Tue",400,0,0,0,2,1,0,0,0,0,0,0,0,0,0,2,1,0,0,0,0,0,0,0,0,0,0,0,0,0,0,0,0,0,0,0,18.86,"-","Tue",400,0,0,1,3,3,0,0,0,0,0,0,0,0,0,2,2,3,0,0,0,0,0,0,0,0,0,0,0,0,0,0,0,0,0,0,22.48,"-",0,0,1,1,2,0,0,0,0,0,0,0,4,0,0,0,2,1,0,0,0,0,0,0,0,3,0,0,1,3,3,0,0,0,0,0,0,0,7,null,0,"Mon",null,19.87,19.87,24.08,null,null,null,null,null,null,null,18.64,18.46,22.57,null,null,null,null,null,null,null,19.3,19.21,23.38]
["Tue",500,0,0,6,9,0,0,0,0,0,0,0,0,0,0,2,3,8,2,0,0,0,0,0,0,0,0,0,0,0,0,0,0,0,0,0,25.68,29.13,"Tue",500,0,0,4,3,0,0,0,0,0,0,0,1,1,0,3,2,2,0,0,0,0,0,0,0,0,0,0,0,0,0,0,0,0,0,0,19.95,"-","Tue",500,0,0,10,12,0,0,0,0,0,0,0,1,1,0,5,5,10,2,0,0,0,0,0,0,0,0,0,0,0,0,0,0,0,0,0,23.69,28.6,0,0,6,9,0,0,0,0,0,0,0,0,15,0,0,4,3,0,0,0,0,0,0,0,1,8,0,0,10,12,0,0,0,0,0,0,0,1,23,null,1,"Tue",null,19.91,19.87,23.99,null,null,null,null,null,null,null,18.559999999999999,18.52,22.78,null,null,null,null,null,null,null,19.27,19.22,23.41]
["Tue",600,0,0,18,27,3,0,0,0,0,0,0,0,0,0,10,18,16,4,0,0,0,0,0,0,0,0,0,0,0,0,0,0,0,0,0,24.04,27.83,"Tue",600,0,0,5,7,2,0,0,0,0,0,0,0,0,2,3,6,3,0,0,0,0,0,0,0,0,0,0,0,0,0,0,0,0,0,0,21.37,26.12,"Tue",600,0,0,23,34,5,0,0,0,0,0,0,0,0,2,13,24,19,4,0,0,0,0,0,0,0,0,0,0,0,0,0,0,0,0,0,23.44,27.39,0,0,18,27,3,0,0,0,0,0,0,0,48,0,0,5,7,2,0,0,0,0,0,0,0,14,0,0,23,34,5,0,0,0,0,0,0,0,62,null,2,"Wed",null,19.190000000000001,19.329999999999998,23.42,null,null,null,null,null,null,null,18.29,18.170000000000002,22.07,null,null,null,null,null,null,null,18.79,18.77,22.89]
["Tue",700,0,1,50,77,5,0,0,2,0,0,1,0,1,4,25,80,25,1,0,0,0,0,0,0,0,0,0,0,0,0,0,0,0,0,0,22.27,25.86,"Tue",700,0,1,31,46,4,1,0,0,0,0,2,0,0,4,34,34,12,1,0,0,0,0,0,0,0,0,0,0,0,0,0,0,0,0,0,20.9,24.82,"Tue",700,0,2,81,123,9,1,0,2,0,0,3,0,1,8,59,114,37,2,0,0,0,0,0,0,0,0,0,0,0,0,0,0,0,0,0,21.74,25.39,0,1,50,77,5,0,0,2,0,0,1,0,136,0,1,31,46,4,1,0,0,0,0,2,0,85,0,2,81,123,9,1,0,2,0,0,3,0,221,null,3,"Thu",null,19.440000000000001,19.420000000000002,23.69,null,null,null,null,null,null,null,18.46,18.28,22.24,null,null,null,null,null,null,null,18.98,18.87,23]
["Tue",800,0,3,70,92,9,0,0,0,0,0,2,0,5,16,43,91,21,0,0,0,0,0,0,0,0,0,0,0,0,0,0,0,0,0,0,20.41,24.64,"Tue",800,0,2,56,53,4,2,0,3,0,0,1,1,1,24,55,35,7,0,0,0,0,0,0,0,0,0,0,0,0,0,0,0,0,0,0,18.489999999999998,22.44,"Tue",800,0,5,126,145,13,2,0,3,0,0,3,1,6,40,98,126,28,0,0,0,0,0,0,0,0,0,0,0,0,0,0,0,0,0,0,19.63,23.79,0,3,70,92,9,0,0,0,0,0,2,0,176,0,2,56,53,4,2,0,3,0,0,1,1,122,0,5,126,145,13,2,0,3,0,0,3,1,298,null,4,"Fri",null,19.64,19.579999999999998,23.55,null,null,null,null,null,null,null,18.2,18.02,21.95,null,null,null,null,null,null,null,18.93,18.82,22.86]
["Tue",900,0,0,61,94,7,2,0,0,0,1,1,0,1,15,92,48,10,0,0,0,0,0,0,0,0,0,0,0,0,0,0,0,0,0,0,19.190000000000001,22.57,"Tue",900,0,0,56,84,9,0,0,0,0,0,1,0,3,34,63,45,4,1,0,0,0,0,0,0,0,0,0,0,0,0,0,0,0,0,0,17.96,21.9,"Tue",900,0,0,117,178,16,2,0,0,0,1,2,0,4,49,155,93,14,1,0,0,0,0,0,0,0,0,0,0,0,0,0,0,0,0,0,18.61,22.33,0,0,61,94,7,2,0,0,0,1,1,0,166,0,0,56,84,9,0,0,0,0,0,1,0,150,0,0,117,178,16,2,0,0,0,1,2,0,316,null,5,"Sat",null,19.239999999999998,19.3,23.64,null,null,null,null,null,null,null,18.14,18.190000000000001,22.64,null,null,null,null,null,null,null,18.75,18.75,23.14]
["Tue",1000,2,1,49,96,7,0,0,1,0,0,2,0,3,20,64,62,9,0,0,0,0,0,0,0,0,0,0,0,0,0,0,0,0,0,0,19.059999999999999,22.34,"Tue",1000,0,2,43,70,7,1,0,1,0,0,1,2,0,34,53,32,7,1,0,0,0,0,0,0,0,0,0,0,0,0,0,0,0,0,0,18.02,22.24,"Tue",1000,2,3,92,166,14,1,0,2,0,0,3,2,3,54,117,94,16,1,0,0,0,0,0,0,0,0,0,0,0,0,0,0,0,0,0,18.59,22.28,2,1,49,96,7,0,0,1,0,0,2,0,158,0,2,43,70,7,1,0,1,0,0,1,2,127,2,3,92,166,14,1,0,2,0,0,3,2,285,null,6,"Sun",null,20.78,20.68,24.53,null,null,null,null,null,null,null,19.37,19.09,23.15,null,null,null,null,null,null,null,20.149999999999999,19.93,23.87]
["Tue",1100,0,4,56,87,4,0,0,2,0,0,0,0,2,19,80,45,5,2,0,0,0,0,0,0,0,0,0,0,0,0,0,0,0,0,0,18.82,22.55,"Tue",1100,1,3,68,71,4,0,0,0,0,0,2,1,7,27,71,42,3,0,0,0,0,0,0,0,0,0,0,0,0,0,0,0,0,0,0,17.66,21.14,"Tue",1100,1,7,124,158,8,0,0,2,0,0,2,1,9,46,151,87,8,2,0,0,0,0,0,0,0,0,0,0,0,0,0,0,0,0,0,18.239999999999998,21.91,0,4,56,87,4,0,0,2,0,0,0,0,153,1,3,68,71,4,0,0,0,0,0,2,1,150,1,7,124,158,8,0,0,2,0,0,2,1,303,null,null,"Weekday",null,19.64,19.61,23.75,null,null,null,null,null,null,null,18.420000000000002,18.28,22.35,null,null,null,null,null,null,null,19.04,18.97,23.11]
["Tue",1200,0,1,48,70,6,1,0,2,0,0,1,1,2,14,50,54,9,1,0,0,0,0,0,0,0,0,0,0,0,0,0,0,0,0,0,19.66,23.74,"Tue",1200,0,5,72,66,3,1,1,1,0,0,0,1,3,22,60,53,12,0,0,0,0,0,0,0,0,0,0,0,0,0,0,0,0,0,0,19.11,23.23,"Tue",1200,0,6,120,136,9,2,1,3,0,0,1,2,5,36,110,107,21,1,0,0,0,0,0,0,0,0,0,0,0,0,0,0,0,0,0,19.37,23.53,0,1,48,70,6,1,0,2,0,0,1,1,130,0,5,72,66,3,1,1,1,0,0,0,1,150,0,6,120,136,9,2,1,3,0,0,1,2,280,null,null,"7 day",null,19.71,19.68,23.81,null,null,null,null,null,null,null,18.48,18.350000000000001,22.48,null,null,null,null,null,null,null,19.12,19.04,23.21]
["Tue",1300,0,2,58,81,4,0,0,0,0,0,0,0,0,25,54,56,9,1,0,0,0,0,0,0,0,0,0,0,0,0,0,0,0,0,0,19.34,23.74,"Tue",1300,0,1,67,63,3,0,0,1,0,0,0,0,7,33,58,33,4,0,0,0,0,0,0,0,0,0,0,0,0,0,0,0,0,0,0,17.510000000000002,21.88,"Tue",1300,0,3,125,144,7,0,0,1,0,0,0,0,7,58,112,89,13,1,0,0,0,0,0,0,0,0,0,0,0,0,0,0,0,0,0,18.46,22.85,0,2,58,81,4,0,0,0,0,0,0,0,145,0,1,67,63,3,0,0,1,0,0,0,0,135,0,3,125,144,7,0,0,1,0,0,0,0,280]
["Tue",1400,0,2,46,91,6,0,0,1,0,0,1,0,1,16,81,44,5,0,0,0,0,0,0,0,0,0,0,0,0,0,0,0,0,0,0,18.75,22.37,"Tue",1400,0,0,69,56,1,0,0,0,0,0,0,0,3,27,62,34,0,0,0,0,0,0,0,0,0,0,0,0,0,0,0,0,0,0,0,17.47,21.16,"Tue",1400,0,2,115,147,7,0,0,1,0,0,1,0,4,43,143,78,5,0,0,0,0,0,0,0,0,0,0,0,0,0,0,0,0,0,0,18.16,21.71,0,2,46,91,6,0,0,1,0,0,1,0,147,0,0,69,56,1,0,0,0,0,0,0,0,126,0,2,115,147,7,0,0,1,0,0,1,0,273]
["Tue",1500,0,4,78,102,10,0,0,1,0,0,1,0,0,22,102,68,4,0,0,0,0,0,0,0,0,0,0,0,0,0,0,0,0,0,0,18.86,22.29,"Tue",1500,3,5,94,90,7,0,0,0,0,0,0,2,5,36,105,42,9,1,0,0,0,0,0,0,0,0,0,0,0,3,0,0,0,0,0,18.940000000000001,22,"Tue",1500,3,9,172,192,17,0,0,1,0,0,1,2,5,58,207,110,13,1,0,0,0,0,0,0,0,0,0,0,0,3,0,0,0,0,0,18.899999999999999,22.19,0,4,78,102,10,0,0,1,0,0,1,0,196,3,5,94,90,7,0,0,0,0,0,0,2,201,3,9,172,192,17,0,0,1,0,0,1,2,397,null,null,"Headway >=4",null,"Median","Average",0.85,null,null,null,null,null,null,null,"Median","Average",0.85,null,null,null,null,null,null,null,"Median","Average",0.85]
["Tue",1600,0,2,56,111,4,0,0,1,0,0,3,0,2,30,90,48,7,0,0,0,0,0,0,0,0,0,0,0,0,0,0,0,0,0,0,18.09,22.18,"Tue",1600,0,1,109,89,4,0,0,1,0,0,1,1,8,70,86,39,3,0,0,0,0,0,0,0,0,0,0,0,0,0,0,0,0,0,0,16.36,20.7,"Tue",1600,0,3,165,200,8,0,0,2,0,0,4,1,10,100,176,87,10,0,0,0,0,0,0,0,0,0,0,0,0,0,0,0,0,0,0,17.16,21.24,0,2,56,111,4,0,0,1,0,0,3,0,177,0,1,109,89,4,0,0,1,0,0,1,1,206,0,3,165,200,8,0,0,2,0,0,4,1,383,null,0,"Mon",null,20.23,20.260000000000002,24.4,null,null,null,null,null,null,null,18.7,18.510000000000002,22.67,null,null,null,null,null,null,null,19.57,19.43,23.65]
["Tue",1700,1,0,59,87,4,0,0,3,0,0,0,0,2,7,70,64,10,1,0,0,0,0,0,0,0,0,0,0,0,0,0,0,0,0,0,20.350000000000001,23.98,"Tue",1700,0,2,87,82,5,0,0,0,0,0,0,3,6,25,72,70,5,1,0,0,0,0,0,0,0,0,0,0,0,0,0,0,0,0,0,18.760000000000002,22.77,"Tue",1700,1,2,146,169,9,0,0,3,0,0,0,3,8,32,142,134,15,2,0,0,0,0,0,0,0,0,0,0,0,0,0,0,0,0,0,19.489999999999998,23.48,1,0,59,87,4,0,0,3,0,0,0,0,154,0,2,87,82,5,0,0,0,0,0,0,3,179,1,2,146,169,9,0,0,3,0,0,0,3,333,null,1,"Tue",null,20.38,20.29,24.42,null,null,null,null,null,null,null,18.809999999999999,18.61,23.03,null,null,null,null,null,null,null,19.62,19.47,23.77]
["Tue",1800,0,0,38,63,3,0,0,1,0,0,1,2,2,8,36,48,14,0,0,0,0,0,0,0,0,0,0,0,0,0,0,0,0,0,0,20.36,24.63,"Tue",1800,0,0,49,53,2,0,0,1,0,0,0,0,0,15,40,41,9,0,0,0,0,0,0,0,0,0,0,0,0,0,0,0,0,0,0,19.75,23.6,"Tue",1800,0,0,87,116,5,0,0,2,0,0,1,2,2,23,76,89,23,0,0,0,0,0,0,0,0,0,0,0,0,0,0,0,0,0,0,20.059999999999999,24.45,0,0,38,63,3,0,0,1,0,0,1,2,108,0,0,49,53,2,0,0,1,0,0,0,0,105,0,0,87,116,5,0,0,2,0,0,1,2,213,null,2,"Wed",null,19.77,19.829999999999998,24.08,null,null,null,null,null,null,null,18.38,18.25,22.28,null,null,null,null,null,null,null,19.079999999999998,19.05,23.22]
["Tue",1900,1,2,19,42,1,0,0,1,0,0,0,0,0,2,20,36,8,0,0,0,0,0,0,0,0,0,0,0,0,0,0,0,0,0,0,21.23,24.82,"Tue",1900,0,2,59,29,3,0,0,0,0,0,0,0,3,11,34,39,5,1,0,0,0,0,0,0,0,0,0,0,0,0,0,0,0,0,0,19.46,23.13,"Tue",1900,1,4,78,71,4,0,0,1,0,0,0,0,3,13,54,75,13,1,0,0,0,0,0,0,0,0,0,0,0,0,0,0,0,0,0,20.190000000000001,23.84,1,2,19,42,1,0,0,1,0,0,0,0,66,0,2,59,29,3,0,0,0,0,0,0,0,93,1,4,78,71,4,0,0,1,0,0,0,0,159,null,3,"Thu",null,19.809999999999999,19.84,23.99,null,null,null,null,null,null,null,18.54,18.39,22.41,null,null,null,null,null,null,null,19.2,19.13,23.35]
["Tue",2000,0,0,24,37,4,0,0,0,0,0,0,0,1,4,19,30,10,1,0,0,0,0,0,0,0,0,0,0,0,0,0,0,0,0,0,21.21,25.29,"Tue",2000,0,0,20,26,0,0,0,0,0,0,0,0,0,8,16,17,5,0,0,0,0,0,0,0,0,0,0,0,0,0,0,0,0,0,0,19.91,23.75,"Tue",2000,0,0,44,63,4,0,0,0,0,0,0,0,1,12,35,47,15,1,0,0,0,0,0,0,0,0,0,0,0,0,0,0,0,0,0,20.67,24.6,0,0,24,37,4,0,0,0,0,0,0,0,65,0,0,20,26,0,0,0,0,0,0,0,0,46,0,0,44,63,4,0,0,0,0,0,0,0,111,null,4,"Fri",null,20.04,19.95,23.89,null,null,null,null,null,null,null,18.47,18.190000000000001,22.13,null,null,null,null,null,null,null,19.23,19.09,23.2]
["Tue",2100,0,1,18,32,1,0,0,0,0,0,0,1,0,4,15,24,8,2,0,0,0,0,0,0,0,0,0,0,0,0,0,0,0,0,0,21.3,25.21,"Tue",2100,0,0,27,14,0,0,0,0,0,0,0,0,1,3,14,17,4,2,0,0,0,0,0,0,0,0,0,0,0,0,0,0,0,0,0,20.49,24.88,"Tue",2100,0,1,45,46,1,0,0,0,0,0,0,1,1,7,29,41,12,4,0,0,0,0,0,0,0,0,0,0,0,0,0,0,0,0,0,20.95,25.14,0,1,18,32,1,0,0,0,0,0,0,1,53,0,0,27,14,0,0,0,0,0,0,0,0,41,0,1,45,46,1,0,0,0,0,0,0,1,94,null,5,"Sat",null,19.739999999999998,19.78,23.95,null,null,null,null,null,null,null,18.38,18.350000000000001,22.9,null,null,null,null,null,null,null,19.12,19.05,23.47]
["Tue",2200,0,0,5,8,0,0,0,0,0,0,0,0,0,0,1,8,2,2,0,0,0,0,0,0,0,0,0,0,0,0,0,0,0,0,0,24.05,27.08,"Tue",2200,0,1,10,10,0,0,0,0,0,0,0,0,0,0,4,9,7,1,0,0,0,0,0,0,0,0,0,0,0,0,0,0,0,0,0,23.85,26.26,"Tue",2200,0,1,15,18,0,0,0,0,0,0,0,0,0,0,5,17,9,3,0,0,0,0,0,0,0,0,0,0,0,0,0,0,0,0,0,23.93,26.29,0,0,5,8,0,0,0,0,0,0,0,0,13,0,1,10,10,0,0,0,0,0,0,0,0,21,0,1,15,18,0,0,0,0,0,0,0,0,34,null,6,"Sun",null,21.21,21.08,24.87,null,null,null,null,null,null,null,19.440000000000001,19.12,23.19,null,null,null,null,null,null,null,20.34,20.12,24.1]
["Tue",2300,0,0,1,5,0,0,0,0,0,0,0,0,0,0,2,4,0,0,0,0,0,0,0,0,0,0,0,0,0,0,0,0,0,0,0,20.29,"-","Tue",2300,0,0,7,5,0,0,0,0,0,0,0,0,0,0,5,6,0,1,0,0,0,0,0,0,0,0,0,0,0,0,0,0,0,0,0,21.54,24.45,"Tue",2300,0,0,8,10,0,0,0,0,0,0,0,0,0,0,7,10,0,1,0,0,0,0,0,0,0,0,0,0,0,0,0,0,0,0,0,21.12,24.46,0,0,1,5,0,0,0,0,0,0,0,0,6,0,0,7,5,0,0,0,0,0,0,0,0,12,0,0,8,10,0,0,0,0,0,0,0,0,18,null,null,"Weekday",null,20.04,20.03,24.15,null,null,null,null,null,null,null,18.559999999999999,18.38,22.54,null,null,null,null,null,null,null,19.329999999999998,19.23,23.44]
["Wed",0,0,0,1,2,0,0,0,0,0,0,0,0,0,0,1,1,1,0,0,0,0,0,0,0,0,0,0,0,0,0,0,0,0,0,0,21.33,"-","Wed",0,0,0,0,1,0,0,0,0,0,0,0,0,0,0,0,1,0,0,0,0,0,0,0,0,0,0,0,0,0,0,0,0,0,0,0,20.239999999999998,"-","Wed",0,0,0,1,3,0,0,0,0,0,0,0,0,0,0,1,2,1,0,0,0,0,0,0,0,0,0,0,0,0,0,0,0,0,0,0,21.06,"-",0,0,1,2,0,0,0,0,0,0,0,0,3,0,0,0,1,0,0,0,0,0,0,0,0,1,0,0,1,3,0,0,0,0,0,0,0,0,4,null,null,"7 day",null,20.14,20.11,24.21,null,null,null,null,null,null,null,18.64,18.46,22.66,null,null,null,null,null,null,null,19.41,19.3,23.55]
["Wed",100,0,0,0,0,0,0,0,0,0,0,0,0,0,0,0,0,0,0,0,0,0,0,0,0,0,0,0,0,0,0,0,0,0,0,0,"-","-","Wed",100,0,0,0,0,1,0,0,0,0,0,0,0,0,0,0,1,0,0,0,0,0,0,0,0,0,0,0,0,0,0,0,0,0,0,0,23.94,"-","Wed",100,0,0,0,0,1,0,0,0,0,0,0,0,0,0,0,1,0,0,0,0,0,0,0,0,0,0,0,0,0,0,0,0,0,0,0,23.94,"-",0,0,0,0,0,0,0,0,0,0,0,0,0,0,0,0,0,1,0,0,0,0,0,0,0,1,0,0,0,0,1,0,0,0,0,0,0,0,1]
["Wed",200,0,0,0,1,0,0,0,0,0,0,0,0,0,0,0,0,1,0,0,0,0,0,0,0,0,0,0,0,0,0,0,0,0,0,0,25.05,"-","Wed",200,0,0,0,2,0,0,0,0,0,0,0,0,0,0,0,2,0,0,0,0,0,0,0,0,0,0,0,0,0,0,0,0,0,0,0,22.18,"-","Wed",200,0,0,0,3,0,0,0,0,0,0,0,0,0,0,0,2,1,0,0,0,0,0,0,0,0,0,0,0,0,0,0,0,0,0,0,23.13,"-",0,0,0,1,0,0,0,0,0,0,0,0,1,0,0,0,2,0,0,0,0,0,0,0,0,2,0,0,0,3,0,0,0,0,0,0,0,0,3]
["Wed",300,0,0,0,0,0,0,0,0,0,0,0,0,0,0,0,0,0,0,0,0,0,0,0,0,0,0,0,0,0,0,0,0,0,0,0,"-","-","Wed",300,0,0,0,0,0,0,0,0,0,0,0,0,0,0,0,0,0,0,0,0,0,0,0,0,0,0,0,0,0,0,0,0,0,0,0,"-","-","Wed",300,0,0,0,0,0,0,0,0,0,0,0,0,0,0,0,0,0,0,0,0,0,0,0,0,0,0,0,0,0,0,0,0,0,0,0,"-","-",0,0,0,0,0,0,0,0,0,0,0,0,0,0,0,0,0,0,0,0,0,0,0,0,0,0,0,0,0,0,0,0,0,0,0,0,0,0,0]
["Wed",400,0,0,1,1,0,0,0,0,0,0,0,0,0,0,0,0,2,0,0,0,0,0,0,0,0,0,0,0,0,0,0,0,0,0,0,26.76,"-","Wed",400,0,0,0,3,0,0,0,0,0,0,0,0,0,0,1,2,0,0,0,0,0,0,0,0,0,0,0,0,0,0,0,0,0,0,0,20.79,"-","Wed",400,0,0,1,4,0,0,0,0,0,0,0,0,0,0,1,2,2,0,0,0,0,0,0,0,0,0,0,0,0,0,0,0,0,0,0,23.18,"-",0,0,1,1,0,0,0,0,0,0,0,0,2,0,0,0,3,0,0,0,0,0,0,0,0,3,0,0,1,4,0,0,0,0,0,0,0,0,5]
["Wed",500,0,0,3,13,0,0,0,0,0,0,0,0,0,0,5,7,4,0,0,0,0,0,0,0,0,0,0,0,0,0,0,0,0,0,0,22.18,25.87,"Wed",500,0,0,3,2,0,0,0,0,0,0,0,0,0,1,2,1,1,0,0,0,0,0,0,0,0,0,0,0,0,0,0,0,0,0,0,18.68,"-","Wed",500,0,0,6,15,0,0,0,0,0,0,0,0,0,1,7,8,5,0,0,0,0,0,0,0,0,0,0,0,0,0,0,0,0,0,0,21.35,25.61,0,0,3,13,0,0,0,0,0,0,0,0,16,0,0,3,2,0,0,0,0,0,0,0,0,5,0,0,6,15,0,0,0,0,0,0,0,0,21]
["Wed",600,0,0,16,24,2,0,0,0,0,0,0,0,0,0,4,18,17,3,0,0,0,0,0,0,0,0,0,0,0,0,0,0,0,0,0,24.94,29.14,"Wed",600,0,0,6,6,2,0,0,0,0,0,0,0,0,0,8,4,2,0,0,0,0,0,0,0,0,0,0,0,0,0,0,0,0,0,0,20.49,24.29,"Wed",600,0,0,22,30,4,0,0,0,0,0,0,0,0,0,12,22,19,3,0,0,0,0,0,0,0,0,0,0,0,0,0,0,0,0,0,23.83,27.51,0,0,16,24,2,0,0,0,0,0,0,0,42,0,0,6,6,2,0,0,0,0,0,0,0,14,0,0,22,30,4,0,0,0,0,0,0,0,56]
["Wed",700,1,0,47,66,5,0,0,0,0,0,1,0,0,6,27,63,23,1,0,0,0,0,0,0,0,0,0,0,0,0,0,0,0,0,0,22.05,26.29,"Wed",700,1,0,23,42,4,0,0,1,0,0,0,1,4,12,30,24,2,0,0,0,0,0,0,0,0,0,0,0,0,0,0,0,0,0,0,18.22,22.89,"Wed",700,2,0,70,108,9,0,0,1,0,0,1,1,4,18,57,87,25,1,0,0,0,0,0,0,0,0,0,0,0,0,0,0,0,0,0,20.61,24.69,1,0,47,66,5,0,0,0,0,0,1,0,120,1,0,23,42,4,0,0,1,0,0,0,1,72,2,0,70,108,9,0,0,1,0,0,1,1,192]
["Wed",800,1,1,55,90,8,0,0,3,0,0,2,1,0,14,74,62,11,0,0,0,0,0,0,0,0,0,0,0,0,0,0,0,0,0,0,19.579999999999998,23.16,"Wed",800,0,0,58,74,6,1,0,4,0,0,1,1,3,16,76,42,7,1,0,0,0,0,0,0,0,0,0,0,0,0,0,0,0,0,0,18.78,22.32,"Wed",800,1,1,113,164,14,1,0,7,0,0,3,2,3,30,150,104,18,1,0,0,0,0,0,0,0,0,0,0,0,0,0,0,0,0,0,19.2,22.95,1,1,55,90,8,0,0,3,0,0,2,1,161,0,0,58,74,6,1,0,4,0,0,1,1,145,1,1,113,164,14,1,0,7,0,0,3,2,306]
["Wed",900,0,0,70,88,6,1,0,0,0,0,0,0,2,16,98,39,10,0,0,0,0,0,0,0,0,0,0,0,0,0,0,0,0,0,0,18.71,22.44,"Wed",900,0,1,53,64,6,0,0,0,0,0,1,0,5,31,56,30,3,0,0,0,0,0,0,0,0,0,0,0,0,0,0,0,0,0,0,17.489999999999998,21.4,"Wed",900,0,1,123,152,12,1,0,0,0,0,1,0,7,47,154,69,13,0,0,0,0,0,0,0,0,0,0,0,0,0,0,0,0,0,0,18.190000000000001,21.65,0,0,70,88,6,1,0,0,0,0,0,0,165,0,1,53,64,6,0,0,0,0,0,1,0,125,0,1,123,152,12,1,0,0,0,0,1,0,290]
["Wed",1000,0,1,56,91,10,0,0,2,0,1,3,0,2,37,91,32,2,0,0,0,0,0,0,0,0,0,0,0,0,0,0,0,0,0,0,17.190000000000001,21.01,"Wed",1000,0,0,58,95,8,2,0,0,0,1,0,0,3,59,75,26,1,0,0,0,0,0,0,0,0,0,0,0,0,0,0,0,0,0,0,16.46,20.11,"Wed",1000,0,1,114,186,18,2,0,2,0,2,3,0,5,96,166,58,3,0,0,0,0,0,0,0,0,0,0,0,0,0,0,0,0,0,0,16.829999999999998,20.62,0,1,56,91,10,0,0,2,0,1,3,0,164,0,0,58,95,8,2,0,0,0,1,0,0,164,0,1,114,186,18,2,0,2,0,2,3,0,328]
["Wed",1100,0,0,52,92,9,0,0,0,0,0,0,0,1,37,66,41,7,0,1,0,0,0,0,0,0,0,0,0,0,0,0,0,0,0,0,18.03,21.96,"Wed",1100,0,0,58,77,10,0,0,0,0,0,0,0,2,35,85,22,1,0,0,0,0,0,0,0,0,0,0,0,0,0,0,0,0,0,0,17.07,20.12,"Wed",1100,0,0,110,169,19,0,0,0,0,0,0,0,3,72,151,63,8,0,1,0,0,0,0,0,0,0,0,0,0,0,0,0,0,0,0,17.57,20.98,0,0,52,92,9,0,0,0,0,0,0,0,153,0,0,58,77,10,0,0,0,0,0,0,0,145,0,0,110,169,19,0,0,0,0,0,0,0,298]
["Wed",1200,0,2,70,104,3,2,0,1,0,0,0,1,5,23,102,47,6,0,0,0,0,0,0,0,0,0,0,0,0,0,0,0,0,0,0,18.18,21.52,"Wed",1200,0,2,55,81,3,3,0,1,0,0,0,1,5,29,69,35,7,1,0,0,0,0,0,0,0,0,0,0,0,0,0,0,0,0,0,17.87,21.51,"Wed",1200,0,4,125,185,6,5,0,2,0,0,0,2,10,52,171,82,13,1,0,0,0,0,0,0,0,0,0,0,0,0,0,0,0,0,0,18.05,21.53,0,2,70,104,3,2,0,1,0,0,0,1,183,0,2,55,81,3,3,0,1,0,0,0,1,146,0,4,125,185,6,5,0,2,0,0,0,2,329]
["Wed",1300,0,1,53,90,4,0,0,1,0,0,1,0,2,19,69,49,10,1,0,0,0,0,0,0,0,0,0,0,0,0,0,0,0,0,0,19.07,22.75,"Wed",1300,0,1,61,64,6,0,0,0,0,0,0,0,1,21,76,32,2,0,0,0,0,0,0,0,0,0,0,0,0,0,0,0,0,0,0,17.97,20.99,"Wed",1300,0,2,114,154,10,0,0,1,0,0,1,0,3,40,145,81,12,1,0,0,0,0,0,0,0,0,0,0,0,0,0,0,0,0,0,18.55,21.76,0,1,53,90,4,0,0,1,0,0,1,0,150,0,1,61,64,6,0,0,0,0,0,0,0,132,0,2,114,154,10,0,0,1,0,0,1,0,282]
["Wed",1400,1,0,51,93,8,1,0,0,0,0,0,0,1,30,79,42,2,0,0,0,0,0,0,0,0,0,0,0,0,0,0,0,0,0,0,17.86,21.98,"Wed",1400,0,1,61,68,1,1,0,0,0,0,0,1,5,32,60,34,2,0,0,0,0,0,0,0,0,0,0,0,0,0,0,0,0,0,0,17.2,21.08,"Wed",1400,1,1,112,161,9,2,0,0,0,0,0,1,6,62,139,76,4,0,0,0,0,0,0,0,0,0,0,0,0,0,0,0,0,0,0,17.55,21.53,1,0,51,93,8,1,0,0,0,0,0,0,154,0,1,61,68,1,1,0,0,0,0,0,1,133,1,1,112,161,9,2,0,0,0,0,0,1,287]
["Wed",1500,0,0,57,98,8,0,0,1,0,0,1,0,0,18,77,62,8,0,0,0,0,0,0,0,0,0,0,0,0,0,0,0,0,0,0,19.260000000000002,22.95,"Wed",1500,0,1,67,90,4,0,0,0,0,0,0,0,2,33,70,49,8,0,0,0,0,0,0,0,0,0,0,0,0,0,0,0,0,0,0,18.48,22.62,"Wed",1500,0,1,124,188,12,0,0,1,0,0,1,0,2,51,147,111,16,0,0,0,0,0,0,0,0,0,0,0,0,0,0,0,0,0,0,18.87,22.81,0,0,57,98,8,0,0,1,0,0,1,0,165,0,1,67,90,4,0,0,0,0,0,0,0,162,0,1,124,188,12,0,0,1,0,0,1,0,327]
["Wed",1600,0,0,66,111,11,0,0,1,0,0,1,0,5,29,94,52,10,0,0,0,0,0,0,0,0,0,0,0,0,0,0,0,0,0,0,18.34,21.76,"Wed",1600,1,0,94,111,3,0,0,0,0,0,1,0,3,38,109,54,6,0,0,0,0,0,0,0,0,0,0,0,0,0,0,0,0,0,0,18.18,21.93,"Wed",1600,1,0,160,222,14,0,0,1,0,0,2,0,8,67,203,106,16,0,0,0,0,0,0,0,0,0,0,0,0,0,0,0,0,0,0,18.25,21.82,{"$f":"SUM(C69)","v":0},{"$f":"SUM(D69)","v":0},{"$f":"SUM(E69)","v":66},{"$f":"SUM(F69)","v":111},{"$f":"SUM(G69)","v":11},{"$f":"SUM(H69)","v":0},{"$f":"SUM(I69)","v":0},{"$f":"SUM(J69)","v":1},{"$f":"SUM(K69)","v":0},{"$f":"SUM(L69)","v":0},{"$f":"SUM(M69)","v":1},{"$f":"SUM(N69)","v":0},{"$f":"SUM(C69:N69)","v":190},{"$f":"SUM(AP69)","v":1},{"$f":"SUM(AQ69)","v":0},{"$f":"SUM(AR69)","v":94},{"$f":"SUM(AS69)","v":111},{"$f":"SUM(AT69)","v":3},{"$f":"SUM(AU69)","v":0},{"$f":"SUM(AV69)","v":0},{"$f":"SUM(AW69)","v":0},{"$f":"SUM(AX69)","v":0},{"$f":"SUM(AY69)","v":0},{"$f":"SUM(AZ69)","v":1},{"$f":"SUM(BA69)","v":0},{"$f":"SUM(AP69:BA69)","v":210},{"$f":"SUM(DN69+EA69)","v":1},{"$f":"SUM(DO69+EB69)","v":0},{"$f":"SUM(DP69+EC69)","v":160},{"$f":"SUM(DQ69+ED69)","v":222},{"$f":"SUM(DR69+EE69)","v":14},{"$f":"SUM(DS69+EF69)","v":0},{"$f":"SUM(DT69+EG69)","v":0},{"$f":"SUM(DU69+EH69)","v":1},{"$f":"SUM(DV69+EI69)","v":0},{"$f":"SUM(DW69+EJ69)","v":0},{"$f":"SUM(DX69+EK69)","v":2},{"$f":"SUM(DY69+EL69)","v":0},{"$f":"SUM(DZ69+EM69)","v":400}]
["Wed",1700,0,0,54,84,3,0,0,0,0,0,0,1,1,17,66,47,10,0,1,0,0,0,0,0,0,0,0,0,0,0,0,0,0,0,0,19.36,23.4,"Wed",1700,0,2,92,72,5,0,0,0,0,0,0,1,3,28,75,57,9,0,0,0,0,0,0,0,0,0,0,0,0,0,0,0,0,0,0,18.75,22.89,"Wed",1700,0,2,146,156,8,0,0,0,0,0,0,2,4,45,141,104,19,0,1,0,0,0,0,0,0,0,0,0,0,0,0,0,0,0,0,19.02,23.17,0,0,54,84,3,0,0,0,0,0,0,1,142,0,2,92,72,5,0,0,0,0,0,0,1,172,0,2,146,156,8,0,0,0,0,0,0,2,314]
["Wed",1800,0,1,49,71,5,0,0,0,0,0,0,0,0,10,30,70,15,1,0,0,0,0,0,0,0,0,0,0,0,0,0,0,0,0,0,21.09,24.73,"Wed",1800,0,1,56,77,1,0,0,0,0,0,0,1,5,24,65,39,3,0,0,0,0,0,0,0,0,0,0,0,0,0,0,0,0,0,0,17.78,21.72,"Wed",1800,0,2,105,148,6,0,0,0,0,0,0,1,5,34,95,109,18,1,0,0,0,0,0,0,0,0,0,0,0,0,0,0,0,0,0,19.37,23.16,0,1,49,71,5,0,0,0,0,0,0,0,126,0,1,56,77,1,0,0,0,0,0,0,1,136,0,2,105,148,6,0,0,0,0,0,0,1,262]
["Wed",1900,0,2,28,57,1,0,0,0,0,0,0,1,0,7,30,40,12,0,0,0,0,0,0,0,0,0,0,0,0,0,0,0,0,0,0,20.63,24.87,"Wed",1900,0,3,41,53,1,0,0,0,0,0,0,0,0,15,35,41,7,0,0,0,0,0,0,0,0,0,0,0,0,0,0,0,0,0,0,19.48,23.87,"Wed",1900,0,5,69,110,2,0,0,0,0,0,0,1,0,22,65,81,19,0,0,0,0,0,0,0,0,0,0,0,0,0,0,0,0,0,0,20.03,24.17,0,2,28,57,1,0,0,0,0,0,0,1,89,0,3,41,53,1,0,0,0,0,0,0,0,98,0,5,69,110,2,0,0,0,0,0,0,1,187]
["Wed",2000,0,0,20,48,3,0,0,0,0,0,0,0,0,0,23,39,8,1,0,0,0,0,0,0,0,0,0,0,0,0,0,0,0,0,0,21.75,24.67,"Wed",2000,0,0,29,29,2,0,0,2,0,0,0,0,0,10,22,25,5,0,0,0,0,0,0,0,0,0,0,0,0,0,0,0,0,0,0,19.579999999999998,23.07,"Wed",2000,0,0,49,77,5,0,0,2,0,0,0,0,0,10,45,64,13,1,0,0,0,0,0,0,0,0,0,0,0,0,0,0,0,0,0,20.74,24.37,0,0,20,48,3,0,0,0,0,0,0,0,71,0,0,29,29,2,0,0,2,0,0,0,0,62,0,0,49,77,5,0,0,2,0,0,0,0,133]
["Wed",2100,0,1,13,26,1,0,0,0,0,0,0,0,0,2,12,22,4,1,0,0,0,0,0,0,0,0,0,0,0,0,0,0,0,0,0,21.34,24.32,"Wed",2100,0,0,22,26,1,0,0,0,0,0,0,0,2,5,13,23,5,1,0,0,0,0,0,0,0,0,0,0,0,0,0,0,0,0,0,20.2,23.64,"Wed",2100,0,1,35,52,2,0,0,0,0,0,0,0,2,7,25,45,9,2,0,0,0,0,0,0,0,0,0,0,0,0,0,0,0,0,0,20.72,24.3,0,1,13,26,1,0,0,0,0,0,0,0,41,0,0,22,26,1,0,0,0,0,0,0,0,49,0,1,35,52,2,0,0,0,0,0,0,0,90]
["Wed",2200,0,1,5,7,0,0,0,0,0,1,0,0,0,0,3,9,2,0,0,0,0,0,0,0,0,0,0,0,0,0,0,0,0,0,0,22.37,24.95,"Wed",2200,0,1,12,8,0,0,0,0,0,0,0,0,0,2,1,12,3,3,0,0,0,0,0,0,0,0,0,0,0,0,0,0,0,0,0,23.82,28.14,"Wed",2200,0,2,17,15,0,0,0,0,0,1,0,0,0,2,4,21,5,3,0,0,0,0,0,0,0,0,0,0,0,0,0,0,0,0,0,23.24,27.17,0,1,5,7,0,0,0,0,0,1,0,0,14,0,1,12,8,0,0,0,0,0,0,0,0,21,0,2,17,15,0,0,0,0,0,1,0,0,35]
["Wed",2300,0,0,2,2,0,0,0,0,0,0,0,0,0,0,1,1,2,0,0,0,0,0,0,0,0,0,0,0,0,0,0,0,0,0,0,22.9,"-","Wed",2300,0,0,4,2,0,0,0,0,0,0,0,0,0,0,0,4,2,0,0,0,0,0,0,0,0,0,0,0,0,0,0,0,0,0,0,24.29,"-","Wed",2300,0,0,6,4,0,0,0,0,0,0,0,0,0,0,1,5,4,0,0,0,0,0,0,0,0,0,0,0,0,0,0,0,0,0,0,23.73,26.81,0,0,2,2,0,0,0,0,0,0,0,0,4,0,0,4,2,0,0,0,0,0,0,0,0,6,0,0,6,4,0,0,0,0,0,0,0,0,10]
["Thu",0,0,0,0,0,0,0,0,0,0,0,0,0,0,0,0,0,0,0,0,0,0,0,0,0,0,0,0,0,0,0,0,0,0,0,0,"-","-","Thu",0,0,0,1,1,0,0,0,0,0,0,0,0,0,0,0,1,1,0,0,0,0,0,0,0,0,0,0,0,0,0,0,0,0,0,0,25.49,"-","Thu",0,0,0,1,1,0,0,0,0,0,0,0,0,0,0,0,1,1,0,0,0,0,0,0,0,0,0,0,0,0,0,0,0,0,0,0,25.49,"-",0,0,0,0,0,0,0,0,0,0,0,0,0,0,0,1,1,0,0,0,0,0,0,0,0,2,0,0,1,1,0,0,0,0,0,0,0,0,2]
["Thu",100,0,0,1,1,0,0,0,0,0,0,0,0,0,0,0,0,2,0,0,0,0,0,0,0,0,0,0,0,0,0,0,0,0,0,0,25.69,"-","Thu",100,0,0,0,0,0,0,0,0,0,0,0,0,0,0,0,0,0,0,0,0,0,0,0,0,0,0,0,0,0,0,0,0,0,0,0,"-","-","Thu",100,0,0,1,1,0,0,0,0,0,0,0,0,0,0,0,0,2,0,0,0,0,0,0,0,0,0,0,0,0,0,0,0,0,0,0,25.69,"-",0,0,1,1,0,0,0,0,0,0,0,0,2,0,0,0,0,0,0,0,0,0,0,0,0,0,0,0,1,1,0,0,0,0,0,0,0,0,2]
["Thu",200,0,0,0,0,0,0,0,0,0,0,0,0,0,0,0,0,0,0,0,0,0,0,0,0,0,0,0,0,0,0,0,0,0,0,0,"-","-","Thu",200,0,0,2,0,0,0,0,0,0,0,0,0,0,0,1,1,0,0,0,0,0,0,0,0,0,0,0,0,0,0,0,0,0,0,0,19.510000000000002,"-","Thu",200,0,0,2,0,0,0,0,0,0,0,0,0,0,0,1,1,0,0,0,0,0,0,0,0,0,0,0,0,0,0,0,0,0,0,0,19.510000000000002,"-",0,0,0,0,0,0,0,0,0,0,0,0,0,0,0,2,0,0,0,0,0,0,0,0,0,2,0,0,2,0,0,0,0,0,0,0,0,0,2]
["Thu",300,0,0,0,0,1,0,0,0,0,0,0,0,0,0,0,0,1,0,0,0,0,0,0,0,0,0,0,0,0,0,0,0,0,0,0,29.12,"-","Thu",300,0,0,0,0,0,0,0,0,0,0,0,0,0,0,0,0,0,0,0,0,0,0,0,0,0,0,0,0,0,0,0,0,0,0,0,"-","-","Thu",300,0,0,0,0,1,0,0,0,0,0,0,0,0,0,0,0,1,0,0,0,0,0,0,0,0,0,0,0,0,0,0,0,0,0,0,29.12,"-",0,0,0,0,1,0,0,0,0,0,0,0,1,0,0,0,0,0,0,0,0,0,0,0,0,0,0,0,0,0,1,0,0,0,0,0,0,0,1]
["Thu",400,0,0,1,2,0,0,0,0,0,0,0,0,0,0,0,2,1,0,0,0,0,0,0,0,0,0,0,0,0,0,0,0,0,0,0,23.98,"-","Thu",400,0,0,0,0,0,0,0,0,0,0,0,0,0,0,0,0,0,0,0,0,0,0,0,0,0,0,0,0,0,0,0,0,0,0,0,"-","-","Thu",400,0,0,1,2,0,0,0,0,0,0,0,0,0,0,0,2,1,0,0,0,0,0,0,0,0,0,0,0,0,0,0,0,0,0,0,23.98,"-",0,0,1,2,0,0,0,0,0,0,0,0,3,0,0,0,0,0,0,0,0,0,0,0,0,0,0,0,1,2,0,0,0,0,0,0,0,0,3]
["Thu",500,0,0,5,6,1,0,0,0,0,0,0,0,0,0,1,5,6,0,0,0,0,0,0,0,0,0,0,0,0,0,0,0,0,0,0,24.39,28.2,"Thu",500,0,0,3,2,1,0,0,0,0,0,0,0,0,1,2,3,0,0,0,0,0,0,0,0,0,0,0,0,0,0,0,0,0,0,0,18.09,"-","Thu",500,0,0,8,8,2,0,0,0,0,0,0,0,0,1,3,8,6,0,0,0,0,0,0,0,0,0,0,0,0,0,0,0,0,0,0,22.29,27.15,0,0,5,6,1,0,0,0,0,0,0,0,12,0,0,3,2,1,0,0,0,0,0,0,0,6,0,0,8,8,2,0,0,0,0,0,0,0,18]
["Thu",600,0,1,20,28,3,0,0,0,0,0,0,0,0,2,8,23,16,3,0,0,0,0,0,0,0,0,0,0,0,0,0,0,0,0,0,23.3,27.6,"Thu",600,0,0,7,10,1,1,0,0,0,0,0,0,0,0,7,10,2,0,0,0,0,0,0,0,0,0,0,0,0,0,0,0,0,0,0,21.42,23.65,"Thu",600,0,1,27,38,4,1,0,0,0,0,0,0,0,2,15,33,18,3,0,0,0,0,0,0,0,0,0,0,0,0,0,0,0,0,0,22.8,26.73,0,1,20,28,3,0,0,0,0,0,0,0,52,0,0,7,10,1,1,0,0,0,0,0,0,19,0,1,27,38,4,1,0,0,0,0,0,0,71]
["Thu",700,0,2,40,72,5,3,0,2,0,0,1,0,0,3,35,62,25,0,0,0,0,0,0,0,0,0,0,0,0,0,0,0,0,0,0,21.8,25.36,"Thu",700,2,0,30,40,5,0,0,0,0,0,0,0,4,17,26,26,4,0,0,0,0,0,0,0,0,0,0,0,0,0,0,0,0,0,0,18.23,23.2,"Thu",700,2,2,70,112,10,3,0,2,0,0,1,0,4,20,61,88,29,0,0,0,0,0,0,0,0,0,0,0,0,0,0,0,0,0,0,20.440000000000001,24.93,0,2,40,72,5,3,0,2,0,0,1,0,125,2,0,30,40,5,0,0,0,0,0,0,0,77,2,2,70,112,10,3,0,2,0,0,1,0,202]
["Thu",800,1,3,63,98,8,0,0,2,0,0,2,0,0,14,72,78,13,0,0,0,0,0,0,0,0,0,0,0,0,0,0,0,0,0,0,20.09,23.99,"Thu",800,0,2,67,81,9,1,1,1,0,0,2,2,4,38,62,60,2,0,0,0,0,0,0,0,0,0,0,0,0,0,0,0,0,0,0,17.95,22.34,"Thu",800,1,5,130,179,17,1,1,3,0,0,4,2,4,52,134,138,15,0,0,0,0,0,0,0,0,0,0,0,0,0,0,0,0,0,0,19.05,23.22,1,3,63,98,8,0,0,2,0,0,2,0,177,0,2,67,81,9,1,1,1,0,0,2,2,166,1,5,130,179,17,1,1,3,0,0,4,2,343]
["Thu",900,0,0,63,83,11,0,0,1,0,1,2,1,4,22,73,55,8,0,0,0,0,0,0,0,0,0,0,0,0,0,0,0,0,0,0,18.59,23.16,"Thu",900,1,0,51,80,3,1,0,0,0,0,1,2,3,28,76,28,4,0,0,0,0,0,0,0,0,0,0,0,0,0,0,0,0,0,0,17.91,21.57,"Thu",900,1,0,114,163,14,1,0,1,0,1,3,3,7,50,149,83,12,0,0,0,0,0,0,0,0,0,0,0,0,0,0,0,0,0,0,18.28,22,0,0,63,83,11,0,0,1,0,1,2,1,162,1,0,51,80,3,1,0,0,0,0,1,2,139,1,0,114,163,14,1,0,1,0,1,3,3,301]
["Thu",1000,0,0,56,89,7,2,0,0,0,0,3,0,4,20,86,42,5,0,0,0,0,0,0,0,0,0,0,0,0,0,0,0,0,0,0,18.239999999999998,21.68,"Thu",1000,0,0,55,71,8,0,0,0,0,0,2,0,0,38,68,28,2,0,0,0,0,0,0,0,0,0,0,0,0,0,0,0,0,0,0,17.3,20.54,"Thu",1000,0,0,111,160,15,2,0,0,0,0,5,0,4,58,154,70,7,0,0,0,0,0,0,0,0,0,0,0,0,0,0,0,0,0,0,17.8,21.14,0,0,56,89,7,2,0,0,0,0,3,0,157,0,0,55,71,8,0,0,0,0,0,2,0,136,0,0,111,160,15,2,0,0,0,0,5,0,293]
["Thu",1100,0,2,49,92,5,1,0,1,0,0,2,1,5,32,77,31,7,1,0,0,0,0,0,0,0,0,0,0,0,0,0,0,0,0,0,17.690000000000001,21.56,"Thu",1100,0,3,59,81,7,0,0,0,0,0,1,1,3,46,72,28,3,0,0,0,0,0,0,0,0,0,0,0,0,0,0,0,0,0,0,17.14,20.87,"Thu",1100,0,5,108,173,12,1,0,1,0,0,3,2,8,78,149,59,10,1,0,0,0,0,0,0,0,0,0,0,0,0,0,0,0,0,0,17.420000000000002,21.25,0,2,49,92,5,1,0,1,0,0,2,1,153,0,3,59,81,7,0,0,0,0,0,1,1,152,0,5,108,173,12,1,0,1,0,0,3,2,305]
["Thu",1200,0,3,69,96,3,0,0,0,0,0,1,1,4,38,75,48,8,0,0,0,0,0,0,0,0,0,0,0,0,0,0,0,0,0,0,18.2,22.18,"Thu",1200,1,2,64,67,9,1,1,1,0,0,1,0,1,37,69,36,4,0,0,0,0,0,0,0,0,0,0,0,0,0,0,0,0,0,0,17.940000000000001,21.54,"Thu",1200,1,5,133,163,12,1,1,1,0,0,2,1,5,75,144,84,12,0,0,0,0,0,0,0,0,0,0,0,0,0,0,0,0,0,0,18.079999999999998,21.82,0,3,69,96,3,0,0,0,0,0,1,1,173,1,2,64,67,9,1,1,1,0,0,1,0,147,1,5,133,163,12,1,1,1,0,0,2,1,320]
["Thu",1300,0,6,45,87,9,0,1,0,0,0,2,1,2,25,69,48,7,0,0,0,0,0,0,0,0,0,0,0,0,0,0,0,0,0,0,18.68,22.63,"Thu",1300,0,0,53,56,6,0,0,0,0,0,0,0,1,26,56,28,4,0,0,0,0,0,0,0,0,0,0,0,0,0,0,0,0,0,0,17.84,21.23,"Thu",1300,0,6,98,143,15,0,1,0,0,0,2,1,3,51,125,76,11,0,0,0,0,0,0,0,0,0,0,0,0,0,0,0,0,0,0,18.32,22.14,0,6,45,87,9,0,1,0,0,0,2,1,151,0,0,53,56,6,0,0,0,0,0,0,0,115,0,6,98,143,15,0,1,0,0,0,2,1,266]
["Thu",1400,0,3,50,82,4,0,0,1,0,0,0,0,1,19,69,45,6,0,0,0,0,0,0,0,0,0,0,0,0,0,0,0,0,0,0,18.88,21.98,"Thu",1400,0,6,45,51,3,0,1,0,0,0,0,1,1,16,53,36,1,0,0,0,0,0,0,0,0,0,0,0,0,0,0,0,0,0,0,18.399999999999999,21.91,"Thu",1400,0,9,95,133,7,0,1,1,0,0,0,1,2,35,122,81,7,0,0,0,0,0,0,0,0,0,0,0,0,0,0,0,0,0,0,18.670000000000002,21.92,0,3,50,82,4,0,0,1,0,0,0,0,140,0,6,45,51,3,0,1,0,0,0,0,1,107,0,9,95,133,7,0,1,1,0,0,0,1,247]
["Thu",1500,0,1,55,87,3,0,0,0,0,0,1,1,4,27,73,33,10,1,0,0,0,0,0,0,0,0,0,0,0,0,0,0,0,0,0,18.38,22.2,"Thu",1500,0,1,66,73,6,0,0,0,0,0,0,0,1,31,72,38,4,0,0,0,0,0,0,0,0,0,0,0,0,0,0,0,0,0,0,17.88,20.91,"Thu",1500,0,2,121,160,9,0,0,0,0,0,1,1,5,58,145,71,14,1,0,0,0,0,0,0,0,0,0,0,0,0,0,0,0,0,0,18.13,21.46,0,1,55,87,3,0,0,0,0,0,1,1,148,0,1,66,73,6,0,0,0,0,0,0,0,146,0,2,121,160,9,0,0,0,0,0,1,1,294]
["Thu",1600,1,0,45,94,6,0,0,0,0,1,2,0,2,16,58,62,10,1,0,0,0,0,0,0,0,0,0,0,0,0,0,0,0,0,0,19.579999999999998,23.11,"Thu",1600,0,0,83,103,3,1,0,0,0,0,1,2,1,27,87,69,9,0,0,0,0,0,0,0,0,0,0,0,0,0,0,0,0,0,0,19.04,22.44,"Thu",1600,1,0,128,197,9,1,0,0,0,1,3,2,3,43,145,131,19,1,0,0,0,0,0,0,0,0,0,0,0,0,0,0,0,0,0,19.28,22.88,1,0,45,94,6,0,0,0,0,1,2,0,149,0,0,83,103,3,1,0,0,0,0,1,2,193,1,0,128,197,9,1,0,0,0,1,3,2,342]
["Thu",1700,0,0,67,81,3,0,0,2,0,0,0,0,5,16,67,58,6,1,0,0,0,0,0,0,0,0,0,0,0,0,0,0,0,0,0,19.170000000000002,23.01,"Thu",1700,0,4,92,75,1,1,0,0,0,0,0,2,7,33,66,61,8,0,0,0,0,0,0,0,0,0,0,0,0,0,0,0,0,0,0,18.29,22.48,"Thu",1700,0,4,159,156,4,1,0,2,0,0,0,2,12,49,133,119,14,1,0,0,0,0,0,0,0,0,0,0,0,0,0,0,0,0,0,18.7,22.65,0,0,67,81,3,0,0,2,0,0,0,0,153,0,4,92,75,1,1,0,0,0,0,0,2,175,0,4,159,156,4,1,0,2,0,0,0,2,328]
["Thu",1800,0,0,44,60,3,0,0,0,0,0,1,0,3,8,48,42,7,0,0,0,0,0,0,0,0,0,0,0,0,0,0,0,0,0,0,19.579999999999998,23.55,"Thu",1800,0,2,76,61,2,0,0,1,0,0,0,0,4,21,76,31,9,1,0,0,0,0,0,0,0,0,0,0,0,0,0,0,0,0,0,18.54,22.5,"Thu",1800,0,2,120,121,5,0,0,1,0,0,1,0,7,29,124,73,16,1,0,0,0,0,0,0,0,0,0,0,0,0,0,0,0,0,0,18.989999999999998,23.11,0,0,44,60,3,0,0,0,0,0,1,0,108,0,2,76,61,2,0,0,1,0,0,0,0,142,0,2,120,121,5,0,0,1,0,0,1,0,250]
["Thu",1900,0,2,26,54,3,0,0,0,0,0,1,0,0,6,28,42,10,0,0,0,0,0,0,0,0,0,0,0,0,0,0,0,0,0,0,20.9,24.29,"Thu",1900,1,1,53,40,3,0,0,0,1,0,0,0,4,19,33,32,8,3,0,0,0,0,0,0,0,0,0,0,0,0,0,0,0,0,0,18.8,23.77,"Thu",1900,1,3,79,94,6,0,0,0,1,0,1,0,4,25,61,74,18,3,0,0,0,0,0,0,0,0,0,0,0,0,0,0,0,0,0,19.78,24.08,0,2,26,54,3,0,0,0,0,0,1,0,86,1,1,53,40,3,0,0,0,1,0,0,0,99,1,3,79,94,6,0,0,0,1,0,1,0,185]
["Thu",2000,0,0,18,31,1,0,0,0,0,0,0,0,0,2,16,24,5,3,0,0,0,0,0,0,0,0,0,0,0,0,0,0,0,0,0,21.44,25.11,"Thu",2000,0,0,31,25,3,0,0,0,0,0,0,1,3,4,24,25,4,0,0,0,0,0,0,0,0,0,0,0,0,0,0,0,0,0,0,19.52,22.98,"Thu",2000,0,0,49,56,4,0,0,0,0,0,0,1,3,6,40,49,9,3,0,0,0,0,0,0,0,0,0,0,0,0,0,0,0,0,0,20.39,24.12,0,0,18,31,1,0,0,0,0,0,0,0,50,0,0,31,25,3,0,0,0,0,0,0,1,60,0,0,49,56,4,0,0,0,0,0,0,1,110]
["Thu",2100,0,0,15,30,2,0,0,0,0,0,0,0,0,1,13,25,7,1,0,0,0,0,0,0,0,0,0,0,0,0,0,0,0,0,0,21.92,25.15,"Thu",2100,0,0,25,22,0,0,0,0,0,0,0,1,2,3,21,18,4,0,0,0,0,0,0,0,0,0,0,0,0,0,0,0,0,0,0,19.43,23.04,"Thu",2100,0,0,40,52,2,0,0,0,0,0,0,1,2,4,34,43,11,1,0,0,0,0,0,0,0,0,0,0,0,0,0,0,0,0,0,20.67,24.17,0,0,15,30,2,0,0,0,0,0,0,0,47,0,0,25,22,0,0,0,0,0,0,0,1,48,0,0,40,52,2,0,0,0,0,0,0,1,95]
["Thu",2200,0,0,5,8,0,0,0,0,0,0,0,0,0,0,4,4,4,1,0,0,0,0,0,0,0,0,0,0,0,0,0,0,0,0,0,23.47,27.1,"Thu",2200,0,1,11,8,0,0,0,0,0,0,0,0,0,0,3,12,5,0,0,0,0,0,0,0,0,0,0,0,0,0,0,0,0,0,0,22.69,26.19,"Thu",2200,0,1,16,16,0,0,0,0,0,0,0,0,0,0,7,16,9,1,0,0,0,0,0,0,0,0,0,0,0,0,0,0,0,0,0,23,26.9,0,0,5,8,0,0,0,0,0,0,0,0,13,0,1,11,8,0,0,0,0,0,0,0,0,20,0,1,16,16,0,0,0,0,0,0,0,0,33]
["Thu",2300,0,1,3,1,0,0,0,1,0,0,0,0,0,1,1,2,2,0,0,0,0,0,0,0,0,0,0,0,0,0,0,0,0,0,0,22.66,"-","Thu",2300,0,0,3,5,0,0,0,0,0,0,0,0,0,0,2,3,3,0,0,0,0,0,0,0,0,0,0,0,0,0,0,0,0,0,0,22.91,"-","Thu",2300,0,1,6,6,0,0,0,1,0,0,0,0,0,1,3,5,5,0,0,0,0,0,0,0,0,0,0,0,0,0,0,0,0,0,0,22.8,26.69,0,1,3,1,0,0,0,1,0,0,0,0,6,0,0,3,5,0,0,0,0,0,0,0,0,8,0,1,6,6,0,0,0,1,0,0,0,0,14]
["Fri",0,0,0,3,1,0,0,0,0,0,0,0,0,0,0,2,1,1,0,0,0,0,0,0,0,0,0,0,0,0,0,0,0,0,0,0,22.66,"-","Fri",0,0,0,1,2,0,0,0,0,0,0,0,0,0,0,1,2,0,0,0,0,0,0,0,0,0,0,0,0,0,0,0,0,0,0,0,21.17,"-","Fri",0,0,0,4,3,0,0,0,0,0,0,0,0,0,0,3,3,1,0,0,0,0,0,0,0,0,0,0,0,0,0,0,0,0,0,0,22.02,"-",0,0,3,1,0,0,0,0,0,0,0,0,4,0,0,1,2,0,0,0,0,0,0,0,0,3,0,0,4,3,0,0,0,0,0,0,0,0,7]
["Fri",100,0,0,0,0,0,0,0,0,0,0,0,0,0,0,0,0,0,0,0,0,0,0,0,0,0,0,0,0,0,0,0,0,0,0,0,"-","-","Fri",100,0,0,0,1,0,0,0,0,0,0,0,0,0,0,0,0,0,1,0,0,0,0,0,0,0,0,0,0,0,0,0,0,0,0,0,30.16,"-","Fri",100,0,0,0,1,0,0,0,0,0,0,0,0,0,0,0,0,0,1,0,0,0,0,0,0,0,0,0,0,0,0,0,0,0,0,0,30.16,"-",0,0,0,0,0,0,0,0,0,0,0,0,0,0,0,0,1,0,0,0,0,0,0,0,0,1,0,0,0,1,0,0,0,0,0,0,0,0,1]
["Fri",200,0,0,0,0,0,0,0,0,0,0,0,0,0,0,0,0,0,0,0,0,0,0,0,0,0,0,0,0,0,0,0,0,0,0,0,"-","-","Fri",200,0,0,0,0,0,0,0,0,0,0,0,0,0,0,0,0,0,0,0,0,0,0,0,0,0,0,0,0,0,0,0,0,0,0,0,"-","-","Fri",200,0,0,0,0,0,0,0,0,0,0,0,0,0,0,0,0,0,0,0,0,0,0,0,0,0,0,0,0,0,0,0,0,0,0,0,"-","-",0,0,0,0,0,0,0,0,0,0,0,0,0,0,0,0,0,0,0,0,0,0,0,0,0,0,0,0,0,0,0,0,0,0,0,0,0,0,0]
["Fri",300,0,0,0,1,0,0,0,0,0,0,0,0,0,0,0,0,1,0,0,0,0,0,0,0,0,0,0,0,0,0,0,0,0,0,0,29.14,"-","Fri",300,0,0,0,0,1,0,0,0,0,0,0,0,0,0,0,1,0,0,0,0,0,0,0,0,0,0,0,0,0,0,0,0,0,0,0,21.78,"-","Fri",300,0,0,0,1,1,0,0,0,0,0,0,0,0,0,0,1,1,0,0,0,0,0,0,0,0,0,0,0,0,0,0,0,0,0,0,25.46,"-",0,0,0,1,0,0,0,0,0,0,0,0,1,0,0,0,0,1,0,0,0,0,0,0,0,1,0,0,0,1,1,0,0,0,0,0,0,0,2]
["Fri",400,0,0,1,2,1,0,0,0,0,0,0,0,0,0,1,1,2,0,0,0,0,0,0,0,0,0,0,0,0,0,0,0,0,0,0,24.02,"-","Fri",400,0,0,0,2,1,0,0,0,0,0,0,0,0,0,1,1,1,0,0,0,0,0,0,0,0,0,0,0,0,0,0,0,0,0,0,22.46,"-","Fri",400,0,0,1,4,2,0,0,0,0,0,0,0,0,0,2,2,3,0,0,0,0,0,0,0,0,0,0,0,0,0,0,0,0,0,0,23.35,"-",0,0,1,2,1,0,0,0,0,0,0,0,4,0,0,0,2,1,0,0,0,0,0,0,0,3,0,0,1,4,2,0,0,0,0,0,0,0,7]
["Fri",500,0,0,6,7,0,0,0,0,0,0,0,0,0,0,0,9,4,0,0,0,0,0,0,0,0,0,0,0,0,0,0,0,0,0,0,23.99,25.83,"Fri",500,0,0,3,2,0,0,0,0,0,0,0,0,0,0,5,0,0,0,0,0,0,0,0,0,0,0,0,0,0,0,0,0,0,0,0,19.670000000000002,"-","Fri",500,0,0,9,9,0,0,0,0,0,0,0,0,0,0,5,9,4,0,0,0,0,0,0,0,0,0,0,0,0,0,0,0,0,0,0,22.79,25.47,0,0,6,7,0,0,0,0,0,0,0,0,13,0,0,3,2,0,0,0,0,0,0,0,0,5,0,0,9,9,0,0,0,0,0,0,0,0,18]
["Fri",600,0,0,17,18,2,0,0,0,0,0,0,0,0,0,4,17,13,3,0,0,0,0,0,0,0,0,0,0,0,0,0,0,0,0,0,24.97,29.14,"Fri",600,0,1,4,6,2,0,0,0,0,0,0,1,0,2,4,7,1,0,0,0,0,0,0,0,0,0,0,0,0,0,0,0,0,0,0,19.940000000000001,22.37,"Fri",600,0,1,21,24,4,0,0,0,0,0,0,1,0,2,8,24,14,3,0,0,0,0,0,0,0,0,0,0,0,0,0,0,0,0,0,23.59,28.03,0,0,17,18,2,0,0,0,0,0,0,0,37,0,1,4,6,2,0,0,0,0,0,0,1,14,0,1,21,24,4,0,0,0,0,0,0,1,51]
["Fri",700,1,3,36,74,5,0,0,0,0,0,1,1,1,2,29,68,19,2,0,0,0,0,0,0,0,0,0,0,0,0,0,0,0,0,0,21.97,25.56,"Fri",700,0,0,28,27,4,0,0,0,0,0,1,0,2,4,19,28,7,0,0,0,0,0,0,0,0,0,0,0,0,0,0,0,0,0,0,20.27,24.58,"Fri",700,1,3,64,101,9,0,0,0,0,0,2,1,3,6,48,96,26,2,0,0,0,0,0,0,0,0,0,0,0,0,0,0,0,0,0,21.41,25.02,1,3,36,74,5,0,0,0,0,0,1,1,121,0,0,28,27,4,0,0,0,0,0,1,0,60,1,3,64,101,9,0,0,0,0,0,2,1,181]
["Fri",800,1,2,48,81,8,0,0,1,0,0,3,1,0,9,45,74,17,0,0,0,0,0,0,0,0,0,0,0,0,0,0,0,0,0,0,20.9,24.6,"Fri",800,0,1,47,62,6,0,0,1,0,0,1,1,1,18,51,46,3,0,0,0,0,0,0,0,0,0,0,0,0,0,0,0,0,0,0,19.09,22.89,"Fri",800,1,3,95,143,14,0,0,2,0,0,4,2,1,27,96,120,20,0,0,0,0,0,0,0,0,0,0,0,0,0,0,0,0,0,0,20.079999999999998,24.05,1,2,48,81,8,0,0,1,0,0,3,1,145,0,1,47,62,6,0,0,1,0,0,1,1,119,1,3,95,143,14,0,0,2,0,0,4,2,264]
["Fri",900,0,0,68,95,6,0,0,0,0,1,1,0,0,19,79,65,8,0,0,0,0,0,0,0,0,0,0,0,0,0,0,0,0,0,0,19.25,22.5,"Fri",900,0,0,65,87,5,0,0,0,0,0,1,0,0,26,83,44,5,0,0,0,0,0,0,0,0,0,0,0,0,0,0,0,0,0,0,18.489999999999998,21.67,"Fri",900,0,0,133,182,11,0,0,0,0,1,2,0,0,45,162,109,13,0,0,0,0,0,0,0,0,0,0,0,0,0,0,0,0,0,0,18.88,22.31,0,0,68,95,6,0,0,0,0,1,1,0,171,0,0,65,87,5,0,0,0,0,0,1,0,158,0,0,133,182,11,0,0,0,0,1,2,0,329]
["Fri",1000,0,1,70,99,11,0,0,0,0,0,2,0,2,11,98,64,8,0,0,0,0,0,0,0,0,0,0,0,0,0,0,0,0,0,0,19.34,22.49,"Fri",1000,0,0,57,73,6,1,0,0,0,0,1,0,1,28,63,38,8,0,0,0,0,0,0,0,0,0,0,0,0,0,0,0,0,0,0,18.25,21.74,"Fri",1000,0,1,127,172,17,1,0,0,0,0,3,0,3,39,161,102,16,0,0,0,0,0,0,0,0,0,0,0,0,0,0,0,0,0,0,18.87,21.98,0,1,70,99,11,0,0,0,0,0,2,0,183,0,0,57,73,6,1,0,0,0,0,1,0,138,0,1,127,172,17,1,0,0,0,0,3,0,321]
["Fri",1100,0,2,57,104,8,1,0,0,0,0,0,0,3,29,84,51,5,0,0,0,0,0,0,0,0,0,0,0,0,0,0,0,0,0,0,18.46,22.7,"Fri",1100,0,0,76,79,7,0,0,0,0,0,0,0,2,48,69,38,5,0,0,0,0,0,0,0,0,0,0,0,0,0,0,0,0,0,0,17.32,21.25,"Fri",1100,0,2,133,183,15,1,0,0,0,0,0,0,5,77,153,89,10,0,0,0,0,0,0,0,0,0,0,0,0,0,0,0,0,0,0,17.91,21.99,0,2,57,104,8,1,0,0,0,0,0,0,172,0,0,76,79,7,0,0,0,0,0,0,0,162,0,2,133,183,15,1,0,0,0,0,0,0,334]
["Fri",1200,0,0,56,96,7,0,0,1,0,0,1,1,2,20,84,53,3,0,0,0,0,0,0,0,0,0,0,0,0,0,0,0,0,0,0,18.760000000000002,21.99,"Fri",1200,0,3,79,80,6,0,0,1,0,1,0,0,2,45,77,43,3,0,0,0,0,0,0,0,0,0,0,0,0,0,0,0,0,0,0,17.579999999999998,21.49,"Fri",1200,0,3,135,176,13,0,0,2,0,1,1,1,4,65,161,96,6,0,0,0,0,0,0,0,0,0,0,0,0,0,0,0,0,0,0,18.16,21.84,0,0,56,96,7,0,0,1,0,0,1,1,162,0,3,79,80,6,0,0,1,0,1,0,0,170,0,3,135,176,13,0,0,2,0,1,1,1,332]
["Fri",1300,0,2,65,99,6,1,0,1,0,0,1,0,3,17,94,54,6,1,0,0,0,0,0,0,0,0,0,0,0,0,0,0,0,0,0,18.88,22.4,"Fri",1300,0,0,64,74,5,0,0,1,0,1,0,1,0,37,64,42,3,0,0,0,0,0,0,0,0,0,0,0,0,0,0,0,0,0,0,17.989999999999998,22.01,"Fri",1300,0,2,129,173,11,1,0,2,0,1,1,1,3,54,158,96,9,1,0,0,0,0,0,0,0,0,0,0,0,0,0,0,0,0,0,18.47,22.1,0,2,65,99,6,1,0,1,0,0,1,0,175,0,0,64,74,5,0,0,1,0,1,0,1,146,0,2,129,173,11,1,0,2,0,1,1,1,321]
["Fri",1400,2,1,61,76,10,0,0,0,0,0,1,0,3,26,70,46,5,1,0,0,0,0,0,0,0,0,0,0,0,0,0,0,0,0,0,18.23,21.69,"Fri",1400,0,2,88,76,7,0,0,1,0,0,0,2,8,46,76,42,4,0,0,0,0,0,0,0,0,0,0,0,0,0,0,0,0,0,0,17.18,21.09,"Fri",1400,2,3,149,152,17,0,0,1,0,0,1,2,11,72,146,88,9,1,0,0,0,0,0,0,0,0,0,0,0,0,0,0,0,0,0,17.670000000000002,21.3,2,1,61,76,10,0,0,0,0,0,1,0,151,0,2,88,76,7,0,0,1,0,0,0,2,176,2,3,149,152,17,0,0,1,0,0,1,2,327]
["Fri",1500,0,1,79,105,8,0,0,0,0,0,0,0,5,35,91,53,8,1,0,0,0,0,0,0,0,0,0,0,0,0,0,0,0,0,0,18,22.14,"Fri",1500,0,2,100,105,5,0,0,0,0,0,0,1,10,56,104,41,2,0,0,0,0,0,0,0,0,0,0,0,0,0,0,0,0,0,0,17.11,20.73,"Fri",1500,0,3,179,210,13,0,0,0,0,0,0,1,15,91,195,94,10,1,0,0,0,0,0,0,0,0,0,0,0,0,0,0,0,0,0,17.53,21.46,0,1,79,105,8,0,0,0,0,0,0,0,193,0,2,100,105,5,0,0,0,0,0,0,1,213,0,3,179,210,13,0,0,0,0,0,0,1,406]
["Fri",1600,0,5,68,99,3,0,0,1,0,0,2,1,6,31,86,52,4,0,0,0,0,0,0,0,0,0,0,0,0,0,0,0,0,0,0,17.97,21.57,"Fri",1600,1,5,91,90,4,1,1,1,0,1,1,1,4,41,116,32,4,0,0,0,0,0,0,0,0,0,0,0,0,0,0,0,0,0,0,17.07,20.9,"Fri",1600,1,10,159,189,7,1,1,2,0,1,3,2,10,72,202,84,8,0,0,0,0,0,0,0,0,0,0,0,0,0,0,0,0,0,0,17.5,21.4,0,5,68,99,3,0,0,1,0,0,2,1,179,1,5,91,90,4,1,1,1,0,1,1,1,197,1,10,159,189,7,1,1,2,0,1,3,2,376]
["Fri",1700,1,3,58,102,2,0,0,0,0,0,0,0,2,16,77,66,5,0,0,0,0,0,0,0,0,0,0,0,0,0,0,0,0,0,0,19.04,22.46,"Fri",1700,0,2,98,101,5,0,0,1,0,0,0,0,6,48,93,56,4,0,0,0,0,0,0,0,0,0,0,0,0,0,0,0,0,0,0,17.64,21.55,"Fri",1700,1,5,156,203,7,0,0,1,0,0,0,0,8,64,170,122,9,0,0,0,0,0,0,0,0,0,0,0,0,0,0,0,0,0,0,18.260000000000002,22.09,1,3,58,102,2,0,0,0,0,0,0,0,166,0,2,98,101,5,0,0,1,0,0,0,0,207,1,5,156,203,7,0,0,1,0,0,0,0,373]
["Fri",1800,0,1,56,87,3,0,0,0,0,0,0,0,1,4,52,70,20,0,0,0,0,0,0,0,0,0,0,0,0,0,0,0,0,0,0,21.22,24.83,"Fri",1800,0,0,61,71,2,0,0,1,0,0,0,1,2,29,57,41,7,0,0,0,0,0,0,0,0,0,0,0,0,0,0,0,0,0,0,18.149999999999999,22.45,"Fri",1800,0,1,117,158,5,0,0,1,0,0,0,1,3,33,109,111,27,0,0,0,0,0,0,0,0,0,0,0,0,0,0,0,0,0,0,19.75,23.88,0,1,56,87,3,0,0,0,0,0,0,0,147,0,0,61,71,2,0,0,1,0,0,0,1,136,0,1,117,158,5,0,0,1,0,0,0,1,283]
["Fri",1900,0,2,31,61,1,0,0,0,0,0,1,0,0,3,28,53,12,0,0,0,0,0,0,0,0,0,0,0,0,0,0,0,0,0,0,21.36,24.21,"Fri",1900,0,2,30,41,2,0,0,0,0,0,0,2,4,12,30,30,1,0,0,0,0,0,0,0,0,0,0,0,0,0,0,0,0,0,0,18.22,22.44,"Fri",1900,0,4,61,102,3,0,0,0,0,0,1,2,4,15,58,83,13,0,0,0,0,0,0,0,0,0,0,0,0,0,0,0,0,0,0,19.96,23.84,0,2,31,61,1,0,0,0,0,0,1,0,96,0,2,30,41,2,0,0,0,0,0,0,2,77,0,4,61,102,3,0,0,0,0,0,1,2,173]
["Fri",2000,0,0,18,37,2,0,0,0,0,0,0,0,1,2,22,23,9,0,0,0,0,0,0,0,0,0,0,0,0,0,0,0,0,0,0,20.96,24.87,"Fri",2000,0,0,32,28,0,0,0,0,0,0,0,0,1,5,23,26,4,1,0,0,0,0,0,0,0,0,0,0,0,0,0,0,0,0,0,19.690000000000001,23.15,"Fri",2000,0,0,50,65,2,0,0,0,0,0,0,0,2,7,45,49,13,1,0,0,0,0,0,0,0,0,0,0,0,0,0,0,0,0,0,20.309999999999999,23.97,0,0,18,37,2,0,0,0,0,0,0,0,57,0,0,32,28,0,0,0,0,0,0,0,0,60,0,0,50,65,2,0,0,0,0,0,0,0,117]
["Fri",2100,0,0,7,26,2,0,0,0,0,0,0,0,1,2,8,14,9,0,1,0,0,0,0,0,0,0,0,0,0,0,0,0,0,0,0,22.02,26.56,"Fri",2100,0,0,17,21,0,0,0,0,0,0,0,0,1,5,17,10,4,0,1,0,0,0,0,0,0,0,0,0,0,0,0,0,0,0,0,19.64,23.88,"Fri",2100,0,0,24,47,2,0,0,0,0,0,0,0,2,7,25,24,13,0,2,0,0,0,0,0,0,0,0,0,0,0,0,0,0,0,0,20.78,25.97,0,0,7,26,2,0,0,0,0,0,0,0,35,0,0,17,21,0,0,0,0,0,0,0,0,38,0,0,24,47,2,0,0,0,0,0,0,0,73]
["Fri",2200,0,1,4,11,0,0,0,0,0,0,0,0,0,0,5,6,4,1,0,0,0,0,0,0,0,0,0,0,0,0,0,0,0,0,0,23.14,26.37,"Fri",2200,0,1,10,11,0,0,0,0,0,0,0,0,0,1,4,13,4,0,0,0,0,0,0,0,0,0,0,0,0,0,0,0,0,0,0,21.97,26.29,"Fri",2200,0,2,14,22,0,0,0,0,0,0,0,0,0,1,9,19,8,1,0,0,0,0,0,0,0,0,0,0,0,0,0,0,0,0,0,22.46,26.56,0,1,4,11,0,0,0,0,0,0,0,0,16,0,1,10,11,0,0,0,0,0,0,0,0,22,0,2,14,22,0,0,0,0,0,0,0,0,38]
["Fri",2300,0,0,1,3,0,0,0,0,0,0,0,0,0,0,1,1,1,1,0,0,0,0,0,0,0,0,0,0,0,0,0,0,0,0,0,25.51,"-","Fri",2300,0,1,8,5,0,0,0,0,0,0,0,0,0,0,4,6,3,1,0,0,0,0,0,0,0,0,0,0,0,0,0,0,0,0,0,23.03,28.39,"Fri",2300,0,1,9,8,0,0,0,0,0,0,0,0,0,0,5,7,4,2,0,0,0,0,0,0,0,0,0,0,0,0,0,0,0,0,0,23.58,28.8,0,0,1,3,0,0,0,0,0,0,0,0,4,0,1,8,5,0,0,0,0,0,0,0,0,14,0,1,9,8,0,0,0,0,0,0,0,0,18]
["Sat",0,0,0,1,0,0,0,0,0,0,0,0,0,0,0,0,0,0,0,0,1,0,0,0,0,0,0,0,0,0,0,0,0,0,0,0,41.09,"-","Sat",0,0,0,1,0,0,0,0,0,0,0,0,0,0,0,1,0,0,0,0,0,0,0,0,0,0,0,0,0,0,0,0,0,0,0,0,16.850000000000001,"-","Sat",0,0,0,2,0,0,0,0,0,0,0,0,0,0,0,1,0,0,0,0,1,0,0,0,0,0,0,0,0,0,0,0,0,0,0,0,28.97,"-",0,0,1,0,0,0,0,0,0,0,0,0,1,0,0,1,0,0,0,0,0,0,0,0,0,1,0,0,2,0,0,0,0,0,0,0,0,0,2]
["Sat",100,0,0,0,0,0,0,0,0,0,0,0,0,0,0,0,0,0,0,0,0,0,0,0,0,0,0,0,0,0,0,0,0,0,0,0,"-","-","Sat",100,0,0,0,0,0,0,0,0,0,0,0,0,0,0,0,0,0,0,0,0,0,0,0,0,0,0,0,0,0,0,0,0,0,0,0,"-","-","Sat",100,0,0,0,0,0,0,0,0,0,0,0,0,0,0,0,0,0,0,0,0,0,0,0,0,0,0,0,0,0,0,0,0,0,0,0,"-","-",0,0,0,0,0,0,0,0,0,0,0,0,0,0,0,0,0,0,0,0,0,0,0,0,0,0,0,0,0,0,0,0,0,0,0,0,0,0,0]
["Sat",200,0,0,0,0,0,0,0,0,0,0,0,0,0,0,0,0,0,0,0,0,0,0,0,0,0,0,0,0,0,0,0,0,0,0,0,"-","-","Sat",200,0,0,0,0,0,0,0,0,0,0,0,0,0,0,0,0,0,0,0,0,0,0,0,0,0,0,0,0,0,0,0,0,0,0,0,"-","-","Sat",200,0,0,0,0,0,0,0,0,0,0,0,0,0,0,0,0,0,0,0,0,0,0,0,0,0,0,0,0,0,0,0,0,0,0,0,"-","-",0,0,0,0,0,0,0,0,0,0,0,0,0,0,0,0,0,0,0,0,0,0,0,0,0,0,0,0,0,0,0,0,0,0,0,0,0,0,0]
["Sat",300,0,0,0,0,1,0,0,0,0,0,0,0,0,0,0,0,1,0,0,0,0,0,0,0,0,0,0,0,0,0,0,0,0,0,0,29.21,"-","Sat",300,0,0,0,0,1,0,0,0,0,0,0,0,0,0,0,1,0,0,0,0,0,0,0,0,0,0,0,0,0,0,0,0,0,0,0,22.48,"-","Sat",300,0,0,0,0,2,0,0,0,0,0,0,0,0,0,0,1,1,0,0,0,0,0,0,0,0,0,0,0,0,0,0,0,0,0,0,25.85,"-",0,0,0,0,1,0,0,0,0,0,0,0,1,0,0,0,0,1,0,0,0,0,0,0,0,1,0,0,0,0,2,0,0,0,0,0,0,0,2]
["Sat",400,0,0,0,1,0,0,0,0,0,0,0,0,0,0,0,0,1,0,0,0,0,0,0,0,0,0,0,0,0,0,0,0,0,0,0,26.27,"-","Sat",400,0,0,0,2,0,0,0,0,0,0,0,0,0,0,2,0,0,0,0,0,0,0,0,0,0,0,0,0,0,0,0,0,0,0,0,17.53,"-","Sat",400,0,0,0,3,0,0,0,0,0,0,0,0,0,0,2,0,1,0,0,0,0,0,0,0,0,0,0,0,0,0,0,0,0,0,0,20.440000000000001,"-",0,0,0,1,0,0,0,0,0,0,0,0,1,0,0,0,2,0,0,0,0,0,0,0,0,2,0,0,0,3,0,0,0,0,0,0,0,0,3]
["Sat",500,0,0,4,2,1,0,0,0,0,0,0,0,0,0,1,5,1,0,0,0,0,0,0,0,0,0,0,0,0,0,0,0,0,0,0,22.47,"-","Sat",500,0,0,0,1,0,0,0,0,0,0,0,0,0,0,0,0,1,0,0,0,0,0,0,0,0,0,0,0,0,0,0,0,0,0,0,26.6,"-","Sat",500,0,0,4,3,1,0,0,0,0,0,0,0,0,0,1,5,2,0,0,0,0,0,0,0,0,0,0,0,0,0,0,0,0,0,0,22.98,"-",0,0,4,2,1,0,0,0,0,0,0,0,7,0,0,0,1,0,0,0,0,0,0,0,0,1,0,0,4,3,1,0,0,0,0,0,0,0,8]
["Sat",600,0,1,9,16,1,0,0,0,0,0,0,0,0,0,3,12,9,3,0,0,0,0,0,0,0,0,0,0,0,0,0,0,0,0,0,24.93,29.64,"Sat",600,0,0,3,5,2,0,0,0,0,0,0,0,0,0,2,6,2,0,0,0,0,0,0,0,0,0,0,0,0,0,0,0,0,0,0,22.08,24.69,"Sat",600,0,1,12,21,3,0,0,0,0,0,0,0,0,0,5,18,11,3,0,0,0,0,0,0,0,0,0,0,0,0,0,0,0,0,0,24.16,29.3,0,1,9,16,1,0,0,0,0,0,0,0,27,0,0,3,5,2,0,0,0,0,0,0,0,10,0,1,12,21,3,0,0,0,0,0,0,0,37]
["Sat",700,0,0,25,23,3,0,0,0,0,0,0,0,0,1,14,25,11,0,0,0,0,0,0,0,0,0,0,0,0,0,0,0,0,0,0,22.32,26.01,"Sat",700,0,0,17,23,4,0,0,0,0,0,0,0,0,3,12,21,8,0,0,0,0,0,0,0,0,0,0,0,0,0,0,0,0,0,0,21.35,25.27,"Sat",700,0,0,42,46,7,0,0,0,0,0,0,0,0,4,26,46,19,0,0,0,0,0,0,0,0,0,0,0,0,0,0,0,0,0,0,21.87,25.46,0,0,25,23,3,0,0,0,0,0,0,0,51,0,0,17,23,4,0,0,0,0,0,0,0,44,0,0,42,46,7,0,0,0,0,0,0,0,95]
["Sat",800,0,2,39,67,6,0,0,0,0,0,2,1,1,4,35,63,14,0,0,0,0,0,0,0,0,0,0,0,0,0,0,0,0,0,0,21,24.54,"Sat",800,0,0,38,55,4,0,0,1,0,0,0,0,5,12,31,39,11,0,0,0,0,0,0,0,0,0,0,0,0,0,0,0,0,0,0,19.47,24.26,"Sat",800,0,2,77,122,10,0,0,1,0,0,2,1,6,16,66,102,25,0,0,0,0,0,0,0,0,0,0,0,0,0,0,0,0,0,0,20.3,24.46,{"$f":"SUM(C133)","v":0},{"$f":"SUM(D133)","v":2},{"$f":"SUM(E133)","v":39},{"$f":"SUM(F133)","v":67},{"$f":"SUM(G133)","v":6},{"$f":"SUM(H133)","v":0},{"$f":"SUM(I133)","v":0},{"$f":"SUM(J133)","v":0},{"$f":"SUM(K133)","v":0},{"$f":"SUM(L133)","v":0},{"$f":"SUM(M133)","v":2},{"$f":"SUM(N133)","v":1},{"$f":"SUM(C133:N133)","v":117},{"$f":"SUM(AP133)","v":0},{"$f":"SUM(AQ133)","v":0},{"$f":"SUM(AR133)","v":38},{"$f":"SUM(AS133)","v":55},{"$f":"SUM(AT133)","v":4},{"$f":"SUM(AU133)","v":0},{"$f":"SUM(AV133)","v":0},{"$f":"SUM(AW133)","v":1},{"$f":"SUM(AX133)","v":0},{"$f":"SUM(AY133)","v":0},{"$f":"SUM(AZ133)","v":0},{"$f":"SUM(BA133)","v":0},{"$f":"SUM(AP133:BA133)","v":98},{"$f":"SUM(DN133+EA133)","v":0},{"$f":"SUM(DO133+EB133)","v":2},{"$f":"SUM(DP133+EC133)","v":77},{"$f":"SUM(DQ133+ED133)","v":122},{"$f":"SUM(DR133+EE133)","v":10},{"$f":"SUM(DS133+EF133)","v":0},{"$f":"SUM(DT133+EG133)","v":0},{"$f":"SUM(DU133+EH133)","v":1},{"$f":"SUM(DV133+EI133)","v":0},{"$f":"SUM(DW133+EJ133)","v":0},{"$f":"SUM(DX133+EK133)","v":2},{"$f":"SUM(DY133+EL133)","v":1},{"$f":"SUM(DZ133+EM133)","v":215}]
["Sat",900,1,2,74,102,3,0,0,1,0,0,0,0,1,13,84,75,10,0,0,0,0,0,0,0,0,0,0,0,0,0,0,0,0,0,0,19.75,23.68,"Sat",900,0,0,62,79,5,0,0,2,0,0,0,0,1,23,67,49,8,0,0,0,0,0,0,0,0,0,0,0,0,0,0,0,0,0,0,18.829999999999998,22.09,"Sat",900,1,2,136,181,8,0,0,3,0,0,0,0,2,36,151,124,18,0,0,0,0,0,0,0,0,0,0,0,0,0,0,0,0,0,0,19.34,23.14,1,2,74,102,3,0,0,1,0,0,0,0,183,0,0,62,79,5,0,0,2,0,0,0,0,148,1,2,136,181,8,0,0,3,0,0,0,0,331]
["Sat",1000,0,3,89,111,6,0,0,1,0,0,1,0,4,46,120,38,2,1,0,0,0,0,0,0,0,0,0,0,0,0,0,0,0,0,0,17.34,21.03,"Sat",1000,0,1,116,119,5,3,0,0,0,0,0,0,9,72,110,51,2,0,0,0,0,0,0,0,0,0,0,0,0,0,0,0,0,0,0,16.63,20.84,"Sat",1000,0,4,205,230,11,3,0,1,0,0,1,0,13,118,230,89,4,1,0,0,0,0,0,0,0,0,0,0,0,0,0,0,0,0,0,16.96,20.98,0,3,89,111,6,0,0,1,0,0,1,0,211,0,1,116,119,5,3,0,0,0,0,0,0,244,0,4,205,230,11,3,0,1,0,0,1,0,455]
["Sat",1100,0,1,81,115,6,1,0,0,0,0,0,0,6,60,104,33,1,0,0,0,0,0,0,0,0,0,0,0,0,0,0,0,0,0,0,16.78,20.260000000000002,"Sat",1100,0,5,96,80,5,0,0,0,0,0,0,0,15,64,84,19,4,0,0,0,0,0,0,0,0,0,0,0,0,0,0,0,0,0,0,15.74,19.84,"Sat",1100,0,6,177,195,11,1,0,0,0,0,0,0,21,124,188,52,5,0,0,0,0,0,0,0,0,0,0,0,0,0,0,0,0,0,0,16.28,19.93,0,1,81,115,6,1,0,0,0,0,0,0,204,0,5,96,80,5,0,0,0,0,0,0,0,186,0,6,177,195,11,1,0,0,0,0,0,0,390]
["Sat",1200,0,2,78,112,2,0,0,0,0,0,0,0,4,44,113,28,5,0,0,0,0,0,0,0,0,0,0,0,0,0,0,0,0,0,0,17.14,20.32,"Sat",1200,1,4,79,71,1,0,0,0,0,0,1,1,6,42,58,48,4,0,0,0,0,0,0,0,0,0,0,0,0,0,0,0,0,0,0,17.649999999999999,22.41,"Sat",1200,1,6,157,183,3,0,0,0,0,0,1,1,10,86,171,76,9,0,0,0,0,0,0,0,0,0,0,0,0,0,0,0,0,0,0,17.37,21.31,0,2,78,112,2,0,0,0,0,0,0,0,194,1,4,79,71,1,0,0,0,0,0,1,1,158,1,6,157,183,3,0,0,0,0,0,1,1,352]
["Sat",1300,2,8,56,82,1,0,0,2,0,1,0,1,2,22,66,54,9,0,0,0,0,0,0,0,0,0,0,0,0,0,0,0,0,0,0,19.010000000000002,23.01,"Sat",1300,1,7,53,73,2,0,1,0,0,0,0,0,3,22,67,39,6,0,0,0,0,0,0,0,0,0,0,0,0,0,0,0,0,0,0,18.46,23.32,"Sat",1300,3,15,109,155,3,0,1,2,0,1,0,1,5,44,133,93,15,0,0,0,0,0,0,0,0,0,0,0,0,0,0,0,0,0,0,18.75,23.03,2,8,56,82,1,0,0,2,0,1,0,1,153,1,7,53,73,2,0,1,0,0,0,0,0,137,3,15,109,155,3,0,1,2,0,1,0,1,290]
["Sat",1400,0,9,58,87,4,0,0,0,0,0,0,0,1,22,74,57,3,1,0,0,0,0,0,0,0,0,0,0,0,0,0,0,0,0,0,18.82,22.44,"Sat",1400,0,2,70,75,2,0,0,1,0,0,0,1,4,28,75,37,6,1,0,0,0,0,0,0,0,0,0,0,0,0,0,0,0,0,0,18.02,21.69,"Sat",1400,0,11,128,162,6,0,0,1,0,0,0,1,5,50,149,94,9,2,0,0,0,0,0,0,0,0,0,0,0,0,0,0,0,0,0,18.43,22.27,0,9,58,87,4,0,0,0,0,0,0,0,158,0,2,70,75,2,0,0,1,0,0,0,1,151,0,11,128,162,6,0,0,1,0,0,0,1,309]
["Sat",1500,0,3,46,56,0,0,0,1,0,0,0,0,5,11,35,45,10,0,0,0,0,0,0,0,0,0,0,0,0,0,0,0,0,0,0,19.29,23.97,"Sat",1500,1,4,61,53,3,0,0,1,0,0,0,0,0,27,59,31,5,1,0,0,0,0,0,0,0,0,0,0,0,0,0,0,0,0,0,18.22,22.17,"Sat",1500,1,7,107,109,3,0,0,2,0,0,0,0,5,38,94,76,15,1,0,0,0,0,0,0,0,0,0,0,0,0,0,0,0,0,0,18.71,23.22,0,3,46,56,0,0,0,1,0,0,0,0,106,1,4,61,53,3,0,0,1,0,0,0,0,123,1,7,107,109,3,0,0,2,0,0,0,0,229]
["Sat",1600,0,4,34,78,6,0,0,1,0,0,0,0,1,12,40,56,11,3,0,0,0,0,0,0,0,0,0,0,0,0,0,0,0,0,0,20.350000000000001,24.04,"Sat",1600,0,2,70,67,0,0,0,2,0,0,0,0,1,23,64,46,7,0,0,0,0,0,0,0,0,0,0,0,0,0,0,0,0,0,0,18.82,22.98,"Sat",1600,0,6,104,145,6,0,0,3,0,0,0,0,2,35,104,102,18,3,0,0,0,0,0,0,0,0,0,0,0,0,0,0,0,0,0,19.54,23.6,0,4,34,78,6,0,0,1,0,0,0,0,123,0,2,70,67,0,0,0,2,0,0,0,0,141,0,6,104,145,6,0,0,3,0,0,0,0,264]
["Sat",1700,0,1,46,72,0,0,0,1,0,0,0,1,2,7,44,58,10,0,0,0,0,0,0,0,0,0,0,0,0,0,0,0,0,0,0,20.32,24,"Sat",1700,0,5,63,46,1,0,0,0,0,0,0,1,8,18,42,40,8,0,0,0,0,0,0,0,0,0,0,0,0,0,0,0,0,0,0,18.52,22.9,"Sat",1700,0,6,109,118,1,0,0,1,0,0,0,2,10,25,86,98,18,0,0,0,0,0,0,0,0,0,0,0,0,0,0,0,0,0,0,19.440000000000001,23.64,0,1,46,72,0,0,0,1,0,0,0,1,121,0,5,63,46,1,0,0,0,0,0,0,1,116,0,6,109,118,1,0,0,1,0,0,0,2,237]
["Sat",1800,0,1,27,40,4,0,0,0,0,1,0,0,0,4,22,34,12,1,0,0,0,0,0,0,0,0,0,0,0,0,0,0,0,0,0,21.36,25.86,"Sat",1800,0,1,42,48,2,0,0,0,0,0,0,0,3,17,47,20,6,0,0,0,0,0,0,0,0,0,0,0,0,0,0,0,0,0,0,18.04,22.26,"Sat",1800,0,2,69,88,6,0,0,0,0,1,0,0,3,21,69,54,18,1,0,0,0,0,0,0,0,0,0,0,0,0,0,0,0,0,0,19.5,24.09,0,1,27,40,4,0,0,0,0,1,0,0,73,0,1,42,48,2,0,0,0,0,0,0,0,93,0,2,69,88,6,0,0,0,0,1,0,0,166]
["Sat",1900,0,1,35,50,3,0,0,0,0,0,0,0,0,8,26,38,16,1,0,0,0,0,0,0,0,0,0,0,0,0,0,0,0,0,0,21.16,25.48,"Sat",1900,0,1,50,34,1,0,0,0,0,0,0,0,1,12,46,22,5,0,0,0,0,0,0,0,0,0,0,0,0,0,0,0,0,0,0,18.66,22.53,"Sat",1900,0,2,85,84,4,0,0,0,0,0,0,0,1,20,72,60,21,1,0,0,0,0,0,0,0,0,0,0,0,0,0,0,0,0,0,19.93,24.55,0,1,35,50,3,0,0,0,0,0,0,0,89,0,1,50,34,1,0,0,0,0,0,0,0,86,0,2,85,84,4,0,0,0,0,0,0,0,175]
["Sat",2000,0,4,31,32,2,0,0,0,0,0,0,0,3,1,25,30,10,0,0,0,0,0,0,0,0,0,0,0,0,0,0,0,0,0,0,20.63,24.88,"Sat",2000,0,2,39,22,0,0,0,0,0,0,0,0,0,12,23,21,7,0,0,0,0,0,0,0,0,0,0,0,0,0,0,0,0,0,0,19.07,23,"Sat",2000,0,6,70,54,2,0,0,0,0,0,0,0,3,13,48,51,17,0,0,0,0,0,0,0,0,0,0,0,0,0,0,0,0,0,0,19.88,24.72,0,4,31,32,2,0,0,0,0,0,0,0,69,0,2,39,22,0,0,0,0,0,0,0,0,63,0,6,70,54,2,0,0,0,0,0,0,0,132]
["Sat",2100,0,0,11,28,0,0,0,0,0,0,0,0,1,1,11,17,7,2,0,0,0,0,0,0,0,0,0,0,0,0,0,0,0,0,0,21.72,26.18,"Sat",2100,0,1,31,22,0,0,0,0,0,0,0,0,0,3,20,27,3,1,0,0,0,0,0,0,0,0,0,0,0,0,0,0,0,0,0,20.36,23.38,"Sat",2100,0,1,42,50,0,0,0,0,0,0,0,0,1,4,31,44,10,3,0,0,0,0,0,0,0,0,0,0,0,0,0,0,0,0,0,20.93,24.68,0,0,11,28,0,0,0,0,0,0,0,0,39,0,1,31,22,0,0,0,0,0,0,0,0,54,0,1,42,50,0,0,0,0,0,0,0,0,93]
["Sat",2200,0,0,10,9,0,0,0,0,0,0,0,0,0,0,5,9,5,0,0,0,0,0,0,0,0,0,0,0,0,0,0,0,0,0,0,21.97,26.09,"Sat",2200,0,2,17,7,0,0,0,0,0,0,0,0,0,1,6,11,7,1,0,0,0,0,0,0,0,0,0,0,0,0,0,0,0,0,0,22.45,26.38,"Sat",2200,0,2,27,16,0,0,0,0,0,0,0,0,0,1,11,20,12,1,0,0,0,0,0,0,0,0,0,0,0,0,0,0,0,0,0,22.25,26.43,0,0,10,9,0,0,0,0,0,0,0,0,19,0,2,17,7,0,0,0,0,0,0,0,0,26,0,2,27,16,0,0,0,0,0,0,0,0,45]
["Sat",2300,0,0,2,4,0,0,0,0,0,0,0,0,0,0,2,1,3,0,0,0,0,0,0,0,0,0,0,0,0,0,0,0,0,0,0,23.11,"-","Sat",2300,0,0,6,10,0,0,0,0,0,0,0,0,0,0,4,11,1,0,0,0,0,0,0,0,0,0,0,0,0,0,0,0,0,0,0,21.59,24.19,"Sat",2300,0,0,8,14,0,0,0,0,0,0,0,0,0,0,6,12,4,0,0,0,0,0,0,0,0,0,0,0,0,0,0,0,0,0,0,22,26.5,0,0,2,4,0,0,0,0,0,0,0,0,6,0,0,6,10,0,0,0,0,0,0,0,0,16,0,0,8,14,0,0,0,0,0,0,0,0,22]
["Sun",0,0,0,4,4,0,0,0,0,0,0,0,0,0,0,2,3,3,0,0,0,0,0,0,0,0,0,0,0,0,0,0,0,0,0,0,23.17,"-","Sun",0,0,0,5,4,0,0,0,0,0,0,0,0,0,0,1,6,2,0,0,0,0,0,0,0,0,0,0,0,0,0,0,0,0,0,0,23.04,"-","Sun",0,0,0,9,8,0,0,0,0,0,0,0,0,0,0,3,9,5,0,0,0,0,0,0,0,0,0,0,0,0,0,0,0,0,0,0,23.1,25.76,0,0,4,4,0,0,0,0,0,0,0,0,8,0,0,5,4,0,0,0,0,0,0,0,0,9,0,0,9,8,0,0,0,0,0,0,0,0,17]
["Sun",100,0,1,4,2,0,0,0,0,0,0,0,0,0,0,1,5,1,0,0,0,0,0,0,0,0,0,0,0,0,0,0,0,0,0,0,22.28,"-","Sun",100,0,0,3,3,0,0,0,0,0,0,0,0,0,0,0,4,2,0,0,0,0,0,0,0,0,0,0,0,0,0,0,0,0,0,0,24.15,"-","Sun",100,0,1,7,5,0,0,0,0,0,0,0,0,0,0,1,9,3,0,0,0,0,0,0,0,0,0,0,0,0,0,0,0,0,0,0,23.15,25.96,0,1,4,2,0,0,0,0,0,0,0,0,7,0,0,3,3,0,0,0,0,0,0,0,0,6,0,1,7,5,0,0,0,0,0,0,0,0,13]
["Sun",200,0,0,0,0,0,0,0,0,0,0,0,0,0,0,0,0,0,0,0,0,0,0,0,0,0,0,0,0,0,0,0,0,0,0,0,"-","-","Sun",200,0,0,1,1,0,0,0,0,0,0,0,0,0,0,0,1,0,1,0,0,0,0,0,0,0,0,0,0,0,0,0,0,0,0,0,26.37,"-","Sun",200,0,0,1,1,0,0,0,0,0,0,0,0,0,0,0,1,0,1,0,0,0,0,0,0,0,0,0,0,0,0,0,0,0,0,0,26.37,"-",0,0,0,0,0,0,0,0,0,0,0,0,0,0,0,1,1,0,0,0,0,0,0,0,0,2,0,0,1,1,0,0,0,0,0,0,0,0,2]
["Sun",300,0,0,0,0,0,0,0,0,0,0,0,0,0,0,0,0,0,0,0,0,0,0,0,0,0,0,0,0,0,0,0,0,0,0,0,"-","-","Sun",300,0,0,0,0,0,0,0,0,0,0,0,0,0,0,0,0,0,0,0,0,0,0,0,0,0,0,0,0,0,0,0,0,0,0,0,"-","-","Sun",300,0,0,0,0,0,0,0,0,0,0,0,0,0,0,0,0,0,0,0,0,0,0,0,0,0,0,0,0,0,0,0,0,0,0,0,"-","-",0,0,0,0,0,0,0,0,0,0,0,0,0,0,0,0,0,0,0,0,0,0,0,0,0,0,0,0,0,0,0,0,0,0,0,0,0,0,0]
["Sun",400,0,0,0,1,0,0,0,0,0,0,0,0,0,0,0,1,0,0,0,0,0,0,0,0,0,0,0,0,0,0,0,0,0,0,0,23.37,"-","Sun",400,0,0,0,1,0,0,0,0,0,0,0,0,0,0,1,0,0,0,0,0,0,0,0,0,0,0,0,0,0,0,0,0,0,0,0,15.94,"-","Sun",400,0,0,0,2,0,0,0,0,0,0,0,0,0,0,1,1,0,0,0,0,0,0,0,0,0,0,0,0,0,0,0,0,0,0,0,19.66,"-",0,0,0,1,0,0,0,0,0,0,0,0,1,0,0,0,1,0,0,0,0,0,0,0,0,1,0,0,0,2,0,0,0,0,0,0,0,0,2]
["Sun",500,0,0,0,2,0,0,0,0,0,0,0,0,0,0,0,0,2,0,0,0,0,0,0,0,0,0,0,0,0,0,0,0,0,0,0,28.03,"-","Sun",500,0,0,0,1,0,0,0,0,0,0,0,0,0,0,1,0,0,0,0,0,0,0,0,0,0,0,0,0,0,0,0,0,0,0,0,17.78,"-","Sun",500,0,0,0,3,0,0,0,0,0,0,0,0,0,0,1,0,2,0,0,0,0,0,0,0,0,0,0,0,0,0,0,0,0,0,0,24.61,"-",0,0,0,2,0,0,0,0,0,0,0,0,2,0,0,0,1,0,0,0,0,0,0,0,0,1,0,0,0,3,0,0,0,0,0,0,0,0,3]
["Sun",600,0,0,5,3,0,0,0,0,0,0,0,0,0,0,3,4,1,0,0,0,0,0,0,0,0,0,0,0,0,0,0,0,0,0,0,21.78,"-","Sun",600,0,0,2,4,0,0,0,0,0,0,0,0,0,0,2,3,1,0,0,0,0,0,0,0,0,0,0,0,0,0,0,0,0,0,0,20.38,"-","Sun",600,0,0,7,7,0,0,0,0,0,0,0,0,0,0,5,7,2,0,0,0,0,0,0,0,0,0,0,0,0,0,0,0,0,0,0,21.18,23.79,0,0,5,3,0,0,0,0,0,0,0,0,8,0,0,2,4,0,0,0,0,0,0,0,0,6,0,0,7,7,0,0,0,0,0,0,0,0,14]
["Sun",700,0,0,11,20,0,0,0,0,0,0,0,0,0,0,8,13,9,1,0,0,0,0,0,0,0,0,0,0,0,0,0,0,0,0,0,23.57,27.59,"Sun",700,0,0,10,16,0,0,0,0,0,0,0,0,0,2,6,14,4,0,0,0,0,0,0,0,0,0,0,0,0,0,0,0,0,0,0,21.62,24.72,"Sun",700,0,0,21,36,0,0,0,0,0,0,0,0,0,2,14,27,13,1,0,0,0,0,0,0,0,0,0,0,0,0,0,0,0,0,0,22.68,26.96,0,0,11,20,0,0,0,0,0,0,0,0,31,0,0,10,16,0,0,0,0,0,0,0,0,26,0,0,21,36,0,0,0,0,0,0,0,0,57]
["Sun",800,0,3,14,50,1,0,0,0,0,0,0,0,0,1,12,41,12,1,1,0,0,0,0,0,0,0,0,0,0,0,0,0,0,0,0,22.97,25.36,"Sun",800,0,0,10,20,0,0,0,0,0,0,0,0,0,3,9,17,1,0,0,0,0,0,0,0,0,0,0,0,0,0,0,0,0,0,0,20.41,23.33,"Sun",800,0,3,24,70,1,0,0,0,0,0,0,0,0,4,21,58,13,1,1,0,0,0,0,0,0,0,0,0,0,0,0,0,0,0,0,22.18,25.06,0,3,14,50,1,0,0,0,0,0,0,0,68,0,0,10,20,0,0,0,0,0,0,0,0,30,0,3,24,70,1,0,0,0,0,0,0,0,98]
["Sun",900,0,0,38,57,1,0,0,0,0,0,0,1,0,6,31,49,9,2,0,0,0,0,0,0,0,0,0,0,0,0,0,0,0,0,0,20.98,24.25,"Sun",900,0,0,31,40,1,1,0,1,0,0,0,2,2,7,27,34,6,0,0,0,0,0,0,0,0,0,0,0,0,0,0,0,0,0,0,19.78,23.69,"Sun",900,0,0,69,97,2,1,0,1,0,0,0,3,2,13,58,83,15,2,0,0,0,0,0,0,0,0,0,0,0,0,0,0,0,0,0,20.45,24.12,0,0,38,57,1,0,0,0,0,0,0,1,97,0,0,31,40,1,1,0,1,0,0,0,2,76,0,0,69,97,2,1,0,1,0,0,0,3,173]
["Sun",1000,0,0,63,77,2,1,0,0,0,0,0,0,1,10,67,53,12,0,0,0,0,0,0,0,0,0,0,0,0,0,0,0,0,0,0,19.649999999999999,23.03,"Sun",1000,0,2,59,47,0,0,0,0,0,0,0,0,1,20,50,33,4,0,0,0,0,0,0,0,0,0,0,0,0,0,0,0,0,0,0,18.36,21.72,"Sun",1000,0,2,122,124,2,1,0,0,0,0,0,0,2,30,117,86,16,0,0,0,0,0,0,0,0,0,0,0,0,0,0,0,0,0,0,19.100000000000001,22.83,0,0,63,77,2,1,0,0,0,0,0,0,143,0,2,59,47,0,0,0,0,0,0,0,0,108,0,2,122,124,2,1,0,0,0,0,0,0,251]
["Sun",1100,1,3,75,80,1,0,0,0,0,0,0,1,2,28,80,46,5,0,0,0,0,0,0,0,0,0,0,0,0,0,0,0,0,0,0,18.23,21.95,"Sun",1100,1,0,59,39,2,0,1,0,0,0,0,0,5,21,41,34,1,0,0,0,0,0,0,0,0,0,0,0,0,0,0,0,0,0,0,17.809999999999999,22.62,"Sun",1100,2,3,134,119,3,0,1,0,0,0,0,1,7,49,121,80,6,0,0,0,0,0,0,0,0,0,0,0,0,0,0,0,0,0,0,18.059999999999999,22.12,1,3,75,80,1,0,0,0,0,0,0,1,161,1,0,59,39,2,0,1,0,0,0,0,0,102,2,3,134,119,3,0,1,0,0,0,0,1,263]
["Sun",1200,0,4,61,74,2,0,0,1,0,0,0,0,0,13,54,65,10,0,0,0,0,0,0,0,0,0,0,0,0,0,0,0,0,0,0,20.2,23.17,"Sun",1200,0,2,67,48,1,0,0,0,0,0,0,0,2,25,48,38,5,0,0,0,0,0,0,0,0,0,0,0,0,0,0,0,0,0,0,18.05,22.28,"Sun",1200,0,6,128,122,3,0,0,1,0,0,0,0,2,38,102,103,15,0,0,0,0,0,0,0,0,0,0,0,0,0,0,0,0,0,0,19.22,22.66,0,4,61,74,2,0,0,1,0,0,0,0,142,0,2,67,48,1,0,0,0,0,0,0,0,118,0,6,128,122,3,0,0,1,0,0,0,0,260]
["Sun",1300,0,0,45,72,1,0,0,0,0,0,0,0,0,8,54,46,10,0,0,0,0,0,0,0,0,0,0,0,0,0,0,0,0,0,0,19.920000000000002,23.7,"Sun",1300,0,1,41,55,2,0,0,0,0,0,0,0,1,18,46,32,1,0,1,0,0,0,0,0,0,0,0,0,0,0,0,0,0,0,0,18.45,22.37,"Sun",1300,0,1,86,127,3,0,0,0,0,0,0,0,1,26,100,78,11,0,1,0,0,0,0,0,0,0,0,0,0,0,0,0,0,0,0,19.25,22.93,0,0,45,72,1,0,0,0,0,0,0,0,118,0,1,41,55,2,0,0,0,0,0,0,0,99,0,1,86,127,3,0,0,0,0,0,0,0,217]
["Sun",1400,0,4,40,60,2,0,0,1,0,0,0,0,0,13,46,36,11,1,0,0,0,0,0,0,0,0,0,0,0,0,0,0,0,0,0,19.920000000000002,23.96,"Sun",1400,0,1,49,45,2,1,0,0,0,0,0,0,0,18,50,27,3,0,0,0,0,0,0,0,0,0,0,0,0,0,0,0,0,0,0,18.510000000000002,22.7,"Sun",1400,0,5,89,105,4,1,0,1,0,0,0,0,0,31,96,63,14,1,0,0,0,0,0,0,0,0,0,0,0,0,0,0,0,0,0,19.25,23.56,0,4,40,60,2,0,0,1,0,0,0,0,107,0,1,49,45,2,1,0,0,0,0,0,0,98,0,5,89,105,4,1,0,1,0,0,0,0,205]
["Sun",1500,0,1,36,63,0,0,1,0,0,0,0,0,1,8,36,47,6,3,0,0,0,0,0,0,0,0,0,0,0,0,0,0,0,0,0,20.27,23.61,"Sun",1500,0,3,54,50,0,0,1,1,0,0,0,1,1,20,56,26,6,1,0,0,0,0,0,0,0,0,0,0,0,0,0,0,0,0,0,18.37,22.22,"Sun",1500,0,4,90,113,0,0,2,1,0,0,0,1,2,28,92,73,12,4,0,0,0,0,0,0,0,0,0,0,0,0,0,0,0,0,0,19.28,23.18,0,1,36,63,0,0,1,0,0,0,0,0,101,0,3,54,50,0,0,1,1,0,0,0,1,110,0,4,90,113,0,0,2,1,0,0,0,1,211]
["Sun",1600,0,3,30,57,1,0,0,0,0,0,0,0,0,3,23,50,15,0,0,0,0,0,0,0,0,0,0,0,0,0,0,0,0,0,0,21.63,25.05,"Sun",1600,0,0,53,61,1,0,0,0,0,0,0,0,3,12,48,47,5,0,0,0,0,0,0,0,0,0,0,0,0,0,0,0,0,0,0,19.170000000000002,23.04,"Sun",1600,0,3,83,118,2,0,0,0,0,0,0,0,3,15,71,97,20,0,0,0,0,0,0,0,0,0,0,0,0,0,0,0,0,0,0,20.260000000000002,24.17,0,3,30,57,1,0,0,0,0,0,0,0,91,0,0,53,61,1,0,0,0,0,0,0,0,115,0,3,83,118,2,0,0,0,0,0,0,0,206]
["Sun",1700,0,2,32,46,1,0,0,1,0,0,0,0,0,6,15,50,11,0,0,0,0,0,0,0,0,0,0,0,0,0,0,0,0,0,0,21.68,24.77,"Sun",1700,0,0,51,64,2,0,0,0,0,0,0,0,0,19,48,45,4,1,0,0,0,0,0,0,0,0,0,0,0,0,0,0,0,0,0,19.18,22.86,"Sun",1700,0,2,83,110,3,0,0,1,0,0,0,0,0,25,63,95,15,1,0,0,0,0,0,0,0,0,0,0,0,0,0,0,0,0,0,20.21,23.82,0,2,32,46,1,0,0,1,0,0,0,0,82,0,0,51,64,2,0,0,0,0,0,0,0,117,0,2,83,110,3,0,0,1,0,0,0,0,199]
["Sun",1800,0,3,27,78,4,0,0,0,0,0,0,0,1,5,19,73,13,1,0,0,0,0,0,0,0,0,0,0,0,0,0,0,0,0,0,21.42,24.63,"Sun",1800,0,1,40,53,1,0,0,1,0,0,0,0,3,13,37,40,3,0,0,0,0,0,0,0,0,0,0,0,0,0,0,0,0,0,0,19.059999999999999,21.99,"Sun",1800,0,4,67,131,5,0,0,1,0,0,0,0,4,18,56,113,16,1,0,0,0,0,0,0,0,0,0,0,0,0,0,0,0,0,0,20.329999999999998,23.73,0,3,27,78,4,0,0,0,0,0,0,0,112,0,1,40,53,1,0,0,1,0,0,0,0,96,0,4,67,131,5,0,0,1,0,0,0,0,208]
["Sun",1900,0,0,26,49,1,0,0,0,0,0,0,0,0,4,13,42,16,1,0,0,0,0,0,0,0,0,0,0,0,0,0,0,0,0,0,22.23,25.68,"Sun",1900,0,0,38,48,0,0,0,0,0,0,0,1,1,8,26,46,5,1,0,0,0,0,0,0,0,0,0,0,0,0,0,0,0,0,0,20.059999999999999,23.72,"Sun",1900,0,0,64,97,1,0,0,0,0,0,0,1,1,12,39,88,21,2,0,0,0,0,0,0,0,0,0,0,0,0,0,0,0,0,0,21.07,24.89,0,0,26,49,1,0,0,0,0,0,0,0,76,0,0,38,48,0,0,0,0,0,0,0,1,87,0,0,64,97,1,0,0,0,0,0,0,1,163]
["Sun",2000,0,0,8,21,0,0,0,0,0,0,0,0,1,1,7,15,4,1,0,0,0,0,0,0,0,0,0,0,0,0,0,0,0,0,0,21.42,25.15,"Sun",2000,0,0,21,16,0,0,0,0,0,0,0,0,0,4,8,20,5,0,0,0,0,0,0,0,0,0,0,0,0,0,0,0,0,0,0,20.77,24.4,"Sun",2000,0,0,29,37,0,0,0,0,0,0,0,0,1,5,15,35,9,1,0,0,0,0,0,0,0,0,0,0,0,0,0,0,0,0,0,21.06,24.81,0,0,8,21,0,0,0,0,0,0,0,0,29,0,0,21,16,0,0,0,0,0,0,0,0,37,0,0,29,37,0,0,0,0,0,0,0,0,66]
["Sun",2100,0,0,15,17,0,0,0,0,0,0,0,0,0,0,7,15,8,2,0,0,0,0,0,0,0,0,0,0,0,0,0,0,0,0,0,23.31,26.99,"Sun",2100,0,1,14,10,0,0,0,0,0,0,0,1,1,0,4,15,4,1,0,1,0,0,0,0,0,0,0,0,0,0,0,0,0,0,0,22.69,25.45,"Sun",2100,0,1,29,27,0,0,0,0,0,0,0,1,1,0,11,30,12,3,0,1,0,0,0,0,0,0,0,0,0,0,0,0,0,0,0,23.03,26.63,0,0,15,17,0,0,0,0,0,0,0,0,32,0,1,14,10,0,0,0,0,0,0,0,1,26,0,1,29,27,0,0,0,0,0,0,0,1,58]
["Sun",2200,0,1,5,4,0,0,0,0,0,0,0,0,0,1,2,4,3,0,0,0,0,0,0,0,0,0,0,0,0,0,0,0,0,0,0,22.47,27.24,"Sun",2200,0,1,8,5,0,0,0,0,0,0,0,0,0,0,6,7,1,0,0,0,0,0,0,0,0,0,0,0,0,0,0,0,0,0,0,21.44,24.1,"Sun",2200,0,2,13,9,0,0,0,0,0,0,0,0,0,1,8,11,4,0,0,0,0,0,0,0,0,0,0,0,0,0,0,0,0,0,0,21.87,25.91,0,1,5,4,0,0,0,0,0,0,0,0,10,0,1,8,5,0,0,0,0,0,0,0,0,14,0,2,13,9,0,0,0,0,0,0,0,0,24]
["Sun",2300,0,0,0,1,0,0,0,0,0,0,0,0,0,0,1,0,0,0,0,0,0,0,0,0,0,0,0,0,0,0,0,0,0,0,0,19.940000000000001,"-","Sun",2300,0,0,0,1,0,0,0,0,0,0,0,0,0,0,1,0,0,0,0,0,0,0,0,0,0,0,0,0,0,0,0,0,0,0,0,15.37,"-","Sun",2300,0,0,0,2,0,0,0,0,0,0,0,0,0,0,2,0,0,0,0,0,0,0,0,0,0,0,0,0,0,0,0,0,0,0,0,17.66,"-",0,0,0,1,0,0,0,0,0,0,0,0,1,0,0,0,1,0,0,0,0,0,0,0,0,1,0,0,0,2,0,0,0,0,0,0,0,0,2]
["WD Ave",0,{"$f":"SUM(C5+C29+C53+C77+C101)/5","v":0},0,0.8,1.4,0,0,0,0,0,0,0,0,{"$f":"SUM(O5+O29+O53+O77+O101)/5","v":0},0,0.6,0.4,1.2,0,{"$f":"SUM(U5+U29+U53+U77+U101)/5","v":0},{"$f":"SUM(V5+V29+V53+V77+V101)/5","v":0},0,0,0,{"$f":"SUM(Z5+Z29+Z53+Z77+Z101)/5","v":0},{"$f":"SUM(AA5+AA29+AA53+AA77+AA101)/5","v":0},{"$f":"SUM(AB5+AB29+AB53+AB77+AB101)/5","v":0},0,0,0,{"$f":"SUM(AF5+AF29+AF53+AF77+AF101)/5","v":0},0,0,0,0,0,23.77,27.2,"WD Ave",0,{"$f":"SUM(AP5+AP29+AP53+AP77+AP101)/5","v":0},0,0.4,1.2,0,0,0,0,0,0,0,0,0,0,0.2,1,0.2,{"$f":"SUM(BG5+BG29+BG53+BG77+BG101)/5","v":0.2},0,0,0,0,0,{"$f":"SUM(BM5+BM29+BM53+BM77+BM101)/5","v":0},0,0,0,0,0,{"$f":"SUM(BS5+BS29+BS53+BS77+BS101)/5","v":0},0,0,0,0,0,23.19,"-","WD Ave",0,{"$f":"SUM(CC5+CC29+CC53+CC77+CC101)/5","v":0},0,1.2,2.6,0,0,0,0,0,0,0,0,0,0,0.8,1.4,{"$f":"SUM(CS5+CS29+CS53+CS77+CS101)/5","v":1.4},0.2,0,0,0,0,{"$f":"SUM(CY5+CY29+CY53+CY77+CY101)/5","v":0},0,0,0,0,0,0,0,0,0,0,0,0,23.53,28,0,0,0.8,1.4,0,0,0,0,0,0,0,0,2.2000000000000002,0,0,0.4,1.2,0,0,0,0,0,0,0,0,1.6,0,0,1.2000000000000002,2.5999999999999996,0,0,0,0,0,0,0,0,3.8000000000000003]
["WD Ave",100,{"$f":"SUM(C6+C30+C54+C78+C102)/5","v":0},0,0.4,0.2,0,0,0,0,0,0,0,0,{"$f":"SUM(O6+O30+O54+O78+O102)/5","v":0},0,0,0,0.4,0.2,0,0,0,0,0,{"$f":"SUM(Z6+Z30+Z54+Z78+Z102)/5","v":0},0,{"$f":"SUM(AB6+AB30+AB54+AB78+AB102)/5","v":0},0,0,0,{"$f":"SUM(AF6+AF30+AF54+AF78+AF102)/5","v":0},0,0,0,0,0,28.55,"-","WD Ave",100,{"$f":"SUM(AP6+AP30+AP54+AP78+AP102)/5","v":0},0,0,0.2,0.2,0,0,0,0,0,0,0,0,0,0,0.2,0,0.2,0,0,0,0,0,{"$f":"SUM(BM6+BM30+BM54+BM78+BM102)/5","v":0},0,0,0,0,0,{"$f":"SUM(BS6+BS30+BS54+BS78+BS102)/5","v":0},0,0,0,0,0,27.05,"-","WD Ave",100,{"$f":"SUM(CC6+CC30+CC54+CC78+CC102)/5","v":0},0,0.4,0.4,0.2,0,0,0,0,0,0,0,0,0,0,0.2,0.4,0.4,0,0,0,0,{"$f":"SUM(CY6+CY30+CY54+CY78+CY102)/5","v":0},0,0,0,0,0,0,0,0,0,0,0,0,27.95,"-",0,0,0.4,0.2,0,0,0,0,0,0,0,0,0.60000000000000009,0,0,0,0.2,0.2,0,0,0,0,0,0,0,0.4,0,0,0.4,0.4,0.2,0,0,0,0,0,0,0,1]
["WD Ave",200,{"$f":"SUM(C7+C31+C55+C79+C103)/5","v":0},0,0,0.4,0,0,0,0,0,0,0,0,0,0,0,0.2,0.2,0,0,0,0,0,0,{"$f":"SUM(Z7+Z31+Z55+Z79+Z103)/5","v":0},0,{"$f":"SUM(AB7+AB31+AB55+AB79+AB103)/5","v":0},0,0,0,{"$f":"SUM(AF7+AF31+AF55+AF79+AF103)/5","v":0},0,0,0,0,0,23.6,"-","WD Ave",200,{"$f":"SUM(AP7+AP31+AP55+AP79+AP103)/5","v":0},0,0.4,0.6,0,0,0,0,0,0,0,0,0,0,0.2,0.8,0,0,0,0,0,0,0,{"$f":"SUM(BM7+BM31+BM55+BM79+BM103)/5","v":0},0,0,0,0,0,{"$f":"SUM(BS7+BS31+BS55+BS79+BS103)/5","v":0},0,0,0,0,0,21.11,"-","WD Ave",200,{"$f":"SUM(CC7+CC31+CC55+CC79+CC103)/5","v":0},0,0.4,1,0,0,0,0,0,0,0,0,0,0,0.2,1,0.2,0,0,0,0,0,{"$f":"SUM(CY7+CY31+CY55+CY79+CY103)/5","v":0},0,0,0,0,0,0,0,0,0,0,0,0,21.82,"-",0,0,0,0.4,0,0,0,0,0,0,0,0,0.4,0,0,0.4,0.6,0,0,0,0,0,0,0,0,1,0,0,0.4,1,0,0,0,0,0,0,0,0,1.4]
["WD Ave",300,{"$f":"SUM(C8+C32+C56+C80+C104)/5","v":0},0,0.4,0.2,0.4,0,0,0,0,0,0,0,0,0,0,0.2,0.6,0.2,0,0,0,0,0,{"$f":"SUM(Z8+Z32+Z56+Z80+Z104)/5","v":0},0,{"$f":"SUM(AB8+AB32+AB56+AB80+AB104)/5","v":0},0,0,0,{"$f":"SUM(AF8+AF32+AF56+AF80+AF104)/5","v":0},0,0,0,0,0,27.89,"-","WD Ave",300,{"$f":"SUM(AP8+AP32+AP56+AP80+AP104)/5","v":0},0,0,0.2,0.4,0,0,0,0,0,0,0,0,0,0,0.6,0,0,0,0,0,0,0,{"$f":"SUM(BM8+BM32+BM56+BM80+BM104)/5","v":0},0,0,0,0,0,{"$f":"SUM(BS8+BS32+BS56+BS80+BS104)/5","v":0},0,0,0,0,0,22.49,"-","WD Ave",300,{"$f":"SUM(CC8+CC32+CC56+CC80+CC104)/5","v":0},0,0.4,0.4,0.8,0,0,0,0,0,0,0,0,0,0,0.8,0.6,0.2,0,0,0,0,{"$f":"SUM(CY8+CY32+CY56+CY80+CY104)/5","v":0},0,0,0,0,0,0,0,0,0,0,0,0,25.87,"-",0,0,0.4,0.2,0.4,0,0,0,0,0,0,0,1,0,0,0,0.2,0.4,0,0,0,0,0,0,0,0.60000000000000009,0,0,0.4,0.4,0.8,0,0,0,0,0,0,0,1.6]
["WD Ave",400,{"$f":"SUM(C9+C33+C57+C81+C105)/5","v":0},0,1,1.4,0.8,0,0,0,0,0,0,0,0,0,0.4,1,1.8,0,0,0,0,0,0,{"$f":"SUM(Z9+Z33+Z57+Z81+Z105)/5","v":0},0,{"$f":"SUM(AB9+AB33+AB57+AB81+AB105)/5","v":0},0,0,0,{"$f":"SUM(AF9+AF33+AF57+AF81+AF105)/5","v":0},0,0,0,0,0,24.44,26.9,"WD Ave",400,{"$f":"SUM(AP9+AP33+AP57+AP81+AP105)/5","v":0},0,0.2,1.8,0.6,0,0,0,0,0,0,0,0,0,1,1.2,0.4,0,0,0,0,0,0,{"$f":"SUM(BM9+BM33+BM57+BM81+BM105)/5","v":0},0,0,0,0,0,{"$f":"SUM(BS9+BS33+BS57+BS81+BS105)/5","v":0},0,0,0,0,0,21.13,23.49,"WD Ave",400,{"$f":"SUM(CC9+CC33+CC57+CC81+CC105)/5","v":0},0,1.2,3.2,1.4,0,0,0,0,0,0,0,0,0,1.4,2.2000000000000002,2.2000000000000002,0,0,0,0,0,{"$f":"SUM(CY9+CY33+CY57+CY81+CY105)/5","v":0},0,0,0,0,0,0,0,0,0,0,0,0,22.96,26.02,0,0,1,1.4,0.8,0,0,0,0,0,0,0,3.2,0,0,0.2,1.8,0.6,0,0,0,0,0,0,0,2.6,0,0,1.2,3.2,1.4,0,0,0,0,0,0,0,5.8000000000000007]
["WD Ave",500,{"$f":"SUM(C10+C34+C58+C82+C106)/5","v":0},0,5,9.1999999999999993,0.2,0,0,0,0,0,0,0,0,0,2.4,6.2,5,0.8,0,0,0,0,0,{"$f":"SUM(Z10+Z34+Z58+Z82+Z106)/5","v":0},0,{"$f":"SUM(AB10+AB34+AB58+AB82+AB106)/5","v":0},0,0,0,{"$f":"SUM(AF10+AF34+AF58+AF82+AF106)/5","v":0},0,0,0,0,0,24.02,28.08,"WD Ave",500,{"$f":"SUM(AP10+AP34+AP58+AP82+AP106)/5","v":0},0,3.2,2,0.2,0,0,0,0,0,0,0.2,0.2,0.6,2.6,1.6,0.6,0,0,0,0,0,0,{"$f":"SUM(BM10+BM34+BM58+BM82+BM106)/5","v":0},0,0,0,0,0,{"$f":"SUM(BS10+BS34+BS58+BS82+BS106)/5","v":0},0,0,0,0,0,19.22,22.21,"WD Ave",500,{"$f":"SUM(CC10+CC34+CC58+CC82+CC106)/5","v":0},0,8.1999999999999993,11.2,0.4,0,0,0,0,0,0,0.2,0.2,0.6,5,7.8,5.6,0.8,0,0,0,0,{"$f":"SUM(CY10+CY34+CY58+CY82+CY106)/5","v":0},0,0,0,0,0,0,0,0,0,0,0,0,22.67,26.94,0,0,5,9.1999999999999993,0.2,0,0,0,0,0,0,0,14.399999999999999,0,0,3.2,2,0.2,0,0,0,0,0,0,0.2,5.6000000000000005,0,0,8.1999999999999993,11.2,0.4,0,0,0,0,0,0,0.2,20]
["WD Ave",600,{"$f":"SUM(C11+C35+C59+C83+C107)/5","v":0},0.2,18,23,2.2000000000000002,0.2,0,0.2,0,0,0,0,0,0.8,6.8,18.8,14.6,2.8,0,0,0,0,0,{"$f":"SUM(Z11+Z35+Z59+Z83+Z107)/5","v":0},0,{"$f":"SUM(AB11+AB35+AB59+AB83+AB107)/5","v":0},0,0,0,{"$f":"SUM(AF11+AF35+AF59+AF83+AF107)/5","v":0},0,0,0,0,0,23.92,27.94,"WD Ave",600,{"$f":"SUM(AP11+AP35+AP59+AP83+AP107)/5","v":0},0.2,5.2,7,1.4,0.4,0,0,0,0,0,0.2,0,1.2,5,6.2,2,0,0,0,0,0,0,{"$f":"SUM(BM11+BM35+BM59+BM83+BM107)/5","v":0},0,0,0,0,0,{"$f":"SUM(BS11+BS35+BS59+BS83+BS107)/5","v":0},0,0,0,0,0,20.73,24.83,"WD Ave",600,{"$f":"SUM(CC11+CC35+CC59+CC83+CC107)/5","v":0},0.4,23.2,30,3.6,0.6,0,0.2,0,0,0,0.2,0,2,11.8,25,16.600000000000001,2.8,0,0,0,0,{"$f":"SUM(CY11+CY35+CY59+CY83+CY107)/5","v":0},0,0,0,0,0,0,0,0,0,0,0,0,23.13,27.51,0,0.2,18,23,2.2000000000000002,0.2,0,0.2,0,0,0,0,43.800000000000011,0,0.2,5.2,7,1.4,0.4,0,0,0,0,0,0.2,14.4,0,0.4,23.2,30,3.6,0.60000000000000009,0,0.2,0,0,0,0.2,58.20000000000001]
["WD Ave",700,{"$f":"SUM(C12+C36+C60+C84+C108)/5","v":0.4},1.2,43,74.2,4.8,0.8,0,0.8,0,0,1,0.2,0.4,4,28.4,67,24.4,2.2000000000000002,0,0,0,0,0,{"$f":"SUM(Z12+Z36+Z60+Z84+Z108)/5","v":0},0,{"$f":"SUM(AB12+AB36+AB60+AB84+AB108)/5","v":0},0,0,0,{"$f":"SUM(AF12+AF36+AF60+AF84+AF108)/5","v":0},0,0,0,0,0,22.21,26.13,"WD Ave",700,{"$f":"SUM(AP12+AP36+AP60+AP84+AP108)/5","v":0.6},0.2,27.4,36.6,4.4000000000000004,0.2,0.2,0.2,0,0,0.8,0.2,2.2000000000000002,8.4,26,28.4,5.4,0.4,0,0,0,0,0,{"$f":"SUM(BM12+BM36+BM60+BM84+BM108)/5","v":0},0,0,0,0,0,{"$f":"SUM(BS12+BS36+BS60+BS84+BS108)/5","v":0},0,0,0,0,0,19.48,23.92,"WD Ave",700,{"$f":"SUM(CC12+CC36+CC60+CC84+CC108)/5","v":1},1.4,70.400000000000006,110.8,9.1999999999999993,1,0.2,1,0,0,1.8,0.4,2.6,12.4,54.4,95.4,29.8,2.6,0,0,0,0,{"$f":"SUM(CY12+CY36+CY60+CY84+CY108)/5","v":0},0,0,0,0,0,0,0,0,0,0,0,0,21.23,25.19,0.4,1.2,43,74.2,4.8,0.8,0,0.8,0,0,1,0.2,126.4,0.6,0.2,27.4,36.6,4.4000000000000004,0.2,0.2,0.2,0,0,0.8,0.2,70.800000000000011,1,1.4,70.400000000000006,110.80000000000001,9.1999999999999993,1,0.2,1,0,0,1.8,0.4,197.20000000000002]
["WD Ave",800,{"$f":"SUM(C13+C37+C61+C85+C109)/5","v":0.6},2.6,58.4,91,8,0,0,1.6,0,0,2,0.4,1.2,13.2,57,77.599999999999994,15.6,0,0,0,0,0,0,{"$f":"SUM(Z13+Z37+Z61+Z85+Z109)/5","v":0},0,{"$f":"SUM(AB13+AB37+AB61+AB85+AB109)/5","v":0},0,0,0,{"$f":"SUM(AF13+AF37+AF61+AF85+AF109)/5","v":0},0,0,0,0,0,20.260000000000002,24.18,"WD Ave",800,{"$f":"SUM(AP13+AP37+AP61+AP85+AP109)/5","v":0.6},1.2,53.8,65.599999999999994,6.2,0.8,0.2,1.8,0,0,1.2,1,2.2000000000000002,24.2,58,43.6,4,0.4,0,0,0,0,0,{"$f":"SUM(BM13+BM37+BM61+BM85+BM109)/5","v":0},0,0,0,0,0,{"$f":"SUM(BS13+BS37+BS61+BS85+BS109)/5","v":0},0,0,0,0,0,18.47,22.49,"WD Ave",800,{"$f":"SUM(CC13+CC37+CC61+CC85+CC109)/5","v":1.2},3.8,112.2,156.6,14.2,0.8,0.2,3.4,0,0,3.2,1.4,3.4,37.4,115,121.2,19.600000000000001,0.4,0,0,0,0,{"$f":"SUM(CY13+CY37+CY61+CY85+CY109)/5","v":0},0,0,0,0,0,0,0,0,0,0,0,0,19.46,23.46,0.6,2.6,58.4,91,8,0,0,1.6,0,0,2,0.4,164.6,0.6,1.2,53.8,65.599999999999994,6.2,0.8,0.2,1.8,0,0,1.2,1,132.39999999999998,1.2,3.8,112.19999999999999,156.6,14.2,0.8,0.2,3.4000000000000004,0,0,3.2,1.4,297]
["WD Ave",900,{"$f":"SUM(C14+C38+C62+C86+C110)/5","v":0},0.2,62.4,90.8,7.2,0.6,0,0.4,0,0.6,1,0.2,2.2000000000000002,18.399999999999999,81.8,51.8,9,0.2,0,0,0,0,0,{"$f":"SUM(Z14+Z38+Z62+Z86+Z110)/5","v":0},0,{"$f":"SUM(AB14+AB38+AB62+AB86+AB110)/5","v":0},0,0,0,{"$f":"SUM(AF14+AF38+AF62+AF86+AF110)/5","v":0},0,0,0,0,0,18.940000000000001,22.64,"WD Ave",900,{"$f":"SUM(AP14+AP38+AP62+AP86+AP110)/5","v":0.4},0.2,56.6,77.599999999999994,6.6,0.2,0,0,0,0,0.8,0.4,3,29.8,68.599999999999994,37.799999999999997,3.4,0.2,0,0,0,0,0,{"$f":"SUM(BM14+BM38+BM62+BM86+BM110)/5","v":0},0,0,0,0,0,{"$f":"SUM(BS14+BS38+BS62+BS86+BS110)/5","v":0},0,0,0,0,0,17.97,21.68,"WD Ave",900,{"$f":"SUM(CC14+CC38+CC62+CC86+CC110)/5","v":0.4},0.4,119,168.4,13.8,0.8,0,0.4,0,0.6,1.8,0.6,5.2,48.2,150.4,89.6,12.4,0.4,0,0,0,0,{"$f":"SUM(CY14+CY38+CY62+CY86+CY110)/5","v":0},0,0,0,0,0,0,0,0,0,0,0,0,18.489999999999998,22.19,0,0.2,62.4,90.8,7.2,0.6,0,0.4,0,0.6,1,0.2,163.39999999999998,0.4,0.2,56.6,77.599999999999994,6.6,0.2,0,0,0,0,0.8,0.4,142.80000000000001,0.4,0.4,119,168.39999999999998,13.8,0.8,0,0.4,0,0.6,1.8,0.60000000000000009,306.2]
["WD Ave",1000,{"$f":"SUM(C15+C39+C63+C87+C111)/5","v":0.6},0.6,54.8,89.8,9.8000000000000007,0.6,0,0.6,0,0.2,2.2000000000000002,0,2.2000000000000002,21,79.8,50,6.2,0,0,0,0,0,0,{"$f":"SUM(Z15+Z39+Z63+Z87+Z111)/5","v":0},0,{"$f":"SUM(AB15+AB39+AB63+AB87+AB111)/5","v":0},0,0,0,{"$f":"SUM(AF15+AF39+AF63+AF87+AF111)/5","v":0},0,0,0,0,0,18.61,22.02,"WD Ave",1000,{"$f":"SUM(AP15+AP39+AP63+AP87+AP111)/5","v":0},0.4,52,74.2,6.6,1.4,0,0.6,0,0.2,0.8,0.4,1.2,37.200000000000003,62,31.6,4.4000000000000004,0.2,0,0,0,0,0,{"$f":"SUM(BM15+BM39+BM63+BM87+BM111)/5","v":0},0,0,0,0,0,{"$f":"SUM(BS15+BS39+BS63+BS87+BS111)/5","v":0},0,0,0,0,0,17.54,21.15,"WD Ave",1000,{"$f":"SUM(CC15+CC39+CC63+CC87+CC111)/5","v":0.6},1,106.8,164,16.399999999999999,2,0,1.2,0,0.4,3,0.4,3.4,58.2,141.80000000000001,81.599999999999994,10.6,0.2,0,0,0,0,{"$f":"SUM(CY15+CY39+CY63+CY87+CY111)/5","v":0},0,0,0,0,0,0,0,0,0,0,0,0,18.12,21.72,0.6,0.6,54.8,89.8,9.8000000000000007,0.6,0,0.6,0,0.2,2.2000000000000002,0,159.19999999999999,0,0.4,52,74.2,6.6,1.4,0,0.6,0,0.2,0.8,0.4,136.6,0.6,1,106.8,164,16.399999999999999,2,0,1.2,0,0.4,3,0.4,295.79999999999995]
["WD Ave",1100,{"$f":"SUM(C16+C40+C64+C88+C112)/5","v":0.2},1.8,56.6,95.4,5.8,0.6,0,0.6,0,0,0.6,0.4,3.2,32,77.400000000000006,42.2,6.4,0.6,0.2,0,0,0,0,{"$f":"SUM(Z16+Z40+Z64+Z88+Z112)/5","v":0},0,{"$f":"SUM(AB16+AB40+AB64+AB88+AB112)/5","v":0},0,0,0,{"$f":"SUM(AF16+AF40+AF64+AF88+AF112)/5","v":0},0,0,0,0,0,18.16,22.21,"WD Ave",1100,{"$f":"SUM(AP16+AP40+AP64+AP88+AP112)/5","v":0.2},1.2,64.8,73.599999999999994,6.6,0,0,0,0,0,0.8,0.6,3,38.799999999999997,72,31,3,0,0,0,0,0,0,{"$f":"SUM(BM16+BM40+BM64+BM88+BM112)/5","v":0},0,0,0,0,0,{"$f":"SUM(BS16+BS40+BS64+BS88+BS112)/5","v":0},0,0,0,0,0,17.260000000000002,21,"WD Ave",1100,{"$f":"SUM(CC16+CC40+CC64+CC88+CC112)/5","v":0.4},3,121.4,169,12.4,0.6,0,0.6,0,0,1.4,1,6.2,70.8,149.4,73.2,9.4,0.6,0.2,0,0,0,{"$f":"SUM(CY16+CY40+CY64+CY88+CY112)/5","v":0},0,0,0,0,0,0,0,0,0,0,0,0,17.73,21.72,0.2,1.8,56.6,95.4,5.8,0.6,0,0.6,0,0,0.6,0.4,162,0.2,1.2,64.8,73.599999999999994,6.6,0,0,0,0,0,0.8,0.6,147.80000000000001,0.4,3,121.4,169,12.399999999999999,0.6,0,0.6,0,0,1.4,1,309.8]
["WD Ave",1200,{"$f":"SUM(C17+C41+C65+C89+C113)/5","v":0.2},1.2,63,92.6,5,0.6,0,0.8,0,0.2,1,0.8,2.8,24.8,80.8,49.6,7.2,0.2,0,0,0,0,0,{"$f":"SUM(Z17+Z41+Z65+Z89+Z113)/5","v":0},0,{"$f":"SUM(AB17+AB41+AB65+AB89+AB113)/5","v":0},0,0,0,{"$f":"SUM(AF17+AF41+AF65+AF89+AF113)/5","v":0},0,0,0,0,0,18.600000000000001,22.33,"WD Ave",1200,{"$f":"SUM(AP17+AP41+AP65+AP89+AP113)/5","v":0.2},2.4,68.2,72.599999999999994,5.6,1,0.4,0.8,0,0.2,0.2,0.4,3.2,32.4,69.8,41,5.4,0.2,0,0,0,0,0,{"$f":"SUM(BM17+BM41+BM65+BM89+BM113)/5","v":0},0,0,0,0,0,{"$f":"SUM(BS17+BS41+BS65+BS89+BS113)/5","v":0},0,0,0,0,0,17.98,21.85,"WD Ave",1200,{"$f":"SUM(CC17+CC41+CC65+CC89+CC113)/5","v":0.4},3.6,131.19999999999999,165.2,10.6,1.6,0.4,1.6,0,0.4,1.2,1.2,6,57.2,150.6,90.6,12.6,0.4,0,0,0,0,{"$f":"SUM(CY17+CY41+CY65+CY89+CY113)/5","v":0},0,0,0,0,0,0,0,0,0,0,0,0,18.3,22.02,0.2,1.2,63,92.6,5,0.6,0,0.8,0,0.2,1,0.8,165.4,0.2,2.4,68.2,72.599999999999994,5.6,1,0.4,0.8,0,0.2,0.2,0.4,151.99999999999997,0.4,3.5999999999999996,131.19999999999999,165.2,10.6,1.6,0.4,1.6,0,0.4,1.2,1.2000000000000002,317.39999999999998]
["WD Ave",1300,{"$f":"SUM(C18+C42+C66+C90+C114)/5","v":0},2.2000000000000002,55.4,88.4,5.8,0.2,0.2,0.4,0,0,1,0.2,1.4,19.8,69.8,{"$f":"SUM(R18+R42+R66+R90+R114)/5","v":54.4},{"$f":"SUM(S18+S42+S66+S90+S114)/5","v":7.8},{"$f":"SUM(T18+T42+T66+T90+T114)/5","v":0.6},0,0,{"$f":"SUM(W18+W42+W66+W90+W114)/5","v":0},{"$f":"SUM(X18+X42+X66+X90+X114)/5","v":0},{"$f":"SUM(Y18+Y42+Y66+Y90+Y114)/5","v":0},{"$f":"SUM(Z18+Z42+Z66+Z90+Z114)/5","v":0},0,{"$f":"SUM(AB18+AB42+AB66+AB90+AB114)/5","v":0},{"$f":"SUM(AC18+AC42+AC66+AC90+AC114)/5","v":0},{"$f":"SUM(AD18+AD42+AD66+AD90+AD114)/5","v":0},{"$f":"SUM(AE18+AE42+AE66+AE90+AE114)/5","v":0},{"$f":"SUM(AF18+AF42+AF66+AF90+AF114)/5","v":0},0,0,0,{"$f":"SUM(AJ18+AJ42+AJ66+AJ90+AJ114)/5","v":0},{"$f":"SUM(AK18+AK42+AK66+AK90+AK114)/5","v":0},19.07,22.72,"WD Ave",1300,{"$f":"SUM(AP18+AP42+AP66+AP90+AP114)/5","v":0.2},0.4,61.8,61.4,5,0,0,0.4,0,0.2,0,0.2,2.2000000000000002,29,61.4,33.4,3.6,0,0,0,0,0,0,{"$f":"SUM(BM18+BM42+BM66+BM90+BM114)/5","v":0},0,0,0,0,0,{"$f":"SUM(BS18+BS42+BS66+BS90+BS114)/5","v":0},0,0,0,0,0,17.82,21.58,"WD Ave",1300,{"$f":"SUM(CC18+CC42+CC66+CC90+CC114)/5","v":0.2},2.6,117.2,149.80000000000001,10.8,0.2,0.2,0.8,0,0.2,1,0.4,3.6,48.8,131.19999999999999,87.8,11.4,0.6,0,0,0,0,{"$f":"SUM(CY18+CY42+CY66+CY90+CY114)/5","v":0},0,0,0,0,0,0,0,0,0,0,0,0,18.5,22.33,0,2.2000000000000002,55.4,88.4,5.8,0.2,0.2,0.4,0,0,1,0.2,153.79999999999998,0.2,0.4,61.8,61.4,5,0,0,0.4,0,0.2,0,0.2,129.6,0.2,2.6,117.19999999999999,149.80000000000001,10.8,0.2,0.2,0.8,0,0.2,1,0.4,283.39999999999998]
["WD Ave",1400,{"$f":"SUM(C19+C43+C67+C91+C115)/5","v":0.6},1.4,50.4,87.2,6.6,0.2,0,0.8,0,0,0.6,0.2,{"$f":"SUM(O19+O43+O67+O91+O115)/5","v":1.2},23.4,73.2,44,6,0.2,0,0,0,0,0,{"$f":"SUM(Z19+Z43+Z67+Z91+Z115)/5","v":0},0,{"$f":"SUM(AB19+AB43+AB67+AB91+AB115)/5","v":0},0,0,0,{"$f":"SUM(AF19+AF43+AF67+AF91+AF115)/5","v":0},0,0,0,0,0,18.5,22.28,"WD Ave",1400,{"$f":"SUM(AP19+AP43+AP67+AP91+AP115)/5","v":0},2.2000000000000002,66,64.8,2.8,0.4,0.2,0.4,0,0,0,0.8,4.5999999999999996,29.6,63.2,37.6,2.6,0,0,0,0,0,0,{"$f":"SUM(BM19+BM43+BM67+BM91+BM115)/5","v":0},0,0,0,0,0,{"$f":"SUM(BS19+BS43+BS67+BS91+BS115)/5","v":0},0,0,0,0,0,17.579999999999998,21.4,"WD Ave",1400,{"$f":"SUM(CC19+CC43+CC67+CC91+CC115)/5","v":0.6},3.6,116.4,152,9.4,0.6,0.2,1.2,0,0,0.6,1,5.8,53,136.4,81.599999999999994,8.6,0.2,0,0,0,0,{"$f":"SUM(CY19+CY43+CY67+CY91+CY115)/5","v":0},0,0,0,0,0,0,0,0,0,0,0,0,18.059999999999999,21.86,0.6,1.4,50.4,87.2,6.6,0.2,0,0.8,0,0,0.6,0.2,147.99999999999997,0,2.2000000000000002,66,64.8,2.8,0.4,0.2,0.4,0,0,0,0.8,137.60000000000002,0.6,3.6,116.4,152,9.3999999999999986,0.60000000000000009,0.2,1.2000000000000002,0,0,0.6,1,285.60000000000002]
["WD Ave",1500,{"$f":"SUM(C20+C44+C68+C92+C116)/5","v":0},1.2,64.8,100.4,7,0.2,0,0.6,0,0,0.8,0.2,1.8,24.4,86.6,54.6,7.4,0.4,0,0,0,0,0,{"$f":"SUM(Z20+Z44+Z68+Z92+Z116)/5","v":0},0,{"$f":"SUM(AB20+AB44+AB68+AB92+AB116)/5","v":0},0,0,0,{"$f":"SUM(AF20+AF44+AF68+AF92+AF116)/5","v":0},0,0,0,0,0,18.690000000000001,22.51,"WD Ave",1500,{"$f":"SUM(AP20+AP44+AP68+AP92+AP116)/5","v":0.8},1.8,79.400000000000006,86.8,5,0,0,0.2,0,0,0,0.6,4,36.4,85.8,42.4,5.2,0.2,0,0,0,0,0,{"$f":"SUM(BM20+BM44+BM68+BM92+BM116)/5","v":0},0,0,0,0,0,{"$f":"SUM(BS20+BS44+BS68+BS92+BS116)/5","v":0.6},0,0,0,0,0,18.12,21.64,"WD Ave",1500,{"$f":"SUM(CC20+CC44+CC68+CC92+CC116)/5","v":0.8},3,144.19999999999999,187.2,12,0.2,0,0.8,0,0,0.8,0.8,5.8,60.8,172.4,97,12.6,0.6,0,0,0,0,{"$f":"SUM(CY20+CY44+CY68+CY92+CY116)/5","v":0},0,0,0,0,0,0,0.6,0,0,0,0,0,18.399999999999999,22.14,0,1.2,64.8,100.4,7,0.2,0,0.6,0,0,0.8,0.2,175.2,0.8,1.8,79.400000000000006,86.8,5,0,0,0.2,0,0,0,0.6,174.6,0.8,3,144.19999999999999,187.2,12,0.2,0,0.8,0,0,0.8,0.8,349.79999999999995]
["WD Ave",1600,{"$f":"SUM(C21+C45+C69+C93+C117)/5","v":0.4},1.4,59.4,101.2,5.8,0,0,0.8,0,0.2,2.2000000000000002,0.2,3.4,24.8,81.400000000000006,54.2,7.6,0.2,0,0,0,0,0,{"$f":"SUM(Z21+Z45+Z69+Z93+Z117)/5","v":0},0,{"$f":"SUM(AB21+AB45+AB69+AB93+AB117)/5","v":0},0,0,0,{"$f":"SUM(AF21+AF45+AF69+AF93+AF117)/5","v":0},0,0,0,0,0,18.59,22.36,"WD Ave",1600,{"$f":"SUM(AP21+AP45+AP69+AP93+AP117)/5","v":0.6},1.4,91,97.4,3.2,0.4,0.2,0.4,0,0.2,1,0.8,3.6,44.2,95,47.6,6.2,0,0,0,0,0,0,{"$f":"SUM(BM21+BM45+BM69+BM93+BM117)/5","v":0},0,0,0,0,0,{"$f":"SUM(BS21+BS45+BS69+BS93+BS117)/5","v":0},0,0,0,0,0,17.670000000000002,21.73,"WD Ave",1600,{"$f":"SUM(CC21+CC45+CC69+CC93+CC117)/5","v":1},2.8,150.4,198.6,9,0.4,0.2,1.2,0,0.4,3.2,1,7,69,176.4,101.8,13.8,0.2,0,0,0,0,{"$f":"SUM(CY21+CY45+CY69+CY93+CY117)/5","v":0},0,0,0,0,0,0,0,0,0,0,0,0,18.100000000000001,22.01,0.4,1.4,59.4,101.2,5.8,0,0,0.8,0,0.2,2.2000000000000002,0.2,171.6,0.6,1.4,91,97.4,3.2,0.4,0.2,0.4,0,0.2,1,0.8,196.6,1,2.8,150.4,198.60000000000002,9,0.4,0.2,1.2000000000000002,0,0.4,3.2,1,368.2]
["WD Ave",1700,{"$f":"SUM(C22+C46+C70+C94+C118)/5","v":0.4},0.6,56.2,85.6,2.6,0,0,1.2,0,0,0,0.2,2.2000000000000002,12.6,67.2,55.2,8.1999999999999993,1.2,0.2,0,0,0,0,{"$f":"SUM(Z22+Z46+Z70+Z94+Z118)/5","v":0},0,{"$f":"SUM(AB22+AB46+AB70+AB94+AB118)/5","v":0},0,0,0,{"$f":"SUM(AF22+AF46+AF70+AF94+AF118)/5","v":0},0,0,0,0,0,19.62,23.53,"WD Ave",1700,{"$f":"SUM(AP22+AP46+AP70+AP94+AP118)/5","v":0},2.4,91,78.599999999999994,3.4,0.2,0,0.4,0,0,0,1.4,4.8,28.6,74.8,62.2,6.8,0.2,0,0,0,0,0,{"$f":"SUM(BM22+BM46+BM70+BM94+BM118)/5","v":0},0,0,0,0,0,{"$f":"SUM(BS22+BS46+BS70+BS94+BS118)/5","v":0},0,0,0,0,0,18.55,22.52,"WD Ave",1700,{"$f":"SUM(CC22+CC46+CC70+CC94+CC118)/5","v":0.4},3,147.19999999999999,164.2,6,0.2,0,1.6,0,0,0,1.6,7,41.2,142,117.4,15,1.4,0.2,0,0,0,{"$f":"SUM(CY22+CY46+CY70+CY94+CY118)/5","v":0},0,0,0,0,0,0,0,0,0,0,0,0,19.03,23,0.4,0.6,56.2,85.6,2.6,0,0,1.2,0,0,0,0.2,146.79999999999998,0,2.4,91,78.599999999999994,3.4,0.2,0,0.4,0,0,0,1.4,177.4,0.4,3,147.19999999999999,164.2,6,0.2,0,1.6,0,0,0,1.5999999999999999,324.2]
["WD Ave",1800,{"$f":"SUM(C23+C47+C71+C95+C119)/5","v":0},0.4,45.4,68.599999999999994,3.4,0,0,0.4,0,0,0.8,0.4,1.2,7.6,37.6,57.4,15.4,0.2,0,0,0,0,0,{"$f":"SUM(Z23+Z47+Z71+Z95+Z119)/5","v":0},0,{"$f":"SUM(AB23+AB47+AB71+AB95+AB119)/5","v":0},0,0,0,{"$f":"SUM(AF23+AF47+AF71+AF95+AF119)/5","v":0},0,0,0,0,0,20.82,24.82,"WD Ave",1800,{"$f":"SUM(AP23+AP47+AP71+AP95+AP119)/5","v":0},1,60.2,62.8,1.4,0,0,0.6,0,0,0,0.6,2.8,21.8,55.6,39.200000000000003,7,0.2,0,0,0,0,0,{"$f":"SUM(BM23+BM47+BM71+BM95+BM119)/5","v":0},0,0,0,0,0,{"$f":"SUM(BS23+BS47+BS71+BS95+BS119)/5","v":0},0,0,0,0,0,18.579999999999998,22.83,"WD Ave",1800,{"$f":"SUM(CC23+CC47+CC71+CC95+CC119)/5","v":0},1.4,105.6,131.4,4.8,0,0,1,0,0,0.8,1,4,29.4,93.2,96.6,22.4,0.4,0,0,0,0,{"$f":"SUM(CY23+CY47+CY71+CY95+CY119)/5","v":0},0,0,0,0,0,0,0,0,0,0,0,0,19.670000000000002,23.84,0,0.4,45.4,68.599999999999994,3.4,0,0,0.4,0,0,0.8,0.4,119.4,0,1,60.2,62.8,1.4,0,0,0.6,0,0,0,0.6,126.6,0,1.4,105.6,131.39999999999998,4.8,0,0,1,0,0,0.8,1,246]
["WD Ave",1900,{"$f":"SUM(C24+C48+C72+C96+C120)/5","v":0.2},1.8,25.2,52.8,1.4,0,0,0.2,0,0,0.4,0.2,0,4.4000000000000004,24.6,41.8,11.2,0.2,0,0,0,0,0,{"$f":"SUM(Z24+Z48+Z72+Z96+Z120)/5","v":0},0,{"$f":"SUM(AB24+AB48+AB72+AB96+AB120)/5","v":0},0,0,0,{"$f":"SUM(AF24+AF48+AF72+AF96+AF120)/5","v":0},0,0,0,0,0,21.2,24.89,"WD Ave",1900,{"$f":"SUM(AP24+AP48+AP72+AP96+AP120)/5","v":0.2},1.6,43.6,39.799999999999997,2.2000000000000002,0,0,0,0.2,0,0,0.4,2.4,13.6,29.4,36.799999999999997,5,0.8,0,0,0,0,0,{"$f":"SUM(BM24+BM48+BM72+BM96+BM120)/5","v":0},0,0,0,0,0,{"$f":"SUM(BS24+BS48+BS72+BS96+BS120)/5","v":0},0,0,0,0,0,19.190000000000001,23.52,"WD Ave",1900,{"$f":"SUM(CC24+CC48+CC72+CC96+CC120)/5","v":0.4},3.4,68.8,92.6,3.6,0,0,0.2,0.2,0,0.4,0.6,2.4,18,54,78.599999999999994,16.2,1,0,0,0,0,{"$f":"SUM(CY24+CY48+CY72+CY96+CY120)/5","v":0},0,0,0,0,0,0,0,0,0,0,0,0,20.16,24.08,0.2,1.8,25.2,52.8,1.4,0,0,0.2,0,0,0.4,0.2,82.200000000000017,0.2,1.6,43.6,39.799999999999997,2.2000000000000002,0,0,0,0.2,0,0,0.4,88,0.4,3.4000000000000004,68.8,92.6,3.6,0,0,0.2,0.2,0,0.4,0.60000000000000009,170.20000000000002]
["WD Ave",2000,{"$f":"SUM(C25+C49+C73+C97+C121)/5","v":0.2},0.2,18.600000000000001,37.6,2.4,0,0,0,0,0,0,0,0.4,2.4,18.600000000000001,28,8.4,1.2,0,0,0,0,0,{"$f":"SUM(Z25+Z49+Z73+Z97+Z121)/5","v":0},0,{"$f":"SUM(AB25+AB49+AB73+AB97+AB121)/5","v":0},0,0,0,{"$f":"SUM(AF25+AF49+AF73+AF97+AF121)/5","v":0},0,0,0,0,0,21.42,25.32,"WD Ave",2000,{"$f":"SUM(AP25+AP49+AP73+AP97+AP121)/5","v":0},0.2,29.4,29.6,1.4,0,0,0.4,0,0,0,0.2,0.8,5.8,23.2,26,5.2,0.2,0,0,0,0,0,{"$f":"SUM(BM25+BM49+BM73+BM97+BM121)/5","v":0},0,0,0,0,0,{"$f":"SUM(BS25+BS49+BS73+BS97+BS121)/5","v":0},0,0,0,0,0,19.96,23.73,"WD Ave",2000,{"$f":"SUM(CC25+CC49+CC73+CC97+CC121)/5","v":0.2},0.4,48,67.2,3.8,0,0,0.4,0,0,0,0.2,1.2,8.1999999999999993,41.8,54,13.6,1.4,0,0,0,0,{"$f":"SUM(CY25+CY49+CY73+CY97+CY121)/5","v":0},0,0,0,0,0,0,0,0,0,0,0,0,20.68,24.5,0.2,0.2,18.600000000000001,37.6,2.4,0,0,0,0,0,0,0,59,0,0.2,29.4,29.6,1.4,0,0,0.4,0,0,0,0.2,61.2,0.2,0.4,48,67.2,3.8,0,0,0.4,0,0,0,0.2,120.2]
["WD Ave",2100,{"$f":"SUM(C26+C50+C74+C98+C122)/5","v":0},0.4,12.2,29,1.4,0,0,0,0,0,0,0.2,0.2,2.6,12.6,19.8,6.8,1,0.2,0,0,0,0,{"$f":"SUM(Z26+Z50+Z74+Z98+Z122)/5","v":0},0,{"$f":"SUM(AB26+AB50+AB74+AB98+AB122)/5","v":0},0,0,0,{"$f":"SUM(AF26+AF50+AF74+AF98+AF122)/5","v":0},0,0,0,0,0,21.47,25.48,"WD Ave",2100,{"$f":"SUM(AP26+AP50+AP74+AP98+AP122)/5","v":0},0,22.2,19.8,0.4,0,0,0,0,0,0,0.2,1.2,3.8,16.600000000000001,16.399999999999999,3.8,0.6,0.2,0,0,0,0,{"$f":"SUM(BM26+BM50+BM74+BM98+BM122)/5","v":0},0,0,0,0,0,{"$f":"SUM(BS26+BS50+BS74+BS98+BS122)/5","v":0},0,0,0,0,0,19.850000000000001,23.75,"WD Ave",2100,{"$f":"SUM(CC26+CC50+CC74+CC98+CC122)/5","v":0},0.4,34.4,48.8,1.8,0,0,0,0,0,0,0.4,1.4,6.4,29.2,36.200000000000003,10.6,1.6,0.4,0,0,0,{"$f":"SUM(CY26+CY50+CY74+CY98+CY122)/5","v":0},0,0,0,0,0,0,0,0,0,0,0,0,20.67,24.98,0,0.4,12.2,29,1.4,0,0,0,0,0,0,0.2,43.2,0,0,22.2,19.8,0.4,0,0,0,0,0,0,0.2,42.6,0,0.4,34.4,48.8,1.7999999999999998,0,0,0,0,0,0,0.4,85.800000000000011]
["WD Ave",2200,{"$f":"SUM(C27+C51+C75+C99+C123)/5","v":0},0.4,4.8,8.1999999999999993,0,0,0,0,0,0.2,0,0,0,0,3,6.6,3,1,0,0,0,0,0,{"$f":"SUM(Z27+Z51+Z75+Z99+Z123)/5","v":0},0,{"$f":"SUM(AB27+AB51+AB75+AB99+AB123)/5","v":0},0,0,0,{"$f":"SUM(AF27+AF51+AF75+AF99+AF123)/5","v":0},0,0,0,0,0,23.36,26.94,"WD Ave",2200,{"$f":"SUM(AP27+AP51+AP75+AP99+AP123)/5","v":0},0.8,10.199999999999999,9.1999999999999993,0,0,0,0,0,0,0,0,0,0.6,2.6,11.2,4.8,1,0,0,0,0,0,{"$f":"SUM(BM27+BM51+BM75+BM99+BM123)/5","v":0},0,0,0,0,0,{"$f":"SUM(BS27+BS51+BS75+BS99+BS123)/5","v":0},0,0,0,0,0,23.22,26.94,"WD Ave",2200,{"$f":"SUM(CC27+CC51+CC75+CC99+CC123)/5","v":0},1.2,15,17.399999999999999,0,0,0,0,0,0.2,0,0,0,0.6,5.6,17.8,7.8,2,0,0,0,0,{"$f":"SUM(CY27+CY51+CY75+CY99+CY123)/5","v":0},0,0,0,0,0,0,0,0,0,0,0,0,23.28,26.95,0,0.4,4.8,8.1999999999999993,0,0,0,0,0,0.2,0,0,13.599999999999998,0,0.8,10.199999999999999,9.1999999999999993,0,0,0,0,0,0,0,0,20.2,0,1.2000000000000002,15,17.399999999999999,0,0,0,0,0,0.2,0,0,33.799999999999997]
["WD Ave",2300,{"$f":"SUM(C28+C52+C76+C100+C124)/5","v":0},0.2,2,2.4,0,0,0,0.2,0,0,0,0,0,0.2,1,2,1.4,0.2,0,0,0,0,0,{"$f":"SUM(Z28+Z52+Z76+Z100+Z124)/5","v":0},0,{"$f":"SUM(AB28+AB52+AB76+AB100+AB124)/5","v":0},0,0,0,{"$f":"SUM(AF28+AF52+AF76+AF100+AF124)/5","v":0},0,0,0,0,0,22.9,26.83,"WD Ave",2300,{"$f":"SUM(AP28+AP52+AP76+AP100+AP124)/5","v":0},0.2,5.4,3.4,0,0,0,0,0,0,0,0,0,0,2.6,4,2,0.4,0,0,0,0,0,{"$f":"SUM(BM28+BM52+BM76+BM100+BM124)/5","v":0},0,0,0,0,0,{"$f":"SUM(BS28+BS52+BS76+BS100+BS124)/5","v":0},0,0,0,0,0,22.67,26.36,"WD Ave",2300,{"$f":"SUM(CC28+CC52+CC76+CC100+CC124)/5","v":0},0.4,7.4,5.8,0,0,0,0.2,0,0,0,0,0,0.2,3.6,6,3.4,0.6,0,0,0,0,{"$f":"SUM(CY28+CY52+CY76+CY100+CY124)/5","v":0},0,0,0,0,0,0,0,0,0,0,0,0,22.75,26.66,0,0.2,2,2.4,0,0,0,0.2,0,0,0,0,4.8,0,0.2,5.4,3.4,0,0,0,0,0,0,0,0,9,0,0.4,7.4,5.8,0,0,0,0.2,0,0,0,0,13.8]
["7 Day Ave",0,{"$f":"SUM(C5+C29+C53+C77+C101+C125+C149)/7","v":0},0,1.2857142857142858,1.5714285714285714,0,0,0,0,0,0,0,0,{"$f":"SUM(O5+O29+O53+O77+O101+O125+O149)/7","v":0},0,0.7142857142857143,0.7142857142857143,1.2857142857142858,0,{"$f":"SUM(U5+U29+U53+U77+U101+U125+U149)/7","v":0},{"$f":"SUM(V5+V29+V53+V77+V101+V125+V149)/7","v":0.14285714285714285},0,0,0,{"$f":"SUM(Z5+Z29+Z53+Z77+Z101+Z125+Z149)/7","v":0},{"$f":"SUM(AA5+AA29+AA53+AA77+AA101+AA125+AA149)/7","v":0},{"$f":"SUM(AB5+AB29+AB53+AB77+AB101+AB125+AB149)/7","v":0},0,0,0,{"$f":"SUM(AF5+AF29+AF53+AF77+AF101+AF125+AF149)/7","v":0},0,0,0,0,0,24.4,26.95,"7 Day Ave",0,{"$f":"SUM(AP5+AP29+AP53+AP77+AP101+AP125+AP149)/7","v":0},0,1.1428571428571428,1.4285714285714286,0,0,0,0,0,0,0,0,0,0,0.42857142857142855,1.5714285714285714,0.42857142857142855,0.14285714285714285,0,0,0,{"$f":"SUM(BK5+BK29+BK53+BK77+BK101+BK125+BK149)/7","v":0},0,0,0,0,0,{"$f":"SUM(BQ5+BQ29+BQ53+BQ77+BQ101+BQ125+BQ149)/7","v":0},0,0,0,0,0,0,0,22.76,26.44,"7 Day Ave",0,{"$f":"SUM(CC5+CC29+CC53+CC77+CC101+CC125+CC149)/7","v":0},0,2.4285714285714284,3,0,0,0,0,0,0,0,0,0,0,1.1428571428571428,2.2857142857142856,{"$f":"SUM(CS5+CS29+CS53+CS77+CS101+CS125+CS149)/7","v":1.7142857142857142},0.14285714285714285,0,0.14285714285714285,0,0,{"$f":"SUM(CY5+CY29+CY53+CY77+CY101+CY125+CY149)/7","v":0},0,0,0,0,0,0,0,0,0,0,0,0,23.62,26.7,{"$f":"SUM(C197)","v":0},{"$f":"SUM(D197)","v":0},{"$f":"SUM(E197)","v":1.2857142857142858},{"$f":"SUM(F197)","v":1.5714285714285714},{"$f":"SUM(G197)","v":0},{"$f":"SUM(H197)","v":0},{"$f":"SUM(I197)","v":0},{"$f":"SUM(J197)","v":0},{"$f":"SUM(K197)","v":0},{"$f":"SUM(L197)","v":0},{"$f":"SUM(M197)","v":0},{"$f":"SUM(N197)","v":0},{"$f":"SUM(C197:N197)","v":2.8571428571428572},{"$f":"SUM(AP197)","v":0},{"$f":"SUM(AQ197)","v":0},{"$f":"SUM(AR197)","v":1.1428571428571428},{"$f":"SUM(AS197)","v":1.4285714285714286},{"$f":"SUM(AT197)","v":0},{"$f":"SUM(AU197)","v":0},{"$f":"SUM(AV197)","v":0},{"$f":"SUM(AW197)","v":0},{"$f":"SUM(AX197)","v":0},{"$f":"SUM(AY197)","v":0},{"$f":"SUM(AZ197)","v":0},{"$f":"SUM(BA197)","v":0},{"$f":"SUM(AP197:BA197)","v":2.5714285714285712},{"$f":"SUM(DN197+EA197)","v":0},{"$f":"SUM(DO197+EB197)","v":0},{"$f":"SUM(DP197+EC197)","v":2.4285714285714288},{"$f":"SUM(DQ197+ED197)","v":3},{"$f":"SUM(DR197+EE197)","v":0},{"$f":"SUM(DS197+EF197)","v":0},{"$f":"SUM(DT197+EG197)","v":0},{"$f":"SUM(DU197+EH197)","v":0},{"$f":"SUM(DV197+EI197)","v":0},{"$f":"SUM(DW197+EJ197)","v":0},{"$f":"SUM(DX197+EK197)","v":0},{"$f":"SUM(DY197+EL197)","v":0},{"$f":"SUM(DZ197+EM197)","v":5.4285714285714288}]
["7 Day Ave",100,{"$f":"SUM(C6+C30+C54+C78+C102+C126+C150)/7","v":0},0.14285714285714285,0.8571428571428571,0.42857142857142855,0,0,0,0,0,0,0,0,{"$f":"SUM(O6+O30+O54+O78+O102+O126+O150)/7","v":0},0,0.14285714285714285,0.7142857142857143,0.42857142857142855,0.14285714285714285,0,0,0,0,0,{"$f":"SUM(Z6+Z30+Z54+Z78+Z102+Z126+Z150)/7","v":0},0,{"$f":"SUM(AB6+AB30+AB54+AB78+AB102+AB126+AB150)/7","v":0},0,0,0,{"$f":"SUM(AF6+AF30+AF54+AF78+AF102+AF126+AF150)/7","v":0},0,0,0,0,0,24.16,26.11,"7 Day Ave",100,{"$f":"SUM(AP6+AP30+AP54+AP78+AP102+AP126+AP150)/7","v":0},0,0.42857142857142855,0.5714285714285714,0.14285714285714285,0,0,0,0,0,0,0,0,0,0,0.7142857142857143,0.2857142857142857,0.14285714285714285,0,0,0,{"$f":"SUM(BK6+BK30+BK54+BK78+BK102+BK126+BK150)/7","v":0},0,0,0,0,0,{"$f":"SUM(BQ6+BQ30+BQ54+BQ78+BQ102+BQ126+BQ150)/7","v":0},0,0,0,0,0,0,0,24.88,"-","7 Day Ave",100,{"$f":"SUM(CC6+CC30+CC54+CC78+CC102+CC126+CC150)/7","v":0},0.14285714285714285,1.2857142857142858,1,0.14285714285714285,0,0,0,0,0,0,0,0,0,0.14285714285714285,1.4285714285714286,0.7142857142857143,0.2857142857142857,0,0,0,0,{"$f":"SUM(CY6+CY30+CY54+CY78+CY102+CY126+CY150)/7","v":0},0,0,0,0,0,0,0,0,0,0,0,0,24.48,26.56,0,0.14285714285714285,0.8571428571428571,0.42857142857142855,0,0,0,0,0,0,0,0,1.4285714285714286,0,0,0.42857142857142855,0.5714285714285714,0.14285714285714285,0,0,0,0,0,0,0,1.1428571428571428,0,0.14285714285714285,1.2857142857142856,1,0.14285714285714285,0,0,0,0,0,0,0,2.5714285714285712]
["7 Day Ave",200,{"$f":"SUM(C7+C31+C55+C79+C103+C127+C151)/7","v":0},0,0,0.2857142857142857,0,0,0,0,0,0,0,0,0,0,0,0.14285714285714285,0.14285714285714285,0,0,0,0,0,0,{"$f":"SUM(Z7+Z31+Z55+Z79+Z103+Z127+Z151)/7","v":0},0,{"$f":"SUM(AB7+AB31+AB55+AB79+AB103+AB127+AB151)/7","v":0},0,0,0,{"$f":"SUM(AF7+AF31+AF55+AF79+AF103+AF127+AF151)/7","v":0},0,0,0,0,0,23.6,"-","7 Day Ave",200,{"$f":"SUM(AP7+AP31+AP55+AP79+AP103+AP127+AP151)/7","v":0},0,0.42857142857142855,0.5714285714285714,0,0,0,0,0,0,0,0,0,0,0.14285714285714285,0.7142857142857143,0,0.14285714285714285,0,0,0,{"$f":"SUM(BK7+BK31+BK55+BK79+BK103+BK127+BK151)/7","v":0},0,0,0,0,0,{"$f":"SUM(BQ7+BQ31+BQ55+BQ79+BQ103+BQ127+BQ151)/7","v":0},0,0,0,0,0,0,0,22.62,"-","7 Day Ave",200,{"$f":"SUM(CC7+CC31+CC55+CC79+CC103+CC127+CC151)/7","v":0},0,0.42857142857142855,0.8571428571428571,0,0,0,0,0,0,0,0,0,0,0.14285714285714285,0.8571428571428571,0.14285714285714285,0.14285714285714285,0,0,0,0,{"$f":"SUM(CY7+CY31+CY55+CY79+CY103+CY127+CY151)/7","v":0},0,0,0,0,0,0,0,0,0,0,0,0,22.83,"-",0,0,0,0.2857142857142857,0,0,0,0,0,0,0,0,0.2857142857142857,0,0,0.42857142857142855,0.5714285714285714,0,0,0,0,0,0,0,0,1,0,0,0.42857142857142855,0.8571428571428571,0,0,0,0,0,0,0,0,1.2857142857142856]
["7 Day Ave",300,{"$f":"SUM(C8+C32+C56+C80+C104+C128+C152)/7","v":0},0,0.2857142857142857,0.14285714285714285,0.42857142857142855,0,0,0,0,0,0,0,0,0,0,0.14285714285714285,0.5714285714285714,0.14285714285714285,0,0,0,0,0,{"$f":"SUM(Z8+Z32+Z56+Z80+Z104+Z128+Z152)/7","v":0},0,{"$f":"SUM(AB8+AB32+AB56+AB80+AB104+AB128+AB152)/7","v":0},0,0,0,{"$f":"SUM(AF8+AF32+AF56+AF80+AF104+AF128+AF152)/7","v":0},0,0,0,0,0,28.11,"-","7 Day Ave",300,{"$f":"SUM(AP8+AP32+AP56+AP80+AP104+AP128+AP152)/7","v":0},0,0,0.14285714285714285,0.42857142857142855,0,0,0,0,0,0,0,0,0,0,0.5714285714285714,0,0,0,0,0,{"$f":"SUM(BK8+BK32+BK56+BK80+BK104+BK128+BK152)/7","v":0},0,0,0,0,0,{"$f":"SUM(BQ8+BQ32+BQ56+BQ80+BQ104+BQ128+BQ152)/7","v":0},0,0,0,0,0,0,0,22.49,"-","7 Day Ave",300,{"$f":"SUM(CC8+CC32+CC56+CC80+CC104+CC128+CC152)/7","v":0},0,0.2857142857142857,0.2857142857142857,0.8571428571428571,0,0,0,0,0,0,0,0,0,0,0.7142857142857143,0.5714285714285714,0.14285714285714285,0,0,0,0,{"$f":"SUM(CY8+CY32+CY56+CY80+CY104+CY128+CY152)/7","v":0},0,0,0,0,0,0,0,0,0,0,0,0,25.86,29.19,0,0,0.2857142857142857,0.14285714285714285,0.42857142857142855,0,0,0,0,0,0,0,0.8571428571428571,0,0,0,0.14285714285714285,0.42857142857142855,0,0,0,0,0,0,0,0.5714285714285714,0,0,0.2857142857142857,0.2857142857142857,0.8571428571428571,0,0,0,0,0,0,0,1.4285714285714284]
["7 Day Ave",400,{"$f":"SUM(C9+C33+C57+C81+C105+C129+C153)/7","v":0},0,0.7142857142857143,1.2857142857142858,0.5714285714285714,0,0,0,0,0,0,0,0,0,0.2857142857142857,0.8571428571428571,1.4285714285714286,0,0,0,0,0,0,{"$f":"SUM(Z9+Z33+Z57+Z81+Z105+Z129+Z153)/7","v":0},0,{"$f":"SUM(AB9+AB33+AB57+AB81+AB105+AB129+AB153)/7","v":0},0,0,0,{"$f":"SUM(AF9+AF33+AF57+AF81+AF105+AF129+AF153)/7","v":0},0,0,0,0,0,24.48,26.68,"7 Day Ave",400,{"$f":"SUM(AP9+AP33+AP57+AP81+AP105+AP129+AP153)/7","v":0},0,0.14285714285714285,1.7142857142857142,0.42857142857142855,0,0,0,0,0,0,0,0,0,1.1428571428571428,0.8571428571428571,0.2857142857142857,0,0,0,0,{"$f":"SUM(BK9+BK33+BK57+BK81+BK105+BK129+BK153)/7","v":0},0,0,0,0,0,{"$f":"SUM(BQ9+BQ33+BQ57+BQ81+BQ105+BQ129+BQ153)/7","v":0},0,0,0,0,0,0,0,20.36,22.93,"7 Day Ave",400,{"$f":"SUM(CC9+CC33+CC57+CC81+CC105+CC129+CC153)/7","v":0},0,0.8571428571428571,3,1,0,0,0,0,0,0,0,0,0,1.4285714285714286,1.7142857142857142,1.7142857142857142,0,0,0,0,0,{"$f":"SUM(CY9+CY33+CY57+CY81+CY105+CY129+CY153)/7","v":0},0,0,0,0,0,0,0,0,0,0,0,0,22.54,26.05,0,0,0.7142857142857143,1.2857142857142858,0.5714285714285714,0,0,0,0,0,0,0,2.5714285714285712,0,0,0.14285714285714285,1.7142857142857142,0.42857142857142855,0,0,0,0,0,0,0,2.2857142857142856,0,0,0.85714285714285721,3,1,0,0,0,0,0,0,0,4.8571428571428568]
["7 Day Ave",500,{"$f":"SUM(C10+C34+C58+C82+C106+C130+C154)/7","v":0},0,4.1428571428571432,7.1428571428571432,0.2857142857142857,0,0,0,0,0,0,0,0,0,1.8571428571428572,5.1428571428571432,4,0.5714285714285714,0,0,0,0,0,{"$f":"SUM(Z10+Z34+Z58+Z82+Z106+Z130+Z154)/7","v":0},0,{"$f":"SUM(AB10+AB34+AB58+AB82+AB106+AB130+AB154)/7","v":0},0,0,0,{"$f":"SUM(AF10+AF34+AF58+AF82+AF106+AF130+AF154)/7","v":0},0,0,0,0,0,23.98,28.06,"7 Day Ave",500,{"$f":"SUM(AP10+AP34+AP58+AP82+AP106+AP130+AP154)/7","v":0},0,2.2857142857142856,1.7142857142857142,0.14285714285714285,0,0,0,0,0,0,0.14285714285714285,0.14285714285714285,0.42857142857142855,2,1.1428571428571428,0.5714285714285714,0,0,0,0,{"$f":"SUM(BK10+BK34+BK58+BK82+BK106+BK130+BK154)/7","v":0},0,0,0,0,0,{"$f":"SUM(BQ10+BQ34+BQ58+BQ82+BQ106+BQ130+BQ154)/7","v":0},0,0,0,0,0,0,0,19.41,23,"7 Day Ave",500,{"$f":"SUM(CC10+CC34+CC58+CC82+CC106+CC130+CC154)/7","v":0},0,6.4285714285714288,8.8571428571428577,0.42857142857142855,0,0,0,0,0,0,0.14285714285714285,0.14285714285714285,0.42857142857142855,3.8571428571428572,6.2857142857142856,4.5714285714285712,0.5714285714285714,0,0,0,0,{"$f":"SUM(CY10+CY34+CY58+CY82+CY106+CY130+CY154)/7","v":0},0,0,0,0,0,0,0,0,0,0,0,0,22.75,27.01,0,0,4.1428571428571432,7.1428571428571432,0.2857142857142857,0,0,0,0,0,0,0,11.571428571428573,0,0,2.2857142857142856,1.7142857142857142,0.14285714285714285,0,0,0,0,0,0,0.14285714285714285,4.2857142857142865,0,0,6.4285714285714288,8.8571428571428577,0.42857142857142855,0,0,0,0,0,0,0.14285714285714285,15.857142857142859]
["7 Day Ave",600,{"$f":"SUM(C11+C35+C59+C83+C107+C131+C155)/7","v":0},0.2857142857142857,14.857142857142858,19.142857142857142,1.7142857142857142,0.14285714285714285,0,0.14285714285714285,0,0,0,0,0,0.5714285714285714,5.7142857142857144,15.714285714285714,11.857142857142858,2.4285714285714284,0,0,0,0,0,{"$f":"SUM(Z11+Z35+Z59+Z83+Z107+Z131+Z155)/7","v":0},0,{"$f":"SUM(AB11+AB35+AB59+AB83+AB107+AB131+AB155)/7","v":0},0,0,0,{"$f":"SUM(AF11+AF35+AF59+AF83+AF107+AF131+AF155)/7","v":0},0,0,0,0,0,23.96,28.12,"7 Day Ave",600,{"$f":"SUM(AP11+AP35+AP59+AP83+AP107+AP131+AP155)/7","v":0},0.14285714285714285,4.4285714285714288,6.2857142857142856,1.2857142857142858,0.2857142857142857,0,0,0,0,0,0.14285714285714285,0,0.8571428571428571,4.1428571428571432,5.7142857142857144,1.8571428571428572,0,0,0,0,{"$f":"SUM(BK11+BK35+BK59+BK83+BK107+BK131+BK155)/7","v":0},0,0,0,0,0,{"$f":"SUM(BQ11+BQ35+BQ59+BQ83+BQ107+BQ131+BQ155)/7","v":0},0,0,0,0,0,0,0,20.86,24.89,"7 Day Ave",600,{"$f":"SUM(CC11+CC35+CC59+CC83+CC107+CC131+CC155)/7","v":0},0.42857142857142855,19.285714285714285,25.428571428571427,3,0.42857142857142855,0,0.14285714285714285,0,0,0,0.14285714285714285,0,1.4285714285714286,9.8571428571428577,21.428571428571427,13.714285714285714,2.4285714285714284,0,0,0,0,{"$f":"SUM(CY11+CY35+CY59+CY83+CY107+CY131+CY155)/7","v":0},0,0,0,0,0,0,0,0,0,0,0,0,23.16,27.56,0,0.2857142857142857,14.857142857142858,19.142857142857142,1.7142857142857142,0.14285714285714285,0,0.14285714285714285,0,0,0,0,36.285714285714292,0,0.14285714285714285,4.4285714285714288,6.2857142857142856,1.2857142857142858,0.2857142857142857,0,0,0,0,0,0.14285714285714285,12.571428571428573,0,0.42857142857142855,19.285714285714285,25.428571428571427,3,0.42857142857142855,0,0.14285714285714285,0,0,0,0.14285714285714285,48.857142857142861]
["7 Day Ave",700,{"$f":"SUM(C12+C36+C60+C84+C108+C132+C156)/7","v":0.2857142857142857},0.8571428571428571,35.857142857142854,59.142857142857146,3.8571428571428572,0.5714285714285714,0,0.5714285714285714,0,0,0.7142857142857143,0.14285714285714285,0.2857142857142857,3,23.428571428571427,53.285714285714285,20.285714285714285,1.7142857142857142,0,0,0,0,0,{"$f":"SUM(Z12+Z36+Z60+Z84+Z108+Z132+Z156)/7","v":0},0,{"$f":"SUM(AB12+AB36+AB60+AB84+AB108+AB132+AB156)/7","v":0},0,0,0,{"$f":"SUM(AF12+AF36+AF60+AF84+AF108+AF132+AF156)/7","v":0},0,0,0,0,0,22.28,26.23,"7 Day Ave",700,{"$f":"SUM(AP12+AP36+AP60+AP84+AP108+AP132+AP156)/7","v":0.42857142857142855},0.14285714285714285,23.428571428571427,31.714285714285715,3.7142857142857144,0.14285714285714285,0.14285714285714285,0.14285714285714285,0,0,0.5714285714285714,0.14285714285714285,1.5714285714285714,6.7142857142857144,21.142857142857142,25.285714285714285,5.5714285714285712,0.2857142857142857,0,0,0,{"$f":"SUM(BK12+BK36+BK60+BK84+BK108+BK132+BK156)/7","v":0},0,0,0,0,0,{"$f":"SUM(BQ12+BQ36+BQ60+BQ84+BQ108+BQ132+BQ156)/7","v":0},0,0,0,0,0,0,0,19.8,24.24,"7 Day Ave",700,{"$f":"SUM(CC12+CC36+CC60+CC84+CC108+CC132+CC156)/7","v":0.7142857142857143},1,59.285714285714285,90.857142857142861,7.5714285714285712,0.7142857142857143,0.14285714285714285,0.7142857142857143,0,0,1.2857142857142858,0.2857142857142857,1.8571428571428572,9.7142857142857135,44.571428571428569,78.571428571428569,25.857142857142858,2,0,0,0,0,{"$f":"SUM(CY12+CY36+CY60+CY84+CY108+CY132+CY156)/7","v":0},0,0,0,0,0,0,0,0,0,0,0,0,21.35,25.26,0.2857142857142857,0.8571428571428571,35.857142857142854,59.142857142857146,3.8571428571428572,0.5714285714285714,0,0.5714285714285714,0,0,0.7142857142857143,0.14285714285714285,101.99999999999999,0.42857142857142855,0.14285714285714285,23.428571428571427,31.714285714285715,3.7142857142857144,0.14285714285714285,0.14285714285714285,0.14285714285714285,0,0,0.5714285714285714,0.14285714285714285,60.571428571428584,0.71428571428571419,1,59.285714285714278,90.857142857142861,7.5714285714285712,0.71428571428571419,0.14285714285714285,0.71428571428571419,0,0,1.2857142857142856,0.2857142857142857,162.57142857142856]
["7 Day Ave",800,{"$f":"SUM(C13+C37+C61+C85+C109+C133+C157)/7","v":0.42857142857142855},2.5714285714285716,49.285714285714285,81.714285714285708,6.7142857142857144,0,0,1.1428571428571428,0,0,1.7142857142857142,0.42857142857142855,1,10.142857142857142,47.428571428571431,70.285714285714292,14.857142857142858,0.14285714285714285,0.14285714285714285,0,0,0,0,{"$f":"SUM(Z13+Z37+Z61+Z85+Z109+Z133+Z157)/7","v":0},0,{"$f":"SUM(AB13+AB37+AB61+AB85+AB109+AB133+AB157)/7","v":0},0,0,0,{"$f":"SUM(AF13+AF37+AF61+AF85+AF109+AF133+AF157)/7","v":0},0,0,0,0,0,20.53,24.33,"7 Day Ave",800,{"$f":"SUM(AP13+AP37+AP61+AP85+AP109+AP133+AP157)/7","v":0.42857142857142855},0.8571428571428571,45.285714285714285,57.571428571428569,5,0.5714285714285714,0.14285714285714285,1.4285714285714286,0,0,0.8571428571428571,0.7142857142857143,2.2857142857142856,19.428571428571427,47.142857142857146,39.142857142857146,4.5714285714285712,0.2857142857142857,0,0,0,{"$f":"SUM(BK13+BK37+BK61+BK85+BK109+BK133+BK157)/7","v":0},0,0,0,0,0,{"$f":"SUM(BQ13+BQ37+BQ61+BQ85+BQ109+BQ133+BQ157)/7","v":0},0,0,0,0,0,0,0,18.66,22.89,"7 Day Ave",800,{"$f":"SUM(CC13+CC37+CC61+CC85+CC109+CC133+CC157)/7","v":0.8571428571428571},3.4285714285714284,94.571428571428569,139.28571428571428,11.714285714285714,0.5714285714285714,0.14285714285714285,2.5714285714285716,0,0,2.5714285714285716,1.1428571428571428,3.2857142857142856,29.571428571428573,94.571428571428569,109.42857142857143,19.428571428571427,0.42857142857142855,0.14285714285714285,0,0,0,{"$f":"SUM(CY13+CY37+CY61+CY85+CY109+CY133+CY157)/7","v":0},0,0,0,0,0,0,0,0,0,0,0,0,19.71,23.77,0.42857142857142855,2.5714285714285716,49.285714285714285,81.714285714285708,6.7142857142857144,0,0,1.1428571428571428,0,0,1.7142857142857142,0.42857142857142855,144,0.42857142857142855,0.8571428571428571,45.285714285714285,57.571428571428569,5,0.5714285714285714,0.14285714285714285,1.4285714285714286,0,0,0.8571428571428571,0.7142857142857143,112.85714285714285,0.8571428571428571,3.4285714285714288,94.571428571428569,139.28571428571428,11.714285714285715,0.5714285714285714,0.14285714285714285,2.5714285714285712,0,0,2.5714285714285712,1.1428571428571428,256.85714285714283]
["7 Day Ave",900,{"$f":"SUM(C14+C38+C62+C86+C110+C134+C158)/7","v":0.14285714285714285},0.42857142857142855,60.571428571428569,87.571428571428569,5.7142857142857144,0.42857142857142855,0,0.42857142857142855,0,0.42857142857142855,0.7142857142857143,0.2857142857142857,1.7142857142857142,15.857142857142858,74.857142857142861,54.714285714285715,9.1428571428571423,0.42857142857142855,0,0,0,0,0,{"$f":"SUM(Z14+Z38+Z62+Z86+Z110+Z134+Z158)/7","v":0},0,{"$f":"SUM(AB14+AB38+AB62+AB86+AB110+AB134+AB158)/7","v":0},0,0,0,{"$f":"SUM(AF14+AF38+AF62+AF86+AF110+AF134+AF158)/7","v":0},0,0,0,0,0,19.260000000000002,23.09,"7 Day Ave",900,{"$f":"SUM(AP14+AP38+AP62+AP86+AP110+AP134+AP158)/7","v":0.2857142857142857},0.14285714285714285,53.714285714285715,72.428571428571431,5.5714285714285712,0.2857142857142857,0,0.42857142857142855,0,0,0.5714285714285714,0.5714285714285714,2.5714285714285716,25.571428571428573,62.428571428571431,38.857142857142854,4.4285714285714288,0.14285714285714285,0,0,0,{"$f":"SUM(BK14+BK38+BK62+BK86+BK110+BK134+BK158)/7","v":0},0,0,0,0,0,{"$f":"SUM(BQ14+BQ38+BQ62+BQ86+BQ110+BQ134+BQ158)/7","v":0},0,0,0,0,0,0,0,18.25,21.97,"7 Day Ave",900,{"$f":"SUM(CC14+CC38+CC62+CC86+CC110+CC134+CC158)/7","v":0.42857142857142855},0.5714285714285714,114.28571428571429,160,11.285714285714286,0.7142857142857143,0,0.8571428571428571,0,0.42857142857142855,1.2857142857142858,0.8571428571428571,4.2857142857142856,41.428571428571431,137.28571428571428,93.571428571428569,13.571428571428571,0.5714285714285714,0,0,0,0,{"$f":"SUM(CY14+CY38+CY62+CY86+CY110+CY134+CY158)/7","v":0},0,0,0,0,0,0,0,0,0,0,0,0,18.79,22.58,0.14285714285714285,0.42857142857142855,60.571428571428569,87.571428571428569,5.7142857142857144,0.42857142857142855,0,0.42857142857142855,0,0.42857142857142855,0.7142857142857143,0.2857142857142857,156.71428571428569,0.2857142857142857,0.14285714285714285,53.714285714285715,72.428571428571431,5.5714285714285712,0.2857142857142857,0,0.42857142857142855,0,0,0.5714285714285714,0.5714285714285714,134.00000000000003,0.42857142857142855,0.5714285714285714,114.28571428571428,160,11.285714285714285,0.71428571428571419,0,0.8571428571428571,0,0.42857142857142855,1.2857142857142856,0.8571428571428571,290.71428571428572]
["7 Day Ave",1000,{"$f":"SUM(C15+C39+C63+C87+C111+C135+C159)/7","v":0.42857142857142855},0.8571428571428571,60.857142857142854,91,8.1428571428571423,0.5714285714285714,0,0.5714285714285714,0,0.14285714285714285,1.7142857142857142,0,2.2857142857142856,23,83.714285714285708,48.714285714285715,6.4285714285714288,0.14285714285714285,0,0,0,0,0,{"$f":"SUM(Z15+Z39+Z63+Z87+Z111+Z135+Z159)/7","v":0},0,{"$f":"SUM(AB15+AB39+AB63+AB87+AB111+AB135+AB159)/7","v":0},0,0,0,{"$f":"SUM(AF15+AF39+AF63+AF87+AF111+AF135+AF159)/7","v":0},0,0,0,0,0,18.510000000000002,22.06,"7 Day Ave",1000,{"$f":"SUM(AP15+AP39+AP63+AP87+AP111+AP135+AP159)/7","v":0},0.7142857142857143,62.142857142857146,76.714285714285708,5.4285714285714288,1.4285714285714286,0,0.42857142857142855,0,0.14285714285714285,0.5714285714285714,0.2857142857142857,2.2857142857142856,39.714285714285715,67.142857142857139,34.571428571428569,4,0.14285714285714285,0,0,0,{"$f":"SUM(BK15+BK39+BK63+BK87+BK111+BK135+BK159)/7","v":0},0,0,0,0,0,{"$f":"SUM(BQ15+BQ39+BQ63+BQ87+BQ111+BQ135+BQ159)/7","v":0},0,0,0,0,0,0,0,17.41,21.21,"7 Day Ave",1000,{"$f":"SUM(CC15+CC39+CC63+CC87+CC111+CC135+CC159)/7","v":0.42857142857142855},1.5714285714285714,123,167.71428571428572,13.571428571428571,2,0,1,0,0.2857142857142857,2.2857142857142856,0.2857142857142857,4.5714285714285712,62.714285714285715,150.85714285714286,83.285714285714292,10.428571428571429,0.2857142857142857,0,0,0,0,{"$f":"SUM(CY15+CY39+CY63+CY87+CY111+CY135+CY159)/7","v":0},0,0,0,0,0,0,0,0,0,0,0,0,17.989999999999998,21.72,0.42857142857142855,0.8571428571428571,60.857142857142854,91,8.1428571428571423,0.5714285714285714,0,0.5714285714285714,0,0.14285714285714285,1.7142857142857142,0,164.28571428571431,0,0.7142857142857143,62.142857142857146,76.714285714285708,5.4285714285714288,1.4285714285714286,0,0.42857142857142855,0,0.14285714285714285,0.5714285714285714,0.2857142857142857,147.8571428571428,0.42857142857142855,1.5714285714285714,123,167.71428571428572,13.571428571428571,2,0,1,0,0.2857142857142857,2.2857142857142856,0.2857142857142857,312.14285714285711]
["7 Day Ave",1100,{"$f":"SUM(C16+C40+C64+C88+C112+C136+C160)/7","v":0.2857142857142857},1.8571428571428572,62.714285714285715,96,5.1428571428571432,0.5714285714285714,0,0.42857142857142855,0,0,0.42857142857142855,0.42857142857142855,3.4285714285714284,35.428571428571431,81.571428571428569,41.428571428571431,5.4285714285714288,0.42857142857142855,0.14285714285714285,0,0,0,0,{"$f":"SUM(Z16+Z40+Z64+Z88+Z112+Z136+Z160)/7","v":0},0,{"$f":"SUM(AB16+AB40+AB64+AB88+AB112+AB136+AB160)/7","v":0},0,0,0,{"$f":"SUM(AF16+AF40+AF64+AF88+AF112+AF136+AF160)/7","v":0},0,0,0,0,0,17.93,21.99,"7 Day Ave",1100,{"$f":"SUM(AP16+AP40+AP64+AP88+AP112+AP136+AP160)/7","v":0.2857142857142857},1.5714285714285714,68.428571428571431,69.571428571428569,5.7142857142857144,0,0.14285714285714285,0,0,0,0.5714285714285714,0.42857142857142855,5,39.857142857142854,69.285714285714292,29.714285714285715,2.8571428571428572,0,0,0,0,{"$f":"SUM(BK16+BK40+BK64+BK88+BK112+BK136+BK160)/7","v":0},0,0,0,0,0,{"$f":"SUM(BQ16+BQ40+BQ64+BQ88+BQ112+BQ136+BQ160)/7","v":0},0,0,0,0,0,0,0,17.04,20.95,"7 Day Ave",1100,{"$f":"SUM(CC16+CC40+CC64+CC88+CC112+CC136+CC160)/7","v":0.5714285714285714},3.4285714285714284,131.14285714285714,165.57142857142858,10.857142857142858,0.5714285714285714,0.14285714285714285,0.42857142857142855,0,0,1,0.8571428571428571,8.4285714285714288,75.285714285714292,150.85714285714286,71.142857142857139,8.2857142857142865,0.42857142857142855,0.14285714285714285,0,0,0,{"$f":"SUM(CY16+CY40+CY64+CY88+CY112+CY136+CY160)/7","v":0},0,0,0,0,0,0,0,0,0,0,0,0,17.510000000000002,21.55,0.2857142857142857,1.8571428571428572,62.714285714285715,96,5.1428571428571432,0.5714285714285714,0,0.42857142857142855,0,0,0.42857142857142855,0.42857142857142855,167.85714285714283,0.2857142857142857,1.5714285714285714,68.428571428571431,69.571428571428569,5.7142857142857144,0,0.14285714285714285,0,0,0,0.5714285714285714,0.42857142857142855,146.71428571428572,0.5714285714285714,3.4285714285714288,131.14285714285714,165.57142857142856,10.857142857142858,0.5714285714285714,0.14285714285714285,0.42857142857142855,0,0,1,0.8571428571428571,314.57142857142856]
["7 Day Ave",1200,{"$f":"SUM(C17+C41+C65+C89+C113+C137+C161)/7","v":0.14285714285714285},1.7142857142857142,64.857142857142861,92.714285714285708,4.1428571428571432,0.42857142857142855,0,0.7142857142857143,0,0.14285714285714285,0.7142857142857143,0.5714285714285714,2.5714285714285716,25.857142857142858,81.571428571428569,48.714285714285715,7.2857142857142856,0.14285714285714285,0,0,0,0,0,{"$f":"SUM(Z17+Z41+Z65+Z89+Z113+Z137+Z161)/7","v":0},0,{"$f":"SUM(AB17+AB41+AB65+AB89+AB113+AB137+AB161)/7","v":0},0,0,0,{"$f":"SUM(AF17+AF41+AF65+AF89+AF113+AF137+AF161)/7","v":0},0,0,0,0,0,18.55,22.22,"7 Day Ave",1200,{"$f":"SUM(AP17+AP41+AP65+AP89+AP113+AP137+AP161)/7","v":0.2857142857142857},2.5714285714285716,69.571428571428569,68.857142857142861,4.2857142857142856,0.7142857142857143,0.2857142857142857,0.5714285714285714,0,0.14285714285714285,0.2857142857142857,0.42857142857142855,3.4285714285714284,32.714285714285715,65,41.571428571428569,5.1428571428571432,0.14285714285714285,0,0,0,{"$f":"SUM(BK17+BK41+BK65+BK89+BK113+BK137+BK161)/7","v":0},0,0,0,0,0,{"$f":"SUM(BQ17+BQ41+BQ65+BQ89+BQ113+BQ137+BQ161)/7","v":0},0,0,0,0,0,0,0,17.940000000000001,22,"7 Day Ave",1200,{"$f":"SUM(CC17+CC41+CC65+CC89+CC113+CC137+CC161)/7","v":0.42857142857142855},4.2857142857142856,134.42857142857142,161.57142857142858,8.4285714285714288,1.1428571428571428,0.2857142857142857,1.2857142857142858,0,0.2857142857142857,1,1,6,58.571428571428569,146.57142857142858,90.285714285714292,12.428571428571429,0.2857142857142857,0,0,0,0,{"$f":"SUM(CY17+CY41+CY65+CY89+CY113+CY137+CY161)/7","v":0},0,0,0,0,0,0,0,0,0,0,0,0,18.260000000000002,22.15,0.14285714285714285,1.7142857142857142,64.857142857142861,92.714285714285708,4.1428571428571432,0.42857142857142855,0,0.7142857142857143,0,0.14285714285714285,0.7142857142857143,0.5714285714285714,166.14285714285717,0.2857142857142857,2.5714285714285716,69.571428571428569,68.857142857142861,4.2857142857142856,0.7142857142857143,0.2857142857142857,0.5714285714285714,0,0.14285714285714285,0.2857142857142857,0.42857142857142855,147.99999999999997,0.42857142857142855,4.2857142857142856,134.42857142857144,161.57142857142856,8.4285714285714288,1.1428571428571428,0.2857142857142857,1.2857142857142856,0,0.2857142857142857,1,1,314.14285714285711]
["7 Day Ave",1300,{"$f":"SUM(C18+C42+C66+C90+C114+C138+C162)/7","v":0.2857142857142857},2.7142857142857144,54,85.142857142857139,4.4285714285714288,0.14285714285714285,0.14285714285714285,0.5714285714285714,0,0.14285714285714285,0.7142857142857143,0.2857142857142857,1.2857142857142858,18.428571428571427,67,{"$f":"SUM(R18+R42+R66+R90+R114+R138+R162)/7","v":53.142857142857146},{"$f":"SUM(S18+S42+S66+S90+S114+S138+S162)/7","v":8.2857142857142865},{"$f":"SUM(T18+T42+T66+T90+T114+T138+T162)/7","v":0.42857142857142855},0,0,{"$f":"SUM(W18+W42+W66+W90+W114+W138+W162)/7","v":0},{"$f":"SUM(X18+X42+X66+X90+X114+X138+X162)/7","v":0},{"$f":"SUM(Y18+Y42+Y66+Y90+Y114+Y138+Y162)/7","v":0},{"$f":"SUM(Z18+Z42+Z66+Z90+Z114+Z138+Z162)/7","v":0},0,{"$f":"SUM(AB18+AB42+AB66+AB90+AB114+AB138+AB162)/7","v":0},{"$f":"SUM(AC18+AC42+AC66+AC90+AC114+AC138+AC162)/7","v":0},{"$f":"SUM(AD18+AD42+AD66+AD90+AD114+AD138+AD162)/7","v":0},{"$f":"SUM(AE18+AE42+AE66+AE90+AE114+AE138+AE162)/7","v":0},{"$f":"SUM(AF18+AF42+AF66+AF90+AF114+AF138+AF162)/7","v":0},0,0,0,{"$f":"SUM(AJ18+AJ42+AJ66+AJ90+AJ114+AJ138+AJ162)/7","v":0},{"$f":"SUM(AK18+AK42+AK66+AK90+AK114+AK138+AK162)/7","v":0},19.16,22.87,"7 Day Ave",1300,{"$f":"SUM(AP18+AP42+AP66+AP90+AP114+AP138+AP162)/7","v":0.2857142857142857},1.4285714285714286,57.571428571428569,62.142857142857146,4.1428571428571432,0,0.14285714285714285,0.2857142857142857,0,0.14285714285714285,0,0.14285714285714285,2.1428571428571428,26.428571428571427,60,34,3.5714285714285716,0,0.14285714285714285,0,0,{"$f":"SUM(BK18+BK42+BK66+BK90+BK114+BK138+BK162)/7","v":0},0,0,0,0,0,{"$f":"SUM(BQ18+BQ42+BQ66+BQ90+BQ114+BQ138+BQ162)/7","v":0},0,0,0,0,0,0,0,17.989999999999998,21.89,"7 Day Ave",1300,{"$f":"SUM(CC18+CC42+CC66+CC90+CC114+CC138+CC162)/7","v":0.5714285714285714},4.1428571428571432,111.57142857142857,147.28571428571428,8.5714285714285712,0.14285714285714285,0.2857142857142857,0.8571428571428571,0,0.2857142857142857,0.7142857142857143,0.42857142857142855,3.4285714285714284,44.857142857142854,127,87.142857142857139,11.857142857142858,0.42857142857142855,0.14285714285714285,0,0,0,{"$f":"SUM(CY18+CY42+CY66+CY90+CY114+CY138+CY162)/7","v":0},0,0,0,0,0,0,0,0,0,0,0,0,18.62,22.53,0.2857142857142857,2.7142857142857144,54,85.142857142857139,4.4285714285714288,0.14285714285714285,0.14285714285714285,0.5714285714285714,0,0.14285714285714285,0.7142857142857143,0.2857142857142857,148.57142857142856,0.2857142857142857,1.4285714285714286,57.571428571428569,62.142857142857146,4.1428571428571432,0,0.14285714285714285,0.2857142857142857,0,0.14285714285714285,0,0.14285714285714285,126.28571428571428,0.5714285714285714,4.1428571428571432,111.57142857142857,147.28571428571428,8.571428571428573,0.14285714285714285,0.2857142857142857,0.8571428571428571,0,0.2857142857142857,0.7142857142857143,0.42857142857142855,274.85714285714283]
["7 Day Ave",1400,{"$f":"SUM(C19+C43+C67+C91+C115+C139+C163)/7","v":0.42857142857142855},2.8571428571428572,50,83.285714285714292,5.5714285714285712,0.14285714285714285,0,0.7142857142857143,0,0,0.42857142857142855,0.14285714285714285,{"$f":"SUM(O19+O43+O67+O91+O115+O139+O163)/7","v":1},21.714285714285715,69.428571428571431,44.714285714285715,6.2857142857142856,0.42857142857142855,0,0,0,0,0,{"$f":"SUM(Z19+Z43+Z67+Z91+Z115+Z139+Z163)/7","v":0},0,{"$f":"SUM(AB19+AB43+AB67+AB91+AB115+AB139+AB163)/7","v":0},0,0,0,{"$f":"SUM(AF19+AF43+AF67+AF91+AF115+AF139+AF163)/7","v":0},0,0,0,0,0,18.7,22.59,"7 Day Ave",1400,{"$f":"SUM(AP19+AP43+AP67+AP91+AP115+AP139+AP163)/7","v":0},2,64.142857142857139,63.428571428571431,2.5714285714285716,0.42857142857142855,0.14285714285714285,0.42857142857142855,0,0,0,0.7142857142857143,3.8571428571428572,27.714285714285715,63,36,3.1428571428571428,0.14285714285714285,0,0,0,{"$f":"SUM(BK19+BK43+BK67+BK91+BK115+BK139+BK163)/7","v":0},0,0,0,0,0,{"$f":"SUM(BQ19+BQ43+BQ67+BQ91+BQ115+BQ139+BQ163)/7","v":0},0,0,0,0,0,0,0,17.75,21.52,"7 Day Ave",1400,{"$f":"SUM(CC19+CC43+CC67+CC91+CC115+CC139+CC163)/7","v":0.42857142857142855},4.8571428571428568,114.14285714285714,146.71428571428572,8.1428571428571423,0.5714285714285714,0.14285714285714285,1.1428571428571428,0,0,0.42857142857142855,0.8571428571428571,4.8571428571428568,49.428571428571431,132.42857142857142,80.714285714285708,9.4285714285714288,0.5714285714285714,0,0,0,0,{"$f":"SUM(CY19+CY43+CY67+CY91+CY115+CY139+CY163)/7","v":0},0,0,0,0,0,0,0,0,0,0,0,0,18.239999999999998,22.08,0.42857142857142855,2.8571428571428572,50,83.285714285714292,5.5714285714285712,0.14285714285714285,0,0.7142857142857143,0,0,0.42857142857142855,0.14285714285714285,143.57142857142858,0,2,64.142857142857139,63.428571428571431,2.5714285714285716,0.42857142857142855,0.14285714285714285,0.42857142857142855,0,0,0,0.7142857142857143,133.85714285714283,0.42857142857142855,4.8571428571428577,114.14285714285714,146.71428571428572,8.1428571428571423,0.5714285714285714,0.14285714285714285,1.1428571428571428,0,0,0.42857142857142855,0.85714285714285721,277.42857142857144]
["7 Day Ave",1500,{"$f":"SUM(C20+C44+C68+C92+C116+C140+C164)/7","v":0},1.4285714285714286,58,88.714285714285708,5,0.14285714285714285,0.14285714285714285,0.5714285714285714,0,0,0.5714285714285714,0.14285714285714285,2.1428571428571428,20.142857142857142,72,52.142857142857146,7.5714285714285712,0.7142857142857143,0,0,0,0,0,{"$f":"SUM(Z20+Z44+Z68+Z92+Z116+Z140+Z164)/7","v":0},0,{"$f":"SUM(AB20+AB44+AB68+AB92+AB116+AB140+AB164)/7","v":0},0,0,0,{"$f":"SUM(AF20+AF44+AF68+AF92+AF116+AF140+AF164)/7","v":0},0,0,0,0,0,18.89,22.76,"7 Day Ave",1500,{"$f":"SUM(AP20+AP44+AP68+AP92+AP116+AP140+AP164)/7","v":0.7142857142857143},2.2857142857142856,73.142857142857139,76.714285714285708,4,0,0.14285714285714285,0.42857142857142855,0,0,0,0.5714285714285714,3,32.714285714285715,77.714285714285708,38.428571428571431,5.2857142857142856,0.42857142857142855,0,0,0,{"$f":"SUM(BK20+BK44+BK68+BK92+BK116+BK140+BK164)/7","v":0},0,0,0,0,0,{"$f":"SUM(BQ20+BQ44+BQ68+BQ92+BQ116+BQ140+BQ164)/7","v":0},0,0.42857142857142855,0,0,0,0,0,18.149999999999999,21.71,"7 Day Ave",1500,{"$f":"SUM(CC20+CC44+CC68+CC92+CC116+CC140+CC164)/7","v":0.7142857142857143},3.7142857142857144,131.14285714285714,165.42857142857142,9,0.14285714285714285,0.2857142857142857,1,0,0,0.5714285714285714,0.7142857142857143,5.1428571428571432,52.857142857142854,149.71428571428572,90.571428571428569,12.857142857142858,1.1428571428571428,0,0,0,0,{"$f":"SUM(CY20+CY44+CY68+CY92+CY116+CY140+CY164)/7","v":0},0,0,0,0,0,0,0.42857142857142855,0,0,0,0,0,18.52,22.34,0,1.4285714285714286,58,88.714285714285708,5,0.14285714285714285,0.14285714285714285,0.5714285714285714,0,0,0.5714285714285714,0.14285714285714285,154.71428571428572,0.7142857142857143,2.2857142857142856,73.142857142857139,76.714285714285708,4,0,0.14285714285714285,0.42857142857142855,0,0,0,0.5714285714285714,157.99999999999997,0.7142857142857143,3.7142857142857144,131.14285714285714,165.42857142857142,9,0.14285714285714285,0.2857142857142857,1,0,0,0.5714285714285714,0.71428571428571419,312.71428571428567]
["7 Day Ave",1600,{"$f":"SUM(C21+C45+C69+C93+C117+C141+C165)/7","v":0.2857142857142857},2,51.571428571428569,91.571428571428569,5.1428571428571432,0,0,0.7142857142857143,0,0.14285714285714285,1.5714285714285714,0.14285714285714285,2.5714285714285716,19.857142857142858,67.142857142857139,53.857142857142854,9.1428571428571423,0.5714285714285714,0,0,0,0,0,{"$f":"SUM(Z21+Z45+Z69+Z93+Z117+Z141+Z165)/7","v":0},0,{"$f":"SUM(AB21+AB45+AB69+AB93+AB117+AB141+AB165)/7","v":0},0,0,0,{"$f":"SUM(AF21+AF45+AF69+AF93+AF117+AF141+AF165)/7","v":0},0,0,0,0,0,19.05,23,"7 Day Ave",1600,{"$f":"SUM(AP21+AP45+AP69+AP93+AP117+AP141+AP165)/7","v":0.42857142857142855},1.2857142857142858,82.571428571428569,87.857142857142861,2.4285714285714284,0.2857142857142857,0.14285714285714285,0.5714285714285714,0,0.14285714285714285,0.7142857142857143,0.5714285714285714,3.1428571428571428,36.571428571428569,83.857142857142861,47.285714285714285,6.1428571428571432,0,0,0,0,{"$f":"SUM(BK21+BK45+BK69+BK93+BK117+BK141+BK165)/7","v":0},0,0,0,0,0,{"$f":"SUM(BQ21+BQ45+BQ69+BQ93+BQ117+BQ141+BQ165)/7","v":0},0,0,0,0,0,0,0,17.940000000000001,21.96,"7 Day Ave",1600,{"$f":"SUM(CC21+CC45+CC69+CC93+CC117+CC141+CC165)/7","v":0.7142857142857143},3.2857142857142856,134.14285714285714,179.42857142857142,7.5714285714285712,0.2857142857142857,0.14285714285714285,1.2857142857142858,0,0.2857142857142857,2.2857142857142856,0.7142857142857143,5.7142857142857144,56.428571428571431,151,101.14285714285714,15.285714285714286,0.5714285714285714,0,0,0,0,{"$f":"SUM(CY21+CY45+CY69+CY93+CY117+CY141+CY165)/7","v":0},0,0,0,0,0,0,0,0,0,0,0,0,18.46,22.48,0.2857142857142857,2,51.571428571428569,91.571428571428569,5.1428571428571432,0,0,0.7142857142857143,0,0.14285714285714285,1.5714285714285714,0.14285714285714285,153.14285714285714,0.42857142857142855,1.2857142857142858,82.571428571428569,87.857142857142861,2.4285714285714284,0.2857142857142857,0.14285714285714285,0.5714285714285714,0,0.14285714285714285,0.7142857142857143,0.5714285714285714,177,0.71428571428571419,3.2857142857142856,134.14285714285714,179.42857142857144,7.5714285714285712,0.2857142857142857,0.14285714285714285,1.2857142857142856,0,0.2857142857142857,2.2857142857142856,0.71428571428571419,330.14285714285711]
["7 Day Ave",1700,{"$f":"SUM(C22+C46+C70+C94+C118+C142+C166)/7","v":0.2857142857142857},0.8571428571428571,51.285714285714285,78,2,0,0,1.1428571428571428,0,0,0,0.2857142857142857,1.8571428571428572,10.857142857142858,56.428571428571431,54.857142857142854,8.8571428571428577,0.8571428571428571,0.14285714285714285,0,0,0,0,{"$f":"SUM(Z22+Z46+Z70+Z94+Z118+Z142+Z166)/7","v":0},0,{"$f":"SUM(AB22+AB46+AB70+AB94+AB118+AB142+AB166)/7","v":0},0,0,0,{"$f":"SUM(AF22+AF46+AF70+AF94+AF118+AF142+AF166)/7","v":0},0,0,0,0,0,19.89,23.69,"7 Day Ave",1700,{"$f":"SUM(AP22+AP46+AP70+AP94+AP118+AP142+AP166)/7","v":0},2.4285714285714284,81.285714285714292,71.857142857142861,2.8571428571428572,0.14285714285714285,0,0.2857142857142857,0,0,0,1.1428571428571428,4.5714285714285712,25.714285714285715,66.285714285714292,56.571428571428569,6.5714285714285712,0.2857142857142857,0,0,0,{"$f":"SUM(BK22+BK46+BK70+BK94+BK118+BK142+BK166)/7","v":0},0,0,0,0,0,{"$f":"SUM(BQ22+BQ46+BQ70+BQ94+BQ118+BQ142+BQ166)/7","v":0},0,0,0,0,0,0,0,18.61,22.65,"7 Day Ave",1700,{"$f":"SUM(CC22+CC46+CC70+CC94+CC118+CC142+CC166)/7","v":0.2857142857142857},3.2857142857142856,132.57142857142858,149.85714285714286,4.8571428571428568,0.14285714285714285,0,1.4285714285714286,0,0,0,1.4285714285714286,6.4285714285714288,36.571428571428569,122.71428571428571,111.42857142857143,15.428571428571429,1.1428571428571428,0.14285714285714285,0,0,0,{"$f":"SUM(CY22+CY46+CY70+CY94+CY118+CY142+CY166)/7","v":0},0,0,0,0,0,0,0,0,0,0,0,0,19.190000000000001,23.19,0.2857142857142857,0.8571428571428571,51.285714285714285,78,2,0,0,1.1428571428571428,0,0,0,0.2857142857142857,133.85714285714286,0,2.4285714285714284,81.285714285714292,71.857142857142861,2.8571428571428572,0.14285714285714285,0,0.2857142857142857,0,0,0,1.1428571428571428,160,0.2857142857142857,3.2857142857142856,132.57142857142858,149.85714285714286,4.8571428571428577,0.14285714285714285,0,1.4285714285714284,0,0,0,1.4285714285714284,293.85714285714289]
["7 Day Ave",1800,{"$f":"SUM(C23+C47+C71+C95+C119+C143+C167)/7","v":0},0.8571428571428571,40.142857142857146,65.857142857142861,3.5714285714285716,0,0,0.2857142857142857,0,0.14285714285714285,0.5714285714285714,0.2857142857142857,1,6.7142857142857144,32.714285714285715,56.285714285714285,14.571428571428571,0.42857142857142855,0,0,0,0,0,{"$f":"SUM(Z23+Z47+Z71+Z95+Z119+Z143+Z167)/7","v":0},0,{"$f":"SUM(AB23+AB47+AB71+AB95+AB119+AB143+AB167)/7","v":0},0,0,0,{"$f":"SUM(AF23+AF47+AF71+AF95+AF119+AF143+AF167)/7","v":0},0,0,0,0,0,20.96,24.82,"7 Day Ave",1800,{"$f":"SUM(AP23+AP47+AP71+AP95+AP119+AP143+AP167)/7","v":0},1,54.714285714285715,59.285714285714285,1.4285714285714286,0,0,0.5714285714285714,0,0,0,0.42857142857142855,2.8571428571428572,19.857142857142858,51.714285714285715,36.571428571428569,6.2857142857142856,0.14285714285714285,0,0,0,{"$f":"SUM(BK23+BK47+BK71+BK95+BK119+BK143+BK167)/7","v":0},0,0,0,0,0,{"$f":"SUM(BQ23+BQ47+BQ71+BQ95+BQ119+BQ143+BQ167)/7","v":0},0,0,0,0,0,0,0,18.57,22.75,"7 Day Ave",1800,{"$f":"SUM(CC23+CC47+CC71+CC95+CC119+CC143+CC167)/7","v":0},1.8571428571428572,94.857142857142861,125.14285714285714,5,0,0,0.8571428571428571,0,0.14285714285714285,0.5714285714285714,0.7142857142857143,3.8571428571428572,26.571428571428573,84.428571428571431,92.857142857142861,20.857142857142858,0.5714285714285714,0,0,0,0,{"$f":"SUM(CY23+CY47+CY71+CY95+CY119+CY143+CY167)/7","v":0},0,0,0,0,0,0,0,0,0,0,0,0,19.73,23.86,0,0.8571428571428571,40.142857142857146,65.857142857142861,3.5714285714285716,0,0,0.2857142857142857,0,0.14285714285714285,0.5714285714285714,0.2857142857142857,111.71428571428572,0,1,54.714285714285715,59.285714285714285,1.4285714285714286,0,0,0.5714285714285714,0,0,0,0.42857142857142855,117.42857142857143,0,1.8571428571428572,94.857142857142861,125.14285714285714,5,0,0,0.8571428571428571,0,0.14285714285714285,0.5714285714285714,0.71428571428571419,229.14285714285717]
["7 Day Ave",1900,{"$f":"SUM(C24+C48+C72+C96+C120+C144+C168)/7","v":0.14285714285714285},1.4285714285714286,26.714285714285715,51.857142857142854,1.5714285714285714,0,0,0.14285714285714285,0,0,0.2857142857142857,0.14285714285714285,0,4.8571428571428568,23.142857142857142,41.285714285714285,12.571428571428571,0.42857142857142855,0,0,0,0,0,{"$f":"SUM(Z24+Z48+Z72+Z96+Z120+Z144+Z168)/7","v":0},0,{"$f":"SUM(AB24+AB48+AB72+AB96+AB120+AB144+AB168)/7","v":0},0,0,0,{"$f":"SUM(AF24+AF48+AF72+AF96+AF120+AF144+AF168)/7","v":0},0,0,0,0,0,21.33,25.13,"7 Day Ave",1900,{"$f":"SUM(AP24+AP48+AP72+AP96+AP120+AP144+AP168)/7","v":0.14285714285714285},1.2857142857142858,43.714285714285715,40.142857142857146,1.7142857142857142,0,0,0,0.14285714285714285,0,0,0.42857142857142855,2,12.571428571428571,31.285714285714285,36,5,0.7142857142857143,0,0,0,{"$f":"SUM(BK24+BK48+BK72+BK96+BK120+BK144+BK168)/7","v":0},0,0,0,0,0,{"$f":"SUM(BQ24+BQ48+BQ72+BQ96+BQ120+BQ144+BQ168)/7","v":0},0,0,0,0,0,0,0,19.239999999999998,23.45,"7 Day Ave",1900,{"$f":"SUM(CC24+CC48+CC72+CC96+CC120+CC144+CC168)/7","v":0.2857142857142857},2.7142857142857144,70.428571428571431,92,3.2857142857142856,0,0,0.14285714285714285,0.14285714285714285,0,0.2857142857142857,0.5714285714285714,2,17.428571428571427,54.428571428571431,77.285714285714292,17.571428571428573,1.1428571428571428,0,0,0,0,{"$f":"SUM(CY24+CY48+CY72+CY96+CY120+CY144+CY168)/7","v":0},0,0,0,0,0,0,0,0,0,0,0,0,20.25,24.24,0.14285714285714285,1.4285714285714286,26.714285714285715,51.857142857142854,1.5714285714285714,0,0,0.14285714285714285,0,0,0.2857142857142857,0.14285714285714285,82.285714285714278,0.14285714285714285,1.2857142857142858,43.714285714285715,40.142857142857146,1.7142857142857142,0,0,0,0.14285714285714285,0,0,0.42857142857142855,87.571428571428569,0.2857142857142857,2.7142857142857144,70.428571428571431,92,3.2857142857142856,0,0,0.14285714285714285,0.14285714285714285,0,0.2857142857142857,0.5714285714285714,169.85714285714283]
["7 Day Ave",2000,{"$f":"SUM(C25+C49+C73+C97+C121+C145+C169)/7","v":0.14285714285714285},0.7142857142857143,18.857142857142858,34.428571428571431,2,0,0,0,0,0,0,0,0.8571428571428571,2,17.857142857142858,26.428571428571427,8,1,0,0,0,0,0,{"$f":"SUM(Z25+Z49+Z73+Z97+Z121+Z145+Z169)/7","v":0},0,{"$f":"SUM(AB25+AB49+AB73+AB97+AB121+AB145+AB169)/7","v":0},0,0,0,{"$f":"SUM(AF25+AF49+AF73+AF97+AF121+AF145+AF169)/7","v":0},0,0,0,0,0,21.28,25.11,"7 Day Ave",2000,{"$f":"SUM(AP25+AP49+AP73+AP97+AP121+AP145+AP169)/7","v":0},0.42857142857142855,29.571428571428573,26.571428571428573,1,0,0,0.2857142857142857,0,0,0,0.14285714285714285,0.5714285714285714,6.4285714285714288,21,24.428571428571427,5.4285714285714288,0.14285714285714285,0,0,0,{"$f":"SUM(BK25+BK49+BK73+BK97+BK121+BK145+BK169)/7","v":0},0,0,0,0,0,{"$f":"SUM(BQ25+BQ49+BQ73+BQ97+BQ121+BQ145+BQ169)/7","v":0},0,0,0,0,0,0,0,19.899999999999999,23.81,"7 Day Ave",2000,{"$f":"SUM(CC25+CC49+CC73+CC97+CC121+CC145+CC169)/7","v":0.14285714285714285},1.1428571428571428,48.428571428571431,61,3,0,0,0.2857142857142857,0,0,0,0.14285714285714285,1.4285714285714286,8.4285714285714288,38.857142857142854,50.857142857142854,13.428571428571429,1.1428571428571428,0,0,0,0,{"$f":"SUM(CY25+CY49+CY73+CY97+CY121+CY145+CY169)/7","v":0},0,0,0,0,0,0,0,0,0,0,0,0,20.58,24.57,0.14285714285714285,0.7142857142857143,18.857142857142858,34.428571428571431,2,0,0,0,0,0,0,0,56.142857142857146,0,0.42857142857142855,29.571428571428573,26.571428571428573,1,0,0,0.2857142857142857,0,0,0,0.14285714285714285,58,0.14285714285714285,1.1428571428571428,48.428571428571431,61,3,0,0,0.2857142857142857,0,0,0,0.14285714285714285,114.14285714285714]
["7 Day Ave",2100,{"$f":"SUM(C26+C50+C74+C98+C122+C146+C170)/7","v":0},0.2857142857142857,12.428571428571429,27.142857142857142,1,0,0,0,0,0,0,0.14285714285714285,0.2857142857142857,2,11.571428571428571,18.714285714285715,7,1.2857142857142858,0.14285714285714285,0,0,0,0,{"$f":"SUM(Z26+Z50+Z74+Z98+Z122+Z146+Z170)/7","v":0},0,{"$f":"SUM(AB26+AB50+AB74+AB98+AB122+AB146+AB170)/7","v":0},0,0,0,{"$f":"SUM(AF26+AF50+AF74+AF98+AF122+AF146+AF170)/7","v":0},0,0,0,0,0,21.71,25.79,"7 Day Ave",2100,{"$f":"SUM(AP26+AP50+AP74+AP98+AP122+AP146+AP170)/7","v":0},0.2857142857142857,22.285714285714285,18.714285714285715,0.2857142857142857,0,0,0,0,0,0,0.2857142857142857,1,3.1428571428571428,15.285714285714286,17.714285714285715,3.7142857142857144,0.7142857142857143,0.14285714285714285,0.14285714285714285,0,{"$f":"SUM(BK26+BK50+BK74+BK98+BK122+BK146+BK170)/7","v":0},0,0,0,0,0,{"$f":"SUM(BQ26+BQ50+BQ74+BQ98+BQ122+BQ146+BQ170)/7","v":0},0,0,0,0,0,0,0,20.190000000000001,23.92,"7 Day Ave",2100,{"$f":"SUM(CC26+CC50+CC74+CC98+CC122+CC146+CC170)/7","v":0},0.5714285714285714,34.714285714285715,45.857142857142854,1.2857142857142858,0,0,0,0,0,0,0.42857142857142855,1.2857142857142858,5.1428571428571432,26.857142857142858,36.428571428571431,10.714285714285714,2,0.2857142857142857,0.14285714285714285,0,0,{"$f":"SUM(CY26+CY50+CY74+CY98+CY122+CY146+CY170)/7","v":0},0,0,0,0,0,0,0,0,0,0,0,0,20.94,25.15,0,0.2857142857142857,12.428571428571429,27.142857142857142,1,0,0,0,0,0,0,0.14285714285714285,41.000000000000007,0,0.2857142857142857,22.285714285714285,18.714285714285715,0.2857142857142857,0,0,0,0,0,0,0.2857142857142857,41.857142857142854,0,0.5714285714285714,34.714285714285715,45.857142857142861,1.2857142857142856,0,0,0,0,0,0,0.42857142857142855,82.857142857142861]
["7 Day Ave",2200,{"$f":"SUM(C27+C51+C75+C99+C123+C147+C171)/7","v":0},0.42857142857142855,5.5714285714285712,7.7142857142857144,0,0,0,0,0,0.14285714285714285,0,0,0,0.14285714285714285,3.1428571428571428,6.5714285714285712,3.2857142857142856,0.7142857142857143,0,0,0,0,0,{"$f":"SUM(Z27+Z51+Z75+Z99+Z123+Z147+Z171)/7","v":0},0,{"$f":"SUM(AB27+AB51+AB75+AB99+AB123+AB147+AB171)/7","v":0},0,0,0,{"$f":"SUM(AF27+AF51+AF75+AF99+AF123+AF147+AF171)/7","v":0},0,0,0,0,0,23,27.05,"7 Day Ave",2200,{"$f":"SUM(AP27+AP51+AP75+AP99+AP123+AP147+AP171)/7","v":0},1,10.857142857142858,8.2857142857142865,0,0,0,0,0,0,0,0,0,0.5714285714285714,3.5714285714285716,10.571428571428571,4.5714285714285712,0.8571428571428571,0,0,0,{"$f":"SUM(BK27+BK51+BK75+BK99+BK123+BK147+BK171)/7","v":0},0,0,0,0,0,{"$f":"SUM(BQ27+BQ51+BQ75+BQ99+BQ123+BQ147+BQ171)/7","v":0},0,0,0,0,0,0,0,22.9,26.69,"7 Day Ave",2200,{"$f":"SUM(CC27+CC51+CC75+CC99+CC123+CC147+CC171)/7","v":0},1.4285714285714286,16.428571428571427,16,0,0,0,0,0,0.14285714285714285,0,0,0,0.7142857142857143,6.7142857142857144,17.142857142857142,7.8571428571428568,1.5714285714285714,0,0,0,0,{"$f":"SUM(CY27+CY51+CY75+CY99+CY123+CY147+CY171)/7","v":0},0,0,0,0,0,0,0,0,0,0,0,0,22.94,26.91,0,0.42857142857142855,5.5714285714285712,7.7142857142857144,0,0,0,0,0,0.14285714285714285,0,0,13.857142857142858,0,1,10.857142857142858,8.2857142857142865,0,0,0,0,0,0,0,0,20.142857142857146,0,1.4285714285714286,16.428571428571431,16,0,0,0,0,0,0.14285714285714285,0,0,34]
["7 Day Ave",2300,{"$f":"SUM(C28+C52+C76+C100+C124+C148+C172)/7","v":0},0.14285714285714285,1.7142857142857142,2.4285714285714284,0,0,0,0.14285714285714285,0,0,0,0,0,0.14285714285714285,1.1428571428571428,1.5714285714285714,1.4285714285714286,0.14285714285714285,0,0,0,0,0,{"$f":"SUM(Z28+Z52+Z76+Z100+Z124+Z148+Z172)/7","v":0},0,{"$f":"SUM(AB28+AB52+AB76+AB100+AB124+AB148+AB172)/7","v":0},0,0,0,{"$f":"SUM(AF28+AF52+AF76+AF100+AF124+AF148+AF172)/7","v":0},0,0,0,0,0,22.84,26.91,"7 Day Ave",2300,{"$f":"SUM(AP28+AP52+AP76+AP100+AP124+AP148+AP172)/7","v":0},0.14285714285714285,4.7142857142857144,4,0,0,0,0,0,0,0,0,0,0,2.5714285714285716,4.4285714285714288,1.5714285714285714,0.2857142857142857,0,0,0,{"$f":"SUM(BK28+BK52+BK76+BK100+BK124+BK148+BK172)/7","v":0},0,0,0,0,0,{"$f":"SUM(BQ28+BQ52+BQ76+BQ100+BQ124+BQ148+BQ172)/7","v":0},0,0,0,0,0,0,0,22.27,25.85,"7 Day Ave",2300,{"$f":"SUM(CC28+CC52+CC76+CC100+CC124+CC148+CC172)/7","v":0},0.2857142857142857,6.4285714285714288,6.4285714285714288,0,0,0,0.14285714285714285,0,0,0,0,0,0.14285714285714285,3.7142857142857144,6,3,0.42857142857142855,0,0,0,0,{"$f":"SUM(CY28+CY52+CY76+CY100+CY124+CY148+CY172)/7","v":0},0,0,0,0,0,0,0,0,0,0,0,0,22.46,26.7,0,0.14285714285714285,1.7142857142857142,2.4285714285714284,0,0,0,0.14285714285714285,0,0,0,0,4.4285714285714288,0,0.14285714285714285,4.7142857142857144,4,0,0,0,0,0,0,0,0,8.8571428571428577,0,0.2857142857142857,6.4285714285714288,6.4285714285714288,0,0,0,0.14285714285714285,0,0,0,0,13.285714285714286]
[{"$f":"A2+1","v":2},null,{"$f":"C2","v":"NB"},null,null,null,null,null,null,null,null,null,null,null,null,null,null,null,null,null,null,null,null,null,null,null,null,null,null,null,null,null,null,null,null,null,null,"Speed",null,null,null,{"$f":"AP2","v":"SB"},null,null,null,null,null,null,null,null,null,null,null,null,null,null,null,null,null,null,null,null,null,null,null,null,null,null,null,null,null,null,null,null,null,null,"Speed",null,"Combined ",null,null,null,null,null,null,null,null,null,null,null,null,null,null,null,null,null,null,null,null,null,null,null,null,null,null,null,null,null,null,null,null,null,null,null,null,"Speed",null,{"$f":"+C221","v":"NB"},null,null,null,null,null,null,null,null,null,null,null,null,{"$f":"+AP221","v":"SB"},null,null,null,null,null,null,null,null,null,null,null,null,"Combined",null,null,null,null,null,null,null,null,null,null,null,null,{"$f":"+DN221","v":"NB"},null,null,null,null,null,null,{"$f":"+EA221","v":"SB"},null,null,null,null,null,null,"Combined",null,null,null,null,null,null,"Weekday Average"]
[null,null,"Vehicle Classification",null,null,null,null,null,null,null,null,null,null,null,"Vehicle Speed Bins",null,null,null,null,null,null,null,null,null,null,null,null,null,null,null,null,null,null,null,null,null,null,null,null,null,null,"Vehicle Classification",null,null,null,null,null,null,null,null,null,null,null,"Vehicle Speed Bins",null,null,null,null,null,null,null,null,null,null,null,null,null,null,null,null,null,null,null,null,null,null,null,null,null,null,"Vehicle Classification",null,null,null,null,null,null,null,null,null,null,null,"Vehicle Speed Bins",null,null,null,null,null,null,null,null,null,null,null,null,null,null,null,null,null,null,null,null,null,null,null,null,"C1",null,null,null,null,null,null,null,"C9","C10","C11","C12","Total","C1","C2","C3","C4","C5","C6","C7","C8","C9","C10","C11","C12","Total","C1","C2","C3","C4","C5","C6","C7","C8","C9","C10","C11","C12","Total",null,null,null,null,null,null,null,null,null,null,null,null,null,null,null,null,null,null,null,null,null,{"$f":"FA221","v":"NB"},{"$f":"FH221","v":"SB"},{"$f":"FO221","v":"Combined"}]
[null,null,1,2,3,4,5,6,7,8,9,10,11,12,510,1015,1520,2025,2530,3035,3540,4045,4550,5055,5560,6065,6570,7075,7580,8085,8590,9095,95100,100105,105110,110115,"115+","Ave","85%ile",null,null,1,2,3,4,5,6,7,8,9,10,11,12,510,1015,1520,2025,2530,3035,3540,4045,4550,5055,5560,6065,6570,7075,7580,8085,8590,9095,95100,100105,105110,110115,"115+","Ave","85%ile",null,null,1,2,3,4,5,6,7,8,9,10,11,12,510,1015,1520,2025,2530,3035,3540,4045,4550,5055,5560,6065,6570,7075,7580,8085,8590,9095,95100,100105,105110,110115,"115+","Ave","85%ile",null,"C2","C3","C4","C5","C6","C7","C8",null,null,null,null,null,null,null,null,null,null,null,null,null,null,null,null,null,null,null,null,null,null,null,null,null,null,null,null,null,null,null,"Mon","Tue","Wed","Thu","Fri","Sat","Sun","Mon","Tue","Wed","Thu","Fri","Sat","Sun","Mon","Tue","Wed","Thu","Fri","Sat","Sun"]
["Mon",0,0,0,0,0,0,0,0,0,0,0,0,0,0,0,0,0,0,0,0,0,0,0,0,0,0,0,0,0,0,0,0,0,0,0,0,"-","-","Mon",0,0,0,0,0,0,0,0,0,0,0,0,0,0,0,0,0,0,0,0,0,0,0,0,0,0,0,0,0,0,0,0,0,0,0,0,"-","-","Mon",0,0,0,0,0,0,0,0,0,0,0,0,0,0,0,0,0,0,0,0,0,0,0,0,0,0,0,0,0,0,0,0,0,0,0,0,"-","-",{"$f":"SUM(C224)","v":0},{"$f":"SUM(D224)","v":0},{"$f":"SUM(E224)","v":0},{"$f":"SUM(F224)","v":0},{"$f":"SUM(G224)","v":0},{"$f":"SUM(H224)","v":0},{"$f":"SUM(I224)","v":0},{"$f":"SUM(J224)","v":0},{"$f":"SUM(K224)","v":0},{"$f":"SUM(L224)","v":0},{"$f":"SUM(M224)","v":0},{"$f":"SUM(N224)","v":0},{"$f":"SUM(C224:N224)","v":0},{"$f":"SUM(AP224)","v":0},{"$f":"SUM(AQ224)","v":0},{"$f":"SUM(AR224)","v":0},{"$f":"SUM(AS224)","v":0},{"$f":"SUM(AT224)","v":0},{"$f":"SUM(AU224)","v":0},{"$f":"SUM(AV224)","v":0},{"$f":"SUM(AW224)","v":0},{"$f":"SUM(AX224)","v":0},{"$f":"SUM(AY224)","v":0},{"$f":"SUM(AZ224)","v":0},{"$f":"SUM(BA224)","v":0},{"$f":"SUM(AP224:BA224)","v":0},{"$f":"SUM(DN224+EA224)","v":0},{"$f":"SUM(DO224+EB224)","v":0},{"$f":"SUM(DP224+EC224)","v":0},{"$f":"SUM(DQ224+ED224)","v":0},{"$f":"SUM(DR224+EE224)","v":0},{"$f":"SUM(DS224+EF224)","v":0},{"$f":"SUM(DT224+EG224)","v":0},{"$f":"SUM(DU224+EH224)","v":0},{"$f":"SUM(DV224+EI224)","v":0},{"$f":"SUM(DW224+EJ224)","v":0},{"$f":"SUM(DX224+EK224)","v":0},{"$f":"SUM(DY224+EL224)","v":0},{"$f":"SUM(DZ224+EM224)","v":0},{"$f":"+DZ224","v":0},{"$f":"+DZ248","v":2},{"$f":"+DZ272","v":3},{"$f":"+DZ296","v":0},{"$f":"+DZ320","v":4},{"$f":"+DZ344","v":1},{"$f":"+DZ368","v":0},{"$f":"+EM224","v":0},{"$f":"+EM248","v":1},{"$f":"+EM272","v":1},{"$f":"+EM296","v":2},{"$f":"+EM320","v":4},{"$f":"+EM344","v":1},{"$f":"+EM368","v":0},{"$f":"SUM(FA224+FH224)","v":0},{"$f":"SUM(FB224+FI224)","v":3},{"$f":"SUM(FC224+FJ224)","v":4},{"$f":"SUM(FD224+FK224)","v":2},{"$f":"SUM(FE224+FL224)","v":8},{"$f":"SUM(FF224+FM224)","v":2},{"$f":"SUM(FG224+FN224)","v":0},{"$f":"ROUND(AVERAGE(FA224:FE224),0)","v":2},{"$f":"ROUND(AVERAGE(FH224:FL224),0)","v":2},{"$f":"ROUND(AVERAGE(FO224:FS224),0)","v":3}]
[{"$f":"+A224","v":"Mon"},100,0,0,0,0,0,0,0,0,0,0,0,0,0,0,0,0,0,0,0,0,0,0,0,0,0,0,0,0,0,0,0,0,0,0,0,"-","-","Mon",100,0,0,0,0,0,0,0,0,0,0,0,0,0,0,0,0,0,0,0,0,0,0,0,0,0,0,0,0,0,0,0,0,0,0,0,"-","-","Mon",100,0,0,0,0,0,0,0,0,0,0,0,0,0,0,0,0,0,0,0,0,0,0,0,0,0,0,0,0,0,0,0,0,0,0,0,"-","-",0,0,0,0,0,0,0,0,0,0,0,0,0,0,0,0,0,0,0,0,0,0,0,0,0,0,0,0,0,0,0,0,0,0,0,0,0,0,0,0,0,0,2,0,0,0,0,0,1,0,1,0,0,{"$f":"SUM(FA225+FH225)","v":0},0,1,2,1,0,0,{"$f":"ROUND(AVERAGE(FA225:FE225),0)","v":0},{"$f":"ROUND(AVERAGE(FH225:FL225),0)","v":0},{"$f":"ROUND(AVERAGE(FO225:FS225),0)","v":1}]
[{"$f":"+A225","v":"Mon"},200,0,0,0,0,0,0,0,0,0,0,0,0,0,0,0,0,0,0,0,0,0,0,0,0,0,0,0,0,0,0,0,0,0,0,0,"-","-","Mon",200,0,0,0,0,0,0,0,0,0,0,0,0,0,0,0,0,0,0,0,0,0,0,0,0,0,0,0,0,0,0,0,0,0,0,0,"-","-","Mon",200,0,0,0,0,0,0,0,0,0,0,0,0,0,0,0,0,0,0,0,0,0,0,0,0,0,0,0,0,0,0,0,0,0,0,0,"-","-",0,0,0,0,0,0,0,0,0,0,0,0,0,0,0,0,0,0,0,0,0,0,0,0,0,0,0,0,0,0,0,0,0,0,0,0,0,0,0,0,0,1,0,0,0,0,0,0,2,2,0,0,0,0,0,3,2,0,0,0,0,1,1]
["Mon",300,0,0,0,0,0,0,0,0,0,0,0,0,0,0,0,0,0,0,0,0,0,0,0,0,0,0,0,0,0,0,0,0,0,0,0,"-","-","Mon",300,0,0,0,0,0,0,0,0,0,0,0,0,0,0,0,0,0,0,0,0,0,0,0,0,0,0,0,0,0,0,0,0,0,0,0,"-","-","Mon",300,0,0,0,0,0,0,0,0,0,0,0,0,0,0,0,0,0,0,0,0,0,0,0,0,0,0,0,0,0,0,0,0,0,0,0,"-","-",0,0,0,0,0,0,0,0,0,0,0,0,0,0,0,0,0,0,0,0,0,0,0,0,0,0,0,0,0,0,0,0,0,0,0,0,0,0,0,0,1,0,1,1,1,0,0,0,0,0,1,1,0,0,1,0,1,2,2,0,1,0,1]
["Mon",400,0,0,0,0,0,0,0,0,0,0,0,0,0,0,0,0,0,0,0,0,0,0,0,0,0,0,0,0,0,0,0,0,0,0,0,"-","-","Mon",400,0,0,0,0,0,0,0,0,0,0,0,0,0,0,0,0,0,0,0,0,0,0,0,0,0,0,0,0,0,0,0,0,0,0,0,"-","-","Mon",400,0,0,0,0,0,0,0,0,0,0,0,0,0,0,0,0,0,0,0,0,0,0,0,0,0,0,0,0,0,0,0,0,0,0,0,"-","-",0,0,0,0,0,0,0,0,0,0,0,0,0,0,0,0,0,0,0,0,0,0,0,0,0,0,0,0,0,0,0,0,0,0,0,0,0,0,0,0,5,2,3,5,2,0,0,4,3,0,3,2,0,0,9,5,3,8,4,0,3,2,5]
["Mon",500,0,0,0,0,0,0,0,0,0,0,0,0,0,0,0,0,0,0,0,0,0,0,0,0,0,0,0,0,0,0,0,0,0,0,0,"-","-","Mon",500,0,0,0,0,0,0,0,0,0,0,0,0,0,0,0,0,0,0,0,0,0,0,0,0,0,0,0,0,0,0,0,0,0,0,0,"-","-","Mon",500,0,0,0,0,0,0,0,0,0,0,0,0,0,0,0,0,0,0,0,0,0,0,0,0,0,0,0,0,0,0,0,0,0,0,0,"-","-",0,0,0,0,0,0,0,0,0,0,0,0,0,0,0,0,0,0,0,0,0,0,0,0,0,0,0,0,0,0,0,0,0,0,0,0,0,0,0,0,15,15,12,13,6,0,0,9,5,6,5,1,0,0,24,20,18,18,7,0,11,5,16]
["Mon",600,0,0,0,0,0,0,0,0,0,0,0,0,0,0,0,0,0,0,0,0,0,0,0,0,0,0,0,0,0,0,0,0,0,0,0,"-","-","Mon",600,0,0,0,0,0,0,0,0,0,0,0,0,0,0,0,0,0,0,0,0,0,0,0,0,0,0,0,0,0,0,0,0,0,0,0,"-","-","Mon",600,0,0,0,0,0,0,0,0,0,0,0,0,0,0,0,0,0,0,0,0,0,0,0,0,0,0,0,0,0,0,0,0,0,0,0,"-","-",0,0,0,0,0,0,0,0,0,0,0,0,0,0,0,0,0,0,0,0,0,0,0,0,0,0,0,0,0,0,0,0,0,0,0,0,0,0,0,0,47,43,50,36,26,0,0,15,13,17,15,9,0,0,62,56,67,51,35,0,35,12,47]
["Mon",700,0,0,0,0,0,0,0,0,0,0,0,0,0,0,0,0,0,0,0,0,0,0,0,0,0,0,0,0,0,0,0,0,0,0,0,"-","-","Mon",700,0,0,0,0,0,0,0,0,0,0,0,0,0,0,0,0,0,0,0,0,0,0,0,0,0,0,0,0,0,0,0,0,0,0,0,"-","-","Mon",700,0,0,0,0,0,0,0,0,0,0,0,0,0,0,0,0,0,0,0,0,0,0,0,0,0,0,0,0,0,0,0,0,0,0,0,"-","-",0,0,0,0,0,0,0,0,0,0,0,0,0,0,0,0,0,0,0,0,0,0,0,0,0,0,0,0,0,0,0,0,0,0,0,0,0,0,0,0,148,119,124,125,50,0,0,82,64,79,58,45,0,0,230,183,203,183,95,0,103,57,160]
["Mon",800,0,0,0,0,0,0,0,0,0,0,0,0,0,0,0,0,0,0,0,0,0,0,0,0,0,0,0,0,0,0,0,0,0,0,0,"-","-","Mon",800,0,0,0,0,0,0,0,0,0,0,0,0,0,0,0,0,0,0,0,0,0,0,0,0,0,0,0,0,0,0,0,0,0,0,0,"-","-","Mon",800,0,0,0,0,0,0,0,0,0,0,0,0,0,0,0,0,0,0,0,0,0,0,0,0,0,0,0,0,0,0,0,0,0,0,0,"-","-",0,0,0,0,0,0,0,0,0,0,0,0,0,0,0,0,0,0,0,0,0,0,0,0,0,0,0,0,0,0,0,0,0,0,0,0,0,0,0,0,179,158,192,142,117,0,0,124,135,151,146,94,0,0,303,293,343,288,211,0,134,111,245]
["Mon",900,0,0,0,0,0,0,0,0,0,0,0,0,0,0,0,0,0,0,0,0,0,0,0,0,0,0,0,0,0,0,0,0,0,0,0,"-","-","Mon",900,0,0,0,0,0,0,0,0,0,0,0,0,0,0,0,0,0,0,0,0,0,0,0,0,0,0,0,0,0,0,0,0,0,0,0,"-","-","Mon",900,0,0,0,0,0,0,0,0,0,0,0,0,0,0,0,0,0,0,0,0,0,0,0,0,0,0,0,0,0,0,0,0,0,0,0,"-","-",0,0,0,0,0,0,0,0,0,0,0,0,0,0,0,0,0,0,0,0,0,0,0,0,0,0,0,0,0,0,0,0,0,0,0,0,0,0,0,0,161,173,156,174,184,0,0,158,115,158,184,185,0,0,319,288,314,358,369,0,133,123,256]
["Mon",1000,0,0,0,0,0,0,0,0,0,0,0,0,0,0,0,0,0,0,0,0,0,0,0,0,0,0,0,0,0,0,0,0,0,0,0,"-","-","Mon",1000,0,0,0,0,0,0,0,0,0,0,0,0,0,0,0,0,0,0,0,0,0,0,0,0,0,0,0,0,0,0,0,0,0,0,0,"-","-","Mon",1000,0,0,0,0,0,0,0,0,0,0,0,0,0,0,0,0,0,0,0,0,0,0,0,0,0,0,0,0,0,0,0,0,0,0,0,"-","-",0,0,0,0,0,0,0,0,0,0,0,0,0,0,0,0,0,0,0,0,0,0,0,0,0,0,0,0,0,0,0,0,0,0,0,0,0,0,0,0,157,180,166,187,206,0,0,125,164,139,159,256,0,0,282,344,305,346,462,0,138,117,255]
["Mon",1100,0,0,0,0,0,0,0,0,0,0,0,0,0,0,0,0,0,0,0,0,0,0,0,0,0,0,0,0,0,0,0,0,0,0,0,"-","-","Mon",1100,0,0,0,0,0,0,0,0,0,0,0,0,0,0,0,0,0,0,0,0,0,0,0,0,0,0,0,0,0,0,0,0,0,0,0,"-","-","Mon",1100,0,0,0,0,0,0,0,0,0,0,0,0,0,0,0,0,0,0,0,0,0,0,0,0,0,0,0,0,0,0,0,0,0,0,0,"-","-",0,0,0,0,0,0,0,0,0,0,0,0,0,0,0,0,0,0,0,0,0,0,0,0,0,0,0,0,0,0,0,0,0,0,0,0,0,0,0,0,158,165,160,176,199,0,0,144,147,155,158,200,0,0,302,312,315,334,399,0,132,121,253]
["Mon",1200,0,0,0,0,0,0,0,0,0,0,0,0,0,0,0,0,0,0,0,0,0,0,0,0,0,0,0,0,0,0,0,0,0,0,0,"-","-","Mon",1200,0,0,0,0,0,0,0,0,0,0,0,0,0,0,0,0,0,0,0,0,0,0,0,0,0,0,0,0,0,0,0,0,0,0,0,"-","-","Mon",1200,0,0,0,0,0,0,0,0,0,0,0,0,0,0,0,0,0,0,0,0,0,0,0,0,0,0,0,0,0,0,0,0,0,0,0,"-","-",0,0,0,0,0,0,0,0,0,0,0,0,0,0,0,0,0,0,0,0,0,0,0,0,0,0,0,0,0,0,0,0,0,0,0,0,0,0,0,0,128,179,163,167,174,0,0,155,145,149,187,183,0,0,283,324,312,354,357,0,127,127,255]
["Mon",1300,0,0,0,0,0,0,0,0,0,0,0,0,0,0,0,0,0,0,0,0,0,0,0,0,0,0,0,0,0,0,0,0,0,0,0,"-","-","Mon",1300,0,0,0,0,0,0,0,0,0,0,0,0,0,0,0,0,0,0,0,0,0,0,0,0,0,0,0,0,0,0,0,0,0,0,0,"-","-","Mon",1300,0,0,0,0,0,0,0,0,0,0,0,0,0,0,0,0,0,0,0,0,0,0,0,0,0,0,0,0,0,0,0,0,0,0,0,"-","-",0,0,0,0,0,0,0,0,0,0,0,0,0,0,0,0,0,0,0,0,0,0,0,0,0,0,0,0,0,0,0,0,0,0,0,0,0,0,0,0,148,142,151,177,148,0,0,136,139,121,155,144,0,0,284,281,272,332,292,0,124,110,234]
["Mon",1400,0,0,0,0,0,0,0,0,0,0,0,0,0,0,0,0,0,0,0,0,0,0,0,0,0,0,0,0,0,0,0,0,0,0,0,"-","-","Mon",1400,0,0,0,0,0,0,0,0,0,0,0,0,0,0,0,0,0,0,0,0,0,0,0,0,0,0,0,0,0,0,0,0,0,0,0,"-","-","Mon",1400,0,0,0,0,0,0,0,0,0,0,0,0,0,0,0,0,0,0,0,0,0,0,0,0,0,0,0,0,0,0,0,0,0,0,0,"-","-",0,0,0,0,0,0,0,0,0,0,0,0,0,0,0,0,0,0,0,0,0,0,0,0,0,0,0,0,0,0,0,0,0,0,0,0,0,0,0,0,143,164,140,156,157,0,0,109,138,118,192,158,0,0,252,302,258,348,315,0,121,111,232]
["Mon",1500,0,0,0,0,0,0,0,0,0,0,0,0,0,0,0,0,0,0,0,0,0,0,0,0,0,0,0,0,0,0,0,0,0,0,0,"-","-","Mon",1500,0,0,0,0,0,0,0,0,0,0,0,0,0,0,0,0,0,0,0,0,0,0,0,0,0,0,0,0,0,0,0,0,0,0,0,"-","-","Mon",1500,0,0,0,0,0,0,0,0,0,0,0,0,0,0,0,0,0,0,0,0,0,0,0,0,0,0,0,0,0,0,0,0,0,0,0,"-","-",0,0,0,0,0,0,0,0,0,0,0,0,0,0,0,0,0,0,0,0,0,0,0,0,0,0,0,0,0,0,0,0,0,0,0,0,0,0,0,0,186,168,148,189,107,0,0,199,181,163,242,118,0,0,385,349,311,431,225,0,138,157,295]
["Mon",1600,0,0,0,0,0,0,0,0,0,0,0,0,0,0,0,0,0,0,0,0,0,0,0,0,0,0,0,0,0,0,0,0,0,0,0,"-","-","Mon",1600,0,0,0,0,0,0,0,0,0,0,0,0,0,0,0,0,0,0,0,0,0,0,0,0,0,0,0,0,0,0,0,0,0,0,0,"-","-","Mon",1600,0,0,0,0,0,0,0,0,0,0,0,0,0,0,0,0,0,0,0,0,0,0,0,0,0,0,0,0,0,0,0,0,0,0,0,"-","-",0,0,0,0,0,0,0,0,0,0,0,0,0,0,0,0,0,0,0,0,0,0,0,0,0,0,0,0,0,0,0,0,0,0,0,0,0,0,0,0,182,195,145,177,116,0,0,198,201,216,212,140,0,0,380,396,361,389,256,0,140,165,305]
["Mon",1700,0,0,72,33,0,0,0,1,0,0,0,0,1,4,27,51,19,3,1,0,0,0,0,0,0,0,0,0,0,0,0,0,0,0,0,22.08,25.69,"Mon",1700,0,0,67,69,0,2,0,0,0,0,0,4,0,1,12,64,51,9,5,0,0,0,0,0,0,0,0,0,0,0,0,0,0,0,0,24.77,28.27,"Mon",1700,0,0,139,102,0,2,0,1,0,0,0,4,1,5,39,115,70,12,6,0,0,0,0,0,0,0,0,0,0,0,0,0,0,0,0,23.62,27.37,0,0,72,33,0,0,0,1,0,0,0,0,106,0,0,67,69,0,2,0,0,0,0,0,4,142,0,0,139,102,0,2,0,1,0,0,0,4,248,106,146,142,153,160,119,0,142,179,188,201,231,108,0,248,325,330,354,391,227,0,141,188,330]
["Mon",1800,0,0,74,25,3,0,0,0,0,0,0,0,1,1,26,54,20,0,0,0,0,0,0,0,0,0,0,0,0,0,0,0,0,0,0,21.88,25.56,"Mon",1800,0,1,61,56,1,1,0,0,0,0,0,4,0,1,9,59,47,6,1,0,1,0,0,0,0,0,0,0,0,0,0,0,0,0,0,25.07,28.52,"Mon",1800,0,1,135,81,4,1,0,0,0,0,0,4,1,2,35,113,67,6,1,0,1,0,0,0,0,0,0,0,0,0,0,0,0,0,0,23.63,27.3,0,0,74,25,3,0,0,0,0,0,0,0,102,0,1,61,56,1,1,0,0,0,0,0,4,124,0,1,135,81,4,1,0,0,0,0,0,4,226,102,103,128,102,144,46,0,124,112,138,160,179,47,0,226,215,266,262,323,93,0,116,143,258]
["Mon",1900,0,1,53,19,0,0,0,0,0,0,0,2,2,3,14,39,16,1,0,0,0,0,0,0,0,0,0,0,0,0,0,0,0,0,0,21.89,25.86,"Mon",1900,2,1,44,34,4,0,0,0,0,0,0,1,2,3,11,37,25,8,0,0,0,0,0,0,0,0,0,0,0,0,0,0,0,0,0,23.54,28.68,"Mon",1900,2,2,97,53,4,0,0,0,0,0,0,3,4,6,25,76,41,9,0,0,0,0,0,0,0,0,0,0,0,0,0,0,0,0,0,22.77,27.24,0,1,53,19,0,0,0,0,0,0,0,2,75,2,1,44,34,4,0,0,0,0,0,0,1,86,2,2,97,53,4,0,0,0,0,0,0,3,161,75,67,94,89,100,0,0,86,84,112,110,98,0,0,161,151,206,199,198,0,0,85,98,183]
["Mon",2000,0,1,35,16,0,0,0,1,0,0,0,0,2,0,10,28,13,0,0,0,0,0,0,0,0,0,0,0,0,0,0,0,0,0,0,22.38,26.25,"Mon",2000,0,0,37,39,1,1,0,0,0,0,0,2,1,0,4,26,31,16,2,0,0,0,0,0,0,0,0,0,0,0,0,0,0,0,0,26.27,30.94,"Mon",2000,0,1,72,55,1,1,0,1,0,0,0,2,3,0,14,54,44,16,2,0,0,0,0,0,0,0,0,0,0,0,0,0,0,0,0,24.72,29.56,0,1,35,16,0,0,0,1,0,0,0,0,53,0,0,37,39,1,1,0,0,0,0,0,2,80,0,1,72,55,1,1,0,1,0,0,0,2,133,53,61,73,52,54,0,0,80,49,71,67,70,0,0,133,110,144,119,124,0,0,59,67,126]
["Mon",2100,0,0,21,18,1,0,0,0,0,0,0,0,1,0,8,20,10,1,0,0,0,0,0,0,0,0,0,0,0,0,0,0,0,0,0,22.77,27.64,"Mon",2100,0,0,18,19,0,1,0,0,0,0,0,0,0,2,4,17,13,2,0,0,0,0,0,0,0,0,0,0,0,0,0,0,0,0,0,23.77,27.57,"Mon",2100,0,0,39,37,1,1,0,0,0,0,0,0,1,2,12,37,23,3,0,0,0,0,0,0,0,0,0,0,0,0,0,0,0,0,0,23.26,27.7,0,0,21,18,1,0,0,0,0,0,0,0,40,0,0,18,19,0,1,0,0,0,0,0,0,38,0,0,39,37,1,1,0,0,0,0,0,0,78,40,53,40,47,37,0,0,38,37,51,57,45,0,0,78,90,91,104,82,0,0,43,46,89]
["Mon",2200,0,0,7,5,0,0,0,0,0,0,0,0,0,0,2,3,6,1,0,0,0,0,0,0,0,0,0,0,0,0,0,0,0,0,0,25.22,28.44,"Mon",2200,0,0,7,8,0,1,0,0,0,0,0,0,0,0,0,1,11,4,0,0,0,0,0,0,0,0,0,0,0,0,0,0,0,0,0,28.16,30.34,"Mon",2200,0,0,14,13,0,1,0,0,0,0,0,0,0,0,2,4,17,5,0,0,0,0,0,0,0,0,0,0,0,0,0,0,0,0,0,26.9,30.07,0,0,7,5,0,0,0,0,0,0,0,0,12,0,0,7,8,0,1,0,0,0,0,0,0,16,0,0,14,13,0,1,0,0,0,0,0,0,28,12,13,13,13,16,0,0,16,21,21,20,26,0,0,28,34,34,33,42,0,0,13,21,34]
["Mon",2300,0,0,4,0,0,0,0,0,0,0,0,0,0,0,0,3,1,0,0,0,0,0,0,0,0,0,0,0,0,0,0,0,0,0,0,24,"-","Mon",2300,0,0,2,3,0,0,0,0,0,0,0,0,0,0,0,1,2,1,1,0,0,0,0,0,0,0,0,0,0,0,0,0,0,0,0,29.66,"-","Mon",2300,0,0,6,3,0,0,0,0,0,0,0,0,0,0,0,4,3,1,1,0,0,0,0,0,0,0,0,0,0,0,0,0,0,0,0,27.15,"-",0,0,4,0,0,0,0,0,0,0,0,0,4,0,0,2,3,0,0,0,0,0,0,0,0,5,0,0,6,3,0,0,0,0,0,0,0,0,9,4,6,4,5,4,0,0,5,12,9,9,16,0,0,9,18,13,14,20,0,0,5,10,15]
["Tue",0,0,0,0,2,0,0,0,0,0,0,0,0,0,0,0,0,1,1,0,0,0,0,0,0,0,0,0,0,0,0,0,0,0,0,0,28.42,"-","Tue",0,0,0,0,1,0,0,0,0,0,0,0,0,0,0,0,0,0,0,0,1,0,0,0,0,0,0,0,0,0,0,0,0,0,0,0,40.01,"-","Tue",0,0,0,0,3,0,0,0,0,0,0,0,0,0,0,0,0,1,1,0,1,0,0,0,0,0,0,0,0,0,0,0,0,0,0,0,32.28,"-",0,0,0,2,0,0,0,0,0,0,0,0,2,0,0,0,1,0,0,0,0,0,0,0,0,1,0,0,0,3,0,0,0,0,0,0,0,0,3,{"$f":"SUM(FA224:FA247)","v":392},{"$f":"SUM(FB224:FB247)","v":2109},{"$f":"SUM(FC224:FC247)","v":2201},{"$f":"SUM(FD224:FD247)","v":2074},{"$f":"SUM(FE224:FE247)","v":2244},{"$f":"SUM(FF224:FF247)","v":1659},{"$f":"SUM(FG224:FG247)","v":0},{"$f":"SUM(FH224:FH247)","v":491},{"$f":"SUM(FI224:FI247)","v":1953},{"$f":"SUM(FJ224:FJ247)","v":2044},{"$f":"SUM(FK224:FK247)","v":2100},{"$f":"SUM(FL224:FL247)","v":2387},{"$f":"SUM(FM224:FM247)","v":1692},{"$f":"SUM(FN224:FN247)","v":0},{"$f":"SUM(FO224:FO247)","v":883},{"$f":"SUM(FP224:FP247)","v":4062},{"$f":"SUM(FQ224:FQ247)","v":4245},{"$f":"SUM(FR224:FR247)","v":4174},{"$f":"SUM(FS224:FS247)","v":4631},{"$f":"SUM(FT224:FT247)","v":3351},{"$f":"SUM(FU224:FU247)","v":0}]
["Tue",100,0,0,0,0,0,0,0,0,0,0,0,0,0,0,0,0,0,0,0,0,0,0,0,0,0,0,0,0,0,0,0,0,0,0,0,"-","-","Tue",100,0,0,0,0,0,0,0,0,0,0,0,0,0,0,0,0,0,0,0,0,0,0,0,0,0,0,0,0,0,0,0,0,0,0,0,"-","-","Tue",100,0,0,0,0,0,0,0,0,0,0,0,0,0,0,0,0,0,0,0,0,0,0,0,0,0,0,0,0,0,0,0,0,0,0,0,"-","-",0,0,0,0,0,0,0,0,0,0,0,0,0,0,0,0,0,0,0,0,0,0,0,0,0,0,0,0,0,0,0,0,0,0,0,0,0,0,0]
["Tue",200,0,0,0,0,0,0,0,0,0,0,0,0,0,0,0,0,0,0,0,0,0,0,0,0,0,0,0,0,0,0,0,0,0,0,0,"-","-","Tue",200,0,0,0,0,0,0,0,0,0,0,0,0,0,0,0,0,0,0,0,0,0,0,0,0,0,0,0,0,0,0,0,0,0,0,0,"-","-","Tue",200,0,0,0,0,0,0,0,0,0,0,0,0,0,0,0,0,0,0,0,0,0,0,0,0,0,0,0,0,0,0,0,0,0,0,0,"-","-",0,0,0,0,0,0,0,0,0,0,0,0,0,0,0,0,0,0,0,0,0,0,0,0,0,0,0,0,0,0,0,0,0,0,0,0,0,0,0,null,null,null,{"$f":"FA221","v":"NB"},null,null,null,null,null,null,null,null,null,{"$f":"FH221","v":"SB"},null,null,null,null,null,null,null,null,null,"Combined"]
["Tue",2300,0,0,4,2,0,0,0,0,0,0,0,0,0,0,1,4,1,0,0,0,0,0,0,0,0,0,0,0,0,0,0,0,0,0,0,21.59,"-","Tue",2300,0,0,2,9,0,0,0,0,0,0,0,1,0,0,2,4,6,0,0,0,0,0,0,0,0,0,0,0,0,0,0,0,0,0,0,24.87,28.51,"Tue",2300,0,0,6,11,0,0,0,0,0,0,0,1,0,0,3,8,7,0,0,0,0,0,0,0,0,0,0,0,0,0,0,0,0,0,0,23.78,28.02,0,0,4,2,0,0,0,0,0,0,0,0,6,0,0,2,9,0,0,0,0,0,0,0,1,12,0,0,6,11,0,0,0,0,0,0,0,1,18,null,null,"Weekday",null,20.62,20.420000000000002,24.93,null,null,null,null,null,null,null,22.85,22.67,27.34,null,null,null,null,null,null,null,21.67,21.51,26.22]
["Wed",1000,1,1,132,34,4,1,0,1,0,2,0,4,14,32,108,24,2,0,0,0,0,0,0,0,0,0,0,0,0,0,0,0,0,0,0,16.489999999999998,19.989999999999998,"Wed",1000,0,0,65,89,9,0,0,1,0,0,0,0,7,48,53,52,4,0,0,0,0,0,0,0,0,0,0,0,0,0,0,0,0,0,0,17.48,22.19,"Wed",1000,1,1,197,123,13,1,0,2,0,2,0,4,21,80,161,76,6,0,0,0,0,0,0,0,0,0,0,0,0,0,0,0,0,0,0,16.96,21.21,1,1,132,34,4,1,0,1,0,2,0,4,180,0,0,65,89,9,0,0,1,0,0,0,0,164,1,1,197,123,13,1,0,2,0,2,0,4,344]
["Fri",200,0,0,0,0,0,0,0,0,0,0,0,0,0,0,0,0,0,0,0,0,0,0,0,0,0,0,0,0,0,0,0,0,0,0,0,"-","-","Fri",200,0,0,0,0,0,0,0,0,0,0,0,0,0,0,0,0,0,0,0,0,0,0,0,0,0,0,0,0,0,0,0,0,0,0,0,"-","-","Fri",200,0,0,0,0,0,0,0,0,0,0,0,0,0,0,0,0,0,0,0,0,0,0,0,0,0,0,0,0,0,0,0,0,0,0,0,"-","-",0,0,0,0,0,0,0,0,0,0,0,0,0,0,0,0,0,0,0,0,0,0,0,0,0,0,0,0,0,0,0,0,0,0,0,0,0,0,0]
["Fri",1300,0,3,124,42,2,2,0,2,0,0,0,2,5,37,69,60,5,1,0,0,0,0,0,0,0,0,0,0,0,0,0,0,0,0,0,18.37,22.44,"Fri",1300,0,0,69,68,6,1,0,0,0,2,0,9,0,15,50,74,15,1,0,0,0,0,0,0,0,0,0,0,0,0,0,0,0,0,0,20.65,24.35,"Fri",1300,0,3,193,110,8,3,0,2,0,2,0,11,5,52,119,134,20,2,0,0,0,0,0,0,0,0,0,0,0,0,0,0,0,0,0,19.43,23.89,0,3,124,42,2,2,0,2,0,0,0,2,177,0,0,69,68,6,1,0,0,0,2,0,9,155,0,3,193,110,8,3,0,2,0,2,0,11,332]
["Sun",500,0,0,0,0,0,0,0,0,0,0,0,0,0,0,0,0,0,0,0,0,0,0,0,0,0,0,0,0,0,0,0,0,0,0,0,"-","-","Sun",500,0,0,0,0,0,0,0,0,0,0,0,0,0,0,0,0,0,0,0,0,0,0,0,0,0,0,0,0,0,0,0,0,0,0,0,"-","-","Sun",500,0,0,0,0,0,0,0,0,0,0,0,0,0,0,0,0,0,0,0,0,0,0,0,0,0,0,0,0,0,0,0,0,0,0,0,"-","-",0,0,0,0,0,0,0,0,0,0,0,0,0,0,0,0,0,0,0,0,0,0,0,0,0,0,0,0,0,0,0,0,0,0,0,0,0,0,0]
["Sun",2000,0,0,0,0,0,0,0,0,0,0,0,0,0,0,0,0,0,0,0,0,0,0,0,0,0,0,0,0,0,0,0,0,0,0,0,"-","-","Sun",2000,0,0,0,0,0,0,0,0,0,0,0,0,0,0,0,0,0,0,0,0,0,0,0,0,0,0,0,0,0,0,0,0,0,0,0,"-","-","Sun",2000,0,0,0,0,0,0,0,0,0,0,0,0,0,0,0,0,0,0,0,0,0,0,0,0,0,0,0,0,0,0,0,0,0,0,0,"-","-",0,0,0,0,0,0,0,0,0,0,0,0,0,0,0,0,0,0,0,0,0,0,0,0,0,0,0,0,0,0,0,0,0,0,0,0,0,0,0]
["7 Day Ave",800,{"$f":"SUM(C232+C256+C280+C304+C328+C352+C376)/7","v":0.7142857142857143},1.4285714285714286,73.142857142857139,31.428571428571427,3.2857142857142856,0.8571428571428571,0,0.42857142857142855,0,0,0.42857142857142855,0.8571428571428571,{"$f":"SUM(O232+O256+O280+O304+O328+O352+O376)/7","v":0.8571428571428571},6.2857142857142856,28.285714285714285,56.285714285714285,19.857142857142858,0.8571428571428571,0.14285714285714285,0,0,0,0,{"$f":"SUM(Z232+Z256+Z280+Z304+Z328+Z352+Z376)/7","v":0},0,{"$f":"SUM(AB232+AB256+AB280+AB304+AB328+AB352+AB376)/7","v":0},0,0,0,{"$f":"SUM(AF232+AF256+AF280+AF304+AF328+AF352+AF376)/7","v":0},0,0,0,0,0,21.54,25.49,"7 Day Ave",800,{"$f":"SUM(AP232+AP256+AP280+AP304+AP328+AP352+AP376)/7","v":0},0.42857142857142855,40.142857142857146,42.857142857142854,2.4285714285714284,1,0,1.5714285714285714,0,0.14285714285714285,0.8571428571428571,3.4285714285714284,0,1.5714285714285714,17.714285714285715,38.285714285714285,31,3.7142857142857144,0.14285714285714285,0,0,{"$f":"SUM(BK232+BK256+BK280+BK304+BK328+BK352+BK376)/7","v":0.42857142857142855},0,0,0,0,0,{"$f":"SUM(BQ232+BQ256+BQ280+BQ304+BQ328+BQ352+BQ376)/7","v":0},0,0,0,0,0,0,0,23.6,27.39,"7 Day Ave",800,{"$f":"SUM(CC232+CC256+CC280+CC304+CC328+CC352+CC376)/7","v":0.7142857142857143},1.8571428571428572,113.28571428571429,74.285714285714292,5.7142857142857144,1.8571428571428572,0,2,0,0.14285714285714285,1.2857142857142858,4.2857142857142856,0.8571428571428571,7.8571428571428568,46,94.571428571428569,50.857142857142854,4.5714285714285712,0.2857142857142857,0,{"$f":"SUM(CW232+CW256+CW280+CW304+CW328+CW352+CW376)/7","v":0},0.42857142857142855,0,0,0,0,0,0,0,0,0,0,{"$f":"SUM(DI232+DI256+DI280+DI304+DI328+DI352+DI376)/7","v":0},0,0,22.47,26.38,0.7142857142857143,1.4285714285714286,73.142857142857139,31.428571428571427,3.2857142857142856,0.8571428571428571,0,0.42857142857142855,0,0,0.42857142857142855,0.8571428571428571,112.57142857142858,0,0.42857142857142855,40.142857142857146,42.857142857142854,2.4285714285714284,1,0,1.5714285714285714,0,0.14285714285714285,0.8571428571428571,3.4285714285714284,92.857142857142861,0.7142857142857143,1.8571428571428572,113.28571428571428,74.285714285714278,5.7142857142857135,1.8571428571428572,0,2,0,0.14285714285714285,1.2857142857142856,4.2857142857142856,205.42857142857144]
["7 Day Ave",2300,{"$f":"SUM(C247+C271+C295+C319+C343+C367+C391)/7","v":0},0,2.7142857142857144,0.42857142857142855,0,0,0,0.14285714285714285,0,0,0,0,0,0.14285714285714285,0.2857142857142857,1.7142857142857142,1,0.14285714285714285,0,{"$f":"SUM(V247+V271+V295+V319+V343+V367+V391)/7","v":0},0,0,0,0,{"$f":"SUM(AA247+AA271+AA295+AA319+AA343+AA367+AA391)/7","v":0},{"$f":"SUM(AB247+AB271+AB295+AB319+AB343+AB367+AB391)/7","v":0},0,0,0,0,0,0,0,0,0,23.5,27.64,"7 Day Ave",2300,{"$f":"SUM(AP247+AP271+AP295+AP319+AP343+AP367+AP391)/7","v":0},0.14285714285714285,3.1428571428571428,3.7142857142857144,0,0.14285714285714285,0,0,0,0,0,0.14285714285714285,0,0.14285714285714285,0.2857142857142857,2.2857142857142856,3.2857142857142856,0.8571428571428571,0.2857142857142857,0.14285714285714285,0,{"$f":"SUM(BK247+BK271+BK295+BK319+BK343+BK367+BK391)/7","v":0},0,0,0,0,0,{"$f":"SUM(BQ247+BQ271+BQ295+BQ319+BQ343+BQ367+BQ391)/7","v":0},0,0,0,0,0,0,0,26.74,30.58,"7 Day Ave",2300,{"$f":"SUM(CC247+CC271+CC295+CC319+CC343+CC367+CC391)/7","v":0},0.14285714285714285,5.8571428571428568,4.1428571428571432,0,0.14285714285714285,0,0.14285714285714285,0,0,0,0.14285714285714285,0,0.2857142857142857,0.5714285714285714,4,4.2857142857142856,1,0.2857142857142857,0.14285714285714285,{"$f":"SUM(CW247+CW271+CW295+CW319+CW343+CW367+CW391)/7","v":0},0,0,0,0,0,0,0,0,0,0,0,0,0,0,25.73,29.66,0,0,2.7142857142857144,0.42857142857142855,0,0,0,0.14285714285714285,0,0,0,0,3.2857142857142856,0,0.14285714285714285,3.1428571428571428,3.7142857142857144,0,0.14285714285714285,0,0,0,0,0,0.14285714285714285,7.2857142857142865,0,0.14285714285714285,5.8571428571428577,4.1428571428571432,0,0.14285714285714285,0,0.14285714285714285,0,0,0,0.14285714285714285,10.571428571428573]
["Tue",800,0,3,91,84,6,0,0,0,0,0,2,0,2,18,64,87,15,0,0,0,0,0,0,0,0,0,0,0,0,0,0,0,0,0,0,20.05,24,"Tue",800,0,1,35,56,2,1,0,5,0,0,1,0,3,7,28,46,17,0,0,0,0,0,0,0,0,0,0,0,0,0,0,0,0,0,0,20.78,25.16,"Tue",800,0,4,126,140,8,1,0,5,0,0,3,0,5,25,92,133,32,0,0,0,0,0,0,0,0,0,0,0,0,0,0,0,0,0,0,20.309999999999999,24.23,0,3,91,84,6,0,0,0,0,0,2,0,186,0,1,35,56,2,1,0,5,0,0,1,0,101,0,4,126,140,8,1,0,5,0,0,3,0,287,null,4,"Fri",null,17.25,17.559999999999999,22.33,null,null,null,null,null,null,null,16.86,16.989999999999998,22.47,null,null,null,null,null,null,null,17.11,17.309999999999999,22.41]
["Tue",2300,0,0,6,3,0,0,0,0,0,0,0,0,0,3,3,3,0,0,0,0,0,0,0,0,0,0,0,0,0,0,0,0,0,0,0,18.27,"-","Tue",2300,0,0,6,8,0,0,0,0,0,0,0,0,0,0,1,7,6,0,0,0,0,0,0,0,0,0,0,0,0,0,0,0,0,0,0,24.07,26.29,"Tue",2300,0,0,12,11,0,0,0,0,0,0,0,0,0,3,4,10,6,0,0,0,0,0,0,0,0,0,0,0,0,0,0,0,0,0,0,21.8,26.09,0,0,6,3,0,0,0,0,0,0,0,0,9,0,0,6,8,0,0,0,0,0,0,0,0,14,0,0,12,11,0,0,0,0,0,0,0,0,23,null,null,"Weekday",null,17.77,17.920000000000002,22.68,null,null,null,null,null,null,null,18.03,17.88,23.73,null,null,null,null,null,null,null,17.850000000000001,17.899999999999999,23.13]
["Wed",1400,0,0,66,88,5,1,0,0,0,0,0,0,13,45,77,22,3,0,0,0,0,0,0,0,0,0,0,0,0,0,0,0,0,0,0,16.18,20.32,"Wed",1400,0,1,48,61,3,0,0,1,0,0,0,1,18,54,28,14,1,0,0,0,0,0,0,0,0,0,0,0,0,0,0,0,0,0,0,14.3,19.34,"Wed",1400,0,1,114,149,8,1,0,1,0,0,0,1,31,99,105,36,4,0,0,0,0,0,0,0,0,0,0,0,0,0,0,0,0,0,0,15.4,19.87,0,0,66,88,5,1,0,0,0,0,0,0,160,0,1,48,61,3,0,0,1,0,0,0,1,115,0,1,114,149,8,1,0,1,0,0,0,1,275]
["Fri",200,0,0,0,0,0,0,0,0,0,0,0,0,0,0,0,0,0,0,0,0,0,0,0,0,0,0,0,0,0,0,0,0,0,0,0,"-","-","Fri",200,0,0,0,0,0,0,0,0,0,0,0,0,0,0,0,0,0,0,0,0,0,0,0,0,0,0,0,0,0,0,0,0,0,0,0,"-","-","Fri",200,0,0,0,0,0,0,0,0,0,0,0,0,0,0,0,0,0,0,0,0,0,0,0,0,0,0,0,0,0,0,0,0,0,0,0,"-","-",0,0,0,0,0,0,0,0,0,0,0,0,0,0,0,0,0,0,0,0,0,0,0,0,0,0,0,0,0,0,0,0,0,0,0,0,0,0,0]
["Fri",1700,1,2,83,79,1,0,0,2,0,0,0,0,2,33,83,44,5,1,0,0,0,0,0,0,0,0,0,0,0,0,0,0,0,0,0,17.899999999999999,22.13,"Fri",1700,0,1,71,108,4,0,0,0,0,0,0,1,9,39,86,44,6,1,0,0,0,0,0,0,0,0,0,0,0,0,0,0,0,0,0,17.57,21.69,"Fri",1700,1,3,154,187,5,0,0,2,0,0,0,1,11,72,169,88,11,2,0,0,0,0,0,0,0,0,0,0,0,0,0,0,0,0,0,17.73,21.93,1,2,83,79,1,0,0,2,0,0,0,0,168,0,1,71,108,4,0,0,0,0,0,0,1,185,1,3,154,187,5,0,0,2,0,0,0,1,353]
["Sun",900,0,0,57,50,0,0,0,0,0,0,0,1,4,17,44,36,5,2,0,0,0,0,0,0,0,0,0,0,0,0,0,0,0,0,0,18.899999999999999,24.08,"Sun",900,0,0,16,51,0,0,0,1,0,0,0,1,0,5,22,30,11,1,0,0,0,0,0,0,0,0,0,0,0,0,0,0,0,0,0,21.04,25.29,"Sun",900,0,0,73,101,0,0,0,1,0,0,0,2,4,22,66,66,16,3,0,0,0,0,0,0,0,0,0,0,0,0,0,0,0,0,0,19.73,24.51,0,0,57,50,0,0,0,0,0,0,0,1,108,0,0,16,51,0,0,0,1,0,0,0,1,69,0,0,73,101,0,0,0,1,0,0,0,2,177]
["Sun",2000,0,0,22,18,0,0,0,0,0,0,0,0,1,9,15,10,3,2,0,0,0,0,0,0,0,0,0,0,0,0,0,0,0,0,0,18.55,23.75,"Sun",2000,0,0,17,21,0,0,0,0,0,0,0,0,0,8,10,14,5,1,0,0,0,0,0,0,0,0,0,0,0,0,0,0,0,0,0,20.079999999999998,25.05,"Sun",2000,0,0,39,39,0,0,0,0,0,0,0,0,1,17,25,24,8,3,0,0,0,0,0,0,0,0,0,0,0,0,0,0,0,0,0,19.29,24.89,0,0,22,18,0,0,0,0,0,0,0,0,40,0,0,17,21,0,0,0,0,0,0,0,0,38,0,0,39,39,0,0,0,0,0,0,0,0,78]
["7 Day Ave",1200,{"$f":"SUM(C455+C479+C503+C527+C551+C575+C599)/7","v":0},1.5714285714285714,85.714285714285708,73,3.7142857142857144,0.2857142857142857,0.14285714285714285,0.5714285714285714,0,0.42857142857142855,0,0.7142857142857143,8.1428571428571423,48.714285714285715,79.285714285714292,27,3,0,0,0,0,0,0,0,0,0,0,0,0,0,0,0,0,0,0,16.559999999999999,20.57,"7 Day Ave",1200,{"$f":"SUM(AP455+AP479+AP503+AP527+AP551+AP575+AP599)/7","v":0.2857142857142857},2.2857142857142856,50.142857142857146,69,5,0.14285714285714285,0,0.7142857142857143,0.14285714285714285,0.2857142857142857,0,0.5714285714285714,15.142857142857142,43.857142857142854,42.285714285714285,22.857142857142858,4.1428571428571432,0.2857142857142857,0,0,0,0,0,0,0,0,0,0,0,0,0,0,0,0,0,15.84,21.06,"7 Day Ave",1200,{"$f":"SUM(CC455+CC479+CC503+CC527+CC551+CC575+CC599)/7","v":0.2857142857142857},3.8571428571428572,135.85714285714286,142,8.7142857142857135,0.42857142857142855,0.14285714285714285,1.2857142857142858,0.14285714285714285,0.7142857142857143,0,1.2857142857142858,23.285714285714285,92.571428571428569,121.57142857142857,49.857142857142854,7.1428571428571432,0.2857142857142857,0,0,0,0,0,0,0,0,0,0,0,0,0,0,0,0,0,16.25,20.8,0,1.5714285714285714,85.714285714285708,73,3.7142857142857144,0.2857142857142857,0.14285714285714285,0.5714285714285714,0,0.42857142857142855,0,0.7142857142857143,166.14285714285714,0.2857142857142857,2.2857142857142856,50.142857142857146,69,5,0.14285714285714285,0,0.7142857142857143,0.14285714285714285,0.2857142857142857,0,0.5714285714285714,128.57142857142858,0.2857142857142857,3.8571428571428568,135.85714285714286,142,8.7142857142857153,0.42857142857142855,0.14285714285714285,1.2857142857142856,0.14285714285714285,0.71428571428571419,0,1.2857142857142856,294.71428571428572]
["7 Day Ave",2300,{"$f":"SUM(C466+C490+C514+C538+C562+C586+C610)/7","v":0.14285714285714285},0,4.1428571428571432,1.2857142857142858,0,0,0,0,0,0,0,0.14285714285714285,0.14285714285714285,1.5714285714285714,1.5714285714285714,1.5714285714285714,0.42857142857142855,0.14285714285714285,0.2857142857142857,0,0,0,0,0,0,0,0,0,0,0,0,0,0,0,0,19.690000000000001,24.79,"7 Day Ave",2300,{"$f":"SUM(AP466+AP490+AP514+AP538+AP562+AP586+AP610)/7","v":0},0.14285714285714285,3.8571428571428572,4.1428571428571432,0,0,0,0,0,0,0,0,0.14285714285714285,0,1.1428571428571428,3.8571428571428572,2.7142857142857144,0.2857142857142857,0,0,0,0,0,0,0,0,0,0,0,0,0,0,0,0,0,23.45,27.15,"7 Day Ave",2300,{"$f":"SUM(CC466+CC490+CC514+CC538+CC562+CC586+CC610)/7","v":0.14285714285714285},0.14285714285714285,8,5.4285714285714288,0,0,0,0,0,0,0,0.14285714285714285,0.2857142857142857,1.5714285714285714,2.7142857142857144,5.4285714285714288,3.1428571428571428,0.42857142857142855,0.2857142857142857,0,0,0,0,0,0,0,0,0,0,0,0,0,0,0,0,21.9,26.72,0.14285714285714285,0,4.1428571428571432,1.2857142857142858,0,0,0,0,0,0,0,0.14285714285714285,5.7142857142857153,0,0.14285714285714285,3.8571428571428572,4.1428571428571432,0,0,0,0,0,0,0,0,8.1428571428571423,0.14285714285714285,0.14285714285714285,8,5.4285714285714288,0,0,0,0,0,0,0,0.14285714285714285,13.857142857142858]
["Tue",1200,0,6,14,82,11,0,0,2,0,1,0,1,1,9,31,51,23,2,0,0,0,0,0,0,0,0,0,0,0,0,0,0,0,0,0,21.46,25.33,"Tue",1200,0,0,27,40,4,0,0,1,0,1,0,0,0,10,31,30,2,0,0,0,0,0,0,0,0,0,0,0,0,0,0,0,0,0,0,19.260000000000002,23.01,"Tue",1200,0,6,41,122,15,0,0,3,0,2,0,1,1,19,62,81,25,2,0,0,0,0,0,0,0,0,0,0,0,0,0,0,0,0,0,20.62,24.83,0,6,14,82,11,0,0,2,0,1,0,1,117,0,0,27,40,4,0,0,1,0,1,0,0,73,0,6,41,122,15,0,0,3,0,2,0,1,190,null,null,"7 day",null,21.99,21.82,26.46,null,null,null,null,null,null,null,20.079999999999998,19.829999999999998,24.05,null,null,null,null,null,null,null,21.03,20.84,25.41]
["Wed",300,0,0,0,0,0,0,0,0,0,0,0,0,0,0,0,0,0,0,0,0,0,0,0,0,0,0,0,0,0,0,0,0,0,0,0,"-","-","Wed",300,0,0,0,0,0,0,0,0,0,0,0,0,0,0,0,0,0,0,0,0,0,0,0,0,0,0,0,0,0,0,0,0,0,0,0,"-","-","Wed",300,0,0,0,0,0,0,0,0,0,0,0,0,0,0,0,0,0,0,0,0,0,0,0,0,0,0,0,0,0,0,0,0,0,0,0,"-","-",0,0,0,0,0,0,0,0,0,0,0,0,0,0,0,0,0,0,0,0,0,0,0,0,0,0,0,0,0,0,0,0,0,0,0,0,0,0,0]
["Thu",1500,0,1,17,97,3,0,0,0,0,0,1,0,1,6,44,55,11,2,0,0,0,0,0,0,0,0,0,0,0,0,0,0,0,0,0,20.63,24.68,"Thu",1500,0,1,44,101,7,0,0,0,0,0,0,0,4,14,85,42,6,2,0,0,0,0,0,0,0,0,0,0,0,0,0,0,0,0,0,18.649999999999999,22.42,"Thu",1500,0,2,61,198,10,0,0,0,0,0,1,0,5,20,129,97,17,4,0,0,0,0,0,0,0,0,0,0,0,0,0,0,0,0,0,19.510000000000002,23.51,0,1,17,97,3,0,0,0,0,0,1,0,119,0,1,44,101,7,0,0,0,0,0,0,0,153,0,2,61,198,10,0,0,0,0,0,1,0,272]
["Fri",600,0,1,1,7,1,0,0,0,0,0,0,1,0,1,2,4,4,0,0,0,0,0,0,0,0,0,0,0,0,0,0,0,0,0,0,22.29,25.69,"Fri",600,0,0,9,19,1,0,0,0,0,0,0,1,0,0,3,12,11,4,0,0,0,0,0,0,0,0,0,0,0,0,0,0,0,0,0,25.27,29.87,"Fri",600,0,1,10,26,2,0,0,0,0,0,0,2,0,1,5,16,15,4,0,0,0,0,0,0,0,0,0,0,0,0,0,0,0,0,0,24.47,28.16,0,1,1,7,1,0,0,0,0,0,0,1,11,0,0,9,19,1,0,0,0,0,0,0,1,30,0,1,10,26,2,0,0,0,0,0,0,2,41]
["Sat",1800,1,0,10,56,2,0,0,0,0,0,0,0,0,3,14,24,25,3,0,0,0,0,0,0,0,0,0,0,0,0,0,0,0,0,0,23.51,28.5,"Sat",1800,0,0,14,38,1,0,0,0,0,0,0,0,0,1,8,31,12,1,0,0,0,0,0,0,0,0,0,0,0,0,0,0,0,0,0,23.02,26.63,"Sat",1800,1,0,24,94,3,0,0,0,0,0,0,0,0,4,22,55,37,4,0,0,0,0,0,0,0,0,0,0,0,0,0,0,0,0,0,23.3,27.94,1,0,10,56,2,0,0,0,0,0,0,0,69,0,0,14,38,1,0,0,0,0,0,0,0,53,1,0,24,94,3,0,0,0,0,0,0,0,122]
["Sun",900,0,2,5,45,1,1,0,2,0,0,1,0,1,3,14,21,15,3,0,0,0,0,0,0,0,0,0,0,0,0,0,0,0,0,0,22.24,28.23,"Sun",900,1,0,19,54,0,0,0,0,0,0,0,0,0,1,19,39,13,2,0,0,0,0,0,0,0,0,0,0,0,0,0,0,0,0,0,22.02,25.8,"Sun",900,1,2,24,99,1,1,0,2,0,0,1,0,1,4,33,60,28,5,0,0,0,0,0,0,0,0,0,0,0,0,0,0,0,0,0,22.12,26.7,0,2,5,45,1,1,0,2,0,0,1,0,57,1,0,19,54,0,0,0,0,0,0,0,0,74,1,2,24,99,1,1,0,2,0,0,1,0,131]
["WD Ave",0,{"$f":"SUM(C662+C686+C710+C734+C758)/5","v":0},0,0.2,1.6,0,0,0,0,0,0,0,0,{"$f":"SUM(O662+O686+O710+O734+O758)/5","v":0.2},0,0.2,0.8,0.4,0,{"$f":"SUM(U662+U686+U710+U734+U758)/5","v":0.2},0,0,0,0,0,0,0,0,0,0,0,0,0,0,0,0,23.37,"-","WD Ave",0,{"$f":"SUM(AP662+AP686+AP710+AP734+AP758)/5","v":0},0,0.2,0.2,0,0,0,0,0,0,0,0,0,0,0,0.4,0,0,0,0,0,0,0,0,0,0,0,0,0,0,0,0,0,0,0,21.22,"-","WD Ave",0,{"$f":"SUM(CC662+CC686+CC710+CC734+CC758)/5","v":0},0,0.4,1.8,0,0,0,0,0,0,0,0,0.2,0,0.2,1.2,0.4,0,0.2,0,0,0,0,0,0,0,0,0,0,0,0,0,0,0,0,22.98,27.69,0,0,0.2,1.6,0,0,0,0,0,0,0,0,1.8,0,0,0.2,0.2,0,0,0,0,0,0,0,0,0.4,0,0,0.4,1.8,0,0,0,0,0,0,0,0,2.2000000000000002]
["7 Day Ave",1200,{"$f":"SUM(C674+C698+C722+C746+C770+C794+C818)/7","v":0},3.1428571428571428,13.714285714285714,80.714285714285708,7.5714285714285712,0.14285714285714285,0,0.7142857142857143,0.14285714285714285,0.14285714285714285,0,0.14285714285714285,1.4285714285714286,9,31.142857142857142,46.285714285714285,16.142857142857142,2.4285714285714284,0,0,0,0,0,0,0,0,0,0,0,0,0,0,0,0,0,20.93,25.35,"7 Day Ave",1200,{"$f":"SUM(AP674+AP698+AP722+AP746+AP770+AP794+AP818)/7","v":0.42857142857142855},1.7142857142857142,27.285714285714285,58.857142857142854,4.1428571428571432,0.2857142857142857,0,0.14285714285714285,0,0.14285714285714285,0,0.8571428571428571,2.4285714285714284,15.142857142857142,40.714285714285715,28.857142857142858,6.4285714285714288,0.2857142857142857,0,0,0,0,0,0,0,0,0,0,0,0,0,0,0,0,0,18.73,23.06,"7 Day Ave",1200,{"$f":"SUM(CC674+CC698+CC722+CC746+CC770+CC794+CC818)/7","v":0.42857142857142855},4.8571428571428568,41,139.57142857142858,11.714285714285714,0.42857142857142855,0,0.8571428571428571,0.14285714285714285,0.2857142857142857,0,1,3.8571428571428572,24.142857142857142,71.857142857142861,75.142857142857139,22.571428571428573,2.7142857142857144,0,0,0,0,0,0,0,0,0,0,0,0,0,0,0,0,0,19.899999999999999,24.56,0,3.1428571428571428,13.714285714285714,80.714285714285708,7.5714285714285712,0.14285714285714285,0,0.7142857142857143,0.14285714285714285,0.14285714285714285,0,0.14285714285714285,106.4285714285714,0.42857142857142855,1.7142857142857142,27.285714285714285,58.857142857142854,4.1428571428571432,0.2857142857142857,0,0.14285714285714285,0,0.14285714285714285,0,0.8571428571428571,93.857142857142847,0.42857142857142855,4.8571428571428568,41,139.57142857142856,11.714285714285715,0.42857142857142855,0,0.85714285714285721,0.14285714285714285,0.2857142857142857,0,1,200.28571428571425]
["Mon",0,0,0,0,0,0,0,0,0,0,0,0,0,0,0,0,0,0,0,0,0,0,0,0,0,0,0,0,0,0,0,0,0,0,0,0,"-","-","Mon",0,0,0,2,0,1,0,0,0,0,0,0,0,0,0,0,0,3,0,0,0,0,0,0,0,0,0,0,0,0,0,0,0,0,0,0,26.77,"-","Mon",0,0,0,2,0,1,0,0,0,0,0,0,0,0,0,0,0,3,0,0,0,0,0,0,0,0,0,0,0,0,0,0,0,0,0,0,26.77,"-",{"$f":"SUM(C881)","v":0},{"$f":"SUM(D881)","v":0},{"$f":"SUM(E881)","v":0},{"$f":"SUM(F881)","v":0},{"$f":"SUM(G881)","v":0},{"$f":"SUM(H881)","v":0},{"$f":"SUM(I881)","v":0},{"$f":"SUM(J881)","v":0},{"$f":"SUM(K881)","v":0},{"$f":"SUM(L881)","v":0},{"$f":"SUM(M881)","v":0},{"$f":"SUM(N881)","v":0},{"$f":"SUM(C881:N881)","v":0},{"$f":"SUM(AP881)","v":0},{"$f":"SUM(AQ881)","v":0},{"$f":"SUM(AR881)","v":2},{"$f":"SUM(AS881)","v":0},{"$f":"SUM(AT881)","v":1},{"$f":"SUM(AU881)","v":0},{"$f":"SUM(AV881)","v":0},{"$f":"SUM(AW881)","v":0},{"$f":"SUM(AX881)","v":0},{"$f":"SUM(AY881)","v":0},{"$f":"SUM(AZ881)","v":0},{"$f":"SUM(BA881)","v":0},{"$f":"SUM(AP881:BA881)","v":3},{"$f":"SUM(DN881+EA881)","v":0},{"$f":"SUM(DO881+EB881)","v":0},{"$f":"SUM(DP881+EC881)","v":2},{"$f":"SUM(DQ881+ED881)","v":0},{"$f":"SUM(DR881+EE881)","v":1},{"$f":"SUM(DS881+EF881)","v":0},{"$f":"SUM(DT881+EG881)","v":0},{"$f":"SUM(DU881+EH881)","v":0},{"$f":"SUM(DV881+EI881)","v":0},{"$f":"SUM(DW881+EJ881)","v":0},{"$f":"SUM(DX881+EK881)","v":0},{"$f":"SUM(DY881+EL881)","v":0},{"$f":"SUM(DZ881+EM881)","v":3},{"$f":"+DZ881","v":0},{"$f":"+DZ905","v":1},{"$f":"+DZ929","v":2},{"$f":"+DZ953","v":2},{"$f":"+DZ977","v":2},{"$f":"+DZ1001","v":3},{"$f":"+DZ1025","v":6},{"$f":"+EM881","v":3},{"$f":"+EM905","v":6},{"$f":"+EM929","v":4},{"$f":"+EM953","v":4},{"$f":"+EM977","v":11},{"$f":"+EM1001","v":5},{"$f":"+EM1025","v":8},{"$f":"SUM(FA881+FH881)","v":3},{"$f":"SUM(FB881+FI881)","v":7},{"$f":"SUM(FC881+FJ881)","v":6},{"$f":"SUM(FD881+FK881)","v":6},{"$f":"SUM(FE881+FL881)","v":13},{"$f":"SUM(FF881+FM881)","v":8},{"$f":"SUM(FG881+FN881)","v":14},{"$f":"ROUND(AVERAGE(FA881:FE881),0)","v":1},{"$f":"ROUND(AVERAGE(FH881:FL881),0)","v":6},{"$f":"ROUND(AVERAGE(FO881:FS881),0)","v":7}]
["Tue",1600,0,9,11,90,7,0,0,0,0,1,2,0,0,2,3,36,67,12,0,0,0,0,0,0,0,0,0,0,0,0,0,0,0,0,0,25.99,29.18,"Tue",1600,0,1,45,90,7,1,0,0,0,0,0,0,0,0,1,24,92,24,3,0,0,0,0,0,0,0,0,0,0,0,0,0,0,0,0,27.69,30.52,"Tue",1600,0,10,56,180,14,1,0,0,0,1,2,0,0,2,4,60,159,36,3,0,0,0,0,0,0,0,0,0,0,0,0,0,0,0,0,26.92,29.95,0,9,11,90,7,0,0,0,0,1,2,0,120,0,1,45,90,7,1,0,0,0,0,0,0,144,0,10,56,180,14,1,0,0,0,1,2,0,264,null,0,"Mon",null,26.39,26.09,29.97,null,null,null,null,null,null,null,27.87,27.74,31.3,null,null,null,null,null,null,null,27.23,26.97,30.85]
["Wed",700,0,0,8,69,5,0,0,1,0,0,0,0,0,0,1,7,48,23,4,0,0,0,0,0,0,0,0,0,0,0,0,0,0,0,0,28.69,31.15,"Wed",700,0,0,10,37,4,0,0,0,0,0,0,2,0,0,0,6,28,18,1,0,0,0,0,0,0,0,0,0,0,0,0,0,0,0,0,29.1,32.15,"Wed",700,0,0,18,106,9,0,0,1,0,0,0,2,0,0,1,13,76,41,5,0,0,0,0,0,0,0,0,0,0,0,0,0,0,0,0,28.85,31.81,0,0,8,69,5,0,0,1,0,0,0,0,83,0,0,10,37,4,0,0,0,0,0,0,2,53,0,0,18,106,9,0,0,1,0,0,0,2,136]
["Thu",2000,0,1,7,20,2,0,0,0,0,0,0,0,0,0,4,5,15,5,1,0,0,0,0,0,0,0,0,0,0,0,0,0,0,0,0,26.31,30.99,"Thu",2000,0,0,6,11,1,0,0,0,0,0,0,0,0,0,1,2,9,6,0,0,0,0,0,0,0,0,0,0,0,0,0,0,0,0,0,28.33,31.69,"Thu",2000,0,1,13,31,3,0,0,0,0,0,0,0,0,0,5,7,24,11,1,0,0,0,0,0,0,0,0,0,0,0,0,0,0,0,0,27.07,31.24,0,1,7,20,2,0,0,0,0,0,0,0,30,0,0,6,11,1,0,0,0,0,0,0,0,18,0,1,13,31,3,0,0,0,0,0,0,0,48]
["Fri",700,0,2,9,63,5,0,0,2,0,0,1,0,0,0,3,14,34,28,3,0,0,0,0,0,0,0,0,0,0,0,0,0,0,0,0,28.22,32.090000000000003,"Fri",700,0,1,13,31,1,0,0,1,0,0,1,0,0,0,0,9,24,12,2,1,0,0,0,0,0,0,0,0,0,0,0,0,0,0,0,28.57,32.03,"Fri",700,0,3,22,94,6,0,0,3,0,0,2,0,0,0,3,23,58,40,5,1,0,0,0,0,0,0,0,0,0,0,0,0,0,0,0,28.35,32.08,0,2,9,63,5,0,0,2,0,0,1,0,82,0,1,13,31,1,0,0,1,0,0,1,0,48,0,3,22,94,6,0,0,3,0,0,2,0,130]
["Sat",2300,0,0,2,13,0,0,0,0,0,0,0,0,0,0,1,3,8,2,1,0,0,0,0,0,0,0,0,0,0,0,0,0,0,0,0,27.05,31.52,"Sat",2300,0,0,1,4,0,0,0,0,0,0,0,0,0,0,1,0,0,2,2,0,0,0,0,0,0,0,0,0,0,0,0,0,0,0,0,31.69,"-","Sat",2300,0,0,3,17,0,0,0,0,0,0,0,0,0,0,2,3,8,4,3,0,0,0,0,0,0,0,0,0,0,0,0,0,0,0,0,28.21,33.74,0,0,2,13,0,0,0,0,0,0,0,0,15,0,0,1,4,0,0,0,0,0,0,0,0,5,0,0,3,17,0,0,0,0,0,0,0,0,20]
["Sun",1400,1,13,21,77,2,0,3,0,0,0,0,0,0,6,10,37,52,11,1,0,0,0,0,0,0,0,0,0,0,0,0,0,0,0,0,24.72,29.06,"Sun",1400,0,5,35,64,2,0,0,0,0,0,0,0,0,3,1,11,66,21,4,0,0,0,0,0,0,0,0,0,0,0,0,0,0,0,0,27.97,31.38,"Sun",1400,1,18,56,141,4,0,3,0,0,0,0,0,0,9,11,48,118,32,5,0,0,0,0,0,0,0,0,0,0,0,0,0,0,0,0,26.27,30.43,1,13,21,77,2,0,3,0,0,0,0,0,117,0,5,35,64,2,0,0,0,0,0,0,0,106,1,18,56,141,4,0,3,0,0,0,0,0,223]
["7 Day Ave",200,{"$f":"SUM(C883+C907+C931+C955+C979+C1003+C1027)/7","v":0},0,0,0.42857142857142855,0.14285714285714285,0,0,0,0,0,0,0,0,0.14285714285714285,0,0.14285714285714285,0.2857142857142857,0,0,0,0,0,0,0,0,0,0,0,0,0,0,0,0,0,0,22.34,"-","7 Day Ave",200,{"$f":"SUM(AP883+AP907+AP931+AP955+AP979+AP1003+AP1027)/7","v":0},0,0.2857142857142857,0.14285714285714285,0.2857142857142857,0,0,0,0,0,0,0,0,0,0.14285714285714285,0.14285714285714285,0.14285714285714285,0.2857142857142857,0,0,0,0,0,0,0,0,0,0,0,0,0,0,0,0,0,26.82,"-","7 Day Ave",200,{"$f":"SUM(CC883+CC907+CC931+CC955+CC979+CC1003+CC1027)/7","v":0},0,0.2857142857142857,0.5714285714285714,0.42857142857142855,0,0,0,0,0,0,0,0,0.14285714285714285,0.14285714285714285,0.2857142857142857,0.42857142857142855,0.2857142857142857,0,0,0,0,0,0,0,0,0,0,0,0,0,0,0,0,0,24.83,"-",0,0,0,0.42857142857142855,0.14285714285714285,0,0,0,0,0,0,0,0.5714285714285714,0,0,0.2857142857142857,0.14285714285714285,0.2857142857142857,0,0,0,0,0,0,0,0.71428571428571419,0,0,0.2857142857142857,0.5714285714285714,0.42857142857142855,0,0,0,0,0,0,0,1.2857142857142856]
["7 Day Ave",1700,{"$f":"SUM(C898+C922+C946+C970+C994+C1018+C1042)/7","v":0.5714285714285714},2.8571428571428572,17,63.285714285714285,3.8571428571428572,0.14285714285714285,0,0.2857142857142857,0,0,0,0.2857142857142857,0.42857142857142855,0.42857142857142855,3,25.571428571428573,48.285714285714285,10.285714285714286,0.14285714285714285,0.14285714285714285,0,0,0,0,0,0,0,0,0,0,0,0,0,0,0,26.17,29.48,"7 Day Ave",1700,{"$f":"SUM(AP898+AP922+AP946+AP970+AP994+AP1018+AP1042)/7","v":0.14285714285714285},2.1428571428571428,34,70.571428571428569,3,0,0,0.2857142857142857,0,0,0,0.42857142857142855,0,0,2.7142857142857144,13.714285714285714,58,33.571428571428569,2.5714285714285716,0,0,0,0,0,0,0,0,0,0,0,0,0,0,0,0,28.38,31.94,"7 Day Ave",1700,{"$f":"SUM(CC898+CC922+CC946+CC970+CC994+CC1018+CC1042)/7","v":0.7142857142857143},5,51,133.85714285714286,6.8571428571428568,0.14285714285714285,0,0.5714285714285714,0,0,0,0.7142857142857143,0.42857142857142855,0.42857142857142855,5.7142857142857144,39.285714285714285,106.28571428571429,43.857142857142854,2.7142857142857144,0.14285714285714285,0,0,0,0,0,0,0,0,0,0,0,0,0,0,0,27.4,31.08,0.5714285714285714,2.8571428571428572,17,63.285714285714285,3.8571428571428572,0.14285714285714285,0,0.2857142857142857,0,0,0,0.2857142857142857,88.285714285714306,0.14285714285714285,2.1428571428571428,34,70.571428571428569,3,0,0,0.2857142857142857,0,0,0,0.42857142857142855,110.57142857142858,0.71428571428571419,5,51,133.85714285714286,6.8571428571428577,0.14285714285714285,0,0.5714285714285714,0,0,0,0.71428571428571419,198.85714285714289]
["Mon",500,null,null,null,null,null,null,null,null,null,null,null,null,null,null,null,null,null,null,null,null,null,null,null,null,null,null,null,null,null,null,null,null,null,null,null,null,null,"Mon",500,null,null,null,null,null,null,null,null,null,null,null,null,null,null,null,null,null,null,null,null,null,null,null,null,null,null,null,null,null,null,null,null,null,null,null,null,null,"Mon",500,null,null,null,null,null,null,null,null,null,null,null,null,null,null,null,null,null,null,null,null,null,null,null,null,null,null,null,null,null,null,null,null,null,null,null,null,null,0,0,0,0,0,0,0,0,0,0,0,0,0,0,0,0,0,0,0,0,0,0,0,0,0,0,0,0,0,0,0,0,0,0,0,0,0,0,0,0,0,0,0,0,0,0,0,0,0,0,0,0,0,0,0,0,0,0,0,0,0,0,0]
["Tue",1700,null,null,null,null,null,null,null,null,null,null,null,null,null,null,null,null,null,null,null,null,null,null,null,null,null,null,null,null,null,null,null,null,null,null,null,null,null,"Tue",1700,null,null,null,null,null,null,null,null,null,null,null,null,null,null,null,null,null,null,null,null,null,null,null,null,null,null,null,null,null,null,null,null,null,null,null,null,null,"Tue",1700,null,null,null,null,null,null,null,null,null,null,null,null,null,null,null,null,null,null,null,null,null,null,null,null,null,null,null,null,null,null,null,null,null,null,null,null,null,0,0,0,0,0,0,0,0,0,0,0,0,0,0,0,0,0,0,0,0,0,0,0,0,0,0,0,0,0,0,0,0,0,0,0,0,0,0,0,null,1,"Tue"]
["Wed",800,null,null,null,null,null,null,null,null,null,null,null,null,null,null,null,null,null,null,null,null,null,null,null,null,null,null,null,null,null,null,null,null,null,null,null,null,null,"Wed",800,null,null,null,null,null,null,null,null,null,null,null,null,null,null,null,null,null,null,null,null,null,null,null,null,null,null,null,null,null,null,null,null,null,null,null,null,null,"Wed",800,null,null,null,null,null,null,null,null,null,null,null,null,null,null,null,null,null,null,null,null,null,null,null,null,null,null,null,null,null,null,null,null,null,null,null,null,null,0,0,0,0,0,0,0,0,0,0,0,0,0,0,0,0,0,0,0,0,0,0,0,0,0,0,0,0,0,0,0,0,0,0,0,0,0,0,0]
["Thu",2000,null,null,null,null,null,null,null,null,null,null,null,null,null,null,null,null,null,null,null,null,null,null,null,null,null,null,null,null,null,null,null,null,null,null,null,null,null,"Thu",2000,null,null,null,null,null,null,null,null,null,null,null,null,null,null,null,null,null,null,null,null,null,null,null,null,null,null,null,null,null,null,null,null,null,null,null,null,null,"Thu",2000,null,null,null,null,null,null,null,null,null,null,null,null,null,null,null,null,null,null,null,null,null,null,null,null,null,null,null,null,null,null,null,null,null,null,null,null,null,0,0,0,0,0,0,0,0,0,0,0,0,0,0,0,0,0,0,0,0,0,0,0,0,0,0,0,0,0,0,0,0,0,0,0,0,0,0,0]
["Fri",1100,null,null,null,null,null,null,null,null,null,null,null,null,null,null,null,null,null,null,null,null,null,null,null,null,null,null,null,null,null,null,null,null,null,null,null,null,null,"Fri",1100,null,null,null,null,null,null,null,null,null,null,null,null,null,null,null,null,null,null,null,null,null,null,null,null,null,null,null,null,null,null,null,null,null,null,null,null,null,"Fri",1100,null,null,null,null,null,null,null,null,null,null,null,null,null,null,null,null,null,null,null,null,null,null,null,null,null,null,null,null,null,null,null,null,null,null,null,null,null,0,0,0,0,0,0,0,0,0,0,0,0,0,0,0,0,0,0,0,0,0,0,0,0,0,0,0,0,0,0,0,0,0,0,0,0,0,0,0]
["Sun",300,null,null,null,null,null,null,null,null,null,null,null,null,null,null,null,null,null,null,null,null,null,null,null,null,null,null,null,null,null,null,null,null,null,null,null,null,null,"Sun",300,null,null,null,null,null,null,null,null,null,null,null,null,null,null,null,null,null,null,null,null,null,null,null,null,null,null,null,null,null,null,null,null,null,null,null,null,null,"Sun",300,null,null,null,null,null,null,null,null,null,null,null,null,null,null,null,null,null,null,null,null,null,null,null,null,null,null,null,null,null,null,null,null,null,null,null,null,null,0,0,0,0,0,0,0,0,0,0,0,0,0,0,0,0,0,0,0,0,0,0,0,0,0,0,0,0,0,0,0,0,0,0,0,0,0,0,0]
["Sun",1400,null,null,null,null,null,null,null,null,null,null,null,null,null,null,null,null,null,null,null,null,null,null,null,null,null,null,null,null,null,null,null,null,null,null,null,null,null,"Sun",1400,null,null,null,null,null,null,null,null,null,null,null,null,null,null,null,null,null,null,null,null,null,null,null,null,null,null,null,null,null,null,null,null,null,null,null,null,null,"Sun",1400,null,null,null,null,null,null,null,null,null,null,null,null,null,null,null,null,null,null,null,null,null,null,null,null,null,null,null,null,null,null,null,null,null,null,null,null,null,0,0,0,0,0,0,0,0,0,0,0,0,0,0,0,0,0,0,0,0,0,0,0,0,0,0,0,0,0,0,0,0,0,0,0,0,0,0,0]
["7 Day Ave",600,{"$f":"SUM(C1106+C1130+C1154+C1178+C1202+C1226+C1250)/7","v":0},0,0,0,0,0,0,0,0,0,0,0,0,0,0,0,0,0,0,0,0,0,0,0,0,0,0,0,0,0,0,0,0,0,0,null,null,"7 Day Ave",600,{"$f":"SUM(AP1106+AP1130+AP1154+AP1178+AP1202+AP1226+AP1250)/7","v":0},0,0,0,0,0,0,0,0,0,0,0,0,0,0,0,0,0,0,0,0,0,0,0,0,0,0,0,0,0,0,0,0,0,0,null,null,"7 Day Ave",600,{"$f":"SUM(CC1106+CC1130+CC1154+CC1178+CC1202+CC1226+CC1250)/7","v":0},0,0,0,0,0,0,0,0,0,0,0,0,0,0,0,0,0,0,0,0,0,0,0,0,0,0,0,0,0,0,0,0,0,0,null,null,0,0,0,0,0,0,0,0,0,0,0,0,0,0,0,0,0,0,0,0,0,0,0,0,0,0,0,0,0,0,0,0,0,0,0,0,0,0,0]
["7 Day Ave",1700,{"$f":"SUM(C1117+C1141+C1165+C1189+C1213+C1237+C1261)/7","v":0},0,0,0,0,0,0,0,0,0,0,0,0,0,0,0,0,0,0,0,0,0,0,0,0,0,0,0,0,0,0,0,0,0,0,null,null,"7 Day Ave",1700,{"$f":"SUM(AP1117+AP1141+AP1165+AP1189+AP1213+AP1237+AP1261)/7","v":0},0,0,0,0,0,0,0,0,0,0,0,0,0,0,0,0,0,0,0,0,0,0,0,0,0,0,0,0,0,0,0,0,0,0,null,null,"7 Day Ave",1700,{"$f":"SUM(CC1117+CC1141+CC1165+CC1189+CC1213+CC1237+CC1261)/7","v":0},0,0,0,0,0,0,0,0,0,0,0,0,0,0,0,0,0,0,0,0,0,0,0,0,0,0,0,0,0,0,0,0,0,0,null,null,0,0,0,0,0,0,0,0,0,0,0,0,0,0,0,0,0,0,0,0,0,0,0,0,0,0,0,0,0,0,0,0,0,0,0,0,0,0,0]
["Tue",600,null,null,null,null,null,null,null,null,null,null,null,null,null,null,null,null,null,null,null,null,null,null,null,null,null,null,null,null,null,null,null,null,null,null,null,null,null,"Tue",600,null,null,null,null,null,null,null,null,null,null,null,null,null,null,null,null,null,null,null,null,null,null,null,null,null,null,null,null,null,null,null,null,null,null,null,null,null,"Tue",600,null,null,null,null,null,null,null,null,null,null,null,null,null,null,null,null,null,null,null,null,null,null,null,null,null,null,null,null,null,null,null,null,null,null,null,null,null,0,0,0,0,0,0,0,0,0,0,0,0,0,0,0,0,0,0,0,0,0,0,0,0,0,0,0,0,0,0,0,0,0,0,0,0,0,0,0,null,2,"Wed"]
["Tue",2100,null,null,null,null,null,null,null,null,null,null,null,null,null,null,null,null,null,null,null,null,null,null,null,null,null,null,null,null,null,null,null,null,null,null,null,null,null,"Tue",2100,null,null,null,null,null,null,null,null,null,null,null,null,null,null,null,null,null,null,null,null,null,null,null,null,null,null,null,null,null,null,null,null,null,null,null,null,null,"Tue",2100,null,null,null,null,null,null,null,null,null,null,null,null,null,null,null,null,null,null,null,null,null,null,null,null,null,null,null,null,null,null,null,null,null,null,null,null,null,0,0,0,0,0,0,0,0,0,0,0,0,0,0,0,0,0,0,0,0,0,0,0,0,0,0,0,0,0,0,0,0,0,0,0,0,0,0,0,null,5,"Sat"]
["Thu",900,null,null,null,null,null,null,null,null,null,null,null,null,null,null,null,null,null,null,null,null,null,null,null,null,null,null,null,null,null,null,null,null,null,null,null,null,null,"Thu",900,null,null,null,null,null,null,null,null,null,null,null,null,null,null,null,null,null,null,null,null,null,null,null,null,null,null,null,null,null,null,null,null,null,null,null,null,null,"Thu",900,null,null,null,null,null,null,null,null,null,null,null,null,null,null,null,null,null,null,null,null,null,null,null,null,null,null,null,null,null,null,null,null,null,null,null,null,null,0,0,0,0,0,0,0,0,0,0,0,0,0,0,0,0,0,0,0,0,0,0,0,0,0,0,0,0,0,0,0,0,0,0,0,0,0,0,0]
["Fri",0,null,null,null,null,null,null,null,null,null,null,null,null,null,null,null,null,null,null,null,null,null,null,null,null,null,null,null,null,null,null,null,null,null,null,null,null,null,"Fri",0,null,null,null,null,null,null,null,null,null,null,null,null,null,null,null,null,null,null,null,null,null,null,null,null,null,null,null,null,null,null,null,null,null,null,null,null,null,"Fri",0,null,null,null,null,null,null,null,null,null,null,null,null,null,null,null,null,null,null,null,null,null,null,null,null,null,null,null,null,null,null,null,null,null,null,null,null,null,0,0,0,0,0,0,0,0,0,0,0,0,0,0,0,0,0,0,0,0,0,0,0,0,0,0,0,0,0,0,0,0,0,0,0,0,0,0,0]
["Fri",1500,null,null,null,null,null,null,null,null,null,null,null,null,null,null,null,null,null,null,null,null,null,null,null,null,null,null,null,null,null,null,null,null,null,null,null,null,null,"Fri",1500,null,null,null,null,null,null,null,null,null,null,null,null,null,null,null,null,null,null,null,null,null,null,null,null,null,null,null,null,null,null,null,null,null,null,null,null,null,"Fri",1500,null,null,null,null,null,null,null,null,null,null,null,null,null,null,null,null,null,null,null,null,null,null,null,null,null,null,null,null,null,null,null,null,null,null,null,null,null,0,0,0,0,0,0,0,0,0,0,0,0,0,0,0,0,0,0,0,0,0,0,0,0,0,0,0,0,0,0,0,0,0,0,0,0,0,0,0]
["Sun",300,null,null,null,null,null,null,null,null,null,null,null,null,null,null,null,null,null,null,null,null,null,null,null,null,null,null,null,null,null,null,null,null,null,null,null,null,null,"Sun",300,null,null,null,null,null,null,null,null,null,null,null,null,null,null,null,null,null,null,null,null,null,null,null,null,null,null,null,null,null,null,null,null,null,null,null,null,null,"Sun",300,null,null,null,null,null,null,null,null,null,null,null,null,null,null,null,null,null,null,null,null,null,null,null,null,null,null,null,null,null,null,null,null,null,null,null,null,null,0,0,0,0,0,0,0,0,0,0,0,0,0,0,0,0,0,0,0,0,0,0,0,0,0,0,0,0,0,0,0,0,0,0,0,0,0,0,0]
["Sun",1800,null,null,null,null,null,null,null,null,null,null,null,null,null,null,null,null,null,null,null,null,null,null,null,null,null,null,null,null,null,null,null,null,null,null,null,null,null,"Sun",1800,null,null,null,null,null,null,null,null,null,null,null,null,null,null,null,null,null,null,null,null,null,null,null,null,null,null,null,null,null,null,null,null,null,null,null,null,null,"Sun",1800,null,null,null,null,null,null,null,null,null,null,null,null,null,null,null,null,null,null,null,null,null,null,null,null,null,null,null,null,null,null,null,null,null,null,null,null,null,0,0,0,0,0,0,0,0,0,0,0,0,0,0,0,0,0,0,0,0,0,0,0,0,0,0,0,0,0,0,0,0,0,0,0,0,0,0,0]
["7 Day Ave",600,{"$f":"SUM(C1325+C1349+C1373+C1397+C1421+C1445+C1469)/7","v":0},0,0,0,0,0,0,0,0,0,0,0,0,0,0,0,0,0,0,0,0,0,0,0,0,0,0,0,0,0,0,0,0,0,0,null,null,"7 Day Ave",600,{"$f":"SUM(AP1325+AP1349+AP1373+AP1397+AP1421+AP1445+AP1469)/7","v":0},0,0,0,0,0,0,0,0,0,0,0,0,0,0,0,0,0,0,0,0,0,0,0,0,0,0,0,0,0,0,0,0,0,0,null,null,"7 Day Ave",600,{"$f":"SUM(CC1325+CC1349+CC1373+CC1397+CC1421+CC1445+CC1469)/7","v":0},0,0,0,0,0,0,0,0,0,0,0,0,0,0,0,0,0,0,0,0,0,0,0,0,0,0,0,0,0,0,0,0,0,0,null,null,0,0,0,0,0,0,0,0,0,0,0,0,0,0,0,0,0,0,0,0,0,0,0,0,0,0,0,0,0,0,0,0,0,0,0,0,0,0,0]
["7 Day Ave",2100,{"$f":"SUM(C1340+C1364+C1388+C1412+C1436+C1460+C1484)/7","v":0},0,0,0,0,0,0,0,0,0,0,0,0,0,0,0,0,0,0,0,0,0,0,0,0,0,0,0,0,0,0,0,0,0,0,null,null,"7 Day Ave",2100,{"$f":"SUM(AP1340+AP1364+AP1388+AP1412+AP1436+AP1460+AP1484)/7","v":0},0,0,0,0,0,0,0,0,0,0,0,0,0,0,0,0,0,0,0,0,0,0,0,0,0,0,0,0,0,0,0,0,0,0,null,null,"7 Day Ave",2100,{"$f":"SUM(CC1340+CC1364+CC1388+CC1412+CC1436+CC1460+CC1484)/7","v":0},0,0,0,0,0,0,0,0,0,0,0,0,0,0,0,0,0,0,0,0,0,0,0,0,0,0,0,0,0,0,0,0,0,0,null,null,0,0,0,0,0,0,0,0,0,0,0,0,0,0,0,0,0,0,0,0,0,0,0,0,0,0,0,0,0,0,0,0,0,0,0,0,0,0,0]
["Tue",1000,null,null,null,null,null,null,null,null,null,null,null,null,null,null,null,null,null,null,null,null,null,null,null,null,null,null,null,null,null,null,null,null,null,null,null,null,null,"Tue",1000,null,null,null,null,null,null,null,null,null,null,null,null,null,null,null,null,null,null,null,null,null,null,null,null,null,null,null,null,null,null,null,null,null,null,null,null,null,"Tue",1000,null,null,null,null,null,null,null,null,null,null,null,null,null,null,null,null,null,null,null,null,null,null,null,null,null,null,null,null,null,null,null,null,null,null,null,null,null,0,0,0,0,0,0,0,0,0,0,0,0,0,0,0,0,0,0,0,0,0,0,0,0,0,0,0,0,0,0,0,0,0,0,0,0,0,0,0,null,6,"Sun"]
["Tue",2100,null,null,null,null,null,null,null,null,null,null,null,null,null,null,null,null,null,null,null,null,null,null,null,null,null,null,null,null,null,null,null,null,null,null,null,null,null,"Tue",2100,null,null,null,null,null,null,null,null,null,null,null,null,null,null,null,null,null,null,null,null,null,null,null,null,null,null,null,null,null,null,null,null,null,null,null,null,null,"Tue",2100,null,null,null,null,null,null,null,null,null,null,null,null,null,null,null,null,null,null,null,null,null,null,null,null,null,null,null,null,null,null,null,null,null,null,null,null,null,0,0,0,0,0,0,0,0,0,0,0,0,0,0,0,0,0,0,0,0,0,0,0,0,0,0,0,0,0,0,0,0,0,0,0,0,0,0,0,null,5,"Sat"]
["Thu",1300,null,null,null,null,null,null,null,null,null,null,null,null,null,null,null,null,null,null,null,null,null,null,null,null,null,null,null,null,null,null,null,null,null,null,null,null,null,"Thu",1300,null,null,null,null,null,null,null,null,null,null,null,null,null,null,null,null,null,null,null,null,null,null,null,null,null,null,null,null,null,null,null,null,null,null,null,null,null,"Thu",1300,null,null,null,null,null,null,null,null,null,null,null,null,null,null,null,null,null,null,null,null,null,null,null,null,null,null,null,null,null,null,null,null,null,null,null,null,null,0,0,0,0,0,0,0,0,0,0,0,0,0,0,0,0,0,0,0,0,0,0,0,0,0,0,0,0,0,0,0,0,0,0,0,0,0,0,0]
["Thu",2300,null,null,null,null,null,null,null,null,null,null,null,null,null,null,null,null,null,null,null,null,null,null,null,null,null,null,null,null,null,null,null,null,null,null,null,null,null,"Thu",2300,null,null,null,null,null,null,null,null,null,null,null,null,null,null,null,null,null,null,null,null,null,null,null,null,null,null,null,null,null,null,null,null,null,null,null,null,null,"Thu",2300,null,null,null,null,null,null,null,null,null,null,null,null,null,null,null,null,null,null,null,null,null,null,null,null,null,null,null,null,null,null,null,null,null,null,null,null,null,0,0,0,0,0,0,0,0,0,0,0,0,0,0,0,0,0,0,0,0,0,0,0,0,0,0,0,0,0,0,0,0,0,0,0,0,0,0,0]
["Sat",1700,null,null,null,null,null,null,null,null,null,null,null,null,null,null,null,null,null,null,null,null,null,null,null,null,null,null,null,null,null,null,null,null,null,null,null,null,null,"Sat",1700,null,null,null,null,null,null,null,null,null,null,null,null,null,null,null,null,null,null,null,null,null,null,null,null,null,null,null,null,null,null,null,null,null,null,null,null,null,"Sat",1700,null,null,null,null,null,null,null,null,null,null,null,null,null,null,null,null,null,null,null,null,null,null,null,null,null,null,null,null,null,null,null,null,null,null,null,null,null,0,0,0,0,0,0,0,0,0,0,0,0,0,0,0,0,0,0,0,0,0,0,0,0,0,0,0,0,0,0,0,0,0,0,0,0,0,0,0]
["Sun",800,null,null,null,null,null,null,null,null,null,null,null,null,null,null,null,null,null,null,null,null,null,null,null,null,null,null,null,null,null,null,null,null,null,null,null,null,null,"Sun",800,null,null,null,null,null,null,null,null,null,null,null,null,null,null,null,null,null,null,null,null,null,null,null,null,null,null,null,null,null,null,null,null,null,null,null,null,null,"Sun",800,null,null,null,null,null,null,null,null,null,null,null,null,null,null,null,null,null,null,null,null,null,null,null,null,null,null,null,null,null,null,null,null,null,null,null,null,null,0,0,0,0,0,0,0,0,0,0,0,0,0,0,0,0,0,0,0,0,0,0,0,0,0,0,0,0,0,0,0,0,0,0,0,0,0,0,0]
["WD Ave",2000,{"$f":"SUM(C1558+C1582+C1606+C1630+C1654)/5","v":0},0,0,0,0,0,0,0,0,0,0,0,0,0,0,0,0,0,0,0,0,0,0,0,0,0,0,0,0,0,0,0,0,0,0,null,null,"WD Ave",2000,{"$f":"SUM(AP1558+AP1582+AP1606+AP1630+AP1654)/5","v":0},0,0,0,0,0,0,0,0,0,0,0,0,0,0,0,0,0,0,0,0,0,0,0,0,0,0,0,0,0,0,0,0,0,0,null,null,"WD Ave",2000,{"$f":"SUM(CC1558+CC1582+CC1606+CC1630+CC1654)/5","v":0},0,0,0,0,0,0,0,0,0,0,0,0,0,0,0,0,0,0,0,0,0,0,0,0,0,0,0,0,0,0,0,0,0,0,null,null,0,0,0,0,0,0,0,0,0,0,0,0,0,0,0,0,0,0,0,0,0,0,0,0,0,0,0,0,0,0,0,0,0,0,0,0,0,0,0]
["7 Day Ave",1100,{"$f":"SUM(C1549+C1573+C1597+C1621+C1645+C1669+C1693)/7","v":0},0,0,0,0,0,0,0,0,0,0,0,0,0,0,0,0,0,0,0,0,0,0,0,0,0,0,0,0,0,0,0,0,0,0,null,null,"7 Day Ave",1100,{"$f":"SUM(AP1549+AP1573+AP1597+AP1621+AP1645+AP1669+AP1693)/7","v":0},0,0,0,0,0,0,0,0,0,0,0,0,0,0,0,0,0,0,0,0,0,0,0,0,0,0,0,0,0,0,0,0,0,0,null,null,"7 Day Ave",1100,{"$f":"SUM(CC1549+CC1573+CC1597+CC1621+CC1645+CC1669+CC1693)/7","v":0},0,0,0,0,0,0,0,0,0,0,0,0,0,0,0,0,0,0,0,0,0,0,0,0,0,0,0,0,0,0,0,0,0,0,null,null,0,0,0,0,0,0,0,0,0,0,0,0,0,0,0,0,0,0,0,0,0,0,0,0,0,0,0,0,0,0,0,0,0,0,0,0,0,0,0]
[null,null,1,2,3,4,5,6,7,8,9,10,11,12,510,1015,1520,2025,2530,3035,3540,4045,4550,5055,5560,6065,6570,7075,7580,8085,8590,9095,95100,100105,105110,110115,"115+","Ave","85%ile",null,null,1,2,3,4,5,6,7,8,9,10,11,12,510,1015,1520,2025,2530,3035,3540,4045,4550,5055,5560,6065,6570,7075,7580,8085,8590,9095,95100,100105,105110,110115,"115+","Ave","85%ile",null,null,1,2,3,4,5,6,7,8,9,10,11,12,510,1015,1520,2025,2530,3035,3540,4045,4550,5055,5560,6065,6570,7075,7580,8085,8590,9095,95100,100105,105110,110115,"115+","Ave","85%ile",null,"C2","C3","C4","C5","C6","C7","C8",null,null,null,null,null,null,null,null,null,null,null,null,null,null,null,null,null,null,null,null,null,null,null,null,null,null,null,null,null,null,null,"Mon","Tue","Wed","Thu","Fri","Sat","Sun","Mon","Tue","Wed","Thu","Fri","Sat","Sun","Mon","Tue","Wed","Thu","Fri","Sat","Sun"]
["Tue",1100,null,null,null,null,null,null,null,null,null,null,null,null,null,null,null,null,null,null,null,null,null,null,null,null,null,null,null,null,null,null,null,null,null,null,null,null,null,"Tue",1100,null,null,null,null,null,null,null,null,null,null,null,null,null,null,null,null,null,null,null,null,null,null,null,null,null,null,null,null,null,null,null,null,null,null,null,null,null,"Tue",1100,null,null,null,null,null,null,null,null,null,null,null,null,null,null,null,null,null,null,null,null,null,null,null,null,null,null,null,null,null,null,null,null,null,null,null,null,null,0,0,0,0,0,0,0,0,0,0,0,0,0,0,0,0,0,0,0,0,0,0,0,0,0,0,0,0,0,0,0,0,0,0,0,0,0,0,0,null,null,"Weekday"]
["Wed",200,null,null,null,null,null,null,null,null,null,null,null,null,null,null,null,null,null,null,null,null,null,null,null,null,null,null,null,null,null,null,null,null,null,null,null,null,null,"Wed",200,null,null,null,null,null,null,null,null,null,null,null,null,null,null,null,null,null,null,null,null,null,null,null,null,null,null,null,null,null,null,null,null,null,null,null,null,null,"Wed",200,null,null,null,null,null,null,null,null,null,null,null,null,null,null,null,null,null,null,null,null,null,null,null,null,null,null,null,null,null,null,null,null,null,null,null,null,null,0,0,0,0,0,0,0,0,0,0,0,0,0,0,0,0,0,0,0,0,0,0,0,0,0,0,0,0,0,0,0,0,0,0,0,0,0,0,0]
["Thu",1400,null,null,null,null,null,null,null,null,null,null,null,null,null,null,null,null,null,null,null,null,null,null,null,null,null,null,null,null,null,null,null,null,null,null,null,null,null,"Thu",1400,null,null,null,null,null,null,null,null,null,null,null,null,null,null,null,null,null,null,null,null,null,null,null,null,null,null,null,null,null,null,null,null,null,null,null,null,null,"Thu",1400,null,null,null,null,null,null,null,null,null,null,null,null,null,null,null,null,null,null,null,null,null,null,null,null,null,null,null,null,null,null,null,null,null,null,null,null,null,0,0,0,0,0,0,0,0,0,0,0,0,0,0,0,0,0,0,0,0,0,0,0,0,0,0,0,0,0,0,0,0,0,0,0,0,0,0,0]
["Fri",500,null,null,null,null,null,null,null,null,null,null,null,null,null,null,null,null,null,null,null,null,null,null,null,null,null,null,null,null,null,null,null,null,null,null,null,null,null,"Fri",500,null,null,null,null,null,null,null,null,null,null,null,null,null,null,null,null,null,null,null,null,null,null,null,null,null,null,null,null,null,null,null,null,null,null,null,null,null,"Fri",500,null,null,null,null,null,null,null,null,null,null,null,null,null,null,null,null,null,null,null,null,null,null,null,null,null,null,null,null,null,null,null,null,null,null,null,null,null,0,0,0,0,0,0,0,0,0,0,0,0,0,0,0,0,0,0,0,0,0,0,0,0,0,0,0,0,0,0,0,0,0,0,0,0,0,0,0]
["Sat",2100,null,null,null,null,null,null,null,null,null,null,null,null,null,null,null,null,null,null,null,null,null,null,null,null,null,null,null,null,null,null,null,null,null,null,null,null,null,"Sat",2100,null,null,null,null,null,null,null,null,null,null,null,null,null,null,null,null,null,null,null,null,null,null,null,null,null,null,null,null,null,null,null,null,null,null,null,null,null,"Sat",2100,null,null,null,null,null,null,null,null,null,null,null,null,null,null,null,null,null,null,null,null,null,null,null,null,null,null,null,null,null,null,null,null,null,null,null,null,null,0,0,0,0,0,0,0,0,0,0,0,0,0,0,0,0,0,0,0,0,0,0,0,0,0,0,0,0,0,0,0,0,0,0,0,0,0,0,0]
["Sun",800,null,null,null,null,null,null,null,null,null,null,null,null,null,null,null,null,null,null,null,null,null,null,null,null,null,null,null,null,null,null,null,null,null,null,null,null,null,"Sun",800,null,null,null,null,null,null,null,null,null,null,null,null,null,null,null,null,null,null,null,null,null,null,null,null,null,null,null,null,null,null,null,null,null,null,null,null,null,"Sun",800,null,null,null,null,null,null,null,null,null,null,null,null,null,null,null,null,null,null,null,null,null,null,null,null,null,null,null,null,null,null,null,null,null,null,null,null,null,0,0,0,0,0,0,0,0,0,0,0,0,0,0,0,0,0,0,0,0,0,0,0,0,0,0,0,0,0,0,0,0,0,0,0,0,0,0,0]
["7 Day Ave",0,{"$f":"SUM(C1757+C1781+C1805+C1829+C1853+C1877+C1901)/7","v":0},0,0,0,0,0,0,0,0,0,0,0,0,0,0,0,0,0,0,0,0,0,0,0,0,0,0,0,0,0,0,0,0,0,0,null,null,"7 Day Ave",0,{"$f":"SUM(AP1757+AP1781+AP1805+AP1829+AP1853+AP1877+AP1901)/7","v":0},0,0,0,0,0,0,0,0,0,0,0,0,0,0,0,0,0,0,0,0,0,0,0,0,0,0,0,0,0,0,0,0,0,0,null,null,"7 Day Ave",0,{"$f":"SUM(CC1757+CC1781+CC1805+CC1829+CC1853+CC1877+CC1901)/7","v":0},0,0,0,0,0,0,0,0,0,0,0,0,0,0,0,0,0,0,0,0,0,0,0,0,0,0,0,0,0,0,0,0,0,0,null,null,{"$f":"SUM(C1949)","v":0},{"$f":"SUM(D1949)","v":0},{"$f":"SUM(E1949)","v":0},{"$f":"SUM(F1949)","v":0},{"$f":"SUM(G1949)","v":0},{"$f":"SUM(H1949)","v":0},{"$f":"SUM(I1949)","v":0},{"$f":"SUM(J1949)","v":0},{"$f":"SUM(K1949)","v":0},{"$f":"SUM(L1949)","v":0},{"$f":"SUM(M1949)","v":0},{"$f":"SUM(N1949)","v":0},{"$f":"SUM(C1949:N1949)","v":0},{"$f":"SUM(AP1949)","v":0},{"$f":"SUM(AQ1949)","v":0},{"$f":"SUM(AR1949)","v":0},{"$f":"SUM(AS1949)","v":0},{"$f":"SUM(AT1949)","v":0},{"$f":"SUM(AU1949)","v":0},{"$f":"SUM(AV1949)","v":0},{"$f":"SUM(AW1949)","v":0},{"$f":"SUM(AX1949)","v":0},{"$f":"SUM(AY1949)","v":0},{"$f":"SUM(AZ1949)","v":0},{"$f":"SUM(BA1949)","v":0},{"$f":"SUM(AP1949:BA1949)","v":0},{"$f":"SUM(DN1949+EA1949)","v":0},{"$f":"SUM(DO1949+EB1949)","v":0},{"$f":"SUM(DP1949+EC1949)","v":0},{"$f":"SUM(DQ1949+ED1949)","v":0},{"$f":"SUM(DR1949+EE1949)","v":0},{"$f":"SUM(DS1949+EF1949)","v":0},{"$f":"SUM(DT1949+EG1949)","v":0},{"$f":"SUM(DU1949+EH1949)","v":0},{"$f":"SUM(DV1949+EI1949)","v":0},{"$f":"SUM(DW1949+EJ1949)","v":0},{"$f":"SUM(DX1949+EK1949)","v":0},{"$f":"SUM(DY1949+EL1949)","v":0},{"$f":"SUM(DZ1949+EM1949)","v":0}]
["7 Day Ave",1500,{"$f":"SUM(C1772+C1796+C1820+C1844+C1868+C1892+C1916)/7","v":0},0,0,0,0,0,0,0,0,0,0,0,0,0,0,0,0,0,0,0,0,0,0,0,0,0,0,0,0,0,0,0,0,0,0,null,null,"7 Day Ave",1500,{"$f":"SUM(AP1772+AP1796+AP1820+AP1844+AP1868+AP1892+AP1916)/7","v":0},0,0,0,0,0,0,0,0,0,0,0,0,0,0,0,0,0,0,0,0,0,0,0,0,0,0,0,0,0,0,0,0,0,0,null,null,"7 Day Ave",1500,{"$f":"SUM(CC1772+CC1796+CC1820+CC1844+CC1868+CC1892+CC1916)/7","v":0},0,0,0,0,0,0,0,0,0,0,0,0,0,0,0,0,0,0,0,0,0,0,0,0,0,0,0,0,0,0,0,0,0,0,null,null,0,0,0,0,0,0,0,0,0,0,0,0,0,0,0,0,0,0,0,0,0,0,0,0,0,0,0,0,0,0,0,0,0,0,0,0,0,0,0]
["Tue",0,null,null,null,null,null,null,null,null,null,null,null,null,null,null,null,null,null,null,null,null,null,null,null,null,null,null,null,null,null,null,null,null,null,null,null,null,null,"Tue",0,null,null,null,null,null,null,null,null,null,null,null,null,null,null,null,null,null,null,null,null,null,null,null,null,null,null,null,null,null,null,null,null,null,null,null,null,null,"Tue",0,null,null,null,null,null,null,null,null,null,null,null,null,null,null,null,null,null,null,null,null,null,null,null,null,null,null,null,null,null,null,null,null,null,null,null,null,null,0,0,0,0,0,0,0,0,0,0,0,0,0,0,0,0,0,0,0,0,0,0,0,0,0,0,0,0,0,0,0,0,0,0,0,0,0,0,0,{"$f":"SUM(FA1976:FA1999)","v":0},{"$f":"SUM(FB1976:FB1999)","v":0},0,0,0,0,0,0,0,0,0,0,0,0,0,0,0,0,0,0,0]
["Tue",1500,null,null,null,null,null,null,null,null,null,null,null,null,null,null,null,null,null,null,null,null,null,null,null,null,null,null,null,null,null,null,null,null,null,null,null,null,null,"Tue",1500,null,null,null,null,null,null,null,null,null,null,null,null,null,null,null,null,null,null,null,null,null,null,null,null,null,null,null,null,null,null,null,null,null,null,null,null,null,"Tue",1500,null,null,null,null,null,null,null,null,null,null,null,null,null,null,null,null,null,null,null,null,null,null,null,null,null,null,null,null,null,null,null,null,null,null,null,null,null,0,0,0,0,0,0,0,0,0,0,0,0,0,0,0,0,0,0,0,0,0,0,0,0,0,0,0,0,0,0,0,0,0,0,0,0,0,0,0,null,null,"Headway >=4","Min","Median","Average",0.85,0.95,"Max","StDev","15Kph Pace Lower Bound","Pace Count","Count > PSL ","Min","Median","Average",0.85,0.95,"Max","StDev","15Kph Pace Lower Bound","Pace Count","Count > PSL ","Min","Median","Average",0.85,0.95,"Max","StDev","15Kph Pace Lower Bound","Pace Count","Count > PSL "]
["Thu",300,null,null,null,null,null,null,null,null,null,null,null,null,null,null,null,null,null,null,null,null,null,null,null,null,null,null,null,null,null,null,null,null,null,null,null,null,null,"Thu",300,null,null,null,null,null,null,null,null,null,null,null,null,null,null,null,null,null,null,null,null,null,null,null,null,null,null,null,null,null,null,null,null,null,null,null,null,null,"Thu",300,null,null,null,null,null,null,null,null,null,null,null,null,null,null,null,null,null,null,null,null,null,null,null,null,null,null,null,null,null,null,null,null,null,null,null,null,null,0,0,0,0,0,0,0,0,0,0,0,0,0,0,0,0,0,0,0,0,0,0,0,0,0,0,0,0,0,0,0,0,0,0,0,0,0,0,0]
["Thu",1800,null,null,null,null,null,null,null,null,null,null,null,null,null,null,null,null,null,null,null,null,null,null,null,null,null,null,null,null,null,null,null,null,null,null,null,null,null,"Thu",1800,null,null,null,null,null,null,null,null,null,null,null,null,null,null,null,null,null,null,null,null,null,null,null,null,null,null,null,null,null,null,null,null,null,null,null,null,null,"Thu",1800,null,null,null,null,null,null,null,null,null,null,null,null,null,null,null,null,null,null,null,null,null,null,null,null,null,null,null,null,null,null,null,null,null,null,null,null,null,0,0,0,0,0,0,0,0,0,0,0,0,0,0,0,0,0,0,0,0,0,0,0,0,0,0,0,0,0,0,0,0,0,0,0,0,0,0,0]
["Fri",900,null,null,null,null,null,null,null,null,null,null,null,null,null,null,null,null,null,null,null,null,null,null,null,null,null,null,null,null,null,null,null,null,null,null,null,null,null,"Fri",900,null,null,null,null,null,null,null,null,null,null,null,null,null,null,null,null,null,null,null,null,null,null,null,null,null,null,null,null,null,null,null,null,null,null,null,null,null,"Fri",900,null,null,null,null,null,null,null,null,null,null,null,null,null,null,null,null,null,null,null,null,null,null,null,null,null,null,null,null,null,null,null,null,null,null,null,null,null,0,0,0,0,0,0,0,0,0,0,0,0,0,0,0,0,0,0,0,0,0,0,0,0,0,0,0,0,0,0,0,0,0,0,0,0,0,0,0]
["Sat",2100,null,null,null,null,null,null,null,null,null,null,null,null,null,null,null,null,null,null,null,null,null,null,null,null,null,null,null,null,null,null,null,null,null,null,null,null,null,"Sat",2100,null,null,null,null,null,null,null,null,null,null,null,null,null,null,null,null,null,null,null,null,null,null,null,null,null,null,null,null,null,null,null,null,null,null,null,null,null,"Sat",2100,null,null,null,null,null,null,null,null,null,null,null,null,null,null,null,null,null,null,null,null,null,null,null,null,null,null,null,null,null,null,null,null,null,null,null,null,null,0,0,0,0,0,0,0,0,0,0,0,0,0,0,0,0,0,0,0,0,0,0,0,0,0,0,0,0,0,0,0,0,0,0,0,0,0,0,0]
["Sun",1200,null,null,null,null,null,null,null,null,null,null,null,null,null,null,null,null,null,null,null,null,null,null,null,null,null,null,null,null,null,null,null,null,null,null,null,null,null,"Sun",1200,null,null,null,null,null,null,null,null,null,null,null,null,null,null,null,null,null,null,null,null,null,null,null,null,null,null,null,null,null,null,null,null,null,null,null,null,null,"Sun",1200,null,null,null,null,null,null,null,null,null,null,null,null,null,null,null,null,null,null,null,null,null,null,null,null,null,null,null,null,null,null,null,null,null,null,null,null,null,0,0,0,0,0,0,0,0,0,0,0,0,0,0,0,0,0,0,0,0,0,0,0,0,0,0,0,0,0,0,0,0,0,0,0,0,0,0,0]
["7 Day Ave",0,{"$f":"SUM(C1976+C2000+C2024+C2048+C2072+C2096+C2120)/7","v":0},0,0,0,0,0,0,0,0,0,0,0,0,0,0,0,0,0,0,0,0,0,0,0,0,0,0,0,0,0,0,0,0,0,0,null,null,"7 Day Ave",0,{"$f":"SUM(AP1976+AP2000+AP2024+AP2048+AP2072+AP2096+AP2120)/7","v":0},0,0,0,0,0,0,0,0,0,0,0,0,0,0,0,0,0,0,0,0,0,0,0,0,0,0,0,0,0,0,0,0,0,0,null,null,"7 Day Ave",0,{"$f":"SUM(CC1976+CC2000+CC2024+CC2048+CC2072+CC2096+CC2120)/7","v":0},0,0,0,0,0,0,0,0,0,0,0,0,0,0,0,0,0,0,0,0,0,0,0,0,0,0,0,0,0,0,0,0,0,0,null,null,{"$f":"SUM(C2168)","v":0},{"$f":"SUM(D2168)","v":0},{"$f":"SUM(E2168)","v":0},{"$f":"SUM(F2168)","v":0},{"$f":"SUM(G2168)","v":0},{"$f":"SUM(H2168)","v":0},{"$f":"SUM(I2168)","v":0},{"$f":"SUM(J2168)","v":0},{"$f":"SUM(K2168)","v":0},{"$f":"SUM(L2168)","v":0},{"$f":"SUM(M2168)","v":0},{"$f":"SUM(N2168)","v":0},{"$f":"SUM(C2168:N2168)","v":0},{"$f":"SUM(AP2168)","v":0},{"$f":"SUM(AQ2168)","v":0},{"$f":"SUM(AR2168)","v":0},{"$f":"SUM(AS2168)","v":0},{"$f":"SUM(AT2168)","v":0},{"$f":"SUM(AU2168)","v":0},{"$f":"SUM(AV2168)","v":0},{"$f":"SUM(AW2168)","v":0},{"$f":"SUM(AX2168)","v":0},{"$f":"SUM(AY2168)","v":0},{"$f":"SUM(AZ2168)","v":0},{"$f":"SUM(BA2168)","v":0},{"$f":"SUM(AP2168:BA2168)","v":0},{"$f":"SUM(DN2168+EA2168)","v":0},{"$f":"SUM(DO2168+EB2168)","v":0},{"$f":"SUM(DP2168+EC2168)","v":0},{"$f":"SUM(DQ2168+ED2168)","v":0},{"$f":"SUM(DR2168+EE2168)","v":0},{"$f":"SUM(DS2168+EF2168)","v":0},{"$f":"SUM(DT2168+EG2168)","v":0},{"$f":"SUM(DU2168+EH2168)","v":0},{"$f":"SUM(DV2168+EI2168)","v":0},{"$f":"SUM(DW2168+EJ2168)","v":0},{"$f":"SUM(DX2168+EK2168)","v":0},{"$f":"SUM(DY2168+EL2168)","v":0},{"$f":"SUM(DZ2168+EM2168)","v":0}]
["7 Day Ave",1500,{"$f":"SUM(C1991+C2015+C2039+C2063+C2087+C2111+C2135)/7","v":0},0,0,0,0,0,0,0,0,0,0,0,0,0,0,0,0,0,0,0,0,0,0,0,0,0,0,0,0,0,0,0,0,0,0,null,null,"7 Day Ave",1500,{"$f":"SUM(AP1991+AP2015+AP2039+AP2063+AP2087+AP2111+AP2135)/7","v":0},0,0,0,0,0,0,0,0,0,0,0,0,0,0,0,0,0,0,0,0,0,0,0,0,0,0,0,0,0,0,0,0,0,0,null,null,"7 Day Ave",1500,{"$f":"SUM(CC1991+CC2015+CC2039+CC2063+CC2087+CC2111+CC2135)/7","v":0},0,0,0,0,0,0,0,0,0,0,0,0,0,0,0,0,0,0,0,0,0,0,0,0,0,0,0,0,0,0,0,0,0,0,null,null,0,0,0,0,0,0,0,0,0,0,0,0,0,0,0,0,0,0,0,0,0,0,0,0,0,0,0,0,0,0,0,0,0,0,0,0,0,0,0]
["Tue",400,null,null,null,null,null,null,null,null,null,null,null,null,null,null,null,null,null,null,null,null,null,null,null,null,null,null,null,null,null,null,null,null,null,null,null,null,null,"Tue",400,null,null,null,null,null,null,null,null,null,null,null,null,null,null,null,null,null,null,null,null,null,null,null,null,null,null,null,null,null,null,null,null,null,null,null,null,null,"Tue",400,null,null,null,null,null,null,null,null,null,null,null,null,null,null,null,null,null,null,null,null,null,null,null,null,null,null,null,null,null,null,null,null,null,null,null,null,null,0,0,0,0,0,0,0,0,0,0,0,0,0,0,0,0,0,0,0,0,0,0,0,0,0,0,0,0,0,0,0,0,0,0,0,0,0,0,0,null,0,"Mon"]
["Tue",1500,null,null,null,null,null,null,null,null,null,null,null,null,null,null,null,null,null,null,null,null,null,null,null,null,null,null,null,null,null,null,null,null,null,null,null,null,null,"Tue",1500,null,null,null,null,null,null,null,null,null,null,null,null,null,null,null,null,null,null,null,null,null,null,null,null,null,null,null,null,null,null,null,null,null,null,null,null,null,"Tue",1500,null,null,null,null,null,null,null,null,null,null,null,null,null,null,null,null,null,null,null,null,null,null,null,null,null,null,null,null,null,null,null,null,null,null,null,null,null,0,0,0,0,0,0,0,0,0,0,0,0,0,0,0,0,0,0,0,0,0,0,0,0,0,0,0,0,0,0,0,0,0,0,0,0,0,0,0,null,null,"Headway >=4","Min","Median","Average",0.85,0.95,"Max","StDev","15Kph Pace Lower Bound","Pace Count","Count > PSL ","Min","Median","Average",0.85,0.95,"Max","StDev","15Kph Pace Lower Bound","Pace Count","Count > PSL ","Min","Median","Average",0.85,0.95,"Max","StDev","15Kph Pace Lower Bound","Pace Count","Count > PSL "]
["Thu",700,null,null,null,null,null,null,null,null,null,null,null,null,null,null,null,null,null,null,null,null,null,null,null,null,null,null,null,null,null,null,null,null,null,null,null,null,null,"Thu",700,null,null,null,null,null,null,null,null,null,null,null,null,null,null,null,null,null,null,null,null,null,null,null,null,null,null,null,null,null,null,null,null,null,null,null,null,null,"Thu",700,null,null,null,null,null,null,null,null,null,null,null,null,null,null,null,null,null,null,null,null,null,null,null,null,null,null,null,null,null,null,null,null,null,null,null,null,null,0,0,0,0,0,0,0,0,0,0,0,0,0,0,0,0,0,0,0,0,0,0,0,0,0,0,0,0,0,0,0,0,0,0,0,0,0,0,0]
["Thu",2200,null,null,null,null,null,null,null,null,null,null,null,null,null,null,null,null,null,null,null,null,null,null,null,null,null,null,null,null,null,null,null,null,null,null,null,null,null,"Thu",2200,null,null,null,null,null,null,null,null,null,null,null,null,null,null,null,null,null,null,null,null,null,null,null,null,null,null,null,null,null,null,null,null,null,null,null,null,null,"Thu",2200,null,null,null,null,null,null,null,null,null,null,null,null,null,null,null,null,null,null,null,null,null,null,null,null,null,null,null,null,null,null,null,null,null,null,null,null,null,0,0,0,0,0,0,0,0,0,0,0,0,0,0,0,0,0,0,0,0,0,0,0,0,0,0,0,0,0,0,0,0,0,0,0,0,0,0,0]
["Sat",1000,null,null,null,null,null,null,null,null,null,null,null,null,null,null,null,null,null,null,null,null,null,null,null,null,null,null,null,null,null,null,null,null,null,null,null,null,null,"Sat",1000,null,null,null,null,null,null,null,null,null,null,null,null,null,null,null,null,null,null,null,null,null,null,null,null,null,null,null,null,null,null,null,null,null,null,null,null,null,"Sat",1000,null,null,null,null,null,null,null,null,null,null,null,null,null,null,null,null,null,null,null,null,null,null,null,null,null,null,null,null,null,null,null,null,null,null,null,null,null,0,0,0,0,0,0,0,0,0,0,0,0,0,0,0,0,0,0,0,0,0,0,0,0,0,0,0,0,0,0,0,0,0,0,0,0,0,0,0]
["Sat",1900,null,null,null,null,null,null,null,null,null,null,null,null,null,null,null,null,null,null,null,null,null,null,null,null,null,null,null,null,null,null,null,null,null,null,null,null,null,"Sat",1900,null,null,null,null,null,null,null,null,null,null,null,null,null,null,null,null,null,null,null,null,null,null,null,null,null,null,null,null,null,null,null,null,null,null,null,null,null,"Sat",1900,null,null,null,null,null,null,null,null,null,null,null,null,null,null,null,null,null,null,null,null,null,null,null,null,null,null,null,null,null,null,null,null,null,null,null,null,null,0,0,0,0,0,0,0,0,0,0,0,0,0,0,0,0,0,0,0,0,0,0,0,0,0,0,0,0,0,0,0,0,0,0,0,0,0,0,0]
["WD Ave",1400,{"$f":"SUM(C2209+C2233+C2257+C2281+C2305)/5","v":0},0,0,0,0,0,0,0,0,0,0,0,0,0,0,0,0,0,0,0,0,0,0,0,0,0,0,0,0,0,0,0,0,0,0,null,null,"WD Ave",1400,{"$f":"SUM(AP2209+AP2233+AP2257+AP2281+AP2305)/5","v":0},0,0,0,0,0,0,0,0,0,0,0,0,0,0,0,0,0,0,0,0,0,0,0,0,0,0,0,0,0,0,0,0,0,0,null,null,"WD Ave",1400,{"$f":"SUM(CC2209+CC2233+CC2257+CC2281+CC2305)/5","v":0},0,0,0,0,0,0,0,0,0,0,0,0,0,0,0,0,0,0,0,0,0,0,0,0,0,0,0,0,0,0,0,0,0,0,null,null,0,0,0,0,0,0,0,0,0,0,0,0,0,0,0,0,0,0,0,0,0,0,0,0,0,0,0,0,0,0,0,0,0,0,0,0,0,0,0]
["7 Day Ave",500,{"$f":"SUM(C2200+C2224+C2248+C2272+C2296+C2320+C2344)/7","v":0},0,0,0,0,0,0,0,0,0,0,0,0,0,0,0,0,0,0,0,0,0,0,0,0,0,0,0,0,0,0,0,0,0,0,null,null,"7 Day Ave",500,{"$f":"SUM(AP2200+AP2224+AP2248+AP2272+AP2296+AP2320+AP2344)/7","v":0},0,0,0,0,0,0,0,0,0,0,0,0,0,0,0,0,0,0,0,0,0,0,0,0,0,0,0,0,0,0,0,0,0,0,null,null,"7 Day Ave",500,{"$f":"SUM(CC2200+CC2224+CC2248+CC2272+CC2296+CC2320+CC2344)/7","v":0},0,0,0,0,0,0,0,0,0,0,0,0,0,0,0,0,0,0,0,0,0,0,0,0,0,0,0,0,0,0,0,0,0,0,null,null,0,0,0,0,0,0,0,0,0,0,0,0,0,0,0,0,0,0,0,0,0,0,0,0,0,0,0,0,0,0,0,0,0,0,0,0,0,0,0]
["7 Day Ave",2000,{"$f":"SUM(C2215+C2239+C2263+C2287+C2311+C2335+C2359)/7","v":0},0,0,0,0,0,0,0,0,0,0,0,0,0,0,0,0,0,0,0,0,0,0,0,0,0,0,0,0,0,0,0,0,0,0,null,null,"7 Day Ave",2000,{"$f":"SUM(AP2215+AP2239+AP2263+AP2287+AP2311+AP2335+AP2359)/7","v":0},0,0,0,0,0,0,0,0,0,0,0,0,0,0,0,0,0,0,0,0,0,0,0,0,0,0,0,0,0,0,0,0,0,0,null,null,"7 Day Ave",2000,{"$f":"SUM(CC2215+CC2239+CC2263+CC2287+CC2311+CC2335+CC2359)/7","v":0},0,0,0,0,0,0,0,0,0,0,0,0,0,0,0,0,0,0,0,0,0,0,0,0,0,0,0,0,0,0,0,0,0,0,null,null,0,0,0,0,0,0,0,0,0,0,0,0,0,0,0,0,0,0,0,0,0,0,0,0,0,0,0,0,0,0,0,0,0,0,0,0,0,0,0]
["Tue",500,null,null,null,null,null,null,null,null,null,null,null,null,null,null,null,null,null,null,null,null,null,null,null,null,null,null,null,null,null,null,null,null,null,null,null,null,null,"Tue",500,null,null,null,null,null,null,null,null,null,null,null,null,null,null,null,null,null,null,null,null,null,null,null,null,null,null,null,null,null,null,null,null,null,null,null,null,null,"Tue",500,null,null,null,null,null,null,null,null,null,null,null,null,null,null,null,null,null,null,null,null,null,null,null,null,null,null,null,null,null,null,null,null,null,null,null,null,null,0,0,0,0,0,0,0,0,0,0,0,0,0,0,0,0,0,0,0,0,0,0,0,0,0,0,0,0,0,0,0,0,0,0,0,0,0,0,0,null,1,"Tue"]
["Tue",2000,null,null,null,null,null,null,null,null,null,null,null,null,null,null,null,null,null,null,null,null,null,null,null,null,null,null,null,null,null,null,null,null,null,null,null,null,null,"Tue",2000,null,null,null,null,null,null,null,null,null,null,null,null,null,null,null,null,null,null,null,null,null,null,null,null,null,null,null,null,null,null,null,null,null,null,null,null,null,"Tue",2000,null,null,null,null,null,null,null,null,null,null,null,null,null,null,null,null,null,null,null,null,null,null,null,null,null,null,null,null,null,null,null,null,null,null,null,null,null,0,0,0,0,0,0,0,0,0,0,0,0,0,0,0,0,0,0,0,0,0,0,0,0,0,0,0,0,0,0,0,0,0,0,0,0,0,0,0,null,4,"Fri"]
["Thu",1200,null,null,null,null,null,null,null,null,null,null,null,null,null,null,null,null,null,null,null,null,null,null,null,null,null,null,null,null,null,null,null,null,null,null,null,null,null,"Thu",1200,null,null,null,null,null,null,null,null,null,null,null,null,null,null,null,null,null,null,null,null,null,null,null,null,null,null,null,null,null,null,null,null,null,null,null,null,null,"Thu",1200,null,null,null,null,null,null,null,null,null,null,null,null,null,null,null,null,null,null,null,null,null,null,null,null,null,null,null,null,null,null,null,null,null,null,null,null,null,0,0,0,0,0,0,0,0,0,0,0,0,0,0,0,0,0,0,0,0,0,0,0,0,0,0,0,0,0,0,0,0,0,0,0,0,0,0,0]
["Thu",2300,null,null,null,null,null,null,null,null,null,null,null,null,null,null,null,null,null,null,null,null,null,null,null,null,null,null,null,null,null,null,null,null,null,null,null,null,null,"Thu",2300,null,null,null,null,null,null,null,null,null,null,null,null,null,null,null,null,null,null,null,null,null,null,null,null,null,null,null,null,null,null,null,null,null,null,null,null,null,"Thu",2300,null,null,null,null,null,null,null,null,null,null,null,null,null,null,null,null,null,null,null,null,null,null,null,null,null,null,null,null,null,null,null,null,null,null,null,null,null,0,0,0,0,0,0,0,0,0,0,0,0,0,0,0,0,0,0,0,0,0,0,0,0,0,0,0,0,0,0,0,0,0,0,0,0,0,0,0]
["Sat",1500,null,null,null,null,null,null,null,null,null,null,null,null,null,null,null,null,null,null,null,null,null,null,null,null,null,null,null,null,null,null,null,null,null,null,null,null,null,"Sat",1500,null,null,null,null,null,null,null,null,null,null,null,null,null,null,null,null,null,null,null,null,null,null,null,null,null,null,null,null,null,null,null,null,null,null,null,null,null,"Sat",1500,null,null,null,null,null,null,null,null,null,null,null,null,null,null,null,null,null,null,null,null,null,null,null,null,null,null,null,null,null,null,null,null,null,null,null,null,null,0,0,0,0,0,0,0,0,0,0,0,0,0,0,0,0,0,0,0,0,0,0,0,0,0,0,0,0,0,0,0,0,0,0,0,0,0,0,0]
["Sun",200,null,null,null,null,null,null,null,null,null,null,null,null,null,null,null,null,null,null,null,null,null,null,null,null,null,null,null,null,null,null,null,null,null,null,null,null,null,"Sun",200,null,null,null,null,null,null,null,null,null,null,null,null,null,null,null,null,null,null,null,null,null,null,null,null,null,null,null,null,null,null,null,null,null,null,null,null,null,"Sun",200,null,null,null,null,null,null,null,null,null,null,null,null,null,null,null,null,null,null,null,null,null,null,null,null,null,null,null,null,null,null,null,null,null,null,null,null,null,0,0,0,0,0,0,0,0,0,0,0,0,0,0,0,0,0,0,0,0,0,0,0,0,0,0,0,0,0,0,0,0,0,0,0,0,0,0,0]
["WD Ave",1800,{"$f":"SUM(C2432+C2456+C2480+C2504+C2528)/5","v":0},0,0,0,0,0,0,0,0,0,0,0,0,0,0,0,0,0,0,0,0,0,0,0,0,0,0,0,0,0,0,0,0,0,0,null,null,"WD Ave",1800,{"$f":"SUM(AP2432+AP2456+AP2480+AP2504+AP2528)/5","v":0},0,0,0,0,0,0,0,0,0,0,0,0,0,0,0,0,0,0,0,0,0,0,0,0,0,0,0,0,0,0,0,0,0,0,null,null,"WD Ave",1800,{"$f":"SUM(CC2432+CC2456+CC2480+CC2504+CC2528)/5","v":0},0,0,0,0,0,0,0,0,0,0,0,0,0,0,0,0,0,0,0,0,0,0,0,0,0,0,0,0,0,0,0,0,0,0,null,null,0,0,0,0,0,0,0,0,0,0,0,0,0,0,0,0,0,0,0,0,0,0,0,0,0,0,0,0,0,0,0,0,0,0,0,0,0,0,0]
["7 Day Ave",900,{"$f":"SUM(C2423+C2447+C2471+C2495+C2519+C2543+C2567)/7","v":0},0,0,0,0,0,0,0,0,0,0,0,0,0,0,0,0,0,0,0,0,0,0,0,0,0,0,0,0,0,0,0,0,0,0,null,null,"7 Day Ave",900,{"$f":"SUM(AP2423+AP2447+AP2471+AP2495+AP2519+AP2543+AP2567)/7","v":0},0,0,0,0,0,0,0,0,0,0,0,0,0,0,0,0,0,0,0,0,0,0,0,0,0,0,0,0,0,0,0,0,0,0,null,null,"7 Day Ave",900,{"$f":"SUM(CC2423+CC2447+CC2471+CC2495+CC2519+CC2543+CC2567)/7","v":0},0,0,0,0,0,0,0,0,0,0,0,0,0,0,0,0,0,0,0,0,0,0,0,0,0,0,0,0,0,0,0,0,0,0,null,null,0,0,0,0,0,0,0,0,0,0,0,0,0,0,0,0,0,0,0,0,0,0,0,0,0,0,0,0,0,0,0,0,0,0,0,0,0,0,0]
["Mon",1800,null,null,null,null,null,null,null,null,null,null,null,null,null,null,null,null,null,null,null,null,null,null,null,null,null,null,null,null,null,null,null,null,null,null,null,null,null,"Mon",1800,null,null,null,null,null,null,null,null,null,null,null,null,null,null,null,null,null,null,null,null,null,null,null,null,null,null,null,null,null,null,null,null,null,null,null,null,null,"Mon",1800,null,null,null,null,null,null,null,null,null,null,null,null,null,null,null,null,null,null,null,null,null,null,null,null,null,null,null,null,null,null,null,null,null,null,null,null,null,0,0,0,0,0,0,0,0,0,0,0,0,0,0,0,0,0,0,0,0,0,0,0,0,0,0,0,0,0,0,0,0,0,0,0,0,0,0,0,0,0,0,0,0,0,0,0,0,0,0,0,0,0,0,0,0,0,0,0,0,0,0,0]
["Tue",900,null,null,null,null,null,null,null,null,null,null,null,null,null,null,null,null,null,null,null,null,null,null,null,null,null,null,null,null,null,null,null,null,null,null,null,null,null,"Tue",900,null,null,null,null,null,null,null,null,null,null,null,null,null,null,null,null,null,null,null,null,null,null,null,null,null,null,null,null,null,null,null,null,null,null,null,null,null,"Tue",900,null,null,null,null,null,null,null,null,null,null,null,null,null,null,null,null,null,null,null,null,null,null,null,null,null,null,null,null,null,null,null,null,null,null,null,null,null,0,0,0,0,0,0,0,0,0,0,0,0,0,0,0,0,0,0,0,0,0,0,0,0,0,0,0,0,0,0,0,0,0,0,0,0,0,0,0,null,5,"Sat"]
["Wed",2100,null,null,null,null,null,null,null,null,null,null,null,null,null,null,null,null,null,null,null,null,null,null,null,null,null,null,null,null,null,null,null,null,null,null,null,null,null,"Wed",2100,null,null,null,null,null,null,null,null,null,null,null,null,null,null,null,null,null,null,null,null,null,null,null,null,null,null,null,null,null,null,null,null,null,null,null,null,null,"Wed",2100,null,null,null,null,null,null,null,null,null,null,null,null,null,null,null,null,null,null,null,null,null,null,null,null,null,null,null,null,null,null,null,null,null,null,null,null,null,0,0,0,0,0,0,0,0,0,0,0,0,0,0,0,0,0,0,0,0,0,0,0,0,0,0,0,0,0,0,0,0,0,0,0,0,0,0,0]
["Thu",1200,null,null,null,null,null,null,null,null,null,null,null,null,null,null,null,null,null,null,null,null,null,null,null,null,null,null,null,null,null,null,null,null,null,null,null,null,null,"Thu",1200,null,null,null,null,null,null,null,null,null,null,null,null,null,null,null,null,null,null,null,null,null,null,null,null,null,null,null,null,null,null,null,null,null,null,null,null,null,"Thu",1200,null,null,null,null,null,null,null,null,null,null,null,null,null,null,null,null,null,null,null,null,null,null,null,null,null,null,null,null,null,null,null,null,null,null,null,null,null,0,0,0,0,0,0,0,0,0,0,0,0,0,0,0,0,0,0,0,0,0,0,0,0,0,0,0,0,0,0,0,0,0,0,0,0,0,0,0]
["Fri",300,null,null,null,null,null,null,null,null,null,null,null,null,null,null,null,null,null,null,null,null,null,null,null,null,null,null,null,null,null,null,null,null,null,null,null,null,null,"Fri",300,null,null,null,null,null,null,null,null,null,null,null,null,null,null,null,null,null,null,null,null,null,null,null,null,null,null,null,null,null,null,null,null,null,null,null,null,null,"Fri",300,null,null,null,null,null,null,null,null,null,null,null,null,null,null,null,null,null,null,null,null,null,null,null,null,null,null,null,null,null,null,null,null,null,null,null,null,null,0,0,0,0,0,0,0,0,0,0,0,0,0,0,0,0,0,0,0,0,0,0,0,0,0,0,0,0,0,0,0,0,0,0,0,0,0,0,0]
["Sat",1500,null,null,null,null,null,null,null,null,null,null,null,null,null,null,null,null,null,null,null,null,null,null,null,null,null,null,null,null,null,null,null,null,null,null,null,null,null,"Sat",1500,null,null,null,null,null,null,null,null,null,null,null,null,null,null,null,null,null,null,null,null,null,null,null,null,null,null,null,null,null,null,null,null,null,null,null,null,null,"Sat",1500,null,null,null,null,null,null,null,null,null,null,null,null,null,null,null,null,null,null,null,null,null,null,null,null,null,null,null,null,null,null,null,null,null,null,null,null,null,0,0,0,0,0,0,0,0,0,0,0,0,0,0,0,0,0,0,0,0,0,0,0,0,0,0,0,0,0,0,0,0,0,0,0,0,0,0,0]
["Sun",600,null,null,null,null,null,null,null,null,null,null,null,null,null,null,null,null,null,null,null,null,null,null,null,null,null,null,null,null,null,null,null,null,null,null,null,null,null,"Sun",600,null,null,null,null,null,null,null,null,null,null,null,null,null,null,null,null,null,null,null,null,null,null,null,null,null,null,null,null,null,null,null,null,null,null,null,null,null,"Sun",600,null,null,null,null,null,null,null,null,null,null,null,null,null,null,null,null,null,null,null,null,null,null,null,null,null,null,null,null,null,null,null,null,null,null,null,null,null,0,0,0,0,0,0,0,0,0,0,0,0,0,0,0,0,0,0,0,0,0,0,0,0,0,0,0,0,0,0,0,0,0,0,0,0,0,0,0]
["WD Ave",2200,{"$f":"SUM(C2655+C2679+C2703+C2727+C2751)/5","v":0},0,0,0,0,0,0,0,0,0,0,0,0,0,0,0,0,0,0,0,0,0,0,0,0,0,0,0,0,0,0,0,0,0,0,null,null,"WD Ave",2200,{"$f":"SUM(AP2655+AP2679+AP2703+AP2727+AP2751)/5","v":0},0,0,0,0,0,0,0,0,0,0,0,0,0,0,0,0,0,0,0,0,0,0,0,0,0,0,0,0,0,0,0,0,0,0,null,null,"WD Ave",2200,{"$f":"SUM(CC2655+CC2679+CC2703+CC2727+CC2751)/5","v":0},0,0,0,0,0,0,0,0,0,0,0,0,0,0,0,0,0,0,0,0,0,0,0,0,0,0,0,0,0,0,0,0,0,0,null,null,0,0,0,0,0,0,0,0,0,0,0,0,0,0,0,0,0,0,0,0,0,0,0,0,0,0,0,0,0,0,0,0,0,0,0,0,0,0,0]
["7 Day Ave",900,{"$f":"SUM(C2642+C2666+C2690+C2714+C2738+C2762+C2786)/7","v":0},0,0,0,0,0,0,0,0,0,0,0,0,0,0,0,0,0,0,0,0,0,0,0,0,0,0,0,0,0,0,0,0,0,0,null,null,"7 Day Ave",900,{"$f":"SUM(AP2642+AP2666+AP2690+AP2714+AP2738+AP2762+AP2786)/7","v":0},0,0,0,0,0,0,0,0,0,0,0,0,0,0,0,0,0,0,0,0,0,0,0,0,0,0,0,0,0,0,0,0,0,0,null,null,"7 Day Ave",900,{"$f":"SUM(CC2642+CC2666+CC2690+CC2714+CC2738+CC2762+CC2786)/7","v":0},0,0,0,0,0,0,0,0,0,0,0,0,0,0,0,0,0,0,0,0,0,0,0,0,0,0,0,0,0,0,0,0,0,0,null,null,0,0,0,0,0,0,0,0,0,0,0,0,0,0,0,0,0,0,0,0,0,0,0,0,0,0,0,0,0,0,0,0,0,0,0,0,0,0,0]
["Mon",2200,null,null,null,null,null,null,null,null,null,null,null,null,null,null,null,null,null,null,null,null,null,null,null,null,null,null,null,null,null,null,null,null,null,null,null,null,null,"Mon",2200,null,null,null,null,null,null,null,null,null,null,null,null,null,null,null,null,null,null,null,null,null,null,null,null,null,null,null,null,null,null,null,null,null,null,null,null,null,"Mon",2200,null,null,null,null,null,null,null,null,null,null,null,null,null,null,null,null,null,null,null,null,null,null,null,null,null,null,null,null,null,null,null,null,null,null,null,null,null,0,0,0,0,0,0,0,0,0,0,0,0,0,0,0,0,0,0,0,0,0,0,0,0,0,0,0,0,0,0,0,0,0,0,0,0,0,0,0,0,0,0,0,0,0,0,0,0,0,0,0,0,0,0,0,0,0,0,0,0,0,0,0]
["Tue",900,null,null,null,null,null,null,null,null,null,null,null,null,null,null,null,null,null,null,null,null,null,null,null,null,null,null,null,null,null,null,null,null,null,null,null,null,null,"Tue",900,null,null,null,null,null,null,null,null,null,null,null,null,null,null,null,null,null,null,null,null,null,null,null,null,null,null,null,null,null,null,null,null,null,null,null,null,null,"Tue",900,null,null,null,null,null,null,null,null,null,null,null,null,null,null,null,null,null,null,null,null,null,null,null,null,null,null,null,null,null,null,null,null,null,null,null,null,null,0,0,0,0,0,0,0,0,0,0,0,0,0,0,0,0,0,0,0,0,0,0,0,0,0,0,0,0,0,0,0,0,0,0,0,0,0,0,0,null,5,"Sat"]
["Thu",100,null,null,null,null,null,null,null,null,null,null,null,null,null,null,null,null,null,null,null,null,null,null,null,null,null,null,null,null,null,null,null,null,null,null,null,null,null,"Thu",100,null,null,null,null,null,null,null,null,null,null,null,null,null,null,null,null,null,null,null,null,null,null,null,null,null,null,null,null,null,null,null,null,null,null,null,null,null,"Thu",100,null,null,null,null,null,null,null,null,null,null,null,null,null,null,null,null,null,null,null,null,null,null,null,null,null,null,null,null,null,null,null,null,null,null,null,null,null,0,0,0,0,0,0,0,0,0,0,0,0,0,0,0,0,0,0,0,0,0,0,0,0,0,0,0,0,0,0,0,0,0,0,0,0,0,0,0]
["Thu",1600,null,null,null,null,null,null,null,null,null,null,null,null,null,null,null,null,null,null,null,null,null,null,null,null,null,null,null,null,null,null,null,null,null,null,null,null,null,"Thu",1600,null,null,null,null,null,null,null,null,null,null,null,null,null,null,null,null,null,null,null,null,null,null,null,null,null,null,null,null,null,null,null,null,null,null,null,null,null,"Thu",1600,null,null,null,null,null,null,null,null,null,null,null,null,null,null,null,null,null,null,null,null,null,null,null,null,null,null,null,null,null,null,null,null,null,null,null,null,null,0,0,0,0,0,0,0,0,0,0,0,0,0,0,0,0,0,0,0,0,0,0,0,0,0,0,0,0,0,0,0,0,0,0,0,0,0,0,0]
["Sat",400,null,null,null,null,null,null,null,null,null,null,null,null,null,null,null,null,null,null,null,null,null,null,null,null,null,null,null,null,null,null,null,null,null,null,null,null,null,"Sat",400,null,null,null,null,null,null,null,null,null,null,null,null,null,null,null,null,null,null,null,null,null,null,null,null,null,null,null,null,null,null,null,null,null,null,null,null,null,"Sat",400,null,null,null,null,null,null,null,null,null,null,null,null,null,null,null,null,null,null,null,null,null,null,null,null,null,null,null,null,null,null,null,null,null,null,null,null,null,0,0,0,0,0,0,0,0,0,0,0,0,0,0,0,0,0,0,0,0,0,0,0,0,0,0,0,0,0,0,0,0,0,0,0,0,0,0,0]
["Sat",1900,null,null,null,null,null,null,null,null,null,null,null,null,null,null,null,null,null,null,null,null,null,null,null,null,null,null,null,null,null,null,null,null,null,null,null,null,null,"Sat",1900,null,null,null,null,null,null,null,null,null,null,null,null,null,null,null,null,null,null,null,null,null,null,null,null,null,null,null,null,null,null,null,null,null,null,null,null,null,"Sat",1900,null,null,null,null,null,null,null,null,null,null,null,null,null,null,null,null,null,null,null,null,null,null,null,null,null,null,null,null,null,null,null,null,null,null,null,null,null,0,0,0,0,0,0,0,0,0,0,0,0,0,0,0,0,0,0,0,0,0,0,0,0,0,0,0,0,0,0,0,0,0,0,0,0,0,0,0]
["WD Ave",700,{"$f":"SUM(C2859+C2883+C2907+C2931+C2955)/5","v":0},0,0,0,0,0,0,0,0,0,0,0,0,0,0,0,0,0,0,0,0,0,0,0,0,0,0,0,0,0,0,0,0,0,0,null,null,"WD Ave",700,{"$f":"SUM(AP2859+AP2883+AP2907+AP2931+AP2955)/5","v":0},0,0,0,0,0,0,0,0,0,0,0,0,0,0,0,0,0,0,0,0,0,0,0,0,0,0,0,0,0,0,0,0,0,0,null,null,"WD Ave",700,{"$f":"SUM(CC2859+CC2883+CC2907+CC2931+CC2955)/5","v":0},0,0,0,0,0,0,0,0,0,0,0,0,0,0,0,0,0,0,0,0,0,0,0,0,0,0,0,0,0,0,0,0,0,0,null,null,0,0,0,0,0,0,0,0,0,0,0,0,0,0,0,0,0,0,0,0,0,0,0,0,0,0,0,0,0,0,0,0,0,0,0,0,0,0,0]
["WD Ave",1100,{"$f":"SUM(C2863+C2887+C2911+C2935+C2959)/5","v":0},0,0,0,0,0,0,0,0,0,0,0,0,0,0,0,0,0,0,0,0,0,0,0,0,0,0,0,0,0,0,0,0,0,0,null,null,"WD Ave",1100,{"$f":"SUM(AP2863+AP2887+AP2911+AP2935+AP2959)/5","v":0},0,0,0,0,0,0,0,0,0,0,0,0,0,0,0,0,0,0,0,0,0,0,0,0,0,0,0,0,0,0,0,0,0,0,null,null,"WD Ave",1100,{"$f":"SUM(CC2863+CC2887+CC2911+CC2935+CC2959)/5","v":0},0,0,0,0,0,0,0,0,0,0,0,0,0,0,0,0,0,0,0,0,0,0,0,0,0,0,0,0,0,0,0,0,0,0,null,null,0,0,0,0,0,0,0,0,0,0,0,0,0,0,0,0,0,0,0,0,0,0,0,0,0,0,0,0,0,0,0,0,0,0,0,0,0,0,0]
["7 Day Ave",1400,{"$f":"SUM(C2866+C2890+C2914+C2938+C2962+C2986+C3010)/7","v":0},0,0,0,0,0,0,0,0,0,0,0,0,0,0,0,0,0,0,0,0,0,0,0,0,0,0,0,0,0,0,0,0,0,0,null,null,"7 Day Ave",1400,{"$f":"SUM(AP2866+AP2890+AP2914+AP2938+AP2962+AP2986+AP3010)/7","v":0},0,0,0,0,0,0,0,0,0,0,0,0,0,0,0,0,0,0,0,0,0,0,0,0,0,0,0,0,0,0,0,0,0,0,null,null,"7 Day Ave",1400,{"$f":"SUM(CC2866+CC2890+CC2914+CC2938+CC2962+CC2986+CC3010)/7","v":0},0,0,0,0,0,0,0,0,0,0,0,0,0,0,0,0,0,0,0,0,0,0,0,0,0,0,0,0,0,0,0,0,0,0,null,null,0,0,0,0,0,0,0,0,0,0,0,0,0,0,0,0,0,0,0,0,0,0,0,0,0,0,0,0,0,0,0,0,0,0,0,0,0,0,0]
["Mon",2300,null,null,null,null,null,null,null,null,null,null,null,null,null,null,null,null,null,null,null,null,null,null,null,null,null,null,null,null,null,null,null,null,null,null,null,null,null,"Mon",2300,null,null,null,null,null,null,null,null,null,null,null,null,null,null,null,null,null,null,null,null,null,null,null,null,null,null,null,null,null,null,null,null,null,null,null,null,null,"Mon",2300,null,null,null,null,null,null,null,null,null,null,null,null,null,null,null,null,null,null,null,null,null,null,null,null,null,null,null,null,null,null,null,null,null,null,null,null,null,0,0,0,0,0,0,0,0,0,0,0,0,0,0,0,0,0,0,0,0,0,0,0,0,0,0,0,0,0,0,0,0,0,0,0,0,0,0,0,0,0,0,0,0,0,0,0,0,0,0,0,0,0,0,0,0,0,0,0,0,0,0,0]
["Tue",1400,null,null,null,null,null,null,null,null,null,null,null,null,null,null,null,null,null,null,null,null,null,null,null,null,null,null,null,null,null,null,null,null,null,null,null,null,null,"Tue",1400,null,null,null,null,null,null,null,null,null,null,null,null,null,null,null,null,null,null,null,null,null,null,null,null,null,null,null,null,null,null,null,null,null,null,null,null,null,"Tue",1400,null,null,null,null,null,null,null,null,null,null,null,null,null,null,null,null,null,null,null,null,null,null,null,null,null,null,null,null,null,null,null,null,null,null,null,null,null,0,0,0,0,0,0,0,0,0,0,0,0,0,0,0,0,0,0,0,0,0,0,0,0,0,0,0,0,0,0,0,0,0,0,0,0,0,0,0]
["Thu",600,null,null,null,null,null,null,null,null,null,null,null,null,null,null,null,null,null,null,null,null,null,null,null,null,null,null,null,null,null,null,null,null,null,null,null,null,null,"Thu",600,null,null,null,null,null,null,null,null,null,null,null,null,null,null,null,null,null,null,null,null,null,null,null,null,null,null,null,null,null,null,null,null,null,null,null,null,null,"Thu",600,null,null,null,null,null,null,null,null,null,null,null,null,null,null,null,null,null,null,null,null,null,null,null,null,null,null,null,null,null,null,null,null,null,null,null,null,null,0,0,0,0,0,0,0,0,0,0,0,0,0,0,0,0,0,0,0,0,0,0,0,0,0,0,0,0,0,0,0,0,0,0,0,0,0,0,0]
["Thu",1700,null,null,null,null,null,null,null,null,null,null,null,null,null,null,null,null,null,null,null,null,null,null,null,null,null,null,null,null,null,null,null,null,null,null,null,null,null,"Thu",1700,null,null,null,null,null,null,null,null,null,null,null,null,null,null,null,null,null,null,null,null,null,null,null,null,null,null,null,null,null,null,null,null,null,null,null,null,null,"Thu",1700,null,null,null,null,null,null,null,null,null,null,null,null,null,null,null,null,null,null,null,null,null,null,null,null,null,null,null,null,null,null,null,null,null,null,null,null,null,0,0,0,0,0,0,0,0,0,0,0,0,0,0,0,0,0,0,0,0,0,0,0,0,0,0,0,0,0,0,0,0,0,0,0,0,0,0,0]
["Sat",900,null,null,null,null,null,null,null,null,null,null,null,null,null,null,null,null,null,null,null,null,null,null,null,null,null,null,null,null,null,null,null,null,null,null,null,null,null,"Sat",900,null,null,null,null,null,null,null,null,null,null,null,null,null,null,null,null,null,null,null,null,null,null,null,null,null,null,null,null,null,null,null,null,null,null,null,null,null,"Sat",900,null,null,null,null,null,null,null,null,null,null,null,null,null,null,null,null,null,null,null,null,null,null,null,null,null,null,null,null,null,null,null,null,null,null,null,null,null,0,0,0,0,0,0,0,0,0,0,0,0,0,0,0,0,0,0,0,0,0,0,0,0,0,0,0,0,0,0,0,0,0,0,0,0,0,0,0]
["Sat",2000,null,null,null,null,null,null,null,null,null,null,null,null,null,null,null,null,null,null,null,null,null,null,null,null,null,null,null,null,null,null,null,null,null,null,null,null,null,"Sat",2000,null,null,null,null,null,null,null,null,null,null,null,null,null,null,null,null,null,null,null,null,null,null,null,null,null,null,null,null,null,null,null,null,null,null,null,null,null,"Sat",2000,null,null,null,null,null,null,null,null,null,null,null,null,null,null,null,null,null,null,null,null,null,null,null,null,null,null,null,null,null,null,null,null,null,null,null,null,null,0,0,0,0,0,0,0,0,0,0,0,0,0,0,0,0,0,0,0,0,0,0,0,0,0,0,0,0,0,0,0,0,0,0,0,0,0,0,0]
["WD Ave",1200,{"$f":"SUM(C3083+C3107+C3131+C3155+C3179)/5","v":0},0,0,0,0,0,0,0,0,0,0,0,0,0,0,0,0,0,0,0,0,0,0,0,0,0,0,0,0,0,0,0,0,0,0,null,null,"WD Ave",1200,{"$f":"SUM(AP3083+AP3107+AP3131+AP3155+AP3179)/5","v":0},0,0,0,0,0,0,0,0,0,0,0,0,0,0,0,0,0,0,0,0,0,0,0,0,0,0,0,0,0,0,0,0,0,0,null,null,"WD Ave",1200,{"$f":"SUM(CC3083+CC3107+CC3131+CC3155+CC3179)/5","v":0},0,0,0,0,0,0,0,0,0,0,0,0,0,0,0,0,0,0,0,0,0,0,0,0,0,0,0,0,0,0,0,0,0,0,null,null,0,0,0,0,0,0,0,0,0,0,0,0,0,0,0,0,0,0,0,0,0,0,0,0,0,0,0,0,0,0,0,0,0,0,0,0,0,0,0]
["7 Day Ave",300,{"$f":"SUM(C3074+C3098+C3122+C3146+C3170+C3194+C3218)/7","v":0},0,0,0,0,0,0,0,0,0,0,0,0,0,0,0,0,0,0,0,0,0,0,0,0,0,0,0,0,0,0,0,0,0,0,null,null,"7 Day Ave",300,{"$f":"SUM(AP3074+AP3098+AP3122+AP3146+AP3170+AP3194+AP3218)/7","v":0},0,0,0,0,0,0,0,0,0,0,0,0,0,0,0,0,0,0,0,0,0,0,0,0,0,0,0,0,0,0,0,0,0,0,null,null,"7 Day Ave",300,{"$f":"SUM(CC3074+CC3098+CC3122+CC3146+CC3170+CC3194+CC3218)/7","v":0},0,0,0,0,0,0,0,0,0,0,0,0,0,0,0,0,0,0,0,0,0,0,0,0,0,0,0,0,0,0,0,0,0,0,null,null,0,0,0,0,0,0,0,0,0,0,0,0,0,0,0,0,0,0,0,0,0,0,0,0,0,0,0,0,0,0,0,0,0,0,0,0,0,0,0]
["Mon",1200,null,null,null,null,null,null,null,null,null,null,null,null,null,null,null,null,null,null,null,null,null,null,null,null,null,null,null,null,null,null,null,null,null,null,null,null,null,"Mon",1200,null,null,null,null,null,null,null,null,null,null,null,null,null,null,null,null,null,null,null,null,null,null,null,null,null,null,null,null,null,null,null,null,null,null,null,null,null,"Mon",1200,null,null,null,null,null,null,null,null,null,null,null,null,null,null,null,null,null,null,null,null,null,null,null,null,null,null,null,null,null,null,null,null,null,null,null,null,null,0,0,0,0,0,0,0,0,0,0,0,0,0,0,0,0,0,0,0,0,0,0,0,0,0,0,0,0,0,0,0,0,0,0,0,0,0,0,0,0,0,0,0,0,0,0,0,0,0,0,0,0,0,0,0,0,0,0,0,0,0,0,0]
["Tue",300,null,null,null,null,null,null,null,null,null,null,null,null,null,null,null,null,null,null,null,null,null,null,null,null,null,null,null,null,null,null,null,null,null,null,null,null,null,"Tue",300,null,null,null,null,null,null,null,null,null,null,null,null,null,null,null,null,null,null,null,null,null,null,null,null,null,null,null,null,null,null,null,null,null,null,null,null,null,"Tue",300,null,null,null,null,null,null,null,null,null,null,null,null,null,null,null,null,null,null,null,null,null,null,null,null,null,null,null,null,null,null,null,null,null,null,null,null,null,0,0,0,0,0,0,0,0,0,0,0,0,0,0,0,0,0,0,0,0,0,0,0,0,0,0,0,0,0,0,0,0,0,0,0,0,0,0,0,null,null,"Headway >=0","Min","Median","Average",0.85,0.95,"Max","StDev","15Kph Pace Lower Bound","Pace Count","Count > PSL ","Min","Median","Average",0.85,0.95,"Max","StDev","15Kph Pace Lower Bound","Pace Count","Count > PSL ","Min","Median","Average",0.85,0.95,"Max","StDev","15Kph Pace Lower Bound","Pace Count","Count > PSL "]
["Tue",1800,null,null,null,null,null,null,null,null,null,null,null,null,null,null,null,null,null,null,null,null,null,null,null,null,null,null,null,null,null,null,null,null,null,null,null,null,null,"Tue",1800,null,null,null,null,null,null,null,null,null,null,null,null,null,null,null,null,null,null,null,null,null,null,null,null,null,null,null,null,null,null,null,null,null,null,null,null,null,"Tue",1800,null,null,null,null,null,null,null,null,null,null,null,null,null,null,null,null,null,null,null,null,null,null,null,null,null,null,null,null,null,null,null,null,null,null,null,null,null,0,0,0,0,0,0,0,0,0,0,0,0,0,0,0,0,0,0,0,0,0,0,0,0,0,0,0,0,0,0,0,0,0,0,0,0,0,0,0,null,2,"Wed"]
["Thu",600,null,null,null,null,null,null,null,null,null,null,null,null,null,null,null,null,null,null,null,null,null,null,null,null,null,null,null,null,null,null,null,null,null,null,null,null,null,"Thu",600,null,null,null,null,null,null,null,null,null,null,null,null,null,null,null,null,null,null,null,null,null,null,null,null,null,null,null,null,null,null,null,null,null,null,null,null,null,"Thu",600,null,null,null,null,null,null,null,null,null,null,null,null,null,null,null,null,null,null,null,null,null,null,null,null,null,null,null,null,null,null,null,null,null,null,null,null,null,0,0,0,0,0,0,0,0,0,0,0,0,0,0,0,0,0,0,0,0,0,0,0,0,0,0,0,0,0,0,0,0,0,0,0,0,0,0,0]
["Thu",2100,null,null,null,null,null,null,null,null,null,null,null,null,null,null,null,null,null,null,null,null,null,null,null,null,null,null,null,null,null,null,null,null,null,null,null,null,null,"Thu",2100,null,null,null,null,null,null,null,null,null,null,null,null,null,null,null,null,null,null,null,null,null,null,null,null,null,null,null,null,null,null,null,null,null,null,null,null,null,"Thu",2100,null,null,null,null,null,null,null,null,null,null,null,null,null,null,null,null,null,null,null,null,null,null,null,null,null,null,null,null,null,null,null,null,null,null,null,null,null,0,0,0,0,0,0,0,0,0,0,0,0,0,0,0,0,0,0,0,0,0,0,0,0,0,0,0,0,0,0,0,0,0,0,0,0,0,0,0]
["Sat",900,null,null,null,null,null,null,null,null,null,null,null,null,null,null,null,null,null,null,null,null,null,null,null,null,null,null,null,null,null,null,null,null,null,null,null,null,null,"Sat",900,null,null,null,null,null,null,null,null,null,null,null,null,null,null,null,null,null,null,null,null,null,null,null,null,null,null,null,null,null,null,null,null,null,null,null,null,null,"Sat",900,null,null,null,null,null,null,null,null,null,null,null,null,null,null,null,null,null,null,null,null,null,null,null,null,null,null,null,null,null,null,null,null,null,null,null,null,null,0,0,0,0,0,0,0,0,0,0,0,0,0,0,0,0,0,0,0,0,0,0,0,0,0,0,0,0,0,0,0,0,0,0,0,0,0,0,0]
["Sun",0,null,null,null,null,null,null,null,null,null,null,null,null,null,null,null,null,null,null,null,null,null,null,null,null,null,null,null,null,null,null,null,null,null,null,null,null,null,"Sun",0,null,null,null,null,null,null,null,null,null,null,null,null,null,null,null,null,null,null,null,null,null,null,null,null,null,null,null,null,null,null,null,null,null,null,null,null,null,"Sun",0,null,null,null,null,null,null,null,null,null,null,null,null,null,null,null,null,null,null,null,null,null,null,null,null,null,null,null,null,null,null,null,null,null,null,null,null,null,0,0,0,0,0,0,0,0,0,0,0,0,0,0,0,0,0,0,0,0,0,0,0,0,0,0,0,0,0,0,0,0,0,0,0,0,0,0,0]
["WD Ave",1600,{"$f":"SUM(C3306+C3330+C3354+C3378+C3402)/5","v":0},0,0,0,0,0,0,0,0,0,0,0,0,0,0,0,0,0,0,0,0,0,0,0,0,0,0,0,0,0,0,0,0,0,0,null,null,"WD Ave",1600,{"$f":"SUM(AP3306+AP3330+AP3354+AP3378+AP3402)/5","v":0},0,0,0,0,0,0,0,0,0,0,0,0,0,0,0,0,0,0,0,0,0,0,0,0,0,0,0,0,0,0,0,0,0,0,null,null,"WD Ave",1600,{"$f":"SUM(CC3306+CC3330+CC3354+CC3378+CC3402)/5","v":0},0,0,0,0,0,0,0,0,0,0,0,0,0,0,0,0,0,0,0,0,0,0,0,0,0,0,0,0,0,0,0,0,0,0,null,null,0,0,0,0,0,0,0,0,0,0,0,0,0,0,0,0,0,0,0,0,0,0,0,0,0,0,0,0,0,0,0,0,0,0,0,0,0,0,0]
["7 Day Ave",300,{"$f":"SUM(C3293+C3317+C3341+C3365+C3389+C3413+C3437)/7","v":0},0,0,0,0,0,0,0,0,0,0,0,0,0,0,0,0,0,0,0,0,0,0,0,0,0,0,0,0,0,0,0,0,0,0,null,null,"7 Day Ave",300,{"$f":"SUM(AP3293+AP3317+AP3341+AP3365+AP3389+AP3413+AP3437)/7","v":0},0,0,0,0,0,0,0,0,0,0,0,0,0,0,0,0,0,0,0,0,0,0,0,0,0,0,0,0,0,0,0,0,0,0,null,null,"7 Day Ave",300,{"$f":"SUM(CC3293+CC3317+CC3341+CC3365+CC3389+CC3413+CC3437)/7","v":0},0,0,0,0,0,0,0,0,0,0,0,0,0,0,0,0,0,0,0,0,0,0,0,0,0,0,0,0,0,0,0,0,0,0,null,null,0,0,0,0,0,0,0,0,0,0,0,0,0,0,0,0,0,0,0,0,0,0,0,0,0,0,0,0,0,0,0,0,0,0,0,0,0,0,0]
["Mon",1600,null,null,null,null,null,null,null,null,null,null,null,null,null,null,null,null,null,null,null,null,null,null,null,null,null,null,null,null,null,null,null,null,null,null,null,null,null,"Mon",1600,null,null,null,null,null,null,null,null,null,null,null,null,null,null,null,null,null,null,null,null,null,null,null,null,null,null,null,null,null,null,null,null,null,null,null,null,null,"Mon",1600,null,null,null,null,null,null,null,null,null,null,null,null,null,null,null,null,null,null,null,null,null,null,null,null,null,null,null,null,null,null,null,null,null,null,null,null,null,0,0,0,0,0,0,0,0,0,0,0,0,0,0,0,0,0,0,0,0,0,0,0,0,0,0,0,0,0,0,0,0,0,0,0,0,0,0,0,0,0,0,0,0,0,0,0,0,0,0,0,0,0,0,0,0,0,0,0,0,0,0,0]
["Tue",300,null,null,null,null,null,null,null,null,null,null,null,null,null,null,null,null,null,null,null,null,null,null,null,null,null,null,null,null,null,null,null,null,null,null,null,null,null,"Tue",300,null,null,null,null,null,null,null,null,null,null,null,null,null,null,null,null,null,null,null,null,null,null,null,null,null,null,null,null,null,null,null,null,null,null,null,null,null,"Tue",300,null,null,null,null,null,null,null,null,null,null,null,null,null,null,null,null,null,null,null,null,null,null,null,null,null,null,null,null,null,null,null,null,null,null,null,null,null,0,0,0,0,0,0,0,0,0,0,0,0,0,0,0,0,0,0,0,0,0,0,0,0,0,0,0,0,0,0,0,0,0,0,0,0,0,0,0,null,null,"Headway >=0","Min","Median","Average",0.85,0.95,"Max","StDev","15Kph Pace Lower Bound","Pace Count","Count > PSL ","Min","Median","Average",0.85,0.95,"Max","StDev","15Kph Pace Lower Bound","Pace Count","Count > PSL ","Min","Median","Average",0.85,0.95,"Max","StDev","15Kph Pace Lower Bound","Pace Count","Count > PSL "]
["Wed",1900,null,null,null,null,null,null,null,null,null,null,null,null,null,null,null,null,null,null,null,null,null,null,null,null,null,null,null,null,null,null,null,null,null,null,null,null,null,"Wed",1900,null,null,null,null,null,null,null,null,null,null,null,null,null,null,null,null,null,null,null,null,null,null,null,null,null,null,null,null,null,null,null,null,null,null,null,null,null,"Wed",1900,null,null,null,null,null,null,null,null,null,null,null,null,null,null,null,null,null,null,null,null,null,null,null,null,null,null,null,null,null,null,null,null,null,null,null,null,null,0,0,0,0,0,0,0,0,0,0,0,0,0,0,0,0,0,0,0,0,0,0,0,0,0,0,0,0,0,0,0,0,0,0,0,0,0,0,0]
["Thu",1000,null,null,null,null,null,null,null,null,null,null,null,null,null,null,null,null,null,null,null,null,null,null,null,null,null,null,null,null,null,null,null,null,null,null,null,null,null,"Thu",1000,null,null,null,null,null,null,null,null,null,null,null,null,null,null,null,null,null,null,null,null,null,null,null,null,null,null,null,null,null,null,null,null,null,null,null,null,null,"Thu",1000,null,null,null,null,null,null,null,null,null,null,null,null,null,null,null,null,null,null,null,null,null,null,null,null,null,null,null,null,null,null,null,null,null,null,null,null,null,0,0,0,0,0,0,0,0,0,0,0,0,0,0,0,0,0,0,0,0,0,0,0,0,0,0,0,0,0,0,0,0,0,0,0,0,0,0,0]
["Fri",2200,null,null,null,null,null,null,null,null,null,null,null,null,null,null,null,null,null,null,null,null,null,null,null,null,null,null,null,null,null,null,null,null,null,null,null,null,null,"Fri",2200,null,null,null,null,null,null,null,null,null,null,null,null,null,null,null,null,null,null,null,null,null,null,null,null,null,null,null,null,null,null,null,null,null,null,null,null,null,"Fri",2200,null,null,null,null,null,null,null,null,null,null,null,null,null,null,null,null,null,null,null,null,null,null,null,null,null,null,null,null,null,null,null,null,null,null,null,null,null,0,0,0,0,0,0,0,0,0,0,0,0,0,0,0,0,0,0,0,0,0,0,0,0,0,0,0,0,0,0,0,0,0,0,0,0,0,0,0]
["Sat",1300,null,null,null,null,null,null,null,null,null,null,null,null,null,null,null,null,null,null,null,null,null,null,null,null,null,null,null,null,null,null,null,null,null,null,null,null,null,"Sat",1300,null,null,null,null,null,null,null,null,null,null,null,null,null,null,null,null,null,null,null,null,null,null,null,null,null,null,null,null,null,null,null,null,null,null,null,null,null,"Sat",1300,null,null,null,null,null,null,null,null,null,null,null,null,null,null,null,null,null,null,null,null,null,null,null,null,null,null,null,null,null,null,null,null,null,null,null,null,null,0,0,0,0,0,0,0,0,0,0,0,0,0,0,0,0,0,0,0,0,0,0,0,0,0,0,0,0,0,0,0,0,0,0,0,0,0,0,0]
["Sun",400,null,null,null,null,null,null,null,null,null,null,null,null,null,null,null,null,null,null,null,null,null,null,null,null,null,null,null,null,null,null,null,null,null,null,null,null,null,"Sun",400,null,null,null,null,null,null,null,null,null,null,null,null,null,null,null,null,null,null,null,null,null,null,null,null,null,null,null,null,null,null,null,null,null,null,null,null,null,"Sun",400,null,null,null,null,null,null,null,null,null,null,null,null,null,null,null,null,null,null,null,null,null,null,null,null,null,null,null,null,null,null,null,null,null,null,null,null,null,0,0,0,0,0,0,0,0,0,0,0,0,0,0,0,0,0,0,0,0,0,0,0,0,0,0,0,0,0,0,0,0,0,0,0,0,0,0,0]
["WD Ave",1600,{"$f":"SUM(C3525+C3549+C3573+C3597+C3621)/5","v":0},0,0,0,0,0,0,0,0,0,0,0,0,0,0,0,0,0,0,0,0,0,0,0,0,0,0,0,0,0,0,0,0,0,0,null,null,"WD Ave",1600,{"$f":"SUM(AP3525+AP3549+AP3573+AP3597+AP3621)/5","v":0},0,0,0,0,0,0,0,0,0,0,0,0,0,0,0,0,0,0,0,0,0,0,0,0,0,0,0,0,0,0,0,0,0,0,null,null,"WD Ave",1600,{"$f":"SUM(CC3525+CC3549+CC3573+CC3597+CC3621)/5","v":0},0,0,0,0,0,0,0,0,0,0,0,0,0,0,0,0,0,0,0,0,0,0,0,0,0,0,0,0,0,0,0,0,0,0,null,null,0,0,0,0,0,0,0,0,0,0,0,0,0,0,0,0,0,0,0,0,0,0,0,0,0,0,0,0,0,0,0,0,0,0,0,0,0,0,0]
[null,null,"Vehicle Classification",null,null,null,null,null,null,null,null,null,null,null,"Vehicle Speed Bins",null,null,null,null,null,null,null,null,null,null,null,null,null,null,null,null,null,null,null,null,null,null,null,null,null,null,"Vehicle Classification",null,null,null,null,null,null,null,null,null,null,null,"Vehicle Speed Bins",null,null,null,null,null,null,null,null,null,null,null,null,null,null,null,null,null,null,null,null,null,null,null,null,null,null,"Vehicle Classification",null,null,null,null,null,null,null,null,null,null,null,"Vehicle Speed Bins",null,null,null,null,null,null,null,null,null,null,null,null,null,null,null,null,null,null,null,null,null,null,null,null,"C1",null,null,null,null,null,null,null,"C9","C10","C11","C12","Total","C1","C2","C3","C4","C5","C6","C7","C8","C9","C10","C11","C12","Total","C1","C2","C3","C4","C5","C6","C7","C8","C9","C10","C11","C12","Total",null,null,null,null,null,null,null,null,null,null,null,null,null,null,null,null,null,null,null,null,null,{"$f":"FA3725","v":"NB"},{"$f":"FH3725","v":"SB"},{"$f":"FO3725","v":"Combined"}]
["Mon",1700,null,null,null,null,null,null,null,null,null,null,null,null,null,null,null,null,null,null,null,null,null,null,null,null,null,null,null,null,null,null,null,null,null,null,null,null,null,"Mon",1700,null,null,null,null,null,null,null,null,null,null,null,null,null,null,null,null,null,null,null,null,null,null,null,null,null,null,null,null,null,null,null,null,null,null,null,null,null,"Mon",1700,null,null,null,null,null,null,null,null,null,null,null,null,null,null,null,null,null,null,null,null,null,null,null,null,null,null,null,null,null,null,null,null,null,null,null,null,null,0,0,0,0,0,0,0,0,0,0,0,0,0,0,0,0,0,0,0,0,0,0,0,0,0,0,0,0,0,0,0,0,0,0,0,0,0,0,0,0,0,0,0,0,0,0,0,0,0,0,0,0,0,0,0,0,0,0,0,0,0,0,0]
["Tue",800,null,null,null,null,null,null,null,null,null,null,null,null,null,null,null,null,null,null,null,null,null,null,null,null,null,null,null,null,null,null,null,null,null,null,null,null,null,"Tue",800,null,null,null,null,null,null,null,null,null,null,null,null,null,null,null,null,null,null,null,null,null,null,null,null,null,null,null,null,null,null,null,null,null,null,null,null,null,"Tue",800,null,null,null,null,null,null,null,null,null,null,null,null,null,null,null,null,null,null,null,null,null,null,null,null,null,null,null,null,null,null,null,null,null,null,null,null,null,0,0,0,0,0,0,0,0,0,0,0,0,0,0,0,0,0,0,0,0,0,0,0,0,0,0,0,0,0,0,0,0,0,0,0,0,0,0,0,null,4,"Fri"]
["Thu",0,null,null,null,null,null,null,null,null,null,null,null,null,null,null,null,null,null,null,null,null,null,null,null,null,null,null,null,null,null,null,null,null,null,null,null,null,null,"Thu",0,null,null,null,null,null,null,null,null,null,null,null,null,null,null,null,null,null,null,null,null,null,null,null,null,null,null,null,null,null,null,null,null,null,null,null,null,null,"Thu",0,null,null,null,null,null,null,null,null,null,null,null,null,null,null,null,null,null,null,null,null,null,null,null,null,null,null,null,null,null,null,null,null,null,null,null,null,null,0,0,0,0,0,0,0,0,0,0,0,0,0,0,0,0,0,0,0,0,0,0,0,0,0,0,0,0,0,0,0,0,0,0,0,0,0,0,0]
["Thu",1100,null,null,null,null,null,null,null,null,null,null,null,null,null,null,null,null,null,null,null,null,null,null,null,null,null,null,null,null,null,null,null,null,null,null,null,null,null,"Thu",1100,null,null,null,null,null,null,null,null,null,null,null,null,null,null,null,null,null,null,null,null,null,null,null,null,null,null,null,null,null,null,null,null,null,null,null,null,null,"Thu",1100,null,null,null,null,null,null,null,null,null,null,null,null,null,null,null,null,null,null,null,null,null,null,null,null,null,null,null,null,null,null,null,null,null,null,null,null,null,0,0,0,0,0,0,0,0,0,0,0,0,0,0,0,0,0,0,0,0,0,0,0,0,0,0,0,0,0,0,0,0,0,0,0,0,0,0,0]
["Sat",300,null,null,null,null,null,null,null,null,null,null,null,null,null,null,null,null,null,null,null,null,null,null,null,null,null,null,null,null,null,null,null,null,null,null,null,null,null,"Sat",300,null,null,null,null,null,null,null,null,null,null,null,null,null,null,null,null,null,null,null,null,null,null,null,null,null,null,null,null,null,null,null,null,null,null,null,null,null,"Sat",300,null,null,null,null,null,null,null,null,null,null,null,null,null,null,null,null,null,null,null,null,null,null,null,null,null,null,null,null,null,null,null,null,null,null,null,null,null,0,0,0,0,0,0,0,0,0,0,0,0,0,0,0,0,0,0,0,0,0,0,0,0,0,0,0,0,0,0,0,0,0,0,0,0,0,0,0]
["Sat",1400,null,null,null,null,null,null,null,null,null,null,null,null,null,null,null,null,null,null,null,null,null,null,null,null,null,null,null,null,null,null,null,null,null,null,null,null,null,"Sat",1400,null,null,null,null,null,null,null,null,null,null,null,null,null,null,null,null,null,null,null,null,null,null,null,null,null,null,null,null,null,null,null,null,null,null,null,null,null,"Sat",1400,null,null,null,null,null,null,null,null,null,null,null,null,null,null,null,null,null,null,null,null,null,null,null,null,null,null,null,null,null,null,null,null,null,null,null,null,null,0,0,0,0,0,0,0,0,0,0,0,0,0,0,0,0,0,0,0,0,0,0,0,0,0,0,0,0,0,0,0,0,0,0,0,0,0,0,0]
["WD Ave",600,{"$f":"SUM(C3734+C3758+C3782+C3806+C3830)/5","v":0},0,0,0,0,0,0,0,0,0,0,0,0,0,0,0,0,0,0,0,0,0,0,0,0,0,0,0,0,0,0,0,0,0,0,null,null,"WD Ave",600,{"$f":"SUM(AP3734+AP3758+AP3782+AP3806+AP3830)/5","v":0},0,0,0,0,0,0,0,0,0,0,0,0,0,0,0,0,0,0,0,0,0,0,0,0,0,0,0,0,0,0,0,0,0,0,null,null,"WD Ave",600,{"$f":"SUM(CC3734+CC3758+CC3782+CC3806+CC3830)/5","v":0},0,0,0,0,0,0,0,0,0,0,0,0,0,0,0,0,0,0,0,0,0,0,0,0,0,0,0,0,0,0,0,0,0,0,null,null,0,0,0,0,0,0,0,0,0,0,0,0,0,0,0,0,0,0,0,0,0,0,0,0,0,0,0,0,0,0,0,0,0,0,0,0,0,0,0]
["WD Ave",2100,{"$f":"SUM(C3749+C3773+C3797+C3821+C3845)/5","v":0},0,0,0,0,0,0,0,0,0,0,0,0,0,0,0,0,0,0,0,0,0,0,0,0,0,0,0,0,0,0,0,0,0,0,null,null,"WD Ave",2100,{"$f":"SUM(AP3749+AP3773+AP3797+AP3821+AP3845)/5","v":0},0,0,0,0,0,0,0,0,0,0,0,0,0,0,0,0,0,0,0,0,0,0,0,0,0,0,0,0,0,0,0,0,0,0,null,null,"WD Ave",2100,{"$f":"SUM(CC3749+CC3773+CC3797+CC3821+CC3845)/5","v":0},0,0,0,0,0,0,0,0,0,0,0,0,0,0,0,0,0,0,0,0,0,0,0,0,0,0,0,0,0,0,0,0,0,0,null,null,0,0,0,0,0,0,0,0,0,0,0,0,0,0,0,0,0,0,0,0,0,0,0,0,0,0,0,0,0,0,0,0,0,0,0,0,0,0,0]
["Mon",600,null,null,null,null,null,null,null,null,null,null,null,null,null,null,null,null,null,null,null,null,null,null,null,null,null,null,null,null,null,null,null,null,null,null,null,null,null,"Mon",600,null,null,null,null,null,null,null,null,null,null,null,null,null,null,null,null,null,null,null,null,null,null,null,null,null,null,null,null,null,null,null,null,null,null,null,null,null,"Mon",600,null,null,null,null,null,null,null,null,null,null,null,null,null,null,null,null,null,null,null,null,null,null,null,null,null,null,null,null,null,null,null,null,null,null,null,null,null,0,0,0,0,0,0,0,0,0,0,0,0,0,0,0,0,0,0,0,0,0,0,0,0,0,0,0,0,0,0,0,0,0,0,0,0,0,0,0,0,0,0,0,0,0,0,0,0,0,0,0,0,0,0,0,0,0,0,0,0,0,0,0]
["Mon",2100,null,null,null,null,null,null,null,null,null,null,null,null,null,null,null,null,null,null,null,null,null,null,null,null,null,null,null,null,null,null,null,null,null,null,null,null,null,"Mon",2100,null,null,null,null,null,null,null,null,null,null,null,null,null,null,null,null,null,null,null,null,null,null,null,null,null,null,null,null,null,null,null,null,null,null,null,null,null,"Mon",2100,null,null,null,null,null,null,null,null,null,null,null,null,null,null,null,null,null,null,null,null,null,null,null,null,null,null,null,null,null,null,null,null,null,null,null,null,null,0,0,0,0,0,0,0,0,0,0,0,0,0,0,0,0,0,0,0,0,0,0,0,0,0,0,0,0,0,0,0,0,0,0,0,0,0,0,0,0,0,0,0,0,0,0,0,0,0,0,0,0,0,0,0,0,0,0,0,0,0,0,0]
["Tue",1200,null,null,null,null,null,null,null,null,null,null,null,null,null,null,null,null,null,null,null,null,null,null,null,null,null,null,null,null,null,null,null,null,null,null,null,null,null,"Tue",1200,null,null,null,null,null,null,null,null,null,null,null,null,null,null,null,null,null,null,null,null,null,null,null,null,null,null,null,null,null,null,null,null,null,null,null,null,null,"Tue",1200,null,null,null,null,null,null,null,null,null,null,null,null,null,null,null,null,null,null,null,null,null,null,null,null,null,null,null,null,null,null,null,null,null,null,null,null,null,0,0,0,0,0,0,0,0,0,0,0,0,0,0,0,0,0,0,0,0,0,0,0,0,0,0,0,0,0,0,0,0,0,0,0,0,0,0,0,null,null,"7 day"]
["Thu",0,null,null,null,null,null,null,null,null,null,null,null,null,null,null,null,null,null,null,null,null,null,null,null,null,null,null,null,null,null,null,null,null,null,null,null,null,null,"Thu",0,null,null,null,null,null,null,null,null,null,null,null,null,null,null,null,null,null,null,null,null,null,null,null,null,null,null,null,null,null,null,null,null,null,null,null,null,null,"Thu",0,null,null,null,null,null,null,null,null,null,null,null,null,null,null,null,null,null,null,null,null,null,null,null,null,null,null,null,null,null,null,null,null,null,null,null,null,null,0,0,0,0,0,0,0,0,0,0,0,0,0,0,0,0,0,0,0,0,0,0,0,0,0,0,0,0,0,0,0,0,0,0,0,0,0,0,0]
["Thu",1500,null,null,null,null,null,null,null,null,null,null,null,null,null,null,null,null,null,null,null,null,null,null,null,null,null,null,null,null,null,null,null,null,null,null,null,null,null,"Thu",1500,null,null,null,null,null,null,null,null,null,null,null,null,null,null,null,null,null,null,null,null,null,null,null,null,null,null,null,null,null,null,null,null,null,null,null,null,null,"Thu",1500,null,null,null,null,null,null,null,null,null,null,null,null,null,null,null,null,null,null,null,null,null,null,null,null,null,null,null,null,null,null,null,null,null,null,null,null,null,0,0,0,0,0,0,0,0,0,0,0,0,0,0,0,0,0,0,0,0,0,0,0,0,0,0,0,0,0,0,0,0,0,0,0,0,0,0,0]
["Sat",300,null,null,null,null,null,null,null,null,null,null,null,null,null,null,null,null,null,null,null,null,null,null,null,null,null,null,null,null,null,null,null,null,null,null,null,null,null,"Sat",300,null,null,null,null,null,null,null,null,null,null,null,null,null,null,null,null,null,null,null,null,null,null,null,null,null,null,null,null,null,null,null,null,null,null,null,null,null,"Sat",300,null,null,null,null,null,null,null,null,null,null,null,null,null,null,null,null,null,null,null,null,null,null,null,null,null,null,null,null,null,null,null,null,null,null,null,null,null,0,0,0,0,0,0,0,0,0,0,0,0,0,0,0,0,0,0,0,0,0,0,0,0,0,0,0,0,0,0,0,0,0,0,0,0,0,0,0]
["Sat",1800,null,null,null,null,null,null,null,null,null,null,null,null,null,null,null,null,null,null,null,null,null,null,null,null,null,null,null,null,null,null,null,null,null,null,null,null,null,"Sat",1800,null,null,null,null,null,null,null,null,null,null,null,null,null,null,null,null,null,null,null,null,null,null,null,null,null,null,null,null,null,null,null,null,null,null,null,null,null,"Sat",1800,null,null,null,null,null,null,null,null,null,null,null,null,null,null,null,null,null,null,null,null,null,null,null,null,null,null,null,null,null,null,null,null,null,null,null,null,null,0,0,0,0,0,0,0,0,0,0,0,0,0,0,0,0,0,0,0,0,0,0,0,0,0,0,0,0,0,0,0,0,0,0,0,0,0,0,0]
["WD Ave",1000,{"$f":"SUM(C3957+C3981+C4005+C4029+C4053)/5","v":0},0,0,0,0,0,0,0,0,0,0,0,0,0,0,0,0,0,0,0,0,0,0,0,0,0,0,0,0,0,0,0,0,0,0,null,null,"WD Ave",1000,{"$f":"SUM(AP3957+AP3981+AP4005+AP4029+AP4053)/5","v":0},0,0,0,0,0,0,0,0,0,0,0,0,0,0,0,0,0,0,0,0,0,0,0,0,0,0,0,0,0,0,0,0,0,0,null,null,"WD Ave",1000,{"$f":"SUM(CC3957+CC3981+CC4005+CC4029+CC4053)/5","v":0},0,0,0,0,0,0,0,0,0,0,0,0,0,0,0,0,0,0,0,0,0,0,0,0,0,0,0,0,0,0,0,0,0,0,null,null,0,0,0,0,0,0,0,0,0,0,0,0,0,0,0,0,0,0,0,0,0,0,0,0,0,0,0,0,0,0,0,0,0,0,0,0,0,0,0]
["WD Ave",2100,{"$f":"SUM(C3968+C3992+C4016+C4040+C4064)/5","v":0},0,0,0,0,0,0,0,0,0,0,0,0,0,0,0,0,0,0,0,0,0,0,0,0,0,0,0,0,0,0,0,0,0,0,null,null,"WD Ave",2100,{"$f":"SUM(AP3968+AP3992+AP4016+AP4040+AP4064)/5","v":0},0,0,0,0,0,0,0,0,0,0,0,0,0,0,0,0,0,0,0,0,0,0,0,0,0,0,0,0,0,0,0,0,0,0,null,null,"WD Ave",2100,{"$f":"SUM(CC3968+CC3992+CC4016+CC4040+CC4064)/5","v":0},0,0,0,0,0,0,0,0,0,0,0,0,0,0,0,0,0,0,0,0,0,0,0,0,0,0,0,0,0,0,0,0,0,0,null,null,0,0,0,0,0,0,0,0,0,0,0,0,0,0,0,0,0,0,0,0,0,0,0,0,0,0,0,0,0,0,0,0,0,0,0,0,0,0,0]
["Mon",1000,null,null,null,null,null,null,null,null,null,null,null,null,null,null,null,null,null,null,null,null,null,null,null,null,null,null,null,null,null,null,null,null,null,null,null,null,null,"Mon",1000,null,null,null,null,null,null,null,null,null,null,null,null,null,null,null,null,null,null,null,null,null,null,null,null,null,null,null,null,null,null,null,null,null,null,null,null,null,"Mon",1000,null,null,null,null,null,null,null,null,null,null,null,null,null,null,null,null,null,null,null,null,null,null,null,null,null,null,null,null,null,null,null,null,null,null,null,null,null,0,0,0,0,0,0,0,0,0,0,0,0,0,0,0,0,0,0,0,0,0,0,0,0,0,0,0,0,0,0,0,0,0,0,0,0,0,0,0,0,0,0,0,0,0,0,0,0,0,0,0,0,0,0,0,0,0,0,0,0,0,0,0]
["Tue",100,null,null,null,null,null,null,null,null,null,null,null,null,null,null,null,null,null,null,null,null,null,null,null,null,null,null,null,null,null,null,null,null,null,null,null,null,null,"Tue",100,null,null,null,null,null,null,null,null,null,null,null,null,null,null,null,null,null,null,null,null,null,null,null,null,null,null,null,null,null,null,null,null,null,null,null,null,null,"Tue",100,null,null,null,null,null,null,null,null,null,null,null,null,null,null,null,null,null,null,null,null,null,null,null,null,null,null,null,null,null,null,null,null,null,null,null,null,null,0,0,0,0,0,0,0,0,0,0,0,0,0,0,0,0,0,0,0,0,0,0,0,0,0,0,0,0,0,0,0,0,0,0,0,0,0,0,0]
["Wed",1300,null,null,null,null,null,null,null,null,null,null,null,null,null,null,null,null,null,null,null,null,null,null,null,null,null,null,null,null,null,null,null,null,null,null,null,null,null,"Wed",1300,null,null,null,null,null,null,null,null,null,null,null,null,null,null,null,null,null,null,null,null,null,null,null,null,null,null,null,null,null,null,null,null,null,null,null,null,null,"Wed",1300,null,null,null,null,null,null,null,null,null,null,null,null,null,null,null,null,null,null,null,null,null,null,null,null,null,null,null,null,null,null,null,null,null,null,null,null,null,0,0,0,0,0,0,0,0,0,0,0,0,0,0,0,0,0,0,0,0,0,0,0,0,0,0,0,0,0,0,0,0,0,0,0,0,0,0,0]
["Thu",400,null,null,null,null,null,null,null,null,null,null,null,null,null,null,null,null,null,null,null,null,null,null,null,null,null,null,null,null,null,null,null,null,null,null,null,null,null,"Thu",400,null,null,null,null,null,null,null,null,null,null,null,null,null,null,null,null,null,null,null,null,null,null,null,null,null,null,null,null,null,null,null,null,null,null,null,null,null,"Thu",400,null,null,null,null,null,null,null,null,null,null,null,null,null,null,null,null,null,null,null,null,null,null,null,null,null,null,null,null,null,null,null,null,null,null,null,null,null,0,0,0,0,0,0,0,0,0,0,0,0,0,0,0,0,0,0,0,0,0,0,0,0,0,0,0,0,0,0,0,0,0,0,0,0,0,0,0]
["Fri",1600,null,null,null,null,null,null,null,null,null,null,null,null,null,null,null,null,null,null,null,null,null,null,null,null,null,null,null,null,null,null,null,null,null,null,null,null,null,"Fri",1600,null,null,null,null,null,null,null,null,null,null,null,null,null,null,null,null,null,null,null,null,null,null,null,null,null,null,null,null,null,null,null,null,null,null,null,null,null,"Fri",1600,null,null,null,null,null,null,null,null,null,null,null,null,null,null,null,null,null,null,null,null,null,null,null,null,null,null,null,null,null,null,null,null,null,null,null,null,null,0,0,0,0,0,0,0,0,0,0,0,0,0,0,0,0,0,0,0,0,0,0,0,0,0,0,0,0,0,0,0,0,0,0,0,0,0,0,0]
["Sat",700,null,null,null,null,null,null,null,null,null,null,null,null,null,null,null,null,null,null,null,null,null,null,null,null,null,null,null,null,null,null,null,null,null,null,null,null,null,"Sat",700,null,null,null,null,null,null,null,null,null,null,null,null,null,null,null,null,null,null,null,null,null,null,null,null,null,null,null,null,null,null,null,null,null,null,null,null,null,"Sat",700,null,null,null,null,null,null,null,null,null,null,null,null,null,null,null,null,null,null,null,null,null,null,null,null,null,null,null,null,null,null,null,null,null,null,null,null,null,0,0,0,0,0,0,0,0,0,0,0,0,0,0,0,0,0,0,0,0,0,0,0,0,0,0,0,0,0,0,0,0,0,0,0,0,0,0,0]
["Sat",2200,null,null,null,null,null,null,null,null,null,null,null,null,null,null,null,null,null,null,null,null,null,null,null,null,null,null,null,null,null,null,null,null,null,null,null,null,null,"Sat",2200,null,null,null,null,null,null,null,null,null,null,null,null,null,null,null,null,null,null,null,null,null,null,null,null,null,null,null,null,null,null,null,null,null,null,null,null,null,"Sat",2200,null,null,null,null,null,null,null,null,null,null,null,null,null,null,null,null,null,null,null,null,null,null,null,null,null,null,null,null,null,null,null,null,null,null,null,null,null,0,0,0,0,0,0,0,0,0,0,0,0,0,0,0,0,0,0,0,0,0,0,0,0,0,0,0,0,0,0,0,0,0,0,0,0,0,0,0]
["WD Ave",1000,{"$f":"SUM(C4176+C4200+C4224+C4248+C4272)/5","v":0},0,0,0,0,0,0,0,0,0,0,0,0,0,0,0,0,0,0,0,0,0,0,0,0,0,0,0,0,0,0,0,0,0,0,null,null,"WD Ave",1000,{"$f":"SUM(AP4176+AP4200+AP4224+AP4248+AP4272)/5","v":0},0,0,0,0,0,0,0,0,0,0,0,0,0,0,0,0,0,0,0,0,0,0,0,0,0,0,0,0,0,0,0,0,0,0,null,null,"WD Ave",1000,{"$f":"SUM(CC4176+CC4200+CC4224+CC4248+CC4272)/5","v":0},0,0,0,0,0,0,0,0,0,0,0,0,0,0,0,0,0,0,0,0,0,0,0,0,0,0,0,0,0,0,0,0,0,0,null,null,0,0,0,0,0,0,0,0,0,0,0,0,0,0,0,0,0,0,0,0,0,0,0,0,0,0,0,0,0,0,0,0,0,0,0,0,0,0,0]
["7 Day Ave",100,{"$f":"SUM(C4167+C4191+C4215+C4239+C4263+C4287+C4311)/7","v":0},0,0,0,0,0,0,0,0,0,0,0,0,0,0,0,0,0,0,0,0,0,0,0,0,0,0,0,0,0,0,0,0,0,0,null,null,"7 Day Ave",100,{"$f":"SUM(AP4167+AP4191+AP4215+AP4239+AP4263+AP4287+AP4311)/7","v":0},0,0,0,0,0,0,0,0,0,0,0,0,0,0,0,0,0,0,0,0,0,0,0,0,0,0,0,0,0,0,0,0,0,0,null,null,"7 Day Ave",100,{"$f":"SUM(CC4167+CC4191+CC4215+CC4239+CC4263+CC4287+CC4311)/7","v":0},0,0,0,0,0,0,0,0,0,0,0,0,0,0,0,0,0,0,0,0,0,0,0,0,0,0,0,0,0,0,0,0,0,0,null,null,0,0,0,0,0,0,0,0,0,0,0,0,0,0,0,0,0,0,0,0,0,0,0,0,0,0,0,0,0,0,0,0,0,0,0,0,0,0,0]
["Mon",1000,null,null,null,null,null,null,null,null,null,null,null,null,null,null,null,null,null,null,null,null,null,null,null,null,null,null,null,null,null,null,null,null,null,null,null,null,null,"Mon",1000,null,null,null,null,null,null,null,null,null,null,null,null,null,null,null,null,null,null,null,null,null,null,null,null,null,null,null,null,null,null,null,null,null,null,null,null,null,"Mon",1000,null,null,null,null,null,null,null,null,null,null,null,null,null,null,null,null,null,null,null,null,null,null,null,null,null,null,null,null,null,null,null,null,null,null,null,null,null,0,0,0,0,0,0,0,0,0,0,0,0,0,0,0,0,0,0,0,0,0,0,0,0,0,0,0,0,0,0,0,0,0,0,0,0,0,0,0,0,0,0,0,0,0,0,0,0,0,0,0,0,0,0,0,0,0,0,0,0,0,0,0]
["Tue",1400,null,null,null,null,null,null,null,null,null,null,null,null,null,null,null,null,null,null,null,null,null,null,null,null,null,null,null,null,null,null,null,null,null,null,null,null,null,"Tue",1400,null,null,null,null,null,null,null,null,null,null,null,null,null,null,null,null,null,null,null,null,null,null,null,null,null,null,null,null,null,null,null,null,null,null,null,null,null,"Tue",1400,null,null,null,null,null,null,null,null,null,null,null,null,null,null,null,null,null,null,null,null,null,null,null,null,null,null,null,null,null,null,null,null,null,null,null,null,null,0,0,0,0,0,0,0,0,0,0,0,0,0,0,0,0,0,0,0,0,0,0,0,0,0,0,0,0,0,0,0,0,0,0,0,0,0,0,0]
["Wed",1800,null,null,null,null,null,null,null,null,null,null,null,null,null,null,null,null,null,null,null,null,null,null,null,null,null,null,null,null,null,null,null,null,null,null,null,null,null,"Wed",1800,null,null,null,null,null,null,null,null,null,null,null,null,null,null,null,null,null,null,null,null,null,null,null,null,null,null,null,null,null,null,null,null,null,null,null,null,null,"Wed",1800,null,null,null,null,null,null,null,null,null,null,null,null,null,null,null,null,null,null,null,null,null,null,null,null,null,null,null,null,null,null,null,null,null,null,null,null,null,0,0,0,0,0,0,0,0,0,0,0,0,0,0,0,0,0,0,0,0,0,0,0,0,0,0,0,0,0,0,0,0,0,0,0,0,0,0,0]
["Thu",500,null,null,null,null,null,null,null,null,null,null,null,null,null,null,null,null,null,null,null,null,null,null,null,null,null,null,null,null,null,null,null,null,null,null,null,null,null,"Thu",500,null,null,null,null,null,null,null,null,null,null,null,null,null,null,null,null,null,null,null,null,null,null,null,null,null,null,null,null,null,null,null,null,null,null,null,null,null,"Thu",500,null,null,null,null,null,null,null,null,null,null,null,null,null,null,null,null,null,null,null,null,null,null,null,null,null,null,null,null,null,null,null,null,null,null,null,null,null,0,0,0,0,0,0,0,0,0,0,0,0,0,0,0,0,0,0,0,0,0,0,0,0,0,0,0,0,0,0,0,0,0,0,0,0,0,0,0]
["Fri",2100,null,null,null,null,null,null,null,null,null,null,null,null,null,null,null,null,null,null,null,null,null,null,null,null,null,null,null,null,null,null,null,null,null,null,null,null,null,"Fri",2100,null,null,null,null,null,null,null,null,null,null,null,null,null,null,null,null,null,null,null,null,null,null,null,null,null,null,null,null,null,null,null,null,null,null,null,null,null,"Fri",2100,null,null,null,null,null,null,null,null,null,null,null,null,null,null,null,null,null,null,null,null,null,null,null,null,null,null,null,null,null,null,null,null,null,null,null,null,null,0,0,0,0,0,0,0,0,0,0,0,0,0,0,0,0,0,0,0,0,0,0,0,0,0,0,0,0,0,0,0,0,0,0,0,0,0,0,0]
["Sat",1200,null,null,null,null,null,null,null,null,null,null,null,null,null,null,null,null,null,null,null,null,null,null,null,null,null,null,null,null,null,null,null,null,null,null,null,null,null,"Sat",1200,null,null,null,null,null,null,null,null,null,null,null,null,null,null,null,null,null,null,null,null,null,null,null,null,null,null,null,null,null,null,null,null,null,null,null,null,null,"Sat",1200,null,null,null,null,null,null,null,null,null,null,null,null,null,null,null,null,null,null,null,null,null,null,null,null,null,null,null,null,null,null,null,null,null,null,null,null,null,0,0,0,0,0,0,0,0,0,0,0,0,0,0,0,0,0,0,0,0,0,0,0,0,0,0,0,0,0,0,0,0,0,0,0,0,0,0,0]
["WD Ave",0,{"$f":"SUM(C4385+C4409+C4433+C4457+C4481)/5","v":0},0,0,0,0,0,0,0,0,0,0,0,{"$f":"SUM(O4385+O4409+O4433+O4457+O4481)/5","v":0},0,0,0,0,0,{"$f":"SUM(U4385+U4409+U4433+U4457+U4481)/5","v":0},0,0,0,0,0,0,0,0,0,0,0,0,0,0,0,0,null,null,"WD Ave",0,{"$f":"SUM(AP4385+AP4409+AP4433+AP4457+AP4481)/5","v":0},0,0,0,0,0,0,0,0,0,0,0,0,0,0,0,0,0,0,0,0,0,0,0,0,0,0,0,0,0,0,0,0,0,0,null,null,"WD Ave",0,{"$f":"SUM(CC4385+CC4409+CC4433+CC4457+CC4481)/5","v":0},0,0,0,0,0,0,0,0,0,0,0,0,0,0,0,0,0,0,0,0,0,0,0,0,0,0,0,0,0,0,0,0,0,0,null,null,0,0,0,0,0,0,0,0,0,0,0,0,0,0,0,0,0,0,0,0,0,0,0,0,0,0,0,0,0,0,0,0,0,0,0,0,0,0,0]
["WD Ave",1500,{"$f":"SUM(C4400+C4424+C4448+C4472+C4496)/5","v":0},0,0,0,0,0,0,0,0,0,0,0,0,0,0,0,0,0,0,0,0,0,0,0,0,0,0,0,0,0,0,0,0,0,0,null,null,"WD Ave",1500,{"$f":"SUM(AP4400+AP4424+AP4448+AP4472+AP4496)/5","v":0},0,0,0,0,0,0,0,0,0,0,0,0,0,0,0,0,0,0,0,0,0,0,0,0,0,0,0,0,0,0,0,0,0,0,null,null,"WD Ave",1500,{"$f":"SUM(CC4400+CC4424+CC4448+CC4472+CC4496)/5","v":0},0,0,0,0,0,0,0,0,0,0,0,0,0,0,0,0,0,0,0,0,0,0,0,0,0,0,0,0,0,0,0,0,0,0,null,null,0,0,0,0,0,0,0,0,0,0,0,0,0,0,0,0,0,0,0,0,0,0,0,0,0,0,0,0,0,0,0,0,0,0,0,0,0,0,0]
["Mon",0,null,null,null,null,null,null,null,null,null,null,null,null,null,null,null,null,null,null,null,null,null,null,null,null,null,null,null,null,null,null,null,null,null,null,null,null,null,"Mon",0,null,null,null,null,null,null,null,null,null,null,null,null,null,null,null,null,null,null,null,null,null,null,null,null,null,null,null,null,null,null,null,null,null,null,null,null,null,"Mon",0,null,null,null,null,null,null,null,null,null,null,null,null,null,null,null,null,null,null,null,null,null,null,null,null,null,null,null,null,null,null,null,null,null,null,null,null,null,{"$f":"SUM(C4604)","v":0},{"$f":"SUM(D4604)","v":0},{"$f":"SUM(E4604)","v":0},{"$f":"SUM(F4604)","v":0},{"$f":"SUM(G4604)","v":0},{"$f":"SUM(H4604)","v":0},{"$f":"SUM(I4604)","v":0},{"$f":"SUM(J4604)","v":0},{"$f":"SUM(K4604)","v":0},{"$f":"SUM(L4604)","v":0},{"$f":"SUM(M4604)","v":0},{"$f":"SUM(N4604)","v":0},{"$f":"SUM(C4604:N4604)","v":0},{"$f":"SUM(AP4604)","v":0},{"$f":"SUM(AQ4604)","v":0},{"$f":"SUM(AR4604)","v":0},{"$f":"SUM(AS4604)","v":0},{"$f":"SUM(AT4604)","v":0},{"$f":"SUM(AU4604)","v":0},{"$f":"SUM(AV4604)","v":0},{"$f":"SUM(AW4604)","v":0},{"$f":"SUM(AX4604)","v":0},{"$f":"SUM(AY4604)","v":0},{"$f":"SUM(AZ4604)","v":0},{"$f":"SUM(BA4604)","v":0},{"$f":"SUM(AP4604:BA4604)","v":0},{"$f":"SUM(DN4604+EA4604)","v":0},{"$f":"SUM(DO4604+EB4604)","v":0},{"$f":"SUM(DP4604+EC4604)","v":0},{"$f":"SUM(DQ4604+ED4604)","v":0},{"$f":"SUM(DR4604+EE4604)","v":0},{"$f":"SUM(DS4604+EF4604)","v":0},{"$f":"SUM(DT4604+EG4604)","v":0},{"$f":"SUM(DU4604+EH4604)","v":0},{"$f":"SUM(DV4604+EI4604)","v":0},{"$f":"SUM(DW4604+EJ4604)","v":0},{"$f":"SUM(DX4604+EK4604)","v":0},{"$f":"SUM(DY4604+EL4604)","v":0},{"$f":"SUM(DZ4604+EM4604)","v":0},{"$f":"+DZ4604","v":0},{"$f":"+DZ4628","v":0},{"$f":"+DZ4652","v":0},{"$f":"+DZ4676","v":0},{"$f":"+DZ4700","v":0},{"$f":"+DZ4724","v":0},{"$f":"+DZ4748","v":0},{"$f":"+EM4604","v":0},{"$f":"+EM4628","v":0},{"$f":"+EM4652","v":0},{"$f":"+EM4676","v":0},{"$f":"+EM4700","v":0},{"$f":"+EM4724","v":0},{"$f":"+EM4748","v":0},{"$f":"SUM(FA4604+FH4604)","v":0},{"$f":"SUM(FB4604+FI4604)","v":0},{"$f":"SUM(FC4604+FJ4604)","v":0},{"$f":"SUM(FD4604+FK4604)","v":0},{"$f":"SUM(FE4604+FL4604)","v":0},{"$f":"SUM(FF4604+FM4604)","v":0},{"$f":"SUM(FG4604+FN4604)","v":0},{"$f":"ROUND(AVERAGE(FA4604:FE4604),0)","v":0},{"$f":"ROUND(AVERAGE(FH4604:FL4604),0)","v":0},{"$f":"ROUND(AVERAGE(FO4604:FS4604),0)","v":0}]
["Mon",1500,null,null,null,null,null,null,null,null,null,null,null,null,null,null,null,null,null,null,null,null,null,null,null,null,null,null,null,null,null,null,null,null,null,null,null,null,null,"Mon",1500,null,null,null,null,null,null,null,null,null,null,null,null,null,null,null,null,null,null,null,null,null,null,null,null,null,null,null,null,null,null,null,null,null,null,null,null,null,"Mon",1500,null,null,null,null,null,null,null,null,null,null,null,null,null,null,null,null,null,null,null,null,null,null,null,null,null,null,null,null,null,null,null,null,null,null,null,null,null,0,0,0,0,0,0,0,0,0,0,0,0,0,0,0,0,0,0,0,0,0,0,0,0,0,0,0,0,0,0,0,0,0,0,0,0,0,0,0,0,0,0,0,0,0,0,0,0,0,0,0,0,0,0,0,0,0,0,0,0,0,0,0]
["Tue",600,null,null,null,null,null,null,null,null,null,null,null,null,null,null,null,null,null,null,null,null,null,null,null,null,null,null,null,null,null,null,null,null,null,null,null,null,null,"Tue",600,null,null,null,null,null,null,null,null,null,null,null,null,null,null,null,null,null,null,null,null,null,null,null,null,null,null,null,null,null,null,null,null,null,null,null,null,null,"Tue",600,null,null,null,null,null,null,null,null,null,null,null,null,null,null,null,null,null,null,null,null,null,null,null,null,null,null,null,null,null,null,null,null,null,null,null,null,null,0,0,0,0,0,0,0,0,0,0,0,0,0,0,0,0,0,0,0,0,0,0,0,0,0,0,0,0,0,0,0,0,0,0,0,0,0,0,0,null,2,"Wed"]
["Wed",1800,null,null,null,null,null,null,null,null,null,null,null,null,null,null,null,null,null,null,null,null,null,null,null,null,null,null,null,null,null,null,null,null,null,null,null,null,null,"Wed",1800,null,null,null,null,null,null,null,null,null,null,null,null,null,null,null,null,null,null,null,null,null,null,null,null,null,null,null,null,null,null,null,null,null,null,null,null,null,"Wed",1800,null,null,null,null,null,null,null,null,null,null,null,null,null,null,null,null,null,null,null,null,null,null,null,null,null,null,null,null,null,null,null,null,null,null,null,null,null,0,0,0,0,0,0,0,0,0,0,0,0,0,0,0,0,0,0,0,0,0,0,0,0,0,0,0,0,0,0,0,0,0,0,0,0,0,0,0]
["Thu",900,null,null,null,null,null,null,null,null,null,null,null,null,null,null,null,null,null,null,null,null,null,null,null,null,null,null,null,null,null,null,null,null,null,null,null,null,null,"Thu",900,null,null,null,null,null,null,null,null,null,null,null,null,null,null,null,null,null,null,null,null,null,null,null,null,null,null,null,null,null,null,null,null,null,null,null,null,null,"Thu",900,null,null,null,null,null,null,null,null,null,null,null,null,null,null,null,null,null,null,null,null,null,null,null,null,null,null,null,null,null,null,null,null,null,null,null,null,null,0,0,0,0,0,0,0,0,0,0,0,0,0,0,0,0,0,0,0,0,0,0,0,0,0,0,0,0,0,0,0,0,0,0,0,0,0,0,0]
["Sat",100,null,null,null,null,null,null,null,null,null,null,null,null,null,null,null,null,null,null,null,null,null,null,null,null,null,null,null,null,null,null,null,null,null,null,null,null,null,"Sat",100,null,null,null,null,null,null,null,null,null,null,null,null,null,null,null,null,null,null,null,null,null,null,null,null,null,null,null,null,null,null,null,null,null,null,null,null,null,"Sat",100,null,null,null,null,null,null,null,null,null,null,null,null,null,null,null,null,null,null,null,null,null,null,null,null,null,null,null,null,null,null,null,null,null,null,null,null,null,0,0,0,0,0,0,0,0,0,0,0,0,0,0,0,0,0,0,0,0,0,0,0,0,0,0,0,0,0,0,0,0,0,0,0,0,0,0,0]
["Sat",1200,null,null,null,null,null,null,null,null,null,null,null,null,null,null,null,null,null,null,null,null,null,null,null,null,null,null,null,null,null,null,null,null,null,null,null,null,null,"Sat",1200,null,null,null,null,null,null,null,null,null,null,null,null,null,null,null,null,null,null,null,null,null,null,null,null,null,null,null,null,null,null,null,null,null,null,null,null,null,"Sat",1200,null,null,null,null,null,null,null,null,null,null,null,null,null,null,null,null,null,null,null,null,null,null,null,null,null,null,null,null,null,null,null,null,null,null,null,null,null,0,0,0,0,0,0,0,0,0,0,0,0,0,0,0,0,0,0,0,0,0,0,0,0,0,0,0,0,0,0,0,0,0,0,0,0,0,0,0]
["WD Ave",400,{"$f":"SUM(C4608+C4632+C4656+C4680+C4704)/5","v":0},0,0,0,0,0,0,0,0,0,0,0,0,0,0,0,0,0,0,0,0,0,0,0,0,0,0,0,0,0,0,0,0,0,0,null,null,"WD Ave",400,{"$f":"SUM(AP4608+AP4632+AP4656+AP4680+AP4704)/5","v":0},0,0,0,0,0,0,0,0,0,0,0,0,0,0,0,0,0,0,0,0,0,0,0,0,0,0,0,0,0,0,0,0,0,0,null,null,"WD Ave",400,{"$f":"SUM(CC4608+CC4632+CC4656+CC4680+CC4704)/5","v":0},0,0,0,0,0,0,0,0,0,0,0,0,0,0,0,0,0,0,0,0,0,0,0,0,0,0,0,0,0,0,0,0,0,0,null,null,0,0,0,0,0,0,0,0,0,0,0,0,0,0,0,0,0,0,0,0,0,0,0,0,0,0,0,0,0,0,0,0,0,0,0,0,0,0,0]
["WD Ave",1500,{"$f":"SUM(C4619+C4643+C4667+C4691+C4715)/5","v":0},0,0,0,0,0,0,0,0,0,0,0,0,0,0,0,0,0,0,0,0,0,0,0,0,0,0,0,0,0,0,0,0,0,0,null,null,"WD Ave",1500,{"$f":"SUM(AP4619+AP4643+AP4667+AP4691+AP4715)/5","v":0},0,0,0,0,0,0,0,0,0,0,0,0,0,0,0,0,0,0,0,0,0,0,0,0,0,0,0,0,0,0,0,0,0,0,null,null,"WD Ave",1500,{"$f":"SUM(CC4619+CC4643+CC4667+CC4691+CC4715)/5","v":0},0,0,0,0,0,0,0,0,0,0,0,0,0,0,0,0,0,0,0,0,0,0,0,0,0,0,0,0,0,0,0,0,0,0,null,null,0,0,0,0,0,0,0,0,0,0,0,0,0,0,0,0,0,0,0,0,0,0,0,0,0,0,0,0,0,0,0,0,0,0,0,0,0,0,0]
["Mon",400,null,null,null,null,null,null,null,null,null,null,null,null,null,null,null,null,null,null,null,null,null,null,null,null,null,null,null,null,null,null,null,null,null,null,null,null,null,"Mon",400,null,null,null,null,null,null,null,null,null,null,null,null,null,null,null,null,null,null,null,null,null,null,null,null,null,null,null,null,null,null,null,null,null,null,null,null,null,"Mon",400,null,null,null,null,null,null,null,null,null,null,null,null,null,null,null,null,null,null,null,null,null,null,null,null,null,null,null,null,null,null,null,null,null,null,null,null,null,0,0,0,0,0,0,0,0,0,0,0,0,0,0,0,0,0,0,0,0,0,0,0,0,0,0,0,0,0,0,0,0,0,0,0,0,0,0,0,0,0,0,0,0,0,0,0,0,0,0,0,0,0,0,0,0,0,0,0,0,0,0,0]
["Mon",1900,null,null,null,null,null,null,null,null,null,null,null,null,null,null,null,null,null,null,null,null,null,null,null,null,null,null,null,null,null,null,null,null,null,null,null,null,null,"Mon",1900,null,null,null,null,null,null,null,null,null,null,null,null,null,null,null,null,null,null,null,null,null,null,null,null,null,null,null,null,null,null,null,null,null,null,null,null,null,"Mon",1900,null,null,null,null,null,null,null,null,null,null,null,null,null,null,null,null,null,null,null,null,null,null,null,null,null,null,null,null,null,null,null,null,null,null,null,null,null,0,0,0,0,0,0,0,0,0,0,0,0,0,0,0,0,0,0,0,0,0,0,0,0,0,0,0,0,0,0,0,0,0,0,0,0,0,0,0,0,0,0,0,0,0,0,0,0,0,0,0,0,0,0,0,0,0,0,0,0,0,0,0]
["Wed",700,null,null,null,null,null,null,null,null,null,null,null,null,null,null,null,null,null,null,null,null,null,null,null,null,null,null,null,null,null,null,null,null,null,null,null,null,null,"Wed",700,null,null,null,null,null,null,null,null,null,null,null,null,null,null,null,null,null,null,null,null,null,null,null,null,null,null,null,null,null,null,null,null,null,null,null,null,null,"Wed",700,null,null,null,null,null,null,null,null,null,null,null,null,null,null,null,null,null,null,null,null,null,null,null,null,null,null,null,null,null,null,null,null,null,null,null,null,null,0,0,0,0,0,0,0,0,0,0,0,0,0,0,0,0,0,0,0,0,0,0,0,0,0,0,0,0,0,0,0,0,0,0,0,0,0,0,0]
["Wed",2200,null,null,null,null,null,null,null,null,null,null,null,null,null,null,null,null,null,null,null,null,null,null,null,null,null,null,null,null,null,null,null,null,null,null,null,null,null,"Wed",2200,null,null,null,null,null,null,null,null,null,null,null,null,null,null,null,null,null,null,null,null,null,null,null,null,null,null,null,null,null,null,null,null,null,null,null,null,null,"Wed",2200,null,null,null,null,null,null,null,null,null,null,null,null,null,null,null,null,null,null,null,null,null,null,null,null,null,null,null,null,null,null,null,null,null,null,null,null,null,0,0,0,0,0,0,0,0,0,0,0,0,0,0,0,0,0,0,0,0,0,0,0,0,0,0,0,0,0,0,0,0,0,0,0,0,0,0,0]
["Fri",1000,null,null,null,null,null,null,null,null,null,null,null,null,null,null,null,null,null,null,null,null,null,null,null,null,null,null,null,null,null,null,null,null,null,null,null,null,null,"Fri",1000,null,null,null,null,null,null,null,null,null,null,null,null,null,null,null,null,null,null,null,null,null,null,null,null,null,null,null,null,null,null,null,null,null,null,null,null,null,"Fri",1000,null,null,null,null,null,null,null,null,null,null,null,null,null,null,null,null,null,null,null,null,null,null,null,null,null,null,null,null,null,null,null,null,null,null,null,null,null,0,0,0,0,0,0,0,0,0,0,0,0,0,0,0,0,0,0,0,0,0,0,0,0,0,0,0,0,0,0,0,0,0,0,0,0,0,0,0]
["Sat",100,null,null,null,null,null,null,null,null,null,null,null,null,null,null,null,null,null,null,null,null,null,null,null,null,null,null,null,null,null,null,null,null,null,null,null,null,null,"Sat",100,null,null,null,null,null,null,null,null,null,null,null,null,null,null,null,null,null,null,null,null,null,null,null,null,null,null,null,null,null,null,null,null,null,null,null,null,null,"Sat",100,null,null,null,null,null,null,null,null,null,null,null,null,null,null,null,null,null,null,null,null,null,null,null,null,null,null,null,null,null,null,null,null,null,null,null,null,null,0,0,0,0,0,0,0,0,0,0,0,0,0,0,0,0,0,0,0,0,0,0,0,0,0,0,0,0,0,0,0,0,0,0,0,0,0,0,0]
["Sat",1600,null,null,null,null,null,null,null,null,null,null,null,null,null,null,null,null,null,null,null,null,null,null,null,null,null,null,null,null,null,null,null,null,null,null,null,null,null,"Sat",1600,null,null,null,null,null,null,null,null,null,null,null,null,null,null,null,null,null,null,null,null,null,null,null,null,null,null,null,null,null,null,null,null,null,null,null,null,null,"Sat",1600,null,null,null,null,null,null,null,null,null,null,null,null,null,null,null,null,null,null,null,null,null,null,null,null,null,null,null,null,null,null,null,null,null,null,null,null,null,0,0,0,0,0,0,0,0,0,0,0,0,0,0,0,0,0,0,0,0,0,0,0,0,0,0,0,0,0,0,0,0,0,0,0,0,0,0,0]
["WD Ave",400,{"$f":"SUM(C4827+C4851+C4875+C4899+C4923)/5","v":0},0,0,0,0,0,0,0,0,0,0,0,0,0,0,0,0,0,0,0,0,0,0,0,0,0,0,0,0,0,0,0,0,0,0,null,null,"WD Ave",400,{"$f":"SUM(AP4827+AP4851+AP4875+AP4899+AP4923)/5","v":0},0,0,0,0,0,0,0,0,0,0,0,0,0,0,0,0,0,0,0,0,0,0,0,0,0,0,0,0,0,0,0,0,0,0,null,null,"WD Ave",400,{"$f":"SUM(CC4827+CC4851+CC4875+CC4899+CC4923)/5","v":0},0,0,0,0,0,0,0,0,0,0,0,0,0,0,0,0,0,0,0,0,0,0,0,0,0,0,0,0,0,0,0,0,0,0,null,null,0,0,0,0,0,0,0,0,0,0,0,0,0,0,0,0,0,0,0,0,0,0,0,0,0,0,0,0,0,0,0,0,0,0,0,0,0,0,0]
["WD Ave",1900,{"$f":"SUM(C4842+C4866+C4890+C4914+C4938)/5","v":0},0,0,0,0,0,0,0,0,0,0,0,0,0,0,0,0,0,0,0,0,0,0,0,0,0,0,0,0,0,0,0,0,0,0,null,null,"WD Ave",1900,{"$f":"SUM(AP4842+AP4866+AP4890+AP4914+AP4938)/5","v":0},0,0,0,0,0,0,0,0,0,0,0,0,0,0,0,0,0,0,0,0,0,0,0,0,0,0,0,0,0,0,0,0,0,0,null,null,"WD Ave",1900,{"$f":"SUM(CC4842+CC4866+CC4890+CC4914+CC4938)/5","v":0},0,0,0,0,0,0,0,0,0,0,0,0,0,0,0,0,0,0,0,0,0,0,0,0,0,0,0,0,0,0,0,0,0,0,null,null,0,0,0,0,0,0,0,0,0,0,0,0,0,0,0,0,0,0,0,0,0,0,0,0,0,0,0,0,0,0,0,0,0,0,0,0,0,0,0]
["Mon",800,null,null,null,null,null,null,null,null,null,null,null,null,null,null,null,null,null,null,null,null,null,null,null,null,null,null,null,null,null,null,null,null,null,null,null,null,null,"Mon",800,null,null,null,null,null,null,null,null,null,null,null,null,null,null,null,null,null,null,null,null,null,null,null,null,null,null,null,null,null,null,null,null,null,null,null,null,null,"Mon",800,null,null,null,null,null,null,null,null,null,null,null,null,null,null,null,null,null,null,null,null,null,null,null,null,null,null,null,null,null,null,null,null,null,null,null,null,null,0,0,0,0,0,0,0,0,0,0,0,0,0,0,0,0,0,0,0,0,0,0,0,0,0,0,0,0,0,0,0,0,0,0,0,0,0,0,0,0,0,0,0,0,0,0,0,0,0,0,0,0,0,0,0,0,0,0,0,0,0,0,0]
["Mon",1900,null,null,null,null,null,null,null,null,null,null,null,null,null,null,null,null,null,null,null,null,null,null,null,null,null,null,null,null,null,null,null,null,null,null,null,null,null,"Mon",1900,null,null,null,null,null,null,null,null,null,null,null,null,null,null,null,null,null,null,null,null,null,null,null,null,null,null,null,null,null,null,null,null,null,null,null,null,null,"Mon",1900,null,null,null,null,null,null,null,null,null,null,null,null,null,null,null,null,null,null,null,null,null,null,null,null,null,null,null,null,null,null,null,null,null,null,null,null,null,0,0,0,0,0,0,0,0,0,0,0,0,0,0,0,0,0,0,0,0,0,0,0,0,0,0,0,0,0,0,0,0,0,0,0,0,0,0,0,0,0,0,0,0,0,0,0,0,0,0,0,0,0,0,0,0,0,0,0,0,0,0,0]
["Wed",1100,null,null,null,null,null,null,null,null,null,null,null,null,null,null,null,null,null,null,null,null,null,null,null,null,null,null,null,null,null,null,null,null,null,null,null,null,null,"Wed",1100,null,null,null,null,null,null,null,null,null,null,null,null,null,null,null,null,null,null,null,null,null,null,null,null,null,null,null,null,null,null,null,null,null,null,null,null,null,"Wed",1100,null,null,null,null,null,null,null,null,null,null,null,null,null,null,null,null,null,null,null,null,null,null,null,null,null,null,null,null,null,null,null,null,null,null,null,null,null,0,0,0,0,0,0,0,0,0,0,0,0,0,0,0,0,0,0,0,0,0,0,0,0,0,0,0,0,0,0,0,0,0,0,0,0,0,0,0]
["Thu",600,null,null,null,null,null,null,null,null,null,null,null,null,null,null,null,null,null,null,null,null,null,null,null,null,null,null,null,null,null,null,null,null,null,null,null,null,null,"Thu",600,null,null,null,null,null,null,null,null,null,null,null,null,null,null,null,null,null,null,null,null,null,null,null,null,null,null,null,null,null,null,null,null,null,null,null,null,null,"Thu",600,null,null,null,null,null,null,null,null,null,null,null,null,null,null,null,null,null,null,null,null,null,null,null,null,null,null,null,null,null,null,null,null,null,null,null,null,null,0,0,0,0,0,0,0,0,0,0,0,0,0,0,0,0,0,0,0,0,0,0,0,0,0,0,0,0,0,0,0,0,0,0,0,0,0,0,0]
["Fri",1500,null,null,null,null,null,null,null,null,null,null,null,null,null,null,null,null,null,null,null,null,null,null,null,null,null,null,null,null,null,null,null,null,null,null,null,null,null,"Fri",1500,null,null,null,null,null,null,null,null,null,null,null,null,null,null,null,null,null,null,null,null,null,null,null,null,null,null,null,null,null,null,null,null,null,null,null,null,null,"Fri",1500,null,null,null,null,null,null,null,null,null,null,null,null,null,null,null,null,null,null,null,null,null,null,null,null,null,null,null,null,null,null,null,null,null,null,null,null,null,0,0,0,0,0,0,0,0,0,0,0,0,0,0,0,0,0,0,0,0,0,0,0,0,0,0,0,0,0,0,0,0,0,0,0,0,0,0,0]
["Sat",600,null,null,null,null,null,null,null,null,null,null,null,null,null,null,null,null,null,null,null,null,null,null,null,null,null,null,null,null,null,null,null,null,null,null,null,null,null,"Sat",600,null,null,null,null,null,null,null,null,null,null,null,null,null,null,null,null,null,null,null,null,null,null,null,null,null,null,null,null,null,null,null,null,null,null,null,null,null,"Sat",600,null,null,null,null,null,null,null,null,null,null,null,null,null,null,null,null,null,null,null,null,null,null,null,null,null,null,null,null,null,null,null,null,null,null,null,null,null,0,0,0,0,0,0,0,0,0,0,0,0,0,0,0,0,0,0,0,0,0,0,0,0,0,0,0,0,0,0,0,0,0,0,0,0,0,0,0]
["Sun",1800,null,null,null,null,null,null,null,null,null,null,null,null,null,null,null,null,null,null,null,null,null,null,null,null,null,null,null,null,null,null,null,null,null,null,null,null,null,"Sun",1800,null,null,null,null,null,null,null,null,null,null,null,null,null,null,null,null,null,null,null,null,null,null,null,null,null,null,null,null,null,null,null,null,null,null,null,null,null,"Sun",1800,null,null,null,null,null,null,null,null,null,null,null,null,null,null,null,null,null,null,null,null,null,null,null,null,null,null,null,null,null,null,null,null,null,null,null,null,null,0,0,0,0,0,0,0,0,0,0,0,0,0,0,0,0,0,0,0,0,0,0,0,0,0,0,0,0,0,0,0,0,0,0,0,0,0,0,0]
["WD Ave",900,{"$f":"SUM(C5051+C5075+C5099+C5123+C5147)/5","v":0},0,0,0,0,0,0,0,0,0,0,0,0,0,0,0,0,0,0,0,0,0,0,0,0,0,0,0,0,0,0,0,0,0,0,null,null,"WD Ave",900,{"$f":"SUM(AP5051+AP5075+AP5099+AP5123+AP5147)/5","v":0},0,0,0,0,0,0,0,0,0,0,0,0,0,0,0,0,0,0,0,0,0,0,0,0,0,0,0,0,0,0,0,0,0,0,null,null,"WD Ave",900,{"$f":"SUM(CC5051+CC5075+CC5099+CC5123+CC5147)/5","v":0},0,0,0,0,0,0,0,0,0,0,0,0,0,0,0,0,0,0,0,0,0,0,0,0,0,0,0,0,0,0,0,0,0,0,null,null,0,0,0,0,0,0,0,0,0,0,0,0,0,0,0,0,0,0,0,0,0,0,0,0,0,0,0,0,0,0,0,0,0,0,0,0,0,0,0]
["7 Day Ave",2100,{"$f":"SUM(C5063+C5087+C5111+C5135+C5159+C5183+C5207)/7","v":0},0,0,0,0,0,0,0,0,0,0,0,0,0,0,0,0,0,0,0,0,0,0,0,0,0,0,0,0,0,0,0,0,0,0,null,null,"7 Day Ave",2100,{"$f":"SUM(AP5063+AP5087+AP5111+AP5135+AP5159+AP5183+AP5207)/7","v":0},0,0,0,0,0,0,0,0,0,0,0,0,0,0,0,0,0,0,0,0,0,0,0,0,0,0,0,0,0,0,0,0,0,0,null,null,"7 Day Ave",2100,{"$f":"SUM(CC5063+CC5087+CC5111+CC5135+CC5159+CC5183+CC5207)/7","v":0},0,0,0,0,0,0,0,0,0,0,0,0,0,0,0,0,0,0,0,0,0,0,0,0,0,0,0,0,0,0,0,0,0,0,null,null,0,0,0,0,0,0,0,0,0,0,0,0,0,0,0,0,0,0,0,0,0,0,0,0,0,0,0,0,0,0,0,0,0,0,0,0,0,0,0]
["Mon",900,null,null,null,null,null,null,null,null,null,null,null,null,null,null,null,null,null,null,null,null,null,null,null,null,null,null,null,null,null,null,null,null,null,null,null,null,null,"Mon",900,null,null,null,null,null,null,null,null,null,null,null,null,null,null,null,null,null,null,null,null,null,null,null,null,null,null,null,null,null,null,null,null,null,null,null,null,null,"Mon",900,null,null,null,null,null,null,null,null,null,null,null,null,null,null,null,null,null,null,null,null,null,null,null,null,null,null,null,null,null,null,null,null,null,null,null,null,null,0,0,0,0,0,0,0,0,0,0,0,0,0,0,0,0,0,0,0,0,0,0,0,0,0,0,0,0,0,0,0,0,0,0,0,0,0,0,0,0,0,0,0,0,0,0,0,0,0,0,0,0,0,0,0,0,0,0,0,0,0,0,0]
["Tue",0,null,null,null,null,null,null,null,null,null,null,null,null,null,null,null,null,null,null,null,null,null,null,null,null,null,null,null,null,null,null,null,null,null,null,null,null,null,"Tue",0,null,null,null,null,null,null,null,null,null,null,null,null,null,null,null,null,null,null,null,null,null,null,null,null,null,null,null,null,null,null,null,null,null,null,null,null,null,"Tue",0,null,null,null,null,null,null,null,null,null,null,null,null,null,null,null,null,null,null,null,null,null,null,null,null,null,null,null,null,null,null,null,null,null,null,null,null,null,0,0,0,0,0,0,0,0,0,0,0,0,0,0,0,0,0,0,0,0,0,0,0,0,0,0,0,0,0,0,0,0,0,0,0,0,0,0,0,{"$f":"SUM(FA5261:FA5284)","v":0},{"$f":"SUM(FB5261:FB5284)","v":0},0,0,0,0,0,0,0,0,0,0,0,0,0,0,0,0,0,0,0]
["Wed",1200,null,null,null,null,null,null,null,null,null,null,null,null,null,null,null,null,null,null,null,null,null,null,null,null,null,null,null,null,null,null,null,null,null,null,null,null,null,"Wed",1200,null,null,null,null,null,null,null,null,null,null,null,null,null,null,null,null,null,null,null,null,null,null,null,null,null,null,null,null,null,null,null,null,null,null,null,null,null,"Wed",1200,null,null,null,null,null,null,null,null,null,null,null,null,null,null,null,null,null,null,null,null,null,null,null,null,null,null,null,null,null,null,null,null,null,null,null,null,null,0,0,0,0,0,0,0,0,0,0,0,0,0,0,0,0,0,0,0,0,0,0,0,0,0,0,0,0,0,0,0,0,0,0,0,0,0,0,0]
["Thu",300,null,null,null,null,null,null,null,null,null,null,null,null,null,null,null,null,null,null,null,null,null,null,null,null,null,null,null,null,null,null,null,null,null,null,null,null,null,"Thu",300,null,null,null,null,null,null,null,null,null,null,null,null,null,null,null,null,null,null,null,null,null,null,null,null,null,null,null,null,null,null,null,null,null,null,null,null,null,"Thu",300,null,null,null,null,null,null,null,null,null,null,null,null,null,null,null,null,null,null,null,null,null,null,null,null,null,null,null,null,null,null,null,null,null,null,null,null,null,0,0,0,0,0,0,0,0,0,0,0,0,0,0,0,0,0,0,0,0,0,0,0,0,0,0,0,0,0,0,0,0,0,0,0,0,0,0,0]
["Fri",1900,null,null,null,null,null,null,null,null,null,null,null,null,null,null,null,null,null,null,null,null,null,null,null,null,null,null,null,null,null,null,null,null,null,null,null,null,null,"Fri",1900,null,null,null,null,null,null,null,null,null,null,null,null,null,null,null,null,null,null,null,null,null,null,null,null,null,null,null,null,null,null,null,null,null,null,null,null,null,"Fri",1900,null,null,null,null,null,null,null,null,null,null,null,null,null,null,null,null,null,null,null,null,null,null,null,null,null,null,null,null,null,null,null,null,null,null,null,null,null,0,0,0,0,0,0,0,0,0,0,0,0,0,0,0,0,0,0,0,0,0,0,0,0,0,0,0,0,0,0,0,0,0,0,0,0,0,0,0]
["Sat",600,null,null,null,null,null,null,null,null,null,null,null,null,null,null,null,null,null,null,null,null,null,null,null,null,null,null,null,null,null,null,null,null,null,null,null,null,null,"Sat",600,null,null,null,null,null,null,null,null,null,null,null,null,null,null,null,null,null,null,null,null,null,null,null,null,null,null,null,null,null,null,null,null,null,null,null,null,null,"Sat",600,null,null,null,null,null,null,null,null,null,null,null,null,null,null,null,null,null,null,null,null,null,null,null,null,null,null,null,null,null,null,null,null,null,null,null,null,null,0,0,0,0,0,0,0,0,0,0,0,0,0,0,0,0,0,0,0,0,0,0,0,0,0,0,0,0,0,0,0,0,0,0,0,0,0,0,0]
["Sun",2200,null,null,null,null,null,null,null,null,null,null,null,null,null,null,null,null,null,null,null,null,null,null,null,null,null,null,null,null,null,null,null,null,null,null,null,null,null,"Sun",2200,null,null,null,null,null,null,null,null,null,null,null,null,null,null,null,null,null,null,null,null,null,null,null,null,null,null,null,null,null,null,null,null,null,null,null,null,null,"Sun",2200,null,null,null,null,null,null,null,null,null,null,null,null,null,null,null,null,null,null,null,null,null,null,null,null,null,null,null,null,null,null,null,null,null,null,null,null,null,0,0,0,0,0,0,0,0,0,0,0,0,0,0,0,0,0,0,0,0,0,0,0,0,0,0,0,0,0,0,0,0,0,0,0,0,0,0,0]
["WD Ave",900,{"$f":"SUM(C5270+C5294+C5318+C5342+C5366)/5","v":0},0,0,0,0,0,0,0,0,0,0,0,0,0,0,0,0,0,0,0,0,0,0,0,0,0,0,0,0,0,0,0,0,0,0,null,null,"WD Ave",900,{"$f":"SUM(AP5270+AP5294+AP5318+AP5342+AP5366)/5","v":0},0,0,0,0,0,0,0,0,0,0,0,0,0,0,0,0,0,0,0,0,0,0,0,0,0,0,0,0,0,0,0,0,0,0,null,null,"WD Ave",900,{"$f":"SUM(CC5270+CC5294+CC5318+CC5342+CC5366)/5","v":0},0,0,0,0,0,0,0,0,0,0,0,0,0,0,0,0,0,0,0,0,0,0,0,0,0,0,0,0,0,0,0,0,0,0,null,null,0,0,0,0,0,0,0,0,0,0,0,0,0,0,0,0,0,0,0,0,0,0,0,0,0,0,0,0,0,0,0,0,0,0,0,0,0,0,0]
[null,null,"Vehicle Classification",null,null,null,null,null,null,null,null,null,null,null,"Vehicle Speed Bins",null,null,null,null,null,null,null,null,null,null,null,null,null,null,null,null,null,null,null,null,null,null,null,null,null,null,"Vehicle Classification",null,null,null,null,null,null,null,null,null,null,null,"Vehicle Speed Bins",null,null,null,null,null,null,null,null,null,null,null,null,null,null,null,null,null,null,null,null,null,null,null,null,null,null,"Vehicle Classification",null,null,null,null,null,null,null,null,null,null,null,"Vehicle Speed Bins",null,null,null,null,null,null,null,null,null,null,null,null,null,null,null,null,null,null,null,null,null,null,null,null,"C1",null,null,null,null,null,null,null,"C9","C10","C11","C12","Total","C1","C2","C3","C4","C5","C6","C7","C8","C9","C10","C11","C12","Total","C1","C2","C3","C4","C5","C6","C7","C8","C9","C10","C11","C12","Total",null,null,null,null,null,null,null,null,null,null,null,null,null,null,null,null,null,null,null,null,null,{"$f":"FA5477","v":"NB"},{"$f":"FH5477","v":"SB"},{"$f":"FO5477","v":"Combined"}]
["Mon",1300,null,null,null,null,null,null,null,null,null,null,null,null,null,null,null,null,null,null,null,null,null,null,null,null,null,null,null,null,null,null,null,null,null,null,null,null,null,"Mon",1300,null,null,null,null,null,null,null,null,null,null,null,null,null,null,null,null,null,null,null,null,null,null,null,null,null,null,null,null,null,null,null,null,null,null,null,null,null,"Mon",1300,null,null,null,null,null,null,null,null,null,null,null,null,null,null,null,null,null,null,null,null,null,null,null,null,null,null,null,null,null,null,null,null,null,null,null,null,null,0,0,0,0,0,0,0,0,0,0,0,0,0,0,0,0,0,0,0,0,0,0,0,0,0,0,0,0,0,0,0,0,0,0,0,0,0,0,0,0,0,0,0,0,0,0,0,0,0,0,0,0,0,0,0,0,0,0,0,0,0,0,0]
["Wed",100,null,null,null,null,null,null,null,null,null,null,null,null,null,null,null,null,null,null,null,null,null,null,null,null,null,null,null,null,null,null,null,null,null,null,null,null,null,"Wed",100,null,null,null,null,null,null,null,null,null,null,null,null,null,null,null,null,null,null,null,null,null,null,null,null,null,null,null,null,null,null,null,null,null,null,null,null,null,"Wed",100,null,null,null,null,null,null,null,null,null,null,null,null,null,null,null,null,null,null,null,null,null,null,null,null,null,null,null,null,null,null,null,null,null,null,null,null,null,0,0,0,0,0,0,0,0,0,0,0,0,0,0,0,0,0,0,0,0,0,0,0,0,0,0,0,0,0,0,0,0,0,0,0,0,0,0,0]
["Wed",1600,null,null,null,null,null,null,null,null,null,null,null,null,null,null,null,null,null,null,null,null,null,null,null,null,null,null,null,null,null,null,null,null,null,null,null,null,null,"Wed",1600,null,null,null,null,null,null,null,null,null,null,null,null,null,null,null,null,null,null,null,null,null,null,null,null,null,null,null,null,null,null,null,null,null,null,null,null,null,"Wed",1600,null,null,null,null,null,null,null,null,null,null,null,null,null,null,null,null,null,null,null,null,null,null,null,null,null,null,null,null,null,null,null,null,null,null,null,null,null,{"$f":"SUM(C5544)","v":0},{"$f":"SUM(D5544)","v":0},{"$f":"SUM(E5544)","v":0},{"$f":"SUM(F5544)","v":0},{"$f":"SUM(G5544)","v":0},{"$f":"SUM(H5544)","v":0},{"$f":"SUM(I5544)","v":0},{"$f":"SUM(J5544)","v":0},{"$f":"SUM(K5544)","v":0},{"$f":"SUM(L5544)","v":0},{"$f":"SUM(M5544)","v":0},{"$f":"SUM(N5544)","v":0},{"$f":"SUM(C5544:N5544)","v":0},{"$f":"SUM(AP5544)","v":0},{"$f":"SUM(AQ5544)","v":0},{"$f":"SUM(AR5544)","v":0},{"$f":"SUM(AS5544)","v":0},{"$f":"SUM(AT5544)","v":0},{"$f":"SUM(AU5544)","v":0},{"$f":"SUM(AV5544)","v":0},{"$f":"SUM(AW5544)","v":0},{"$f":"SUM(AX5544)","v":0},{"$f":"SUM(AY5544)","v":0},{"$f":"SUM(AZ5544)","v":0},{"$f":"SUM(BA5544)","v":0},{"$f":"SUM(AP5544:BA5544)","v":0},{"$f":"SUM(DN5544+EA5544)","v":0},{"$f":"SUM(DO5544+EB5544)","v":0},{"$f":"SUM(DP5544+EC5544)","v":0},{"$f":"SUM(DQ5544+ED5544)","v":0},{"$f":"SUM(DR5544+EE5544)","v":0},{"$f":"SUM(DS5544+EF5544)","v":0},{"$f":"SUM(DT5544+EG5544)","v":0},{"$f":"SUM(DU5544+EH5544)","v":0},{"$f":"SUM(DV5544+EI5544)","v":0},{"$f":"SUM(DW5544+EJ5544)","v":0},{"$f":"SUM(DX5544+EK5544)","v":0},{"$f":"SUM(DY5544+EL5544)","v":0},{"$f":"SUM(DZ5544+EM5544)","v":0}]
["Thu",700,null,null,null,null,null,null,null,null,null,null,null,null,null,null,null,null,null,null,null,null,null,null,null,null,null,null,null,null,null,null,null,null,null,null,null,null,null,"Thu",700,null,null,null,null,null,null,null,null,null,null,null,null,null,null,null,null,null,null,null,null,null,null,null,null,null,null,null,null,null,null,null,null,null,null,null,null,null,"Thu",700,null,null,null,null,null,null,null,null,null,null,null,null,null,null,null,null,null,null,null,null,null,null,null,null,null,null,null,null,null,null,null,null,null,null,null,null,null,0,0,0,0,0,0,0,0,0,0,0,0,0,0,0,0,0,0,0,0,0,0,0,0,0,0,0,0,0,0,0,0,0,0,0,0,0,0,0]
["Fri",1900,null,null,null,null,null,null,null,null,null,null,null,null,null,null,null,null,null,null,null,null,null,null,null,null,null,null,null,null,null,null,null,null,null,null,null,null,null,"Fri",1900,null,null,null,null,null,null,null,null,null,null,null,null,null,null,null,null,null,null,null,null,null,null,null,null,null,null,null,null,null,null,null,null,null,null,null,null,null,"Fri",1900,null,null,null,null,null,null,null,null,null,null,null,null,null,null,null,null,null,null,null,null,null,null,null,null,null,null,null,null,null,null,null,null,null,null,null,null,null,0,0,0,0,0,0,0,0,0,0,0,0,0,0,0,0,0,0,0,0,0,0,0,0,0,0,0,0,0,0,0,0,0,0,0,0,0,0,0]
["Sat",1000,null,null,null,null,null,null,null,null,null,null,null,null,null,null,null,null,null,null,null,null,null,null,null,null,null,null,null,null,null,null,null,null,null,null,null,null,null,"Sat",1000,null,null,null,null,null,null,null,null,null,null,null,null,null,null,null,null,null,null,null,null,null,null,null,null,null,null,null,null,null,null,null,null,null,null,null,null,null,"Sat",1000,null,null,null,null,null,null,null,null,null,null,null,null,null,null,null,null,null,null,null,null,null,null,null,null,null,null,null,null,null,null,null,null,null,null,null,null,null,0,0,0,0,0,0,0,0,0,0,0,0,0,0,0,0,0,0,0,0,0,0,0,0,0,0,0,0,0,0,0,0,0,0,0,0,0,0,0]
["Sun",2200,null,null,null,null,null,null,null,null,null,null,null,null,null,null,null,null,null,null,null,null,null,null,null,null,null,null,null,null,null,null,null,null,null,null,null,null,null,"Sun",2200,null,null,null,null,null,null,null,null,null,null,null,null,null,null,null,null,null,null,null,null,null,null,null,null,null,null,null,null,null,null,null,null,null,null,null,null,null,"Sun",2200,null,null,null,null,null,null,null,null,null,null,null,null,null,null,null,null,null,null,null,null,null,null,null,null,null,null,null,null,null,null,null,null,null,null,null,null,null,0,0,0,0,0,0,0,0,0,0,0,0,0,0,0,0,0,0,0,0,0,0,0,0,0,0,0,0,0,0,0,0,0,0,0,0,0,0,0]
["WD Ave",1300,{"$f":"SUM(C5493+C5517+C5541+C5565+C5589)/5","v":0},0,0,0,0,0,0,0,0,0,0,0,0,0,0,0,0,0,0,0,0,0,0,0,0,0,0,0,0,0,0,0,0,0,0,null,null,"WD Ave",1300,{"$f":"SUM(AP5493+AP5517+AP5541+AP5565+AP5589)/5","v":0},0,0,0,0,0,0,0,0,0,0,0,0,0,0,0,0,0,0,0,0,0,0,0,0,0,0,0,0,0,0,0,0,0,0,null,null,"WD Ave",1300,{"$f":"SUM(CC5493+CC5517+CC5541+CC5565+CC5589)/5","v":0},0,0,0,0,0,0,0,0,0,0,0,0,0,0,0,0,0,0,0,0,0,0,0,0,0,0,0,0,0,0,0,0,0,0,null,null,0,0,0,0,0,0,0,0,0,0,0,0,0,0,0,0,0,0,0,0,0,0,0,0,0,0,0,0,0,0,0,0,0,0,0,0,0,0,0]
[{"$f":"+A5700","v":"Mon"},200,null,null,null,null,null,null,null,null,null,null,null,null,null,null,null,null,null,null,null,null,null,null,null,null,null,null,null,null,null,null,null,null,null,null,null,null,null,"Mon",200,null,null,null,null,null,null,null,null,null,null,null,null,null,null,null,null,null,null,null,null,null,null,null,null,null,null,null,null,null,null,null,null,null,null,null,null,null,"Mon",200,null,null,null,null,null,null,null,null,null,null,null,null,null,null,null,null,null,null,null,null,null,null,null,null,null,null,null,null,null,null,null,null,null,null,null,null,null,0,0,0,0,0,0,0,0,0,0,0,0,0,0,0,0,0,0,0,0,0,0,0,0,0,0,0,0,0,0,0,0,0,0,0,0,0,0,0,0,0,0,0,0,0,0,0,0,0,0,0,0,0,0,0,0,0,0,0,0,0,0,0]
["Mon",1300,null,null,null,null,null,null,null,null,null,null,null,null,null,null,null,null,null,null,null,null,null,null,null,null,null,null,null,null,null,null,null,null,null,null,null,null,null,"Mon",1300,null,null,null,null,null,null,null,null,null,null,null,null,null,null,null,null,null,null,null,null,null,null,null,null,null,null,null,null,null,null,null,null,null,null,null,null,null,"Mon",1300,null,null,null,null,null,null,null,null,null,null,null,null,null,null,null,null,null,null,null,null,null,null,null,null,null,null,null,null,null,null,null,null,null,null,null,null,null,0,0,0,0,0,0,0,0,0,0,0,0,0,0,0,0,0,0,0,0,0,0,0,0,0,0,0,0,0,0,0,0,0,0,0,0,0,0,0,0,0,0,0,0,0,0,0,0,0,0,0,0,0,0,0,0,0,0,0,0,0,0,0]
["Wed",500,null,null,null,null,null,null,null,null,null,null,null,null,null,null,null,null,null,null,null,null,null,null,null,null,null,null,null,null,null,null,null,null,null,null,null,null,null,"Wed",500,null,null,null,null,null,null,null,null,null,null,null,null,null,null,null,null,null,null,null,null,null,null,null,null,null,null,null,null,null,null,null,null,null,null,null,null,null,"Wed",500,null,null,null,null,null,null,null,null,null,null,null,null,null,null,null,null,null,null,null,null,null,null,null,null,null,null,null,null,null,null,null,null,null,null,null,null,null,0,0,0,0,0,0,0,0,0,0,0,0,0,0,0,0,0,0,0,0,0,0,0,0,0,0,0,0,0,0,0,0,0,0,0,0,0,0,0]
["Wed",1600,null,null,null,null,null,null,null,null,null,null,null,null,null,null,null,null,null,null,null,null,null,null,null,null,null,null,null,null,null,null,null,null,null,null,null,null,null,"Wed",1600,null,null,null,null,null,null,null,null,null,null,null,null,null,null,null,null,null,null,null,null,null,null,null,null,null,null,null,null,null,null,null,null,null,null,null,null,null,"Wed",1600,null,null,null,null,null,null,null,null,null,null,null,null,null,null,null,null,null,null,null,null,null,null,null,null,null,null,null,null,null,null,null,null,null,null,null,null,null,{"$f":"SUM(C5763)","v":0},{"$f":"SUM(D5763)","v":0},{"$f":"SUM(E5763)","v":0},{"$f":"SUM(F5763)","v":0},{"$f":"SUM(G5763)","v":0},{"$f":"SUM(H5763)","v":0},{"$f":"SUM(I5763)","v":0},{"$f":"SUM(J5763)","v":0},{"$f":"SUM(K5763)","v":0},{"$f":"SUM(L5763)","v":0},{"$f":"SUM(M5763)","v":0},{"$f":"SUM(N5763)","v":0},{"$f":"SUM(C5763:N5763)","v":0},{"$f":"SUM(AP5763)","v":0},{"$f":"SUM(AQ5763)","v":0},{"$f":"SUM(AR5763)","v":0},{"$f":"SUM(AS5763)","v":0},{"$f":"SUM(AT5763)","v":0},{"$f":"SUM(AU5763)","v":0},{"$f":"SUM(AV5763)","v":0},{"$f":"SUM(AW5763)","v":0},{"$f":"SUM(AX5763)","v":0},{"$f":"SUM(AY5763)","v":0},{"$f":"SUM(AZ5763)","v":0},{"$f":"SUM(BA5763)","v":0},{"$f":"SUM(AP5763:BA5763)","v":0},{"$f":"SUM(DN5763+EA5763)","v":0},{"$f":"SUM(DO5763+EB5763)","v":0},{"$f":"SUM(DP5763+EC5763)","v":0},{"$f":"SUM(DQ5763+ED5763)","v":0},{"$f":"SUM(DR5763+EE5763)","v":0},{"$f":"SUM(DS5763+EF5763)","v":0},{"$f":"SUM(DT5763+EG5763)","v":0},{"$f":"SUM(DU5763+EH5763)","v":0},{"$f":"SUM(DV5763+EI5763)","v":0},{"$f":"SUM(DW5763+EJ5763)","v":0},{"$f":"SUM(DX5763+EK5763)","v":0},{"$f":"SUM(DY5763+EL5763)","v":0},{"$f":"SUM(DZ5763+EM5763)","v":0}]
["Fri",800,null,null,null,null,null,null,null,null,null,null,null,null,null,null,null,null,null,null,null,null,null,null,null,null,null,null,null,null,null,null,null,null,null,null,null,null,null,"Fri",800,null,null,null,null,null,null,null,null,null,null,null,null,null,null,null,null,null,null,null,null,null,null,null,null,null,null,null,null,null,null,null,null,null,null,null,null,null,"Fri",800,null,null,null,null,null,null,null,null,null,null,null,null,null,null,null,null,null,null,null,null,null,null,null,null,null,null,null,null,null,null,null,null,null,null,null,null,null,0,0,0,0,0,0,0,0,0,0,0,0,0,0,0,0,0,0,0,0,0,0,0,0,0,0,0,0,0,0,0,0,0,0,0,0,0,0,0]
["Sat",200,null,null,null,null,null,null,null,null,null,null,null,null,null,null,null,null,null,null,null,null,null,null,null,null,null,null,null,null,null,null,null,null,null,null,null,null,null,"Sat",200,null,null,null,null,null,null,null,null,null,null,null,null,null,null,null,null,null,null,null,null,null,null,null,null,null,null,null,null,null,null,null,null,null,null,null,null,null,"Sat",200,null,null,null,null,null,null,null,null,null,null,null,null,null,null,null,null,null,null,null,null,null,null,null,null,null,null,null,null,null,null,null,null,null,null,null,null,null,0,0,0,0,0,0,0,0,0,0,0,0,0,0,0,0,0,0,0,0,0,0,0,0,0,0,0,0,0,0,0,0,0,0,0,0,0,0,0]
["Sun",1200,null,null,null,null,null,null,null,null,null,null,null,null,null,null,null,null,null,null,null,null,null,null,null,null,null,null,null,null,null,null,null,null,null,null,null,null,null,"Sun",1200,null,null,null,null,null,null,null,null,null,null,null,null,null,null,null,null,null,null,null,null,null,null,null,null,null,null,null,null,null,null,null,null,null,null,null,null,null,"Sun",1200,null,null,null,null,null,null,null,null,null,null,null,null,null,null,null,null,null,null,null,null,null,null,null,null,null,null,null,null,null,null,null,null,null,null,null,null,null,0,0,0,0,0,0,0,0,0,0,0,0,0,0,0,0,0,0,0,0,0,0,0,0,0,0,0,0,0,0,0,0,0,0,0,0,0,0,0]
["WD Ave",300,{"$f":"SUM(C5702+C5726+C5750+C5774+C5798)/5","v":0},0,0,0,0,0,0,0,0,0,0,0,0,0,0,0,0,0,0,0,0,0,0,0,0,0,0,0,0,0,0,0,0,0,0,null,null,"WD Ave",300,{"$f":"SUM(AP5702+AP5726+AP5750+AP5774+AP5798)/5","v":0},0,0,0,0,0,0,0,0,0,0,0,0,0,0,0,0,0,0,0,0,0,0,0,0,0,0,0,0,0,0,0,0,0,0,null,null,"WD Ave",300,{"$f":"SUM(CC5702+CC5726+CC5750+CC5774+CC5798)/5","v":0},0,0,0,0,0,0,0,0,0,0,0,0,0,0,0,0,0,0,0,0,0,0,0,0,0,0,0,0,0,0,0,0,0,0,null,null,0,0,0,0,0,0,0,0,0,0,0,0,0,0,0,0,0,0,0,0,0,0,0,0,0,0,0,0,0,0,0,0,0,0,0,0,0,0,0]
["WD Ave",1800,{"$f":"SUM(C5717+C5741+C5765+C5789+C5813)/5","v":0},0,0,0,0,0,0,0,0,0,0,0,0,0,0,0,0,0,0,0,0,0,0,0,0,0,0,0,0,0,0,0,0,0,0,null,null,"WD Ave",1800,{"$f":"SUM(AP5717+AP5741+AP5765+AP5789+AP5813)/5","v":0},0,0,0,0,0,0,0,0,0,0,0,0,0,0,0,0,0,0,0,0,0,0,0,0,0,0,0,0,0,0,0,0,0,0,null,null,"WD Ave",1800,{"$f":"SUM(CC5717+CC5741+CC5765+CC5789+CC5813)/5","v":0},0,0,0,0,0,0,0,0,0,0,0,0,0,0,0,0,0,0,0,0,0,0,0,0,0,0,0,0,0,0,0,0,0,0,null,null,0,0,0,0,0,0,0,0,0,0,0,0,0,0,0,0,0,0,0,0,0,0,0,0,0,0,0,0,0,0,0,0,0,0,0,0,0,0,0]
["Mon",300,null,null,null,null,null,null,null,null,null,null,null,null,null,null,null,null,null,null,null,null,null,null,null,null,null,null,null,null,null,null,null,null,null,null,null,null,null,"Mon",300,null,null,null,null,null,null,null,null,null,null,null,null,null,null,null,null,null,null,null,null,null,null,null,null,null,null,null,null,null,null,null,null,null,null,null,null,null,"Mon",300,null,null,null,null,null,null,null,null,null,null,null,null,null,null,null,null,null,null,null,null,null,null,null,null,null,null,null,null,null,null,null,null,null,null,null,null,null,0,0,0,0,0,0,0,0,0,0,0,0,0,0,0,0,0,0,0,0,0,0,0,0,0,0,0,0,0,0,0,0,0,0,0,0,0,0,0,0,0,0,0,0,0,0,0,0,0,0,0,0,0,0,0,0,0,0,0,0,0,0,0]
["Mon",1800,null,null,null,null,null,null,null,null,null,null,null,null,null,null,null,null,null,null,null,null,null,null,null,null,null,null,null,null,null,null,null,null,null,null,null,null,null,"Mon",1800,null,null,null,null,null,null,null,null,null,null,null,null,null,null,null,null,null,null,null,null,null,null,null,null,null,null,null,null,null,null,null,null,null,null,null,null,null,"Mon",1800,null,null,null,null,null,null,null,null,null,null,null,null,null,null,null,null,null,null,null,null,null,null,null,null,null,null,null,null,null,null,null,null,null,null,null,null,null,0,0,0,0,0,0,0,0,0,0,0,0,0,0,0,0,0,0,0,0,0,0,0,0,0,0,0,0,0,0,0,0,0,0,0,0,0,0,0,0,0,0,0,0,0,0,0,0,0,0,0,0,0,0,0,0,0,0,0,0,0,0,0]
["Wed",600,null,null,null,null,null,null,null,null,null,null,null,null,null,null,null,null,null,null,null,null,null,null,null,null,null,null,null,null,null,null,null,null,null,null,null,null,null,"Wed",600,null,null,null,null,null,null,null,null,null,null,null,null,null,null,null,null,null,null,null,null,null,null,null,null,null,null,null,null,null,null,null,null,null,null,null,null,null,"Wed",600,null,null,null,null,null,null,null,null,null,null,null,null,null,null,null,null,null,null,null,null,null,null,null,null,null,null,null,null,null,null,null,null,null,null,null,null,null,0,0,0,0,0,0,0,0,0,0,0,0,0,0,0,0,0,0,0,0,0,0,0,0,0,0,0,0,0,0,0,0,0,0,0,0,0,0,0]
["Wed",2100,null,null,null,null,null,null,null,null,null,null,null,null,null,null,null,null,null,null,null,null,null,null,null,null,null,null,null,null,null,null,null,null,null,null,null,null,null,"Wed",2100,null,null,null,null,null,null,null,null,null,null,null,null,null,null,null,null,null,null,null,null,null,null,null,null,null,null,null,null,null,null,null,null,null,null,null,null,null,"Wed",2100,null,null,null,null,null,null,null,null,null,null,null,null,null,null,null,null,null,null,null,null,null,null,null,null,null,null,null,null,null,null,null,null,null,null,null,null,null,0,0,0,0,0,0,0,0,0,0,0,0,0,0,0,0,0,0,0,0,0,0,0,0,0,0,0,0,0,0,0,0,0,0,0,0,0,0,0]
["Fri",1300,null,null,null,null,null,null,null,null,null,null,null,null,null,null,null,null,null,null,null,null,null,null,null,null,null,null,null,null,null,null,null,null,null,null,null,null,null,"Fri",1300,null,null,null,null,null,null,null,null,null,null,null,null,null,null,null,null,null,null,null,null,null,null,null,null,null,null,null,null,null,null,null,null,null,null,null,null,null,"Fri",1300,null,null,null,null,null,null,null,null,null,null,null,null,null,null,null,null,null,null,null,null,null,null,null,null,null,null,null,null,null,null,null,null,null,null,null,null,null,0,0,0,0,0,0,0,0,0,0,0,0,0,0,0,0,0,0,0,0,0,0,0,0,0,0,0,0,0,0,0,0,0,0,0,0,0,0,0]
["Sat",0,null,null,null,null,null,null,null,null,null,null,null,null,null,null,null,null,null,null,null,null,null,null,null,null,null,null,null,null,null,null,null,null,null,null,null,null,null,"Sat",0,null,null,null,null,null,null,null,null,null,null,null,null,null,null,null,null,null,null,null,null,null,null,null,null,null,null,null,null,null,null,null,null,null,null,null,null,null,"Sat",0,null,null,null,null,null,null,null,null,null,null,null,null,null,null,null,null,null,null,null,null,null,null,null,null,null,null,null,null,null,null,null,null,null,null,null,null,null,0,0,0,0,0,0,0,0,0,0,0,0,0,0,0,0,0,0,0,0,0,0,0,0,0,0,0,0,0,0,0,0,0,0,0,0,0,0,0]
["Sun",1600,null,null,null,null,null,null,null,null,null,null,null,null,null,null,null,null,null,null,null,null,null,null,null,null,null,null,null,null,null,null,null,null,null,null,null,null,null,"Sun",1600,null,null,null,null,null,null,null,null,null,null,null,null,null,null,null,null,null,null,null,null,null,null,null,null,null,null,null,null,null,null,null,null,null,null,null,null,null,"Sun",1600,null,null,null,null,null,null,null,null,null,null,null,null,null,null,null,null,null,null,null,null,null,null,null,null,null,null,null,null,null,null,null,null,null,null,null,null,null,0,0,0,0,0,0,0,0,0,0,0,0,0,0,0,0,0,0,0,0,0,0,0,0,0,0,0,0,0,0,0,0,0,0,0,0,0,0,0]
["WD Ave",700,{"$f":"SUM(C5925+C5949+C5973+C5997+C6021)/5","v":0},0,0,0,0,0,0,0,0,0,0,0,0,0,0,0,0,0,0,0,0,0,0,0,0,0,0,0,0,0,0,0,0,0,0,null,null,"WD Ave",700,{"$f":"SUM(AP5925+AP5949+AP5973+AP5997+AP6021)/5","v":0},0,0,0,0,0,0,0,0,0,0,0,0,0,0,0,0,0,0,0,0,0,0,0,0,0,0,0,0,0,0,0,0,0,0,null,null,"WD Ave",700,{"$f":"SUM(CC5925+CC5949+CC5973+CC5997+CC6021)/5","v":0},0,0,0,0,0,0,0,0,0,0,0,0,0,0,0,0,0,0,0,0,0,0,0,0,0,0,0,0,0,0,0,0,0,0,null,null,0,0,0,0,0,0,0,0,0,0,0,0,0,0,0,0,0,0,0,0,0,0,0,0,0,0,0,0,0,0,0,0,0,0,0,0,0,0,0]
["7 Day Ave",1900,{"$f":"SUM(C5937+C5961+C5985+C6009+C6033+C6057+C6081)/7","v":0},0,0,0,0,0,0,0,0,0,0,0,0,0,0,0,0,0,0,0,0,0,0,0,0,0,0,0,0,0,0,0,0,0,0,null,null,"7 Day Ave",1900,{"$f":"SUM(AP5937+AP5961+AP5985+AP6009+AP6033+AP6057+AP6081)/7","v":0},0,0,0,0,0,0,0,0,0,0,0,0,0,0,0,0,0,0,0,0,0,0,0,0,0,0,0,0,0,0,0,0,0,0,null,null,"7 Day Ave",1900,{"$f":"SUM(CC5937+CC5961+CC5985+CC6009+CC6033+CC6057+CC6081)/7","v":0},0,0,0,0,0,0,0,0,0,0,0,0,0,0,0,0,0,0,0,0,0,0,0,0,0,0,0,0,0,0,0,0,0,0,null,null,0,0,0,0,0,0,0,0,0,0,0,0,0,0,0,0,0,0,0,0,0,0,0,0,0,0,0,0,0,0,0,0,0,0,0,0,0,0,0]
["Mon",700,null,null,null,null,null,null,null,null,null,null,null,null,null,null,null,null,null,null,null,null,null,null,null,null,null,null,null,null,null,null,null,null,null,null,null,null,null,"Mon",700,null,null,null,null,null,null,null,null,null,null,null,null,null,null,null,null,null,null,null,null,null,null,null,null,null,null,null,null,null,null,null,null,null,null,null,null,null,"Mon",700,null,null,null,null,null,null,null,null,null,null,null,null,null,null,null,null,null,null,null,null,null,null,null,null,null,null,null,null,null,null,null,null,null,null,null,null,null,0,0,0,0,0,0,0,0,0,0,0,0,0,0,0,0,0,0,0,0,0,0,0,0,0,0,0,0,0,0,0,0,0,0,0,0,0,0,0,0,0,0,0,0,0,0,0,0,0,0,0,0,0,0,0,0,0,0,0,0,0,0,0]
["Tue",1900,null,null,null,null,null,null,null,null,null,null,null,null,null,null,null,null,null,null,null,null,null,null,null,null,null,null,null,null,null,null,null,null,null,null,null,null,null,"Tue",1900,null,null,null,null,null,null,null,null,null,null,null,null,null,null,null,null,null,null,null,null,null,null,null,null,null,null,null,null,null,null,null,null,null,null,null,null,null,"Tue",1900,null,null,null,null,null,null,null,null,null,null,null,null,null,null,null,null,null,null,null,null,null,null,null,null,null,null,null,null,null,null,null,null,null,null,null,null,null,0,0,0,0,0,0,0,0,0,0,0,0,0,0,0,0,0,0,0,0,0,0,0,0,0,0,0,0,0,0,0,0,0,0,0,0,0,0,0,null,3,"Thu"]
["Wed",1000,null,null,null,null,null,null,null,null,null,null,null,null,null,null,null,null,null,null,null,null,null,null,null,null,null,null,null,null,null,null,null,null,null,null,null,null,null,"Wed",1000,null,null,null,null,null,null,null,null,null,null,null,null,null,null,null,null,null,null,null,null,null,null,null,null,null,null,null,null,null,null,null,null,null,null,null,null,null,"Wed",1000,null,null,null,null,null,null,null,null,null,null,null,null,null,null,null,null,null,null,null,null,null,null,null,null,null,null,null,null,null,null,null,null,null,null,null,null,null,0,0,0,0,0,0,0,0,0,0,0,0,0,0,0,0,0,0,0,0,0,0,0,0,0,0,0,0,0,0,0,0,0,0,0,0,0,0,0]
["Thu",100,null,null,null,null,null,null,null,null,null,null,null,null,null,null,null,null,null,null,null,null,null,null,null,null,null,null,null,null,null,null,null,null,null,null,null,null,null,"Thu",100,null,null,null,null,null,null,null,null,null,null,null,null,null,null,null,null,null,null,null,null,null,null,null,null,null,null,null,null,null,null,null,null,null,null,null,null,null,"Thu",100,null,null,null,null,null,null,null,null,null,null,null,null,null,null,null,null,null,null,null,null,null,null,null,null,null,null,null,null,null,null,null,null,null,null,null,null,null,0,0,0,0,0,0,0,0,0,0,0,0,0,0,0,0,0,0,0,0,0,0,0,0,0,0,0,0,0,0,0,0,0,0,0,0,0,0,0]
["Fri",1300,null,null,null,null,null,null,null,null,null,null,null,null,null,null,null,null,null,null,null,null,null,null,null,null,null,null,null,null,null,null,null,null,null,null,null,null,null,"Fri",1300,null,null,null,null,null,null,null,null,null,null,null,null,null,null,null,null,null,null,null,null,null,null,null,null,null,null,null,null,null,null,null,null,null,null,null,null,null,"Fri",1300,null,null,null,null,null,null,null,null,null,null,null,null,null,null,null,null,null,null,null,null,null,null,null,null,null,null,null,null,null,null,null,null,null,null,null,null,null,0,0,0,0,0,0,0,0,0,0,0,0,0,0,0,0,0,0,0,0,0,0,0,0,0,0,0,0,0,0,0,0,0,0,0,0,0,0,0]
["Sat",400,null,null,null,null,null,null,null,null,null,null,null,null,null,null,null,null,null,null,null,null,null,null,null,null,null,null,null,null,null,null,null,null,null,null,null,null,null,"Sat",400,null,null,null,null,null,null,null,null,null,null,null,null,null,null,null,null,null,null,null,null,null,null,null,null,null,null,null,null,null,null,null,null,null,null,null,null,null,"Sat",400,null,null,null,null,null,null,null,null,null,null,null,null,null,null,null,null,null,null,null,null,null,null,null,null,null,null,null,null,null,null,null,null,null,null,null,null,null,0,0,0,0,0,0,0,0,0,0,0,0,0,0,0,0,0,0,0,0,0,0,0,0,0,0,0,0,0,0,0,0,0,0,0,0,0,0,0]
["Sun",1600,null,null,null,null,null,null,null,null,null,null,null,null,null,null,null,null,null,null,null,null,null,null,null,null,null,null,null,null,null,null,null,null,null,null,null,null,null,"Sun",1600,null,null,null,null,null,null,null,null,null,null,null,null,null,null,null,null,null,null,null,null,null,null,null,null,null,null,null,null,null,null,null,null,null,null,null,null,null,"Sun",1600,null,null,null,null,null,null,null,null,null,null,null,null,null,null,null,null,null,null,null,null,null,null,null,null,null,null,null,null,null,null,null,null,null,null,null,null,null,0,0,0,0,0,0,0,0,0,0,0,0,0,0,0,0,0,0,0,0,0,0,0,0,0,0,0,0,0,0,0,0,0,0,0,0,0,0,0]
["WD Ave",700,{"$f":"SUM(C6144+C6168+C6192+C6216+C6240)/5","v":0},0,0,0,0,0,0,0,0,0,0,0,0,0,0,0,0,0,0,0,0,0,0,0,0,0,0,0,0,0,0,0,0,0,0,null,null,"WD Ave",700,{"$f":"SUM(AP6144+AP6168+AP6192+AP6216+AP6240)/5","v":0},0,0,0,0,0,0,0,0,0,0,0,0,0,0,0,0,0,0,0,0,0,0,0,0,0,0,0,0,0,0,0,0,0,0,null,null,"WD Ave",700,{"$f":"SUM(CC6144+CC6168+CC6192+CC6216+CC6240)/5","v":0},0,0,0,0,0,0,0,0,0,0,0,0,0,0,0,0,0,0,0,0,0,0,0,0,0,0,0,0,0,0,0,0,0,0,null,null,0,0,0,0,0,0,0,0,0,0,0,0,0,0,0,0,0,0,0,0,0,0,0,0,0,0,0,0,0,0,0,0,0,0,0,0,0,0,0]
["7 Day Ave",2300,{"$f":"SUM(C6160+C6184+C6208+C6232+C6256+C6280+C6304)/7","v":0},0,0,0,0,0,0,0,0,0,0,0,0,0,0,0,0,0,0,0,0,0,0,0,0,0,0,0,0,0,0,0,0,0,0,null,null,"7 Day Ave",2300,{"$f":"SUM(AP6160+AP6184+AP6208+AP6232+AP6256+AP6280+AP6304)/7","v":0},0,0,0,0,0,0,0,0,0,0,0,0,0,0,0,0,0,0,0,0,0,0,0,0,0,0,0,0,0,0,0,0,0,0,null,null,"7 Day Ave",2300,{"$f":"SUM(CC6160+CC6184+CC6208+CC6232+CC6256+CC6280+CC6304)/7","v":0},0,0,0,0,0,0,0,0,0,0,0,0,0,0,0,0,0,0,0,0,0,0,0,0,0,0,0,0,0,0,0,0,0,0,null,null,0,0,0,0,0,0,0,0,0,0,0,0,0,0,0,0,0,0,0,0,0,0,0,0,0,0,0,0,0,0,0,0,0,0,0,0,0,0,0]
["Mon",700,null,null,null,null,null,null,null,null,null,null,null,null,null,null,null,null,null,null,null,null,null,null,null,null,null,null,null,null,null,null,null,null,null,null,null,null,null,"Mon",700,null,null,null,null,null,null,null,null,null,null,null,null,null,null,null,null,null,null,null,null,null,null,null,null,null,null,null,null,null,null,null,null,null,null,null,null,null,"Mon",700,null,null,null,null,null,null,null,null,null,null,null,null,null,null,null,null,null,null,null,null,null,null,null,null,null,null,null,null,null,null,null,null,null,null,null,null,null,0,0,0,0,0,0,0,0,0,0,0,0,0,0,0,0,0,0,0,0,0,0,0,0,0,0,0,0,0,0,0,0,0,0,0,0,0,0,0,0,0,0,0,0,0,0,0,0,0,0,0,0,0,0,0,0,0,0,0,0,0,0,0]
["Tue",2300,null,null,null,null,null,null,null,null,null,null,null,null,null,null,null,null,null,null,null,null,null,null,null,null,null,null,null,null,null,null,null,null,null,null,null,null,null,"Tue",2300,null,null,null,null,null,null,null,null,null,null,null,null,null,null,null,null,null,null,null,null,null,null,null,null,null,null,null,null,null,null,null,null,null,null,null,null,null,"Tue",2300,null,null,null,null,null,null,null,null,null,null,null,null,null,null,null,null,null,null,null,null,null,null,null,null,null,null,null,null,null,null,null,null,null,null,null,null,null,0,0,0,0,0,0,0,0,0,0,0,0,0,0,0,0,0,0,0,0,0,0,0,0,0,0,0,0,0,0,0,0,0,0,0,0,0,0,0,null,null,"Weekday"]
["Wed",1400,null,null,null,null,null,null,null,null,null,null,null,null,null,null,null,null,null,null,null,null,null,null,null,null,null,null,null,null,null,null,null,null,null,null,null,null,null,"Wed",1400,null,null,null,null,null,null,null,null,null,null,null,null,null,null,null,null,null,null,null,null,null,null,null,null,null,null,null,null,null,null,null,null,null,null,null,null,null,"Wed",1400,null,null,null,null,null,null,null,null,null,null,null,null,null,null,null,null,null,null,null,null,null,null,null,null,null,null,null,null,null,null,null,null,null,null,null,null,null,0,0,0,0,0,0,0,0,0,0,0,0,0,0,0,0,0,0,0,0,0,0,0,0,0,0,0,0,0,0,0,0,0,0,0,0,0,0,0]
["Fri",200,null,null,null,null,null,null,null,null,null,null,null,null,null,null,null,null,null,null,null,null,null,null,null,null,null,null,null,null,null,null,null,null,null,null,null,null,null,"Fri",200,null,null,null,null,null,null,null,null,null,null,null,null,null,null,null,null,null,null,null,null,null,null,null,null,null,null,null,null,null,null,null,null,null,null,null,null,null,"Fri",200,null,null,null,null,null,null,null,null,null,null,null,null,null,null,null,null,null,null,null,null,null,null,null,null,null,null,null,null,null,null,null,null,null,null,null,null,null,0,0,0,0,0,0,0,0,0,0,0,0,0,0,0,0,0,0,0,0,0,0,0,0,0,0,0,0,0,0,0,0,0,0,0,0,0,0,0]
["Fri",1700,null,null,null,null,null,null,null,null,null,null,null,null,null,null,null,null,null,null,null,null,null,null,null,null,null,null,null,null,null,null,null,null,null,null,null,null,null,"Fri",1700,null,null,null,null,null,null,null,null,null,null,null,null,null,null,null,null,null,null,null,null,null,null,null,null,null,null,null,null,null,null,null,null,null,null,null,null,null,"Fri",1700,null,null,null,null,null,null,null,null,null,null,null,null,null,null,null,null,null,null,null,null,null,null,null,null,null,null,null,null,null,null,null,null,null,null,null,null,null,0,0,0,0,0,0,0,0,0,0,0,0,0,0,0,0,0,0,0,0,0,0,0,0,0,0,0,0,0,0,0,0,0,0,0,0,0,0,0]
["Sat",1000,null,null,null,null,null,null,null,null,null,null,null,null,null,null,null,null,null,null,null,null,null,null,null,null,null,null,null,null,null,null,null,null,null,null,null,null,null,"Sat",1000,null,null,null,null,null,null,null,null,null,null,null,null,null,null,null,null,null,null,null,null,null,null,null,null,null,null,null,null,null,null,null,null,null,null,null,null,null,"Sat",1000,null,null,null,null,null,null,null,null,null,null,null,null,null,null,null,null,null,null,null,null,null,null,null,null,null,null,null,null,null,null,null,null,null,null,null,null,null,0,0,0,0,0,0,0,0,0,0,0,0,0,0,0,0,0,0,0,0,0,0,0,0,0,0,0,0,0,0,0,0,0,0,0,0,0,0,0]
["Sun",1000,null,null,null,null,null,null,null,null,null,null,null,null,null,null,null,null,null,null,null,null,null,null,null,null,null,null,null,null,null,null,null,null,null,null,null,null,null,"Sun",1000,null,null,null,null,null,null,null,null,null,null,null,null,null,null,null,null,null,null,null,null,null,null,null,null,null,null,null,null,null,null,null,null,null,null,null,null,null,"Sun",1000,null,null,null,null,null,null,null,null,null,null,null,null,null,null,null,null,null,null,null,null,null,null,null,null,null,null,null,null,null,null,null,null,null,null,null,null,null,0,0,0,0,0,0,0,0,0,0,0,0,0,0,0,0,0,0,0,0,0,0,0,0,0,0,0,0,0,0,0,0,0,0,0,0,0,0,0]
["Sun",1100,null,null,null,null,null,null,null,null,null,null,null,null,null,null,null,null,null,null,null,null,null,null,null,null,null,null,null,null,null,null,null,null,null,null,null,null,null,"Sun",1100,null,null,null,null,null,null,null,null,null,null,null,null,null,null,null,null,null,null,null,null,null,null,null,null,null,null,null,null,null,null,null,null,null,null,null,null,null,"Sun",1100,null,null,null,null,null,null,null,null,null,null,null,null,null,null,null,null,null,null,null,null,null,null,null,null,null,null,null,null,null,null,null,null,null,null,null,null,null,0,0,0,0,0,0,0,0,0,0,0,0,0,0,0,0,0,0,0,0,0,0,0,0,0,0,0,0,0,0,0,0,0,0,0,0,0,0,0]
["Sun",1200,null,null,null,null,null,null,null,null,null,null,null,null,null,null,null,null,null,null,null,null,null,null,null,null,null,null,null,null,null,null,null,null,null,null,null,null,null,"Sun",1200,null,null,null,null,null,null,null,null,null,null,null,null,null,null,null,null,null,null,null,null,null,null,null,null,null,null,null,null,null,null,null,null,null,null,null,null,null,"Sun",1200,null,null,null,null,null,null,null,null,null,null,null,null,null,null,null,null,null,null,null,null,null,null,null,null,null,null,null,null,null,null,null,null,null,null,null,null,null,0,0,0,0,0,0,0,0,0,0,0,0,0,0,0,0,0,0,0,0,0,0,0,0,0,0,0,0,0,0,0,0,0,0,0,0,0,0,0]
["Sun",1300,null,null,null,null,null,null,null,null,null,null,null,null,null,null,null,null,null,null,null,null,null,null,null,null,null,null,null,null,null,null,null,null,null,null,null,null,null,"Sun",1300,null,null,null,null,null,null,null,null,null,null,null,null,null,null,null,null,null,null,null,null,null,null,null,null,null,null,null,null,null,null,null,null,null,null,null,null,null,"Sun",1300,null,null,null,null,null,null,null,null,null,null,null,null,null,null,null,null,null,null,null,null,null,null,null,null,null,null,null,null,null,null,null,null,null,null,null,null,null,0,0,0,0,0,0,0,0,0,0,0,0,0,0,0,0,0,0,0,0,0,0,0,0,0,0,0,0,0,0,0,0,0,0,0,0,0,0,0]
["Sun",1400,null,null,null,null,null,null,null,null,null,null,null,null,null,null,null,null,null,null,null,null,null,null,null,null,null,null,null,null,null,null,null,null,null,null,null,null,null,"Sun",1400,null,null,null,null,null,null,null,null,null,null,null,null,null,null,null,null,null,null,null,null,null,null,null,null,null,null,null,null,null,null,null,null,null,null,null,null,null,"Sun",1400,null,null,null,null,null,null,null,null,null,null,null,null,null,null,null,null,null,null,null,null,null,null,null,null,null,null,null,null,null,null,null,null,null,null,null,null,null,0,0,0,0,0,0,0,0,0,0,0,0,0,0,0,0,0,0,0,0,0,0,0,0,0,0,0,0,0,0,0,0,0,0,0,0,0,0,0]
["Sun",1500,null,null,null,null,null,null,null,null,null,null,null,null,null,null,null,null,null,null,null,null,null,null,null,null,null,null,null,null,null,null,null,null,null,null,null,null,null,"Sun",1500,null,null,null,null,null,null,null,null,null,null,null,null,null,null,null,null,null,null,null,null,null,null,null,null,null,null,null,null,null,null,null,null,null,null,null,null,null,"Sun",1500,null,null,null,null,null,null,null,null,null,null,null,null,null,null,null,null,null,null,null,null,null,null,null,null,null,null,null,null,null,null,null,null,null,null,null,null,null,0,0,0,0,0,0,0,0,0,0,0,0,0,0,0,0,0,0,0,0,0,0,0,0,0,0,0,0,0,0,0,0,0,0,0,0,0,0,0]
["Sun",1600,null,null,null,null,null,null,null,null,null,null,null,null,null,null,null,null,null,null,null,null,null,null,null,null,null,null,null,null,null,null,null,null,null,null,null,null,null,"Sun",1600,null,null,null,null,null,null,null,null,null,null,null,null,null,null,null,null,null,null,null,null,null,null,null,null,null,null,null,null,null,null,null,null,null,null,null,null,null,"Sun",1600,null,null,null,null,null,null,null,null,null,null,null,null,null,null,null,null,null,null,null,null,null,null,null,null,null,null,null,null,null,null,null,null,null,null,null,null,null,0,0,0,0,0,0,0,0,0,0,0,0,0,0,0,0,0,0,0,0,0,0,0,0,0,0,0,0,0,0,0,0,0,0,0,0,0,0,0]
["Sun",1700,null,null,null,null,null,null,null,null,null,null,null,null,null,null,null,null,null,null,null,null,null,null,null,null,null,null,null,null,null,null,null,null,null,null,null,null,null,"Sun",1700,null,null,null,null,null,null,null,null,null,null,null,null,null,null,null,null,null,null,null,null,null,null,null,null,null,null,null,null,null,null,null,null,null,null,null,null,null,"Sun",1700,null,null,null,null,null,null,null,null,null,null,null,null,null,null,null,null,null,null,null,null,null,null,null,null,null,null,null,null,null,null,null,null,null,null,null,null,null,0,0,0,0,0,0,0,0,0,0,0,0,0,0,0,0,0,0,0,0,0,0,0,0,0,0,0,0,0,0,0,0,0,0,0,0,0,0,0]
["Sun",1800,null,null,null,null,null,null,null,null,null,null,null,null,null,null,null,null,null,null,null,null,null,null,null,null,null,null,null,null,null,null,null,null,null,null,null,null,null,"Sun",1800,null,null,null,null,null,null,null,null,null,null,null,null,null,null,null,null,null,null,null,null,null,null,null,null,null,null,null,null,null,null,null,null,null,null,null,null,null,"Sun",1800,null,null,null,null,null,null,null,null,null,null,null,null,null,null,null,null,null,null,null,null,null,null,null,null,null,null,null,null,null,null,null,null,null,null,null,null,null,0,0,0,0,0,0,0,0,0,0,0,0,0,0,0,0,0,0,0,0,0,0,0,0,0,0,0,0,0,0,0,0,0,0,0,0,0,0,0]
["Sun",1900,null,null,null,null,null,null,null,null,null,null,null,null,null,null,null,null,null,null,null,null,null,null,null,null,null,null,null,null,null,null,null,null,null,null,null,null,null,"Sun",1900,null,null,null,null,null,null,null,null,null,null,null,null,null,null,null,null,null,null,null,null,null,null,null,null,null,null,null,null,null,null,null,null,null,null,null,null,null,"Sun",1900,null,null,null,null,null,null,null,null,null,null,null,null,null,null,null,null,null,null,null,null,null,null,null,null,null,null,null,null,null,null,null,null,null,null,null,null,null,0,0,0,0,0,0,0,0,0,0,0,0,0,0,0,0,0,0,0,0,0,0,0,0,0,0,0,0,0,0,0,0,0,0,0,0,0,0,0]
["Sun",2000,null,null,null,null,null,null,null,null,null,null,null,null,null,null,null,null,null,null,null,null,null,null,null,null,null,null,null,null,null,null,null,null,null,null,null,null,null,"Sun",2000,null,null,null,null,null,null,null,null,null,null,null,null,null,null,null,null,null,null,null,null,null,null,null,null,null,null,null,null,null,null,null,null,null,null,null,null,null,"Sun",2000,null,null,null,null,null,null,null,null,null,null,null,null,null,null,null,null,null,null,null,null,null,null,null,null,null,null,null,null,null,null,null,null,null,null,null,null,null,0,0,0,0,0,0,0,0,0,0,0,0,0,0,0,0,0,0,0,0,0,0,0,0,0,0,0,0,0,0,0,0,0,0,0,0,0,0,0]
["Sun",2100,null,null,null,null,null,null,null,null,null,null,null,null,null,null,null,null,null,null,null,null,null,null,null,null,null,null,null,null,null,null,null,null,null,null,null,null,null,"Sun",2100,null,null,null,null,null,null,null,null,null,null,null,null,null,null,null,null,null,null,null,null,null,null,null,null,null,null,null,null,null,null,null,null,null,null,null,null,null,"Sun",2100,null,null,null,null,null,null,null,null,null,null,null,null,null,null,null,null,null,null,null,null,null,null,null,null,null,null,null,null,null,null,null,null,null,null,null,null,null,0,0,0,0,0,0,0,0,0,0,0,0,0,0,0,0,0,0,0,0,0,0,0,0,0,0,0,0,0,0,0,0,0,0,0,0,0,0,0]
["Sun",2200,null,null,null,null,null,null,null,null,null,null,null,null,null,null,null,null,null,null,null,null,null,null,null,null,null,null,null,null,null,null,null,null,null,null,null,null,null,"Sun",2200,null,null,null,null,null,null,null,null,null,null,null,null,null,null,null,null,null,null,null,null,null,null,null,null,null,null,null,null,null,null,null,null,null,null,null,null,null,"Sun",2200,null,null,null,null,null,null,null,null,null,null,null,null,null,null,null,null,null,null,null,null,null,null,null,null,null,null,null,null,null,null,null,null,null,null,null,null,null,0,0,0,0,0,0,0,0,0,0,0,0,0,0,0,0,0,0,0,0,0,0,0,0,0,0,0,0,0,0,0,0,0,0,0,0,0,0,0]
["Sun",2300,null,null,null,null,null,null,null,null,null,null,null,null,null,null,null,null,null,null,null,null,null,null,null,null,null,null,null,null,null,null,null,null,null,null,null,null,null,"Sun",2300,null,null,null,null,null,null,null,null,null,null,null,null,null,null,null,null,null,null,null,null,null,null,null,null,null,null,null,null,null,null,null,null,null,null,null,null,null,"Sun",2300,null,null,null,null,null,null,null,null,null,null,null,null,null,null,null,null,null,null,null,null,null,null,null,null,null,null,null,null,null,null,null,null,null,null,null,null,null,0,0,0,0,0,0,0,0,0,0,0,0,0,0,0,0,0,0,0,0,0,0,0,0,0,0,0,0,0,0,0,0,0,0,0,0,0,0,0]
["WD Ave",0,{"$f":"SUM(C6356+C6380+C6404+C6428+C6452)/5","v":0},0,0,0,0,0,0,0,0,0,0,0,{"$f":"SUM(O6356+O6380+O6404+O6428+O6452)/5","v":0},0,0,0,0,0,{"$f":"SUM(U6356+U6380+U6404+U6428+U6452)/5","v":0},0,0,0,0,0,0,0,0,0,0,0,0,0,0,0,0,null,null,"WD Ave",0,{"$f":"SUM(AP6356+AP6380+AP6404+AP6428+AP6452)/5","v":0},0,0,0,0,0,0,0,0,0,0,0,0,0,0,0,0,0,0,0,0,0,0,0,0,0,0,0,0,0,0,0,0,0,0,null,null,"WD Ave",0,{"$f":"SUM(CC6356+CC6380+CC6404+CC6428+CC6452)/5","v":0},0,0,0,0,0,0,0,0,0,0,0,0,0,0,0,0,0,0,0,0,0,0,0,0,0,0,0,0,0,0,0,0,0,0,null,null,0,0,0,0,0,0,0,0,0,0,0,0,0,0,0,0,0,0,0,0,0,0,0,0,0,0,0,0,0,0,0,0,0,0,0,0,0,0,0]
["WD Ave",100,{"$f":"SUM(C6357+C6381+C6405+C6429+C6453)/5","v":0},0,0,0,0,0,0,0,0,0,0,0,0,0,0,0,0,0,0,0,0,0,0,0,0,0,0,0,0,0,0,0,0,0,0,null,null,"WD Ave",100,{"$f":"SUM(AP6357+AP6381+AP6405+AP6429+AP6453)/5","v":0},0,0,0,0,0,0,0,0,0,0,0,0,0,0,0,0,0,0,0,0,0,0,0,0,0,0,0,0,0,0,0,0,0,0,null,null,"WD Ave",100,{"$f":"SUM(CC6357+CC6381+CC6405+CC6429+CC6453)/5","v":0},0,0,0,0,0,0,0,0,0,0,0,0,0,0,0,0,0,0,0,0,0,0,0,0,0,0,0,0,0,0,0,0,0,0,null,null,0,0,0,0,0,0,0,0,0,0,0,0,0,0,0,0,0,0,0,0,0,0,0,0,0,0,0,0,0,0,0,0,0,0,0,0,0,0,0]
["WD Ave",200,{"$f":"SUM(C6358+C6382+C6406+C6430+C6454)/5","v":0},0,0,0,0,0,0,0,0,0,0,0,0,0,0,0,0,0,0,0,0,0,0,0,0,0,0,0,0,0,0,0,0,0,0,null,null,"WD Ave",200,{"$f":"SUM(AP6358+AP6382+AP6406+AP6430+AP6454)/5","v":0},0,0,0,0,0,0,0,0,0,0,0,0,0,0,0,0,0,0,0,0,0,0,0,0,0,0,0,0,0,0,0,0,0,0,null,null,"WD Ave",200,{"$f":"SUM(CC6358+CC6382+CC6406+CC6430+CC6454)/5","v":0},0,0,0,0,0,0,0,0,0,0,0,0,0,0,0,0,0,0,0,0,0,0,0,0,0,0,0,0,0,0,0,0,0,0,null,null,0,0,0,0,0,0,0,0,0,0,0,0,0,0,0,0,0,0,0,0,0,0,0,0,0,0,0,0,0,0,0,0,0,0,0,0,0,0,0]
["WD Ave",300,{"$f":"SUM(C6359+C6383+C6407+C6431+C6455)/5","v":0},0,0,0,0,0,0,0,0,0,0,0,0,0,0,0,0,0,0,0,0,0,0,0,0,0,0,0,0,0,0,0,0,0,0,null,null,"WD Ave",300,{"$f":"SUM(AP6359+AP6383+AP6407+AP6431+AP6455)/5","v":0},0,0,0,0,0,0,0,0,0,0,0,0,0,0,0,0,0,0,0,0,0,0,0,0,0,0,0,0,0,0,0,0,0,0,null,null,"WD Ave",300,{"$f":"SUM(CC6359+CC6383+CC6407+CC6431+CC6455)/5","v":0},0,0,0,0,0,0,0,0,0,0,0,0,0,0,0,0,0,0,0,0,0,0,0,0,0,0,0,0,0,0,0,0,0,0,null,null,0,0,0,0,0,0,0,0,0,0,0,0,0,0,0,0,0,0,0,0,0,0,0,0,0,0,0,0,0,0,0,0,0,0,0,0,0,0,0]
["WD Ave",400,{"$f":"SUM(C6360+C6384+C6408+C6432+C6456)/5","v":0},0,0,0,0,0,0,0,0,0,0,0,0,0,0,0,0,0,0,0,0,0,0,0,0,0,0,0,0,0,0,0,0,0,0,null,null,"WD Ave",400,{"$f":"SUM(AP6360+AP6384+AP6408+AP6432+AP6456)/5","v":0},0,0,0,0,0,0,0,0,0,0,0,0,0,0,0,0,0,0,0,0,0,0,0,0,0,0,0,0,0,0,0,0,0,0,null,null,"WD Ave",400,{"$f":"SUM(CC6360+CC6384+CC6408+CC6432+CC6456)/5","v":0},0,0,0,0,0,0,0,0,0,0,0,0,0,0,0,0,0,0,0,0,0,0,0,0,0,0,0,0,0,0,0,0,0,0,null,null,0,0,0,0,0,0,0,0,0,0,0,0,0,0,0,0,0,0,0,0,0,0,0,0,0,0,0,0,0,0,0,0,0,0,0,0,0,0,0]
["WD Ave",500,{"$f":"SUM(C6361+C6385+C6409+C6433+C6457)/5","v":0},0,0,0,0,0,0,0,0,0,0,0,0,0,0,0,0,0,0,0,0,0,0,0,0,0,0,0,0,0,0,0,0,0,0,null,null,"WD Ave",500,{"$f":"SUM(AP6361+AP6385+AP6409+AP6433+AP6457)/5","v":0},0,0,0,0,0,0,0,0,0,0,0,0,0,0,0,0,0,0,0,0,0,0,0,0,0,0,0,0,0,0,0,0,0,0,null,null,"WD Ave",500,{"$f":"SUM(CC6361+CC6385+CC6409+CC6433+CC6457)/5","v":0},0,0,0,0,0,0,0,0,0,0,0,0,0,0,0,0,0,0,0,0,0,0,0,0,0,0,0,0,0,0,0,0,0,0,null,null,0,0,0,0,0,0,0,0,0,0,0,0,0,0,0,0,0,0,0,0,0,0,0,0,0,0,0,0,0,0,0,0,0,0,0,0,0,0,0]
["WD Ave",600,{"$f":"SUM(C6362+C6386+C6410+C6434+C6458)/5","v":0},0,0,0,0,0,0,0,0,0,0,0,0,0,0,0,0,0,0,0,0,0,0,0,0,0,0,0,0,0,0,0,0,0,0,null,null,"WD Ave",600,{"$f":"SUM(AP6362+AP6386+AP6410+AP6434+AP6458)/5","v":0},0,0,0,0,0,0,0,0,0,0,0,0,0,0,0,0,0,0,0,0,0,0,0,0,0,0,0,0,0,0,0,0,0,0,null,null,"WD Ave",600,{"$f":"SUM(CC6362+CC6386+CC6410+CC6434+CC6458)/5","v":0},0,0,0,0,0,0,0,0,0,0,0,0,0,0,0,0,0,0,0,0,0,0,0,0,0,0,0,0,0,0,0,0,0,0,null,null,0,0,0,0,0,0,0,0,0,0,0,0,0,0,0,0,0,0,0,0,0,0,0,0,0,0,0,0,0,0,0,0,0,0,0,0,0,0,0]
["WD Ave",700,{"$f":"SUM(C6363+C6387+C6411+C6435+C6459)/5","v":0},0,0,0,0,0,0,0,0,0,0,0,0,0,0,0,0,0,0,0,0,0,0,0,0,0,0,0,0,0,0,0,0,0,0,null,null,"WD Ave",700,{"$f":"SUM(AP6363+AP6387+AP6411+AP6435+AP6459)/5","v":0},0,0,0,0,0,0,0,0,0,0,0,0,0,0,0,0,0,0,0,0,0,0,0,0,0,0,0,0,0,0,0,0,0,0,null,null,"WD Ave",700,{"$f":"SUM(CC6363+CC6387+CC6411+CC6435+CC6459)/5","v":0},0,0,0,0,0,0,0,0,0,0,0,0,0,0,0,0,0,0,0,0,0,0,0,0,0,0,0,0,0,0,0,0,0,0,null,null,0,0,0,0,0,0,0,0,0,0,0,0,0,0,0,0,0,0,0,0,0,0,0,0,0,0,0,0,0,0,0,0,0,0,0,0,0,0,0]
["WD Ave",800,{"$f":"SUM(C6364+C6388+C6412+C6436+C6460)/5","v":0},0,0,0,0,0,0,0,0,0,0,0,0,0,0,0,0,0,0,0,0,0,0,0,0,0,0,0,0,0,0,0,0,0,0,null,null,"WD Ave",800,{"$f":"SUM(AP6364+AP6388+AP6412+AP6436+AP6460)/5","v":0},0,0,0,0,0,0,0,0,0,0,0,0,0,0,0,0,0,0,0,0,0,0,0,0,0,0,0,0,0,0,0,0,0,0,null,null,"WD Ave",800,{"$f":"SUM(CC6364+CC6388+CC6412+CC6436+CC6460)/5","v":0},0,0,0,0,0,0,0,0,0,0,0,0,0,0,0,0,0,0,0,0,0,0,0,0,0,0,0,0,0,0,0,0,0,0,null,null,0,0,0,0,0,0,0,0,0,0,0,0,0,0,0,0,0,0,0,0,0,0,0,0,0,0,0,0,0,0,0,0,0,0,0,0,0,0,0]
["WD Ave",900,{"$f":"SUM(C6365+C6389+C6413+C6437+C6461)/5","v":0},0,0,0,0,0,0,0,0,0,0,0,0,0,0,0,0,0,0,0,0,0,0,0,0,0,0,0,0,0,0,0,0,0,0,null,null,"WD Ave",900,{"$f":"SUM(AP6365+AP6389+AP6413+AP6437+AP6461)/5","v":0},0,0,0,0,0,0,0,0,0,0,0,0,0,0,0,0,0,0,0,0,0,0,0,0,0,0,0,0,0,0,0,0,0,0,null,null,"WD Ave",900,{"$f":"SUM(CC6365+CC6389+CC6413+CC6437+CC6461)/5","v":0},0,0,0,0,0,0,0,0,0,0,0,0,0,0,0,0,0,0,0,0,0,0,0,0,0,0,0,0,0,0,0,0,0,0,null,null,0,0,0,0,0,0,0,0,0,0,0,0,0,0,0,0,0,0,0,0,0,0,0,0,0,0,0,0,0,0,0,0,0,0,0,0,0,0,0]
["WD Ave",1000,{"$f":"SUM(C6366+C6390+C6414+C6438+C6462)/5","v":0},0,0,0,0,0,0,0,0,0,0,0,0,0,0,0,0,0,0,0,0,0,0,0,0,0,0,0,0,0,0,0,0,0,0,null,null,"WD Ave",1000,{"$f":"SUM(AP6366+AP6390+AP6414+AP6438+AP6462)/5","v":0},0,0,0,0,0,0,0,0,0,0,0,0,0,0,0,0,0,0,0,0,0,0,0,0,0,0,0,0,0,0,0,0,0,0,null,null,"WD Ave",1000,{"$f":"SUM(CC6366+CC6390+CC6414+CC6438+CC6462)/5","v":0},0,0,0,0,0,0,0,0,0,0,0,0,0,0,0,0,0,0,0,0,0,0,0,0,0,0,0,0,0,0,0,0,0,0,null,null,0,0,0,0,0,0,0,0,0,0,0,0,0,0,0,0,0,0,0,0,0,0,0,0,0,0,0,0,0,0,0,0,0,0,0,0,0,0,0]
["WD Ave",1100,{"$f":"SUM(C6367+C6391+C6415+C6439+C6463)/5","v":0},0,0,0,0,0,0,0,0,0,0,0,0,0,0,0,0,0,0,0,0,0,0,0,0,0,0,0,0,0,0,0,0,0,0,null,null,"WD Ave",1100,{"$f":"SUM(AP6367+AP6391+AP6415+AP6439+AP6463)/5","v":0},0,0,0,0,0,0,0,0,0,0,0,0,0,0,0,0,0,0,0,0,0,0,0,0,0,0,0,0,0,0,0,0,0,0,null,null,"WD Ave",1100,{"$f":"SUM(CC6367+CC6391+CC6415+CC6439+CC6463)/5","v":0},0,0,0,0,0,0,0,0,0,0,0,0,0,0,0,0,0,0,0,0,0,0,0,0,0,0,0,0,0,0,0,0,0,0,null,null,0,0,0,0,0,0,0,0,0,0,0,0,0,0,0,0,0,0,0,0,0,0,0,0,0,0,0,0,0,0,0,0,0,0,0,0,0,0,0]
["WD Ave",1200,{"$f":"SUM(C6368+C6392+C6416+C6440+C6464)/5","v":0},0,0,0,0,0,0,0,0,0,0,0,0,0,0,0,0,0,0,0,0,0,0,0,0,0,0,0,0,0,0,0,0,0,0,null,null,"WD Ave",1200,{"$f":"SUM(AP6368+AP6392+AP6416+AP6440+AP6464)/5","v":0},0,0,0,0,0,0,0,0,0,0,0,0,0,0,0,0,0,0,0,0,0,0,0,0,0,0,0,0,0,0,0,0,0,0,null,null,"WD Ave",1200,{"$f":"SUM(CC6368+CC6392+CC6416+CC6440+CC6464)/5","v":0},0,0,0,0,0,0,0,0,0,0,0,0,0,0,0,0,0,0,0,0,0,0,0,0,0,0,0,0,0,0,0,0,0,0,null,null,0,0,0,0,0,0,0,0,0,0,0,0,0,0,0,0,0,0,0,0,0,0,0,0,0,0,0,0,0,0,0,0,0,0,0,0,0,0,0]
["WD Ave",1300,{"$f":"SUM(C6369+C6393+C6417+C6441+C6465)/5","v":0},0,0,0,0,0,0,0,0,0,0,0,0,0,0,0,0,0,0,0,0,0,0,0,0,0,0,0,0,0,0,0,0,0,0,null,null,"WD Ave",1300,{"$f":"SUM(AP6369+AP6393+AP6417+AP6441+AP6465)/5","v":0},0,0,0,0,0,0,0,0,0,0,0,0,0,0,0,0,0,0,0,0,0,0,0,0,0,0,0,0,0,0,0,0,0,0,null,null,"WD Ave",1300,{"$f":"SUM(CC6369+CC6393+CC6417+CC6441+CC6465)/5","v":0},0,0,0,0,0,0,0,0,0,0,0,0,0,0,0,0,0,0,0,0,0,0,0,0,0,0,0,0,0,0,0,0,0,0,null,null,0,0,0,0,0,0,0,0,0,0,0,0,0,0,0,0,0,0,0,0,0,0,0,0,0,0,0,0,0,0,0,0,0,0,0,0,0,0,0]
["WD Ave",1400,{"$f":"SUM(C6370+C6394+C6418+C6442+C6466)/5","v":0},0,0,0,0,0,0,0,0,0,0,0,0,0,0,0,0,0,0,0,0,0,0,0,0,0,0,0,0,0,0,0,0,0,0,null,null,"WD Ave",1400,{"$f":"SUM(AP6370+AP6394+AP6418+AP6442+AP6466)/5","v":0},0,0,0,0,0,0,0,0,0,0,0,0,0,0,0,0,0,0,0,0,0,0,0,0,0,0,0,0,0,0,0,0,0,0,null,null,"WD Ave",1400,{"$f":"SUM(CC6370+CC6394+CC6418+CC6442+CC6466)/5","v":0},0,0,0,0,0,0,0,0,0,0,0,0,0,0,0,0,0,0,0,0,0,0,0,0,0,0,0,0,0,0,0,0,0,0,null,null,0,0,0,0,0,0,0,0,0,0,0,0,0,0,0,0,0,0,0,0,0,0,0,0,0,0,0,0,0,0,0,0,0,0,0,0,0,0,0]
["WD Ave",1500,{"$f":"SUM(C6371+C6395+C6419+C6443+C6467)/5","v":0},0,0,0,0,0,0,0,0,0,0,0,0,0,0,0,0,0,0,0,0,0,0,0,0,0,0,0,0,0,0,0,0,0,0,null,null,"WD Ave",1500,{"$f":"SUM(AP6371+AP6395+AP6419+AP6443+AP6467)/5","v":0},0,0,0,0,0,0,0,0,0,0,0,0,0,0,0,0,0,0,0,0,0,0,0,0,0,0,0,0,0,0,0,0,0,0,null,null,"WD Ave",1500,{"$f":"SUM(CC6371+CC6395+CC6419+CC6443+CC6467)/5","v":0},0,0,0,0,0,0,0,0,0,0,0,0,0,0,0,0,0,0,0,0,0,0,0,0,0,0,0,0,0,0,0,0,0,0,null,null,0,0,0,0,0,0,0,0,0,0,0,0,0,0,0,0,0,0,0,0,0,0,0,0,0,0,0,0,0,0,0,0,0,0,0,0,0,0,0]
["WD Ave",1600,{"$f":"SUM(C6372+C6396+C6420+C6444+C6468)/5","v":0},0,0,0,0,0,0,0,0,0,0,0,0,0,0,0,0,0,0,0,0,0,0,0,0,0,0,0,0,0,0,0,0,0,0,null,null,"WD Ave",1600,{"$f":"SUM(AP6372+AP6396+AP6420+AP6444+AP6468)/5","v":0},0,0,0,0,0,0,0,0,0,0,0,0,0,0,0,0,0,0,0,0,0,0,0,0,0,0,0,0,0,0,0,0,0,0,null,null,"WD Ave",1600,{"$f":"SUM(CC6372+CC6396+CC6420+CC6444+CC6468)/5","v":0},0,0,0,0,0,0,0,0,0,0,0,0,0,0,0,0,0,0,0,0,0,0,0,0,0,0,0,0,0,0,0,0,0,0,null,null,0,0,0,0,0,0,0,0,0,0,0,0,0,0,0,0,0,0,0,0,0,0,0,0,0,0,0,0,0,0,0,0,0,0,0,0,0,0,0]
["WD Ave",1700,{"$f":"SUM(C6373+C6397+C6421+C6445+C6469)/5","v":0},0,0,0,0,0,0,0,0,0,0,0,0,0,0,0,0,0,0,0,0,0,0,0,0,0,0,0,0,0,0,0,0,0,0,null,null,"WD Ave",1700,{"$f":"SUM(AP6373+AP6397+AP6421+AP6445+AP6469)/5","v":0},0,0,0,0,0,0,0,0,0,0,0,0,0,0,0,0,0,0,0,0,0,0,0,0,0,0,0,0,0,0,0,0,0,0,null,null,"WD Ave",1700,{"$f":"SUM(CC6373+CC6397+CC6421+CC6445+CC6469)/5","v":0},0,0,0,0,0,0,0,0,0,0,0,0,0,0,0,0,0,0,0,0,0,0,0,0,0,0,0,0,0,0,0,0,0,0,null,null,0,0,0,0,0,0,0,0,0,0,0,0,0,0,0,0,0,0,0,0,0,0,0,0,0,0,0,0,0,0,0,0,0,0,0,0,0,0,0]
["WD Ave",1800,{"$f":"SUM(C6374+C6398+C6422+C6446+C6470)/5","v":0},0,0,0,0,0,0,0,0,0,0,0,0,0,0,0,0,0,0,0,0,0,0,0,0,0,0,0,0,0,0,0,0,0,0,null,null,"WD Ave",1800,{"$f":"SUM(AP6374+AP6398+AP6422+AP6446+AP6470)/5","v":0},0,0,0,0,0,0,0,0,0,0,0,0,0,0,0,0,0,0,0,0,0,0,0,0,0,0,0,0,0,0,0,0,0,0,null,null,"WD Ave",1800,{"$f":"SUM(CC6374+CC6398+CC6422+CC6446+CC6470)/5","v":0},0,0,0,0,0,0,0,0,0,0,0,0,0,0,0,0,0,0,0,0,0,0,0,0,0,0,0,0,0,0,0,0,0,0,null,null,0,0,0,0,0,0,0,0,0,0,0,0,0,0,0,0,0,0,0,0,0,0,0,0,0,0,0,0,0,0,0,0,0,0,0,0,0,0,0]
["WD Ave",1900,{"$f":"SUM(C6375+C6399+C6423+C6447+C6471)/5","v":0},0,0,0,0,0,0,0,0,0,0,0,0,0,0,0,0,0,0,0,0,0,0,0,0,0,0,0,0,0,0,0,0,0,0,null,null,"WD Ave",1900,{"$f":"SUM(AP6375+AP6399+AP6423+AP6447+AP6471)/5","v":0},0,0,0,0,0,0,0,0,0,0,0,0,0,0,0,0,0,0,0,0,0,0,0,0,0,0,0,0,0,0,0,0,0,0,null,null,"WD Ave",1900,{"$f":"SUM(CC6375+CC6399+CC6423+CC6447+CC6471)/5","v":0},0,0,0,0,0,0,0,0,0,0,0,0,0,0,0,0,0,0,0,0,0,0,0,0,0,0,0,0,0,0,0,0,0,0,null,null,0,0,0,0,0,0,0,0,0,0,0,0,0,0,0,0,0,0,0,0,0,0,0,0,0,0,0,0,0,0,0,0,0,0,0,0,0,0,0]
["WD Ave",2000,{"$f":"SUM(C6376+C6400+C6424+C6448+C6472)/5","v":0},0,0,0,0,0,0,0,0,0,0,0,0,0,0,0,0,0,0,0,0,0,0,0,0,0,0,0,0,0,0,0,0,0,0,null,null,"WD Ave",2000,{"$f":"SUM(AP6376+AP6400+AP6424+AP6448+AP6472)/5","v":0},0,0,0,0,0,0,0,0,0,0,0,0,0,0,0,0,0,0,0,0,0,0,0,0,0,0,0,0,0,0,0,0,0,0,null,null,"WD Ave",2000,{"$f":"SUM(CC6376+CC6400+CC6424+CC6448+CC6472)/5","v":0},0,0,0,0,0,0,0,0,0,0,0,0,0,0,0,0,0,0,0,0,0,0,0,0,0,0,0,0,0,0,0,0,0,0,null,null,0,0,0,0,0,0,0,0,0,0,0,0,0,0,0,0,0,0,0,0,0,0,0,0,0,0,0,0,0,0,0,0,0,0,0,0,0,0,0]
["WD Ave",2100,{"$f":"SUM(C6377+C6401+C6425+C6449+C6473)/5","v":0},0,0,0,0,0,0,0,0,0,0,0,0,0,0,0,0,0,0,0,0,0,0,0,0,0,0,0,0,0,0,0,0,0,0,null,null,"WD Ave",2100,{"$f":"SUM(AP6377+AP6401+AP6425+AP6449+AP6473)/5","v":0},0,0,0,0,0,0,0,0,0,0,0,0,0,0,0,0,0,0,0,0,0,0,0,0,0,0,0,0,0,0,0,0,0,0,null,null,"WD Ave",2100,{"$f":"SUM(CC6377+CC6401+CC6425+CC6449+CC6473)/5","v":0},0,0,0,0,0,0,0,0,0,0,0,0,0,0,0,0,0,0,0,0,0,0,0,0,0,0,0,0,0,0,0,0,0,0,null,null,0,0,0,0,0,0,0,0,0,0,0,0,0,0,0,0,0,0,0,0,0,0,0,0,0,0,0,0,0,0,0,0,0,0,0,0,0,0,0]
["WD Ave",2200,{"$f":"SUM(C6378+C6402+C6426+C6450+C6474)/5","v":0},0,0,0,0,0,0,0,0,0,0,0,0,0,0,0,0,0,0,0,0,0,0,0,0,0,0,0,0,0,0,0,0,0,0,null,null,"WD Ave",2200,{"$f":"SUM(AP6378+AP6402+AP6426+AP6450+AP6474)/5","v":0},0,0,0,0,0,0,0,0,0,0,0,0,0,0,0,0,0,0,0,0,0,0,0,0,0,0,0,0,0,0,0,0,0,0,null,null,"WD Ave",2200,{"$f":"SUM(CC6378+CC6402+CC6426+CC6450+CC6474)/5","v":0},0,0,0,0,0,0,0,0,0,0,0,0,0,0,0,0,0,0,0,0,0,0,0,0,0,0,0,0,0,0,0,0,0,0,null,null,0,0,0,0,0,0,0,0,0,0,0,0,0,0,0,0,0,0,0,0,0,0,0,0,0,0,0,0,0,0,0,0,0,0,0,0,0,0,0]
["WD Ave",2300,{"$f":"SUM(C6379+C6403+C6427+C6451+C6475)/5","v":0},0,0,0,0,0,0,0,0,0,0,0,0,0,0,0,0,0,0,0,0,0,0,0,0,0,0,0,0,0,0,0,0,0,0,null,null,"WD Ave",2300,{"$f":"SUM(AP6379+AP6403+AP6427+AP6451+AP6475)/5","v":0},0,0,0,0,0,0,0,0,0,0,0,0,0,0,0,0,0,0,0,0,0,0,0,0,0,0,0,0,0,0,0,0,0,0,null,null,"WD Ave",2300,{"$f":"SUM(CC6379+CC6403+CC6427+CC6451+CC6475)/5","v":0},0,0,0,0,0,0,0,0,0,0,0,0,0,0,0,0,0,0,0,0,0,0,0,0,0,0,0,0,0,0,0,0,0,0,null,null,0,0,0,0,0,0,0,0,0,0,0,0,0,0,0,0,0,0,0,0,0,0,0,0,0,0,0,0,0,0,0,0,0,0,0,0,0,0,0]
["7 Day Ave",0,{"$f":"SUM(C6356+C6380+C6404+C6428+C6452+C6476+C6500)/7","v":0},0,0,0,0,0,0,0,0,0,0,0,0,0,0,0,0,0,0,0,0,0,0,0,0,0,0,0,0,0,0,0,0,0,0,null,null,"7 Day Ave",0,{"$f":"SUM(AP6356+AP6380+AP6404+AP6428+AP6452+AP6476+AP6500)/7","v":0},0,0,0,0,0,0,0,0,0,0,0,0,0,0,0,0,0,0,0,0,0,0,0,0,0,0,0,0,0,0,0,0,0,0,null,null,"7 Day Ave",0,{"$f":"SUM(CC6356+CC6380+CC6404+CC6428+CC6452+CC6476+CC6500)/7","v":0},0,0,0,0,0,0,0,0,0,0,0,0,0,0,0,0,0,0,0,0,0,0,0,0,0,0,0,0,0,0,0,0,0,0,null,null,{"$f":"SUM(C6548)","v":0},{"$f":"SUM(D6548)","v":0},{"$f":"SUM(E6548)","v":0},{"$f":"SUM(F6548)","v":0},{"$f":"SUM(G6548)","v":0},{"$f":"SUM(H6548)","v":0},{"$f":"SUM(I6548)","v":0},{"$f":"SUM(J6548)","v":0},{"$f":"SUM(K6548)","v":0},{"$f":"SUM(L6548)","v":0},{"$f":"SUM(M6548)","v":0},{"$f":"SUM(N6548)","v":0},{"$f":"SUM(C6548:N6548)","v":0},{"$f":"SUM(AP6548)","v":0},{"$f":"SUM(AQ6548)","v":0},{"$f":"SUM(AR6548)","v":0},{"$f":"SUM(AS6548)","v":0},{"$f":"SUM(AT6548)","v":0},{"$f":"SUM(AU6548)","v":0},{"$f":"SUM(AV6548)","v":0},{"$f":"SUM(AW6548)","v":0},{"$f":"SUM(AX6548)","v":0},{"$f":"SUM(AY6548)","v":0},{"$f":"SUM(AZ6548)","v":0},{"$f":"SUM(BA6548)","v":0},{"$f":"SUM(AP6548:BA6548)","v":0},{"$f":"SUM(DN6548+EA6548)","v":0},{"$f":"SUM(DO6548+EB6548)","v":0},{"$f":"SUM(DP6548+EC6548)","v":0},{"$f":"SUM(DQ6548+ED6548)","v":0},{"$f":"SUM(DR6548+EE6548)","v":0},{"$f":"SUM(DS6548+EF6548)","v":0},{"$f":"SUM(DT6548+EG6548)","v":0},{"$f":"SUM(DU6548+EH6548)","v":0},{"$f":"SUM(DV6548+EI6548)","v":0},{"$f":"SUM(DW6548+EJ6548)","v":0},{"$f":"SUM(DX6548+EK6548)","v":0},{"$f":"SUM(DY6548+EL6548)","v":0},{"$f":"SUM(DZ6548+EM6548)","v":0}]
["7 Day Ave",100,{"$f":"SUM(C6357+C6381+C6405+C6429+C6453+C6477+C6501)/7","v":0},0,0,0,0,0,0,0,0,0,0,0,0,0,0,0,0,0,0,0,0,0,0,0,0,0,0,0,0,0,0,0,0,0,0,null,null,"7 Day Ave",100,{"$f":"SUM(AP6357+AP6381+AP6405+AP6429+AP6453+AP6477+AP6501)/7","v":0},0,0,0,0,0,0,0,0,0,0,0,0,0,0,0,0,0,0,0,0,0,0,0,0,0,0,0,0,0,0,0,0,0,0,null,null,"7 Day Ave",100,{"$f":"SUM(CC6357+CC6381+CC6405+CC6429+CC6453+CC6477+CC6501)/7","v":0},0,0,0,0,0,0,0,0,0,0,0,0,0,0,0,0,0,0,0,0,0,0,0,0,0,0,0,0,0,0,0,0,0,0,null,null,0,0,0,0,0,0,0,0,0,0,0,0,0,0,0,0,0,0,0,0,0,0,0,0,0,0,0,0,0,0,0,0,0,0,0,0,0,0,0]
["7 Day Ave",200,{"$f":"SUM(C6358+C6382+C6406+C6430+C6454+C6478+C6502)/7","v":0},0,0,0,0,0,0,0,0,0,0,0,0,0,0,0,0,0,0,0,0,0,0,0,0,0,0,0,0,0,0,0,0,0,0,null,null,"7 Day Ave",200,{"$f":"SUM(AP6358+AP6382+AP6406+AP6430+AP6454+AP6478+AP6502)/7","v":0},0,0,0,0,0,0,0,0,0,0,0,0,0,0,0,0,0,0,0,0,0,0,0,0,0,0,0,0,0,0,0,0,0,0,null,null,"7 Day Ave",200,{"$f":"SUM(CC6358+CC6382+CC6406+CC6430+CC6454+CC6478+CC6502)/7","v":0},0,0,0,0,0,0,0,0,0,0,0,0,0,0,0,0,0,0,0,0,0,0,0,0,0,0,0,0,0,0,0,0,0,0,null,null,0,0,0,0,0,0,0,0,0,0,0,0,0,0,0,0,0,0,0,0,0,0,0,0,0,0,0,0,0,0,0,0,0,0,0,0,0,0,0]
["7 Day Ave",300,{"$f":"SUM(C6359+C6383+C6407+C6431+C6455+C6479+C6503)/7","v":0},0,0,0,0,0,0,0,0,0,0,0,0,0,0,0,0,0,0,0,0,0,0,0,0,0,0,0,0,0,0,0,0,0,0,null,null,"7 Day Ave",300,{"$f":"SUM(AP6359+AP6383+AP6407+AP6431+AP6455+AP6479+AP6503)/7","v":0},0,0,0,0,0,0,0,0,0,0,0,0,0,0,0,0,0,0,0,0,0,0,0,0,0,0,0,0,0,0,0,0,0,0,null,null,"7 Day Ave",300,{"$f":"SUM(CC6359+CC6383+CC6407+CC6431+CC6455+CC6479+CC6503)/7","v":0},0,0,0,0,0,0,0,0,0,0,0,0,0,0,0,0,0,0,0,0,0,0,0,0,0,0,0,0,0,0,0,0,0,0,null,null,0,0,0,0,0,0,0,0,0,0,0,0,0,0,0,0,0,0,0,0,0,0,0,0,0,0,0,0,0,0,0,0,0,0,0,0,0,0,0]
["7 Day Ave",400,{"$f":"SUM(C6360+C6384+C6408+C6432+C6456+C6480+C6504)/7","v":0},0,0,0,0,0,0,0,0,0,0,0,0,0,0,0,0,0,0,0,0,0,0,0,0,0,0,0,0,0,0,0,0,0,0,null,null,"7 Day Ave",400,{"$f":"SUM(AP6360+AP6384+AP6408+AP6432+AP6456+AP6480+AP6504)/7","v":0},0,0,0,0,0,0,0,0,0,0,0,0,0,0,0,0,0,0,0,0,0,0,0,0,0,0,0,0,0,0,0,0,0,0,null,null,"7 Day Ave",400,{"$f":"SUM(CC6360+CC6384+CC6408+CC6432+CC6456+CC6480+CC6504)/7","v":0},0,0,0,0,0,0,0,0,0,0,0,0,0,0,0,0,0,0,0,0,0,0,0,0,0,0,0,0,0,0,0,0,0,0,null,null,0,0,0,0,0,0,0,0,0,0,0,0,0,0,0,0,0,0,0,0,0,0,0,0,0,0,0,0,0,0,0,0,0,0,0,0,0,0,0]
["7 Day Ave",500,{"$f":"SUM(C6361+C6385+C6409+C6433+C6457+C6481+C6505)/7","v":0},0,0,0,0,0,0,0,0,0,0,0,0,0,0,0,0,0,0,0,0,0,0,0,0,0,0,0,0,0,0,0,0,0,0,null,null,"7 Day Ave",500,{"$f":"SUM(AP6361+AP6385+AP6409+AP6433+AP6457+AP6481+AP6505)/7","v":0},0,0,0,0,0,0,0,0,0,0,0,0,0,0,0,0,0,0,0,0,0,0,0,0,0,0,0,0,0,0,0,0,0,0,null,null,"7 Day Ave",500,{"$f":"SUM(CC6361+CC6385+CC6409+CC6433+CC6457+CC6481+CC6505)/7","v":0},0,0,0,0,0,0,0,0,0,0,0,0,0,0,0,0,0,0,0,0,0,0,0,0,0,0,0,0,0,0,0,0,0,0,null,null,0,0,0,0,0,0,0,0,0,0,0,0,0,0,0,0,0,0,0,0,0,0,0,0,0,0,0,0,0,0,0,0,0,0,0,0,0,0,0]
["7 Day Ave",600,{"$f":"SUM(C6362+C6386+C6410+C6434+C6458+C6482+C6506)/7","v":0},0,0,0,0,0,0,0,0,0,0,0,0,0,0,0,0,0,0,0,0,0,0,0,0,0,0,0,0,0,0,0,0,0,0,null,null,"7 Day Ave",600,{"$f":"SUM(AP6362+AP6386+AP6410+AP6434+AP6458+AP6482+AP6506)/7","v":0},0,0,0,0,0,0,0,0,0,0,0,0,0,0,0,0,0,0,0,0,0,0,0,0,0,0,0,0,0,0,0,0,0,0,null,null,"7 Day Ave",600,{"$f":"SUM(CC6362+CC6386+CC6410+CC6434+CC6458+CC6482+CC6506)/7","v":0},0,0,0,0,0,0,0,0,0,0,0,0,0,0,0,0,0,0,0,0,0,0,0,0,0,0,0,0,0,0,0,0,0,0,null,null,0,0,0,0,0,0,0,0,0,0,0,0,0,0,0,0,0,0,0,0,0,0,0,0,0,0,0,0,0,0,0,0,0,0,0,0,0,0,0]
["7 Day Ave",700,{"$f":"SUM(C6363+C6387+C6411+C6435+C6459+C6483+C6507)/7","v":0},0,0,0,0,0,0,0,0,0,0,0,0,0,0,0,0,0,0,0,0,0,0,0,0,0,0,0,0,0,0,0,0,0,0,null,null,"7 Day Ave",700,{"$f":"SUM(AP6363+AP6387+AP6411+AP6435+AP6459+AP6483+AP6507)/7","v":0},0,0,0,0,0,0,0,0,0,0,0,0,0,0,0,0,0,0,0,0,0,0,0,0,0,0,0,0,0,0,0,0,0,0,null,null,"7 Day Ave",700,{"$f":"SUM(CC6363+CC6387+CC6411+CC6435+CC6459+CC6483+CC6507)/7","v":0},0,0,0,0,0,0,0,0,0,0,0,0,0,0,0,0,0,0,0,0,0,0,0,0,0,0,0,0,0,0,0,0,0,0,null,null,0,0,0,0,0,0,0,0,0,0,0,0,0,0,0,0,0,0,0,0,0,0,0,0,0,0,0,0,0,0,0,0,0,0,0,0,0,0,0]
["7 Day Ave",800,{"$f":"SUM(C6364+C6388+C6412+C6436+C6460+C6484+C6508)/7","v":0},0,0,0,0,0,0,0,0,0,0,0,0,0,0,0,0,0,0,0,0,0,0,0,0,0,0,0,0,0,0,0,0,0,0,null,null,"7 Day Ave",800,{"$f":"SUM(AP6364+AP6388+AP6412+AP6436+AP6460+AP6484+AP6508)/7","v":0},0,0,0,0,0,0,0,0,0,0,0,0,0,0,0,0,0,0,0,0,0,0,0,0,0,0,0,0,0,0,0,0,0,0,null,null,"7 Day Ave",800,{"$f":"SUM(CC6364+CC6388+CC6412+CC6436+CC6460+CC6484+CC6508)/7","v":0},0,0,0,0,0,0,0,0,0,0,0,0,0,0,0,0,0,0,0,0,0,0,0,0,0,0,0,0,0,0,0,0,0,0,null,null,0,0,0,0,0,0,0,0,0,0,0,0,0,0,0,0,0,0,0,0,0,0,0,0,0,0,0,0,0,0,0,0,0,0,0,0,0,0,0]
["7 Day Ave",900,{"$f":"SUM(C6365+C6389+C6413+C6437+C6461+C6485+C6509)/7","v":0},0,0,0,0,0,0,0,0,0,0,0,0,0,0,0,0,0,0,0,0,0,0,0,0,0,0,0,0,0,0,0,0,0,0,null,null,"7 Day Ave",900,{"$f":"SUM(AP6365+AP6389+AP6413+AP6437+AP6461+AP6485+AP6509)/7","v":0},0,0,0,0,0,0,0,0,0,0,0,0,0,0,0,0,0,0,0,0,0,0,0,0,0,0,0,0,0,0,0,0,0,0,null,null,"7 Day Ave",900,{"$f":"SUM(CC6365+CC6389+CC6413+CC6437+CC6461+CC6485+CC6509)/7","v":0},0,0,0,0,0,0,0,0,0,0,0,0,0,0,0,0,0,0,0,0,0,0,0,0,0,0,0,0,0,0,0,0,0,0,null,null,0,0,0,0,0,0,0,0,0,0,0,0,0,0,0,0,0,0,0,0,0,0,0,0,0,0,0,0,0,0,0,0,0,0,0,0,0,0,0]
["7 Day Ave",1000,{"$f":"SUM(C6366+C6390+C6414+C6438+C6462+C6486+C6510)/7","v":0},0,0,0,0,0,0,0,0,0,0,0,0,0,0,0,0,0,0,0,0,0,0,0,0,0,0,0,0,0,0,0,0,0,0,null,null,"7 Day Ave",1000,{"$f":"SUM(AP6366+AP6390+AP6414+AP6438+AP6462+AP6486+AP6510)/7","v":0},0,0,0,0,0,0,0,0,0,0,0,0,0,0,0,0,0,0,0,0,0,0,0,0,0,0,0,0,0,0,0,0,0,0,null,null,"7 Day Ave",1000,{"$f":"SUM(CC6366+CC6390+CC6414+CC6438+CC6462+CC6486+CC6510)/7","v":0},0,0,0,0,0,0,0,0,0,0,0,0,0,0,0,0,0,0,0,0,0,0,0,0,0,0,0,0,0,0,0,0,0,0,null,null,0,0,0,0,0,0,0,0,0,0,0,0,0,0,0,0,0,0,0,0,0,0,0,0,0,0,0,0,0,0,0,0,0,0,0,0,0,0,0]
["7 Day Ave",1100,{"$f":"SUM(C6367+C6391+C6415+C6439+C6463+C6487+C6511)/7","v":0},0,0,0,0,0,0,0,0,0,0,0,0,0,0,0,0,0,0,0,0,0,0,0,0,0,0,0,0,0,0,0,0,0,0,null,null,"7 Day Ave",1100,{"$f":"SUM(AP6367+AP6391+AP6415+AP6439+AP6463+AP6487+AP6511)/7","v":0},0,0,0,0,0,0,0,0,0,0,0,0,0,0,0,0,0,0,0,0,0,0,0,0,0,0,0,0,0,0,0,0,0,0,null,null,"7 Day Ave",1100,{"$f":"SUM(CC6367+CC6391+CC6415+CC6439+CC6463+CC6487+CC6511)/7","v":0},0,0,0,0,0,0,0,0,0,0,0,0,0,0,0,0,0,0,0,0,0,0,0,0,0,0,0,0,0,0,0,0,0,0,null,null,0,0,0,0,0,0,0,0,0,0,0,0,0,0,0,0,0,0,0,0,0,0,0,0,0,0,0,0,0,0,0,0,0,0,0,0,0,0,0]
["7 Day Ave",1200,{"$f":"SUM(C6368+C6392+C6416+C6440+C6464+C6488+C6512)/7","v":0},0,0,0,0,0,0,0,0,0,0,0,0,0,0,0,0,0,0,0,0,0,0,0,0,0,0,0,0,0,0,0,0,0,0,null,null,"7 Day Ave",1200,{"$f":"SUM(AP6368+AP6392+AP6416+AP6440+AP6464+AP6488+AP6512)/7","v":0},0,0,0,0,0,0,0,0,0,0,0,0,0,0,0,0,0,0,0,0,0,0,0,0,0,0,0,0,0,0,0,0,0,0,null,null,"7 Day Ave",1200,{"$f":"SUM(CC6368+CC6392+CC6416+CC6440+CC6464+CC6488+CC6512)/7","v":0},0,0,0,0,0,0,0,0,0,0,0,0,0,0,0,0,0,0,0,0,0,0,0,0,0,0,0,0,0,0,0,0,0,0,null,null,0,0,0,0,0,0,0,0,0,0,0,0,0,0,0,0,0,0,0,0,0,0,0,0,0,0,0,0,0,0,0,0,0,0,0,0,0,0,0]
["7 Day Ave",1300,{"$f":"SUM(C6369+C6393+C6417+C6441+C6465+C6489+C6513)/7","v":0},0,0,0,0,0,0,0,0,0,0,0,0,0,0,0,0,0,0,0,0,0,0,0,0,0,0,0,0,0,0,0,0,0,0,null,null,"7 Day Ave",1300,{"$f":"SUM(AP6369+AP6393+AP6417+AP6441+AP6465+AP6489+AP6513)/7","v":0},0,0,0,0,0,0,0,0,0,0,0,0,0,0,0,0,0,0,0,0,0,0,0,0,0,0,0,0,0,0,0,0,0,0,null,null,"7 Day Ave",1300,{"$f":"SUM(CC6369+CC6393+CC6417+CC6441+CC6465+CC6489+CC6513)/7","v":0},0,0,0,0,0,0,0,0,0,0,0,0,0,0,0,0,0,0,0,0,0,0,0,0,0,0,0,0,0,0,0,0,0,0,null,null,0,0,0,0,0,0,0,0,0,0,0,0,0,0,0,0,0,0,0,0,0,0,0,0,0,0,0,0,0,0,0,0,0,0,0,0,0,0,0]
["7 Day Ave",1400,{"$f":"SUM(C6370+C6394+C6418+C6442+C6466+C6490+C6514)/7","v":0},0,0,0,0,0,0,0,0,0,0,0,0,0,0,0,0,0,0,0,0,0,0,0,0,0,0,0,0,0,0,0,0,0,0,null,null,"7 Day Ave",1400,{"$f":"SUM(AP6370+AP6394+AP6418+AP6442+AP6466+AP6490+AP6514)/7","v":0},0,0,0,0,0,0,0,0,0,0,0,0,0,0,0,0,0,0,0,0,0,0,0,0,0,0,0,0,0,0,0,0,0,0,null,null,"7 Day Ave",1400,{"$f":"SUM(CC6370+CC6394+CC6418+CC6442+CC6466+CC6490+CC6514)/7","v":0},0,0,0,0,0,0,0,0,0,0,0,0,0,0,0,0,0,0,0,0,0,0,0,0,0,0,0,0,0,0,0,0,0,0,null,null,0,0,0,0,0,0,0,0,0,0,0,0,0,0,0,0,0,0,0,0,0,0,0,0,0,0,0,0,0,0,0,0,0,0,0,0,0,0,0]
["7 Day Ave",1500,{"$f":"SUM(C6371+C6395+C6419+C6443+C6467+C6491+C6515)/7","v":0},0,0,0,0,0,0,0,0,0,0,0,0,0,0,0,0,0,0,0,0,0,0,0,0,0,0,0,0,0,0,0,0,0,0,null,null,"7 Day Ave",1500,{"$f":"SUM(AP6371+AP6395+AP6419+AP6443+AP6467+AP6491+AP6515)/7","v":0},0,0,0,0,0,0,0,0,0,0,0,0,0,0,0,0,0,0,0,0,0,0,0,0,0,0,0,0,0,0,0,0,0,0,null,null,"7 Day Ave",1500,{"$f":"SUM(CC6371+CC6395+CC6419+CC6443+CC6467+CC6491+CC6515)/7","v":0},0,0,0,0,0,0,0,0,0,0,0,0,0,0,0,0,0,0,0,0,0,0,0,0,0,0,0,0,0,0,0,0,0,0,null,null,0,0,0,0,0,0,0,0,0,0,0,0,0,0,0,0,0,0,0,0,0,0,0,0,0,0,0,0,0,0,0,0,0,0,0,0,0,0,0]
["7 Day Ave",1600,{"$f":"SUM(C6372+C6396+C6420+C6444+C6468+C6492+C6516)/7","v":0},0,0,0,0,0,0,0,0,0,0,0,0,0,0,0,0,0,0,0,0,0,0,0,0,0,0,0,0,0,0,0,0,0,0,null,null,"7 Day Ave",1600,{"$f":"SUM(AP6372+AP6396+AP6420+AP6444+AP6468+AP6492+AP6516)/7","v":0},0,0,0,0,0,0,0,0,0,0,0,0,0,0,0,0,0,0,0,0,0,0,0,0,0,0,0,0,0,0,0,0,0,0,null,null,"7 Day Ave",1600,{"$f":"SUM(CC6372+CC6396+CC6420+CC6444+CC6468+CC6492+CC6516)/7","v":0},0,0,0,0,0,0,0,0,0,0,0,0,0,0,0,0,0,0,0,0,0,0,0,0,0,0,0,0,0,0,0,0,0,0,null,null,0,0,0,0,0,0,0,0,0,0,0,0,0,0,0,0,0,0,0,0,0,0,0,0,0,0,0,0,0,0,0,0,0,0,0,0,0,0,0]
["7 Day Ave",1700,{"$f":"SUM(C6373+C6397+C6421+C6445+C6469+C6493+C6517)/7","v":0},0,0,0,0,0,0,0,0,0,0,0,0,0,0,0,0,0,0,0,0,0,0,0,0,0,0,0,0,0,0,0,0,0,0,null,null,"7 Day Ave",1700,{"$f":"SUM(AP6373+AP6397+AP6421+AP6445+AP6469+AP6493+AP6517)/7","v":0},0,0,0,0,0,0,0,0,0,0,0,0,0,0,0,0,0,0,0,0,0,0,0,0,0,0,0,0,0,0,0,0,0,0,null,null,"7 Day Ave",1700,{"$f":"SUM(CC6373+CC6397+CC6421+CC6445+CC6469+CC6493+CC6517)/7","v":0},0,0,0,0,0,0,0,0,0,0,0,0,0,0,0,0,0,0,0,0,0,0,0,0,0,0,0,0,0,0,0,0,0,0,null,null,0,0,0,0,0,0,0,0,0,0,0,0,0,0,0,0,0,0,0,0,0,0,0,0,0,0,0,0,0,0,0,0,0,0,0,0,0,0,0]
["7 Day Ave",1800,{"$f":"SUM(C6374+C6398+C6422+C6446+C6470+C6494+C6518)/7","v":0},0,0,0,0,0,0,0,0,0,0,0,0,0,0,0,0,0,0,0,0,0,0,0,0,0,0,0,0,0,0,0,0,0,0,null,null,"7 Day Ave",1800,{"$f":"SUM(AP6374+AP6398+AP6422+AP6446+AP6470+AP6494+AP6518)/7","v":0},0,0,0,0,0,0,0,0,0,0,0,0,0,0,0,0,0,0,0,0,0,0,0,0,0,0,0,0,0,0,0,0,0,0,null,null,"7 Day Ave",1800,{"$f":"SUM(CC6374+CC6398+CC6422+CC6446+CC6470+CC6494+CC6518)/7","v":0},0,0,0,0,0,0,0,0,0,0,0,0,0,0,0,0,0,0,0,0,0,0,0,0,0,0,0,0,0,0,0,0,0,0,null,null,0,0,0,0,0,0,0,0,0,0,0,0,0,0,0,0,0,0,0,0,0,0,0,0,0,0,0,0,0,0,0,0,0,0,0,0,0,0,0]
["7 Day Ave",1900,{"$f":"SUM(C6375+C6399+C6423+C6447+C6471+C6495+C6519)/7","v":0},0,0,0,0,0,0,0,0,0,0,0,0,0,0,0,0,0,0,0,0,0,0,0,0,0,0,0,0,0,0,0,0,0,0,null,null,"7 Day Ave",1900,{"$f":"SUM(AP6375+AP6399+AP6423+AP6447+AP6471+AP6495+AP6519)/7","v":0},0,0,0,0,0,0,0,0,0,0,0,0,0,0,0,0,0,0,0,0,0,0,0,0,0,0,0,0,0,0,0,0,0,0,null,null,"7 Day Ave",1900,{"$f":"SUM(CC6375+CC6399+CC6423+CC6447+CC6471+CC6495+CC6519)/7","v":0},0,0,0,0,0,0,0,0,0,0,0,0,0,0,0,0,0,0,0,0,0,0,0,0,0,0,0,0,0,0,0,0,0,0,null,null,0,0,0,0,0,0,0,0,0,0,0,0,0,0,0,0,0,0,0,0,0,0,0,0,0,0,0,0,0,0,0,0,0,0,0,0,0,0,0]
["7 Day Ave",2000,{"$f":"SUM(C6376+C6400+C6424+C6448+C6472+C6496+C6520)/7","v":0},0,0,0,0,0,0,0,0,0,0,0,0,0,0,0,0,0,0,0,0,0,0,0,0,0,0,0,0,0,0,0,0,0,0,null,null,"7 Day Ave",2000,{"$f":"SUM(AP6376+AP6400+AP6424+AP6448+AP6472+AP6496+AP6520)/7","v":0},0,0,0,0,0,0,0,0,0,0,0,0,0,0,0,0,0,0,0,0,0,0,0,0,0,0,0,0,0,0,0,0,0,0,null,null,"7 Day Ave",2000,{"$f":"SUM(CC6376+CC6400+CC6424+CC6448+CC6472+CC6496+CC6520)/7","v":0},0,0,0,0,0,0,0,0,0,0,0,0,0,0,0,0,0,0,0,0,0,0,0,0,0,0,0,0,0,0,0,0,0,0,null,null,0,0,0,0,0,0,0,0,0,0,0,0,0,0,0,0,0,0,0,0,0,0,0,0,0,0,0,0,0,0,0,0,0,0,0,0,0,0,0]
["7 Day Ave",2100,{"$f":"SUM(C6377+C6401+C6425+C6449+C6473+C6497+C6521)/7","v":0},0,0,0,0,0,0,0,0,0,0,0,0,0,0,0,0,0,0,0,0,0,0,0,0,0,0,0,0,0,0,0,0,0,0,null,null,"7 Day Ave",2100,{"$f":"SUM(AP6377+AP6401+AP6425+AP6449+AP6473+AP6497+AP6521)/7","v":0},0,0,0,0,0,0,0,0,0,0,0,0,0,0,0,0,0,0,0,0,0,0,0,0,0,0,0,0,0,0,0,0,0,0,null,null,"7 Day Ave",2100,{"$f":"SUM(CC6377+CC6401+CC6425+CC6449+CC6473+CC6497+CC6521)/7","v":0},0,0,0,0,0,0,0,0,0,0,0,0,0,0,0,0,0,0,0,0,0,0,0,0,0,0,0,0,0,0,0,0,0,0,null,null,0,0,0,0,0,0,0,0,0,0,0,0,0,0,0,0,0,0,0,0,0,0,0,0,0,0,0,0,0,0,0,0,0,0,0,0,0,0,0]
["7 Day Ave",2200,{"$f":"SUM(C6378+C6402+C6426+C6450+C6474+C6498+C6522)/7","v":0},0,0,0,0,0,0,0,0,0,0,0,0,0,0,0,0,0,0,0,0,0,0,0,0,0,0,0,0,0,0,0,0,0,0,null,null,"7 Day Ave",2200,{"$f":"SUM(AP6378+AP6402+AP6426+AP6450+AP6474+AP6498+AP6522)/7","v":0},0,0,0,0,0,0,0,0,0,0,0,0,0,0,0,0,0,0,0,0,0,0,0,0,0,0,0,0,0,0,0,0,0,0,null,null,"7 Day Ave",2200,{"$f":"SUM(CC6378+CC6402+CC6426+CC6450+CC6474+CC6498+CC6522)/7","v":0},0,0,0,0,0,0,0,0,0,0,0,0,0,0,0,0,0,0,0,0,0,0,0,0,0,0,0,0,0,0,0,0,0,0,null,null,0,0,0,0,0,0,0,0,0,0,0,0,0,0,0,0,0,0,0,0,0,0,0,0,0,0,0,0,0,0,0,0,0,0,0,0,0,0,0]
["7 Day Ave",2300,{"$f":"SUM(C6379+C6403+C6427+C6451+C6475+C6499+C6523)/7","v":0},0,0,0,0,0,0,0,0,0,0,0,0,0,0,0,0,0,0,0,0,0,0,0,0,0,0,0,0,0,0,0,0,0,0,null,null,"7 Day Ave",2300,{"$f":"SUM(AP6379+AP6403+AP6427+AP6451+AP6475+AP6499+AP6523)/7","v":0},0,0,0,0,0,0,0,0,0,0,0,0,0,0,0,0,0,0,0,0,0,0,0,0,0,0,0,0,0,0,0,0,0,0,null,null,"7 Day Ave",2300,{"$f":"SUM(CC6379+CC6403+CC6427+CC6451+CC6475+CC6499+CC6523)/7","v":0},0,0,0,0,0,0,0,0,0,0,0,0,0,0,0,0,0,0,0,0,0,0,0,0,0,0,0,0,0,0,0,0,0,0,null,null,0,0,0,0,0,0,0,0,0,0,0,0,0,0,0,0,0,0,0,0,0,0,0,0,0,0,0,0,0,0,0,0,0,0,0,0,0,0,0]

{"sheet":"Volume Summary","index":2,"n_rows":45,"n_cols":13,"rows_kept":45,"cut":false,"hidden":false,"merged":[[10,2,10,8],[6,2,6,3],[5,2,5,3]]}
[]
[null,"Job No",{"$f":"Offsets!G1","v":"GBSth3680"},null,null,null,null,null,null,null,null,null,"Select Site"]
[null,"Client",{"$f":"Offsets!G2","v":"Lisa Bolland - Kirkbymoorside Town Council"}]
[null,"Site",{"$f":"+Offsets!G3","v":"Piercy End - North"}]
[null,"Location",{"$f":"+Offsets!H3","v":"Kirkbymoorside"},null,null,null,null,null,null,null,null,null,"Select Direction"]
[null,"Site No",{"$f":"+Offsets!I3","v":2}]
[null,"Start Date",{"$f":"+Offsets!L3","v":"2022-05-11"}]
[null,"Description","Volume Summary"]
[null,"Direction",{"$f":"+Offsets!A2","v":"SB"}]
[]
[null,null,"Day of Week"]
[null,"Hour","Mon","Tue","Wed","Thu","Fri","Sat","Sun"]
[null,"Starting",{"$f":"+Offsets!O3","v":"2022-05-16"},{"$f":"+Offsets!P3","v":"2022-05-17"},{"$f":"+Offsets!Q3","v":"2022-05-11"},{"$f":"+Offsets!R3","v":"2022-05-12"},{"$f":"+Offsets!S3","v":"2022-05-13"},{"$f":"+Offsets!T3","v":"2022-05-14"},{"$f":"+Offsets!U3","v":"2022-05-15"},"W'Day","7 Day"]
[null,"AM Peak",{"$f":"MAX(C16:C27)","v":0},{"$f":"MAX(D16:D27)","v":158},164,158,184,256,0,"Ave","Ave"]
[null,"PM Peak",{"$f":"MAX(C28:C39)","v":142},{"$f":"MAX(D28:D39)","v":199},201,216,242,183,0,{"$f":"+J40","v":1795.0000000000002},{"$f":"+K40","v":1523.8571428571431}]
[null,"00:00:00",{"$f":"OFFSET(Data!FA5,Offsets!$A$11,Offsets!$A$10)","v":0},{"$f":"OFFSET(Data!FB5,Offsets!$A$11,Offsets!$A$10)","v":1},{"$f":"OFFSET(Data!FC5,Offsets!$A$11,Offsets!$A$10)","v":1},{"$f":"OFFSET(Data!FD5,Offsets!$A$11,Offsets!$A$10)","v":2},{"$f":"OFFSET(Data!FE5,Offsets!$A$11,Offsets!$A$10)","v":4},{"$f":"OFFSET(Data!FF5,Offsets!$A$11,Offsets!$A$10)","v":1},{"$f":"OFFSET(Data!FG5,Offsets!$A$11,Offsets!$A$10)","v":0},{"$f":"SUM(C16:G16)/5","v":1.6},{"$f":"SUM(C16:I16)/7","v":1.2857142857142858}]
[null,"01:00:00",{"$f":"OFFSET(Data!FA6,Offsets!$A$11,Offsets!$A$10)","v":0},{"$f":"OFFSET(Data!FB6,Offsets!$A$11,Offsets!$A$10)","v":0},{"$f":"OFFSET(Data!FC6,Offsets!$A$11,Offsets!$A$10)","v":1},{"$f":"OFFSET(Data!FD6,Offsets!$A$11,Offsets!$A$10)","v":0},{"$f":"OFFSET(Data!FE6,Offsets!$A$11,Offsets!$A$10)","v":1},{"$f":"OFFSET(Data!FF6,Offsets!$A$11,Offsets!$A$10)","v":0},{"$f":"OFFSET(Data!FG6,Offsets!$A$11,Offsets!$A$10)","v":0},{"$f":"SUM(C17:G17)/5","v":0.4},{"$f":"SUM(C17:I17)/7","v":0.2857142857142857}]
[null,"02:00:00",{"$f":"OFFSET(Data!FA7,Offsets!$A$11,Offsets!$A$10)","v":0},{"$f":"OFFSET(Data!FB7,Offsets!$A$11,Offsets!$A$10)","v":0},{"$f":"OFFSET(Data!FC7,Offsets!$A$11,Offsets!$A$10)","v":2},{"$f":"OFFSET(Data!FD7,Offsets!$A$11,Offsets!$A$10)","v":2},{"$f":"OFFSET(Data!FE7,Offsets!$A$11,Offsets!$A$10)","v":0},{"$f":"OFFSET(Data!FF7,Offsets!$A$11,Offsets!$A$10)","v":0},{"$f":"OFFSET(Data!FG7,Offsets!$A$11,Offsets!$A$10)","v":0},0.8,0.5714285714285714]
[null,"03:00:00",{"$f":"OFFSET(Data!FA8,Offsets!$A$11,Offsets!$A$10)","v":0},{"$f":"OFFSET(Data!FB8,Offsets!$A$11,Offsets!$A$10)","v":0},{"$f":"OFFSET(Data!FC8,Offsets!$A$11,Offsets!$A$10)","v":0},{"$f":"OFFSET(Data!FD8,Offsets!$A$11,Offsets!$A$10)","v":0},{"$f":"OFFSET(Data!FE8,Offsets!$A$11,Offsets!$A$10)","v":1},{"$f":"OFFSET(Data!FF8,Offsets!$A$11,Offsets!$A$10)","v":1},{"$f":"OFFSET(Data!FG8,Offsets!$A$11,Offsets!$A$10)","v":0},0.2,0.2857142857142857]
[null,"04:00:00",{"$f":"OFFSET(Data!FA9,Offsets!$A$11,Offsets!$A$10)","v":0},{"$f":"OFFSET(Data!FB9,Offsets!$A$11,Offsets!$A$10)","v":4},{"$f":"OFFSET(Data!FC9,Offsets!$A$11,Offsets!$A$10)","v":3},{"$f":"OFFSET(Data!FD9,Offsets!$A$11,Offsets!$A$10)","v":0},{"$f":"OFFSET(Data!FE9,Offsets!$A$11,Offsets!$A$10)","v":3},{"$f":"OFFSET(Data!FF9,Offsets!$A$11,Offsets!$A$10)","v":2},{"$f":"OFFSET(Data!FG9,Offsets!$A$11,Offsets!$A$10)","v":0},2,1.7142857142857142]
[null,"05:00:00",{"$f":"OFFSET(Data!FA10,Offsets!$A$11,Offsets!$A$10)","v":0},{"$f":"OFFSET(Data!FB10,Offsets!$A$11,Offsets!$A$10)","v":9},{"$f":"OFFSET(Data!FC10,Offsets!$A$11,Offsets!$A$10)","v":5},{"$f":"OFFSET(Data!FD10,Offsets!$A$11,Offsets!$A$10)","v":6},{"$f":"OFFSET(Data!FE10,Offsets!$A$11,Offsets!$A$10)","v":5},{"$f":"OFFSET(Data!FF10,Offsets!$A$11,Offsets!$A$10)","v":1},{"$f":"OFFSET(Data!FG10,Offsets!$A$11,Offsets!$A$10)","v":0},5,3.7142857142857144]
[null,"06:00:00",{"$f":"OFFSET(Data!FA11,Offsets!$A$11,Offsets!$A$10)","v":0},{"$f":"OFFSET(Data!FB11,Offsets!$A$11,Offsets!$A$10)","v":15},{"$f":"OFFSET(Data!FC11,Offsets!$A$11,Offsets!$A$10)","v":13},{"$f":"OFFSET(Data!FD11,Offsets!$A$11,Offsets!$A$10)","v":17},{"$f":"OFFSET(Data!FE11,Offsets!$A$11,Offsets!$A$10)","v":15},{"$f":"OFFSET(Data!FF11,Offsets!$A$11,Offsets!$A$10)","v":9},{"$f":"OFFSET(Data!FG11,Offsets!$A$11,Offsets!$A$10)","v":0},12,9.8571428571428577]
[null,"07:00:00",{"$f":"OFFSET(Data!FA12,Offsets!$A$11,Offsets!$A$10)","v":0},{"$f":"OFFSET(Data!FB12,Offsets!$A$11,Offsets!$A$10)","v":82},{"$f":"OFFSET(Data!FC12,Offsets!$A$11,Offsets!$A$10)","v":64},{"$f":"OFFSET(Data!FD12,Offsets!$A$11,Offsets!$A$10)","v":79},{"$f":"OFFSET(Data!FE12,Offsets!$A$11,Offsets!$A$10)","v":58},{"$f":"OFFSET(Data!FF12,Offsets!$A$11,Offsets!$A$10)","v":45},{"$f":"OFFSET(Data!FG12,Offsets!$A$11,Offsets!$A$10)","v":0},56.6,46.857142857142854]
[null,"08:00:00",{"$f":"OFFSET(Data!FA13,Offsets!$A$11,Offsets!$A$10)","v":0},{"$f":"OFFSET(Data!FB13,Offsets!$A$11,Offsets!$A$10)","v":124},{"$f":"OFFSET(Data!FC13,Offsets!$A$11,Offsets!$A$10)","v":135},{"$f":"OFFSET(Data!FD13,Offsets!$A$11,Offsets!$A$10)","v":151},{"$f":"OFFSET(Data!FE13,Offsets!$A$11,Offsets!$A$10)","v":146},{"$f":"OFFSET(Data!FF13,Offsets!$A$11,Offsets!$A$10)","v":94},{"$f":"OFFSET(Data!FG13,Offsets!$A$11,Offsets!$A$10)","v":0},111.2,92.857142857142861]
[null,"09:00:00",{"$f":"OFFSET(Data!FA14,Offsets!$A$11,Offsets!$A$10)","v":0},{"$f":"OFFSET(Data!FB14,Offsets!$A$11,Offsets!$A$10)","v":158},{"$f":"OFFSET(Data!FC14,Offsets!$A$11,Offsets!$A$10)","v":115},{"$f":"OFFSET(Data!FD14,Offsets!$A$11,Offsets!$A$10)","v":158},{"$f":"OFFSET(Data!FE14,Offsets!$A$11,Offsets!$A$10)","v":184},{"$f":"OFFSET(Data!FF14,Offsets!$A$11,Offsets!$A$10)","v":185},{"$f":"OFFSET(Data!FG14,Offsets!$A$11,Offsets!$A$10)","v":0},123,114.28571428571429]
[null,"10:00:00",{"$f":"OFFSET(Data!FA15,Offsets!$A$11,Offsets!$A$10)","v":0},{"$f":"OFFSET(Data!FB15,Offsets!$A$11,Offsets!$A$10)","v":125},{"$f":"OFFSET(Data!FC15,Offsets!$A$11,Offsets!$A$10)","v":164},{"$f":"OFFSET(Data!FD15,Offsets!$A$11,Offsets!$A$10)","v":139},{"$f":"OFFSET(Data!FE15,Offsets!$A$11,Offsets!$A$10)","v":159},{"$f":"OFFSET(Data!FF15,Offsets!$A$11,Offsets!$A$10)","v":256},{"$f":"OFFSET(Data!FG15,Offsets!$A$11,Offsets!$A$10)","v":0},117.4,120.42857142857143]
[null,"11:00:00",{"$f":"OFFSET(Data!FA16,Offsets!$A$11,Offsets!$A$10)","v":0},{"$f":"OFFSET(Data!FB16,Offsets!$A$11,Offsets!$A$10)","v":144},{"$f":"OFFSET(Data!FC16,Offsets!$A$11,Offsets!$A$10)","v":147},{"$f":"OFFSET(Data!FD16,Offsets!$A$11,Offsets!$A$10)","v":155},{"$f":"OFFSET(Data!FE16,Offsets!$A$11,Offsets!$A$10)","v":158},{"$f":"OFFSET(Data!FF16,Offsets!$A$11,Offsets!$A$10)","v":200},{"$f":"OFFSET(Data!FG16,Offsets!$A$11,Offsets!$A$10)","v":0},120.8,114.85714285714286]
[null,"12:00:00",{"$f":"OFFSET(Data!FA17,Offsets!$A$11,Offsets!$A$10)","v":0},{"$f":"OFFSET(Data!FB17,Offsets!$A$11,Offsets!$A$10)","v":155},{"$f":"OFFSET(Data!FC17,Offsets!$A$11,Offsets!$A$10)","v":145},{"$f":"OFFSET(Data!FD17,Offsets!$A$11,Offsets!$A$10)","v":149},{"$f":"OFFSET(Data!FE17,Offsets!$A$11,Offsets!$A$10)","v":187},{"$f":"OFFSET(Data!FF17,Offsets!$A$11,Offsets!$A$10)","v":183},{"$f":"OFFSET(Data!FG17,Offsets!$A$11,Offsets!$A$10)","v":0},127.2,117]
[null,"13:00:00",{"$f":"OFFSET(Data!FA18,Offsets!$A$11,Offsets!$A$10)","v":0},{"$f":"OFFSET(Data!FB18,Offsets!$A$11,Offsets!$A$10)","v":136},{"$f":"OFFSET(Data!FC18,Offsets!$A$11,Offsets!$A$10)","v":139},{"$f":"OFFSET(Data!FD18,Offsets!$A$11,Offsets!$A$10)","v":121},{"$f":"OFFSET(Data!FE18,Offsets!$A$11,Offsets!$A$10)","v":155},{"$f":"OFFSET(Data!FF18,Offsets!$A$11,Offsets!$A$10)","v":144},{"$f":"OFFSET(Data!FG18,Offsets!$A$11,Offsets!$A$10)","v":0},110.2,99.285714285714292]
[null,"14:00:00",{"$f":"OFFSET(Data!FA19,Offsets!$A$11,Offsets!$A$10)","v":0},{"$f":"OFFSET(Data!FB19,Offsets!$A$11,Offsets!$A$10)","v":109},{"$f":"OFFSET(Data!FC19,Offsets!$A$11,Offsets!$A$10)","v":138},{"$f":"OFFSET(Data!FD19,Offsets!$A$11,Offsets!$A$10)","v":118},{"$f":"OFFSET(Data!FE19,Offsets!$A$11,Offsets!$A$10)","v":192},{"$f":"OFFSET(Data!FF19,Offsets!$A$11,Offsets!$A$10)","v":158},{"$f":"OFFSET(Data!FG19,Offsets!$A$11,Offsets!$A$10)","v":0},111.4,102.14285714285714]
[null,"15:00:00",{"$f":"OFFSET(Data!FA20,Offsets!$A$11,Offsets!$A$10)","v":0},{"$f":"OFFSET(Data!FB20,Offsets!$A$11,Offsets!$A$10)","v":199},{"$f":"OFFSET(Data!FC20,Offsets!$A$11,Offsets!$A$10)","v":181},{"$f":"OFFSET(Data!FD20,Offsets!$A$11,Offsets!$A$10)","v":163},{"$f":"OFFSET(Data!FE20,Offsets!$A$11,Offsets!$A$10)","v":242},{"$f":"OFFSET(Data!FF20,Offsets!$A$11,Offsets!$A$10)","v":118},{"$f":"OFFSET(Data!FG20,Offsets!$A$11,Offsets!$A$10)","v":0},157,129]
[null,"16:00:00",{"$f":"OFFSET(Data!FA21,Offsets!$A$11,Offsets!$A$10)","v":0},{"$f":"OFFSET(Data!FB21,Offsets!$A$11,Offsets!$A$10)","v":198},{"$f":"OFFSET(Data!FC21,Offsets!$A$11,Offsets!$A$10)","v":201},{"$f":"OFFSET(Data!FD21,Offsets!$A$11,Offsets!$A$10)","v":216},{"$f":"OFFSET(Data!FE21,Offsets!$A$11,Offsets!$A$10)","v":212},{"$f":"OFFSET(Data!FF21,Offsets!$A$11,Offsets!$A$10)","v":140},{"$f":"OFFSET(Data!FG21,Offsets!$A$11,Offsets!$A$10)","v":0},165.4,138.14285714285714]
[null,"17:00:00",{"$f":"OFFSET(Data!FA22,Offsets!$A$11,Offsets!$A$10)","v":142},{"$f":"OFFSET(Data!FB22,Offsets!$A$11,Offsets!$A$10)","v":179},{"$f":"OFFSET(Data!FC22,Offsets!$A$11,Offsets!$A$10)","v":188},{"$f":"OFFSET(Data!FD22,Offsets!$A$11,Offsets!$A$10)","v":201},{"$f":"OFFSET(Data!FE22,Offsets!$A$11,Offsets!$A$10)","v":231},{"$f":"OFFSET(Data!FF22,Offsets!$A$11,Offsets!$A$10)","v":108},{"$f":"OFFSET(Data!FG22,Offsets!$A$11,Offsets!$A$10)","v":0},188.2,149.85714285714286]
[null,"18:00:00",{"$f":"OFFSET(Data!FA23,Offsets!$A$11,Offsets!$A$10)","v":124},{"$f":"OFFSET(Data!FB23,Offsets!$A$11,Offsets!$A$10)","v":112},{"$f":"OFFSET(Data!FC23,Offsets!$A$11,Offsets!$A$10)","v":138},{"$f":"OFFSET(Data!FD23,Offsets!$A$11,Offsets!$A$10)","v":160},{"$f":"OFFSET(Data!FE23,Offsets!$A$11,Offsets!$A$10)","v":179},{"$f":"OFFSET(Data!FF23,Offsets!$A$11,Offsets!$A$10)","v":47},{"$f":"OFFSET(Data!FG23,Offsets!$A$11,Offsets!$A$10)","v":0},142.6,108.57142857142857]
[null,"19:00:00",{"$f":"OFFSET(Data!FA24,Offsets!$A$11,Offsets!$A$10)","v":86},{"$f":"OFFSET(Data!FB24,Offsets!$A$11,Offsets!$A$10)","v":84},{"$f":"OFFSET(Data!FC24,Offsets!$A$11,Offsets!$A$10)","v":112},{"$f":"OFFSET(Data!FD24,Offsets!$A$11,Offsets!$A$10)","v":110},{"$f":"OFFSET(Data!FE24,Offsets!$A$11,Offsets!$A$10)","v":98},{"$f":"OFFSET(Data!FF24,Offsets!$A$11,Offsets!$A$10)","v":0},{"$f":"OFFSET(Data!FG24,Offsets!$A$11,Offsets!$A$10)","v":0},98,70]
[null,"20:00:00",{"$f":"OFFSET(Data!FA25,Offsets!$A$11,Offsets!$A$10)","v":80},{"$f":"OFFSET(Data!FB25,Offsets!$A$11,Offsets!$A$10)","v":49},{"$f":"OFFSET(Data!FC25,Offsets!$A$11,Offsets!$A$10)","v":71},{"$f":"OFFSET(Data!FD25,Offsets!$A$11,Offsets!$A$10)","v":67},{"$f":"OFFSET(Data!FE25,Offsets!$A$11,Offsets!$A$10)","v":70},{"$f":"OFFSET(Data!FF25,Offsets!$A$11,Offsets!$A$10)","v":0},{"$f":"OFFSET(Data!FG25,Offsets!$A$11,Offsets!$A$10)","v":0},67.400000000000006,48.142857142857146]
[null,"21:00:00",{"$f":"OFFSET(Data!FA26,Offsets!$A$11,Offsets!$A$10)","v":38},{"$f":"OFFSET(Data!FB26,Offsets!$A$11,Offsets!$A$10)","v":37},{"$f":"OFFSET(Data!FC26,Offsets!$A$11,Offsets!$A$10)","v":51},{"$f":"OFFSET(Data!FD26,Offsets!$A$11,Offsets!$A$10)","v":57},{"$f":"OFFSET(Data!FE26,Offsets!$A$11,Offsets!$A$10)","v":45},{"$f":"OFFSET(Data!FF26,Offsets!$A$11,Offsets!$A$10)","v":0},{"$f":"OFFSET(Data!FG26,Offsets!$A$11,Offsets!$A$10)","v":0},45.6,32.571428571428569]
[null,"22:00:00",{"$f":"OFFSET(Data!FA27,Offsets!$A$11,Offsets!$A$10)","v":16},{"$f":"OFFSET(Data!FB27,Offsets!$A$11,Offsets!$A$10)","v":21},{"$f":"OFFSET(Data!FC27,Offsets!$A$11,Offsets!$A$10)","v":21},{"$f":"OFFSET(Data!FD27,Offsets!$A$11,Offsets!$A$10)","v":20},{"$f":"OFFSET(Data!FE27,Offsets!$A$11,Offsets!$A$10)","v":26},{"$f":"OFFSET(Data!FF27,Offsets!$A$11,Offsets!$A$10)","v":0},{"$f":"OFFSET(Data!FG27,Offsets!$A$11,Offsets!$A$10)","v":0},20.8,14.857142857142858]
[null,"23:00:00",{"$f":"OFFSET(Data!FA28,Offsets!$A$11,Offsets!$A$10)","v":5},{"$f":"OFFSET(Data!FB28,Offsets!$A$11,Offsets!$A$10)","v":12},{"$f":"OFFSET(Data!FC28,Offsets!$A$11,Offsets!$A$10)","v":9},{"$f":"OFFSET(Data!FD28,Offsets!$A$11,Offsets!$A$10)","v":9},{"$f":"OFFSET(Data!FE28,Offsets!$A$11,Offsets!$A$10)","v":16},{"$f":"OFFSET(Data!FF28,Offsets!$A$11,Offsets!$A$10)","v":0},{"$f":"OFFSET(Data!FG28,Offsets!$A$11,Offsets!$A$10)","v":0},10.199999999999999,7.2857142857142856]
[null,"Total",{"$f":"SUM(C16:C39)","v":491},{"$f":"SUM(D16:D39)","v":1953},2044,2100,2387,1692,0,1795.0000000000002,1523.8571428571431]
[]
[null,"7-19",{"$f":"SUM(C23:C34)","v":266},{"$f":"SUM(D23:D34)","v":1721},1755,1810,2103,1678,0,1531.0000000000002,1333.2857142857144]
[null,"6-22",{"$f":"SUM(C22:C37)","v":470},{"$f":"SUM(D22:D37)","v":1906},2002,2061,2331,1687,0,1754.0000000000002,1493.8571428571431]
[null,"6-24",{"$f":"SUM(C22:C39)","v":491},{"$f":"SUM(D22:D39)","v":1939},2032,2090,2373,1687,0,1785.0000000000002,1516.0000000000002]
[null,"0-24",{"$f":"SUM(C16:C39)","v":491},{"$f":"SUM(D16:D39)","v":1953},2044,2100,2387,1692,0,1795.0000000000002,1523.8571428571431]

{"sheet":"Class Summary","index":3,"n_rows":46,"n_cols":41,"rows_kept":46,"cut":false,"hidden":false,"merged":[[19,33,20,33],[17,28,17,40],[17,15,17,26],[18,27,20,27],[19,35,20,35],[19,16,20,16],[19,17,20,17],[19,18,20,18],[19,19,20,19],[19,20,20,20],[19,21,20,21],[19,22,20,22],[19,23,20,23],[19,24,20,24],[19,28,20,28],[19,29,20,29],[19,31,20,31],[19,32,20,32],[19,30,20,30],[18,1,20,1],[19,25,20,25],[19,26,20,26],[19,8,20,8],[19,9,20,9],[19,10,20,10],[19,11,20,11],[19,2,20,2],[19,15,20,15],[6,4,6,7],[18,14,20,14],[17,2,17,14],[19,12,20,12],[19,13,20,13],[19,7,20,7],[19,3,20,3],[19,4,20,4],[19,5,20,5],[19,6,20,6],[5,14,6,15],[7,14,9,15],[10,14,12,15],[13,14,13,15],[14,14,14,15],[5,4,5,5],[18,40,20,40],[19,34,20,34],[19,36,20,36],[19,38,20,38],[19,39,20,39],[19,37,20,37]]}
[]
[null,"Job No",null,null,{"$f":"'Volume Summary'!C2","v":"GBSth3680"}]
[null,"Client",null,null,{"$f":"'Volume Summary'!C3","v":"Lisa Bolland - Kirkbymoorside Town Council"},null,null,null,null,null,null,null,null,null,"Class Summary",null,null,"C",{"$f":"C18","v":"NB"},{"$f":"P18","v":"SB"}]
[null,"Site",null,null,{"$f":"+Offsets!G3","v":"Piercy End - North"},null,null,null,null,null,null,null,null,null,"Bicycle",null,"C1",{"$f":"SUM(AC46/$AO$46)","v":2.2955120397264123E-3},{"$f":"SUM(C46/$O$46)","v":3.9329525236445357E-3},{"$f":"SUM(P46/$AB$46)","v":6.5622949282834902E-4}]
[null,"Location",null,null,{"$f":"+Offsets!H3","v":"Kirkbymoorside"},null,null,null,null,null,null,null,null,null,"Motorbike",null,"C2",{"$f":"SUM(AD46/$AO$46)","v":1.0540616508947814E-2},{"$f":"SUM(D46/$O$46)","v":1.1330648937166402E-2},{"$f":"SUM(Q46/$AB$46)","v":9.7496953220211867E-3}]
[null,"Site No",null,null,{"$f":"+Offsets!I3","v":2},null,null,null,null,null,null,null,null,null,"Light",null,"C3",{"$f":"SUM(AE46/$AO$46)","v":0.55780942565351832},{"$f":"SUM(E46/$O$46)","v":0.66363891750163884},{"$f":"SUM(R46/$AB$46)","v":0.45186087934752039}]
[null,"Start Date",null,null,{"$f":"+Offsets!L3","v":"2022-05-11"},null,null,null,null,null,null,null,null,null,null,null,"C4",{"$f":"SUM(AF46/$AO$46)","v":0.37552703082544736},{"$f":"SUM(F46/$O$46)","v":0.28101882198707745},{"$f":"SUM(S46/$AB$46)","v":0.4701415580763102}]
[null,"Day",null,null,{"$f":"OFFSET(Offsets!A15,Offsets!A15,0)","v":"7 Day Ave"},null,null,null,null,null,null,null,null,null,"Medium",null,"C5",{"$f":"SUM(AG46/$AO$46)","v":1.9113651269558697E-2},{"$f":"SUM(G46/$O$46)","v":1.8728345350688267E-2},{"$f":"SUM(T46/$AB$46)","v":1.949939064404237E-2}]
[null,"Description",null,null,"Class Summary",null,null,null,null,null,null,null,null,null,null,null,"C6",{"$f":"SUM(AH46/$AO$46)","v":6.5586058277897494E-3},{"$f":"SUM(H46/$O$46)","v":4.7757280644255074E-3},{"$f":"SUM(U46/$AB$46)","v":8.3434892659604402E-3}]
[null,"Classification",null,null,"DfT-UK",null,null,null,null,null,null,null,null,null,null,null,"C7",{"$f":"SUM(AI46/$AO$46)","v":5.621662138105499E-4},{"$f":"SUM(I46/$O$46)","v":4.6820863376720664E-4},{"$f":"SUM(V46/$AB$46)","v":6.5622949282834902E-4}]
[null,"Select Site",null,null,null,null,null,null,null,null,null,null,null,null,"Heavy",null,"C8",{"$f":"SUM(AJ46/$AO$46)","v":3.607233205284362E-3},{"$f":"SUM(J46/$O$46)","v":3.6520273433842125E-3},{"$f":"SUM(W46/$AB$46)","v":3.5623886753538949E-3}]
[null,null,null,null,null,null,null,null,null,null,null,null,null,null,null,null,"C9",{"$f":"SUM(AK46/$AO$46)","v":4.6847184484212494E-5},{"$f":"SUM(K46/$O$46)","v":0},{"$f":"SUM(X46/$AB$46)","v":9.3747070404049868E-5}]
[null,null,null,null,null,null,null,null,null,null,null,null,null,null,null,null,"C10",{"$f":"SUM(AL46/$AO$46)","v":6.5586058277897479E-4},{"$f":"SUM(L46/$O$46)","v":1.0300589942878547E-3},{"$f":"SUM(Y46/$AB$46)","v":2.812412112121496E-4}]
[null,"Select Day",null,null,null,null,null,null,null,null,null,null,null,null,"Bus",null,"C11",{"$f":"SUM(AM46/$AO$46)","v":2.0612761173053498E-3},{"$f":"SUM(M46/$O$46)","v":1.4046259013016198E-3},{"$f":"SUM(Z46/$AB$46)","v":2.7186650417174458E-3}]
[null,null,null,null,null,null,null,null,null,null,null,null,null,null,"Unclassified",null,"C12",{"$f":"SUM(AN46/$AO$46)","v":2.1221774571348259E-2},{"$f":"SUM(N46/$O$46)","v":1.0019664762618225E-2},{"$f":"SUM(AA46/$AB$46)","v":3.2436486359801259E-2}]
[]
[]
[null,null,{"$f":"+Offsets!J3","v":"NB"},null,null,null,null,null,null,null,null,null,null,null,null,{"$f":"+Offsets!K3","v":"SB"},null,null,null,null,null,null,null,null,null,null,null,null,"COMBINED"]
[null,"Hour Starting","C1","C2","C3","C4","C5","C6","C7","C8","C9","C10","C11","C12","Total","C1","C2","C3","C4","C5","C6","C7","C8","C9","C10","C11","C12","Total","C1","C2","C3","C4","C5","C6","C7","C8","C9","C10","C11","C12","Total"]
[null,null,"C","O","CAR","LGV","R2","R3","R4","A3","A4","A5+","BUS","Unclassified",null,"C","O","CAR","LGV","R2","R3","R4","A3","A4","A5+","BUS","Unclassified",null,"C","O","CAR","LGV","R2","R3","R4","A3","A4","A5+","BUS","Unclassified","Total"]
[]
[null,"00:00:00",{"$f":"OFFSET(Data!DN5,Offsets!$A$28,0)","v":0},{"$f":"OFFSET(Data!DO5,Offsets!$A$28,0)","v":0},{"$f":"OFFSET(Data!DP5,Offsets!$A$28,0)","v":0.8571428571428571},{"$f":"OFFSET(Data!DQ5,Offsets!$A$28,0)","v":0.5714285714285714},{"$f":"OFFSET(Data!DR5,Offsets!$A$28,0)","v":0},{"$f":"OFFSET(Data!DS5,Offsets!$A$28,0)","v":0},{"$f":"OFFSET(Data!DT5,Offsets!$A$28,0)","v":0},{"$f":"OFFSET(Data!DU5,Offsets!$A$28,0)","v":0},{"$f":"OFFSET(Data!DV5,Offsets!$A$28,0)","v":0},{"$f":"OFFSET(Data!DW5,Offsets!$A$28,0)","v":0},{"$f":"OFFSET(Data!DX5,Offsets!$A$28,0)","v":0},{"$f":"OFFSET(Data!DY5,Offsets!$A$28,0)","v":0},{"$f":"OFFSET(Data!DZ5,Offsets!$A$28,0)","v":1.4285714285714284},{"$f":"OFFSET(Data!EA5,Offsets!$A$28,0)","v":0},{"$f":"OFFSET(Data!EB5,Offsets!$A$28,0)","v":0},{"$f":"OFFSET(Data!EC5,Offsets!$A$28,0)","v":0.2857142857142857},{"$f":"OFFSET(Data!ED5,Offsets!$A$28,0)","v":1},{"$f":"OFFSET(Data!EE5,Offsets!$A$28,0)","v":0},{"$f":"OFFSET(Data!EF5,Offsets!$A$28,0)","v":0},{"$f":"OFFSET(Data!EG5,Offsets!$A$28,0)","v":0},{"$f":"OFFSET(Data!EH5,Offsets!$A$28,0)","v":0},{"$f":"OFFSET(Data!EI5,Offsets!$A$28,0)","v":0},{"$f":"OFFSET(Data!EJ5,Offsets!$A$28,0)","v":0},{"$f":"OFFSET(Data!EK5,Offsets!$A$28,0)","v":0},{"$f":"OFFSET(Data!EL5,Offsets!$A$28,0)","v":0},{"$f":"OFFSET(Data!EM5,Offsets!$A$28,0)","v":1.2857142857142856},{"$f":"OFFSET(Data!EN5,Offsets!$A$28,0)","v":0},{"$f":"OFFSET(Data!EO5,Offsets!$A$28,0)","v":0},{"$f":"OFFSET(Data!EP5,Offsets!$A$28,0)","v":1.1428571428571428},{"$f":"OFFSET(Data!EQ5,Offsets!$A$28,0)","v":1.5714285714285714},{"$f":"OFFSET(Data!ER5,Offsets!$A$28,0)","v":0},{"$f":"OFFSET(Data!ES5,Offsets!$A$28,0)","v":0},{"$f":"OFFSET(Data!ET5,Offsets!$A$28,0)","v":0},{"$f":"OFFSET(Data!EU5,Offsets!$A$28,0)","v":0},{"$f":"OFFSET(Data!EV5,Offsets!$A$28,0)","v":0},{"$f":"OFFSET(Data!EW5,Offsets!$A$28,0)","v":0},{"$f":"OFFSET(Data!EX5,Offsets!$A$28,0)","v":0},{"$f":"OFFSET(Data!EY5,Offsets!$A$28,0)","v":0},{"$f":"OFFSET(Data!EZ5,Offsets!$A$28,0)","v":2.714285714285714}]
[null,"01:00:00",{"$f":"OFFSET(Data!DN6,Offsets!$A$28,0)","v":0},{"$f":"OFFSET(Data!DO6,Offsets!$A$28,0)","v":0},{"$f":"OFFSET(Data!DP6,Offsets!$A$28,0)","v":0.2857142857142857},{"$f":"OFFSET(Data!DQ6,Offsets!$A$28,0)","v":0},{"$f":"OFFSET(Data!DR6,Offsets!$A$28,0)","v":0},{"$f":"OFFSET(Data!DS6,Offsets!$A$28,0)","v":0},{"$f":"OFFSET(Data!DT6,Offsets!$A$28,0)","v":0},{"$f":"OFFSET(Data!DU6,Offsets!$A$28,0)","v":0},{"$f":"OFFSET(Data!DV6,Offsets!$A$28,0)","v":0},{"$f":"OFFSET(Data!DW6,Offsets!$A$28,0)","v":0},{"$f":"OFFSET(Data!DX6,Offsets!$A$28,0)","v":0},{"$f":"OFFSET(Data!DY6,Offsets!$A$28,0)","v":0},{"$f":"OFFSET(Data!DZ6,Offsets!$A$28,0)","v":0.2857142857142857},{"$f":"OFFSET(Data!EA6,Offsets!$A$28,0)","v":0},{"$f":"OFFSET(Data!EB6,Offsets!$A$28,0)","v":0},{"$f":"OFFSET(Data!EC6,Offsets!$A$28,0)","v":0},{"$f":"OFFSET(Data!ED6,Offsets!$A$28,0)","v":0.14285714285714285},{"$f":"OFFSET(Data!EE6,Offsets!$A$28,0)","v":0.14285714285714285},{"$f":"OFFSET(Data!EF6,Offsets!$A$28,0)","v":0},{"$f":"OFFSET(Data!EG6,Offsets!$A$28,0)","v":0},{"$f":"OFFSET(Data!EH6,Offsets!$A$28,0)","v":0},{"$f":"OFFSET(Data!EI6,Offsets!$A$28,0)","v":0},{"$f":"OFFSET(Data!EJ6,Offsets!$A$28,0)","v":0},{"$f":"OFFSET(Data!EK6,Offsets!$A$28,0)","v":0},{"$f":"OFFSET(Data!EL6,Offsets!$A$28,0)","v":0},{"$f":"OFFSET(Data!EM6,Offsets!$A$28,0)","v":0.2857142857142857},{"$f":"OFFSET(Data!EN6,Offsets!$A$28,0)","v":0},{"$f":"OFFSET(Data!EO6,Offsets!$A$28,0)","v":0},{"$f":"OFFSET(Data!EP6,Offsets!$A$28,0)","v":0.2857142857142857},{"$f":"OFFSET(Data!EQ6,Offsets!$A$28,0)","v":0.14285714285714285},{"$f":"OFFSET(Data!ER6,Offsets!$A$28,0)","v":0.14285714285714285},{"$f":"OFFSET(Data!ES6,Offsets!$A$28,0)","v":0},{"$f":"OFFSET(Data!ET6,Offsets!$A$28,0)","v":0},{"$f":"OFFSET(Data!EU6,Offsets!$A$28,0)","v":0},{"$f":"OFFSET(Data!EV6,Offsets!$A$28,0)","v":0},{"$f":"OFFSET(Data!EW6,Offsets!$A$28,0)","v":0},{"$f":"OFFSET(Data!EX6,Offsets!$A$28,0)","v":0},{"$f":"OFFSET(Data!EY6,Offsets!$A$28,0)","v":0},{"$f":"OFFSET(Data!EZ6,Offsets!$A$28,0)","v":0.5714285714285714}]
[null,"02:00:00",{"$f":"OFFSET(Data!DN7,Offsets!$A$28,0)","v":0},{"$f":"OFFSET(Data!DO7,Offsets!$A$28,0)","v":0},{"$f":"OFFSET(Data!DP7,Offsets!$A$28,0)","v":0},{"$f":"OFFSET(Data!DQ7,Offsets!$A$28,0)","v":0.14285714285714285},{"$f":"OFFSET(Data!DR7,Offsets!$A$28,0)","v":0},{"$f":"OFFSET(Data!DS7,Offsets!$A$28,0)","v":0},{"$f":"OFFSET(Data!DT7,Offsets!$A$28,0)","v":0},{"$f":"OFFSET(Data!DU7,Offsets!$A$28,0)","v":0},{"$f":"OFFSET(Data!DV7,Offsets!$A$28,0)","v":0},{"$f":"OFFSET(Data!DW7,Offsets!$A$28,0)","v":0},{"$f":"OFFSET(Data!DX7,Offsets!$A$28,0)","v":0},{"$f":"OFFSET(Data!DY7,Offsets!$A$28,0)","v":0},{"$f":"OFFSET(Data!DZ7,Offsets!$A$28,0)","v":0.14285714285714285},{"$f":"OFFSET(Data!EA7,Offsets!$A$28,0)","v":0},{"$f":"OFFSET(Data!EB7,Offsets!$A$28,0)","v":0},{"$f":"OFFSET(Data!EC7,Offsets!$A$28,0)","v":0.14285714285714285},{"$f":"OFFSET(Data!ED7,Offsets!$A$28,0)","v":0.42857142857142855},{"$f":"OFFSET(Data!EE7,Offsets!$A$28,0)","v":0},{"$f":"OFFSET(Data!EF7,Offsets!$A$28,0)","v":0},{"$f":"OFFSET(Data!EG7,Offsets!$A$28,0)","v":0},{"$f":"OFFSET(Data!EH7,Offsets!$A$28,0)","v":0},{"$f":"OFFSET(Data!EI7,Offsets!$A$28,0)","v":0},{"$f":"OFFSET(Data!EJ7,Offsets!$A$28,0)","v":0},{"$f":"OFFSET(Data!EK7,Offsets!$A$28,0)","v":0},{"$f":"OFFSET(Data!EL7,Offsets!$A$28,0)","v":0},{"$f":"OFFSET(Data!EM7,Offsets!$A$28,0)","v":0.5714285714285714},{"$f":"OFFSET(Data!EN7,Offsets!$A$28,0)","v":0},{"$f":"OFFSET(Data!EO7,Offsets!$A$28,0)","v":0},{"$f":"OFFSET(Data!EP7,Offsets!$A$28,0)","v":0.14285714285714285},{"$f":"OFFSET(Data!EQ7,Offsets!$A$28,0)","v":0.5714285714285714},{"$f":"OFFSET(Data!ER7,Offsets!$A$28,0)","v":0},{"$f":"OFFSET(Data!ES7,Offsets!$A$28,0)","v":0},{"$f":"OFFSET(Data!ET7,Offsets!$A$28,0)","v":0},{"$f":"OFFSET(Data!EU7,Offsets!$A$28,0)","v":0},{"$f":"OFFSET(Data!EV7,Offsets!$A$28,0)","v":0},{"$f":"OFFSET(Data!EW7,Offsets!$A$28,0)","v":0},{"$f":"OFFSET(Data!EX7,Offsets!$A$28,0)","v":0},{"$f":"OFFSET(Data!EY7,Offsets!$A$28,0)","v":0},{"$f":"OFFSET(Data!EZ7,Offsets!$A$28,0)","v":0.71428571428571419}]
[null,"03:00:00",{"$f":"OFFSET(Data!DN8,Offsets!$A$28,0)","v":0},{"$f":"OFFSET(Data!DO8,Offsets!$A$28,0)","v":0},{"$f":"OFFSET(Data!DP8,Offsets!$A$28,0)","v":0.14285714285714285},{"$f":"OFFSET(Data!DQ8,Offsets!$A$28,0)","v":0.14285714285714285},{"$f":"OFFSET(Data!DR8,Offsets!$A$28,0)","v":0.2857142857142857},{"$f":"OFFSET(Data!DS8,Offsets!$A$28,0)","v":0},{"$f":"OFFSET(Data!DT8,Offsets!$A$28,0)","v":0},{"$f":"OFFSET(Data!DU8,Offsets!$A$28,0)","v":0},{"$f":"OFFSET(Data!DV8,Offsets!$A$28,0)","v":0},{"$f":"OFFSET(Data!DW8,Offsets!$A$28,0)","v":0},{"$f":"OFFSET(Data!DX8,Offsets!$A$28,0)","v":0},{"$f":"OFFSET(Data!DY8,Offsets!$A$28,0)","v":0},{"$f":"OFFSET(Data!DZ8,Offsets!$A$28,0)","v":0.5714285714285714},{"$f":"OFFSET(Data!EA8,Offsets!$A$28,0)","v":0},{"$f":"OFFSET(Data!EB8,Offsets!$A$28,0)","v":0},{"$f":"OFFSET(Data!EC8,Offsets!$A$28,0)","v":0},{"$f":"OFFSET(Data!ED8,Offsets!$A$28,0)","v":0},{"$f":"OFFSET(Data!EE8,Offsets!$A$28,0)","v":0.2857142857142857},{"$f":"OFFSET(Data!EF8,Offsets!$A$28,0)","v":0},{"$f":"OFFSET(Data!EG8,Offsets!$A$28,0)","v":0},{"$f":"OFFSET(Data!EH8,Offsets!$A$28,0)","v":0},{"$f":"OFFSET(Data!EI8,Offsets!$A$28,0)","v":0},{"$f":"OFFSET(Data!EJ8,Offsets!$A$28,0)","v":0},{"$f":"OFFSET(Data!EK8,Offsets!$A$28,0)","v":0},{"$f":"OFFSET(Data!EL8,Offsets!$A$28,0)","v":0},{"$f":"OFFSET(Data!EM8,Offsets!$A$28,0)","v":0.2857142857142857},{"$f":"OFFSET(Data!EN8,Offsets!$A$28,0)","v":0},{"$f":"OFFSET(Data!EO8,Offsets!$A$28,0)","v":0},{"$f":"OFFSET(Data!EP8,Offsets!$A$28,0)","v":0.14285714285714285},{"$f":"OFFSET(Data!EQ8,Offsets!$A$28,0)","v":0.14285714285714285},{"$f":"OFFSET(Data!ER8,Offsets!$A$28,0)","v":0.5714285714285714},{"$f":"OFFSET(Data!ES8,Offsets!$A$28,0)","v":0},{"$f":"OFFSET(Data!ET8,Offsets!$A$28,0)","v":0},{"$f":"OFFSET(Data!EU8,Offsets!$A$28,0)","v":0},{"$f":"OFFSET(Data!EV8,Offsets!$A$28,0)","v":0},{"$f":"OFFSET(Data!EW8,Offsets!$A$28,0)","v":0},{"$f":"OFFSET(Data!EX8,Offsets!$A$28,0)","v":0},{"$f":"OFFSET(Data!EY8,Offsets!$A$28,0)","v":0},{"$f":"OFFSET(Data!EZ8,Offsets!$A$28,0)","v":0.8571428571428571}]
[null,"04:00:00",{"$f":"OFFSET(Data!DN9,Offsets!$A$28,0)","v":0},{"$f":"OFFSET(Data!DO9,Offsets!$A$28,0)","v":0},{"$f":"OFFSET(Data!DP9,Offsets!$A$28,0)","v":1.4285714285714286},{"$f":"OFFSET(Data!DQ9,Offsets!$A$28,0)","v":0.5714285714285714},{"$f":"OFFSET(Data!DR9,Offsets!$A$28,0)","v":0.2857142857142857},{"$f":"OFFSET(Data!DS9,Offsets!$A$28,0)","v":0.14285714285714285},{"$f":"OFFSET(Data!DT9,Offsets!$A$28,0)","v":0},{"$f":"OFFSET(Data!DU9,Offsets!$A$28,0)","v":0},{"$f":"OFFSET(Data!DV9,Offsets!$A$28,0)","v":0},{"$f":"OFFSET(Data!DW9,Offsets!$A$28,0)","v":0},{"$f":"OFFSET(Data!DX9,Offsets!$A$28,0)","v":0},{"$f":"OFFSET(Data!DY9,Offsets!$A$28,0)","v":0},{"$f":"OFFSET(Data!DZ9,Offsets!$A$28,0)","v":2.4285714285714284},{"$f":"OFFSET(Data!EA9,Offsets!$A$28,0)","v":0},{"$f":"OFFSET(Data!EB9,Offsets!$A$28,0)","v":0},{"$f":"OFFSET(Data!EC9,Offsets!$A$28,0)","v":0.42857142857142855},{"$f":"OFFSET(Data!ED9,Offsets!$A$28,0)","v":0.8571428571428571},{"$f":"OFFSET(Data!EE9,Offsets!$A$28,0)","v":0.2857142857142857},{"$f":"OFFSET(Data!EF9,Offsets!$A$28,0)","v":0.14285714285714285},{"$f":"OFFSET(Data!EG9,Offsets!$A$28,0)","v":0},{"$f":"OFFSET(Data!EH9,Offsets!$A$28,0)","v":0},{"$f":"OFFSET(Data!EI9,Offsets!$A$28,0)","v":0},{"$f":"OFFSET(Data!EJ9,Offsets!$A$28,0)","v":0},{"$f":"OFFSET(Data!EK9,Offsets!$A$28,0)","v":0},{"$f":"OFFSET(Data!EL9,Offsets!$A$28,0)","v":0},{"$f":"OFFSET(Data!EM9,Offsets!$A$28,0)","v":1.714285714285714},{"$f":"OFFSET(Data!EN9,Offsets!$A$28,0)","v":0},{"$f":"OFFSET(Data!EO9,Offsets!$A$28,0)","v":0},{"$f":"OFFSET(Data!EP9,Offsets!$A$28,0)","v":1.8571428571428572},{"$f":"OFFSET(Data!EQ9,Offsets!$A$28,0)","v":1.4285714285714284},{"$f":"OFFSET(Data!ER9,Offsets!$A$28,0)","v":0.5714285714285714},{"$f":"OFFSET(Data!ES9,Offsets!$A$28,0)","v":0.2857142857142857},{"$f":"OFFSET(Data!ET9,Offsets!$A$28,0)","v":0},{"$f":"OFFSET(Data!EU9,Offsets!$A$28,0)","v":0},{"$f":"OFFSET(Data!EV9,Offsets!$A$28,0)","v":0},{"$f":"OFFSET(Data!EW9,Offsets!$A$28,0)","v":0},{"$f":"OFFSET(Data!EX9,Offsets!$A$28,0)","v":0},{"$f":"OFFSET(Data!EY9,Offsets!$A$28,0)","v":0},{"$f":"OFFSET(Data!EZ9,Offsets!$A$28,0)","v":4.1428571428571423}]
[null,"05:00:00",{"$f":"OFFSET(Data!DN10,Offsets!$A$28,0)","v":0},{"$f":"OFFSET(Data!DO10,Offsets!$A$28,0)","v":0},{"$f":"OFFSET(Data!DP10,Offsets!$A$28,0)","v":5.8571428571428568},{"$f":"OFFSET(Data!DQ10,Offsets!$A$28,0)","v":2.7142857142857144},{"$f":"OFFSET(Data!DR10,Offsets!$A$28,0)","v":0.14285714285714285},{"$f":"OFFSET(Data!DS10,Offsets!$A$28,0)","v":0},{"$f":"OFFSET(Data!DT10,Offsets!$A$28,0)","v":0},{"$f":"OFFSET(Data!DU10,Offsets!$A$28,0)","v":0},{"$f":"OFFSET(Data!DV10,Offsets!$A$28,0)","v":0},{"$f":"OFFSET(Data!DW10,Offsets!$A$28,0)","v":0},{"$f":"OFFSET(Data!DX10,Offsets!$A$28,0)","v":0},{"$f":"OFFSET(Data!DY10,Offsets!$A$28,0)","v":0},{"$f":"OFFSET(Data!DZ10,Offsets!$A$28,0)","v":8.7142857142857135},{"$f":"OFFSET(Data!EA10,Offsets!$A$28,0)","v":0},{"$f":"OFFSET(Data!EB10,Offsets!$A$28,0)","v":0},{"$f":"OFFSET(Data!EC10,Offsets!$A$28,0)","v":2.1428571428571428},{"$f":"OFFSET(Data!ED10,Offsets!$A$28,0)","v":1},{"$f":"OFFSET(Data!EE10,Offsets!$A$28,0)","v":0.2857142857142857},{"$f":"OFFSET(Data!EF10,Offsets!$A$28,0)","v":0.2857142857142857},{"$f":"OFFSET(Data!EG10,Offsets!$A$28,0)","v":0},{"$f":"OFFSET(Data!EH10,Offsets!$A$28,0)","v":0},{"$f":"OFFSET(Data!EI10,Offsets!$A$28,0)","v":0},{"$f":"OFFSET(Data!EJ10,Offsets!$A$28,0)","v":0},{"$f":"OFFSET(Data!EK10,Offsets!$A$28,0)","v":0},{"$f":"OFFSET(Data!EL10,Offsets!$A$28,0)","v":0},{"$f":"OFFSET(Data!EM10,Offsets!$A$28,0)","v":3.714285714285714},{"$f":"OFFSET(Data!EN10,Offsets!$A$28,0)","v":0},{"$f":"OFFSET(Data!EO10,Offsets!$A$28,0)","v":0},{"$f":"OFFSET(Data!EP10,Offsets!$A$28,0)","v":8},{"$f":"OFFSET(Data!EQ10,Offsets!$A$28,0)","v":3.7142857142857144},{"$f":"OFFSET(Data!ER10,Offsets!$A$28,0)","v":0.42857142857142855},{"$f":"OFFSET(Data!ES10,Offsets!$A$28,0)","v":0.2857142857142857},{"$f":"OFFSET(Data!ET10,Offsets!$A$28,0)","v":0},{"$f":"OFFSET(Data!EU10,Offsets!$A$28,0)","v":0},{"$f":"OFFSET(Data!EV10,Offsets!$A$28,0)","v":0},{"$f":"OFFSET(Data!EW10,Offsets!$A$28,0)","v":0},{"$f":"OFFSET(Data!EX10,Offsets!$A$28,0)","v":0},{"$f":"OFFSET(Data!EY10,Offsets!$A$28,0)","v":0},{"$f":"OFFSET(Data!EZ10,Offsets!$A$28,0)","v":12.428571428571427}]
[null,"06:00:00",{"$f":"OFFSET(Data!DN11,Offsets!$A$28,0)","v":0},{"$f":"OFFSET(Data!DO11,Offsets!$A$28,0)","v":0.2857142857142857},{"$f":"OFFSET(Data!DP11,Offsets!$A$28,0)","v":19.142857142857142},{"$f":"OFFSET(Data!DQ11,Offsets!$A$28,0)","v":8.1428571428571423},{"$f":"OFFSET(Data!DR11,Offsets!$A$28,0)","v":0.7142857142857143},{"$f":"OFFSET(Data!DS11,Offsets!$A$28,0)","v":0.2857142857142857},{"$f":"OFFSET(Data!DT11,Offsets!$A$28,0)","v":0},{"$f":"OFFSET(Data!DU11,Offsets!$A$28,0)","v":0.2857142857142857},{"$f":"OFFSET(Data!DV11,Offsets!$A$28,0)","v":0},{"$f":"OFFSET(Data!DW11,Offsets!$A$28,0)","v":0},{"$f":"OFFSET(Data!DX11,Offsets!$A$28,0)","v":0},{"$f":"OFFSET(Data!DY11,Offsets!$A$28,0)","v":0},{"$f":"OFFSET(Data!DZ11,Offsets!$A$28,0)","v":28.857142857142854},{"$f":"OFFSET(Data!EA11,Offsets!$A$28,0)","v":0},{"$f":"OFFSET(Data!EB11,Offsets!$A$28,0)","v":0.14285714285714285},{"$f":"OFFSET(Data!EC11,Offsets!$A$28,0)","v":2.1428571428571428},{"$f":"OFFSET(Data!ED11,Offsets!$A$28,0)","v":6.2857142857142856},{"$f":"OFFSET(Data!EE11,Offsets!$A$28,0)","v":1},{"$f":"OFFSET(Data!EF11,Offsets!$A$28,0)","v":0.14285714285714285},{"$f":"OFFSET(Data!EG11,Offsets!$A$28,0)","v":0},{"$f":"OFFSET(Data!EH11,Offsets!$A$28,0)","v":0},{"$f":"OFFSET(Data!EI11,Offsets!$A$28,0)","v":0},{"$f":"OFFSET(Data!EJ11,Offsets!$A$28,0)","v":0},{"$f":"OFFSET(Data!EK11,Offsets!$A$28,0)","v":0.14285714285714285},{"$f":"OFFSET(Data!EL11,Offsets!$A$28,0)","v":0},{"$f":"OFFSET(Data!EM11,Offsets!$A$28,0)","v":9.8571428571428559},{"$f":"OFFSET(Data!EN11,Offsets!$A$28,0)","v":0},{"$f":"OFFSET(Data!EO11,Offsets!$A$28,0)","v":0.42857142857142855},{"$f":"OFFSET(Data!EP11,Offsets!$A$28,0)","v":21.285714285714285},{"$f":"OFFSET(Data!EQ11,Offsets!$A$28,0)","v":14.428571428571427},{"$f":"OFFSET(Data!ER11,Offsets!$A$28,0)","v":1.7142857142857144},{"$f":"OFFSET(Data!ES11,Offsets!$A$28,0)","v":0.42857142857142855},{"$f":"OFFSET(Data!ET11,Offsets!$A$28,0)","v":0},{"$f":"OFFSET(Data!EU11,Offsets!$A$28,0)","v":0.2857142857142857},{"$f":"OFFSET(Data!EV11,Offsets!$A$28,0)","v":0},{"$f":"OFFSET(Data!EW11,Offsets!$A$28,0)","v":0},{"$f":"OFFSET(Data!EX11,Offsets!$A$28,0)","v":0.14285714285714285},{"$f":"OFFSET(Data!EY11,Offsets!$A$28,0)","v":0},{"$f":"OFFSET(Data!EZ11,Offsets!$A$28,0)","v":38.714285714285708}]
[null,"07:00:00",{"$f":"OFFSET(Data!DN12,Offsets!$A$28,0)","v":0.42857142857142855},{"$f":"OFFSET(Data!DO12,Offsets!$A$28,0)","v":1.1428571428571428},{"$f":"OFFSET(Data!DP12,Offsets!$A$28,0)","v":51.142857142857146},{"$f":"OFFSET(Data!DQ12,Offsets!$A$28,0)","v":24.857142857142858},{"$f":"OFFSET(Data!DR12,Offsets!$A$28,0)","v":1.7142857142857142},{"$f":"OFFSET(Data!DS12,Offsets!$A$28,0)","v":0.42857142857142855},{"$f":"OFFSET(Data!DT12,Offsets!$A$28,0)","v":0},{"$f":"OFFSET(Data!DU12,Offsets!$A$28,0)","v":0.14285714285714285},{"$f":"OFFSET(Data!DV12,Offsets!$A$28,0)","v":0},{"$f":"OFFSET(Data!DW12,Offsets!$A$28,0)","v":0},{"$f":"OFFSET(Data!DX12,Offsets!$A$28,0)","v":0.2857142857142857},{"$f":"OFFSET(Data!DY12,Offsets!$A$28,0)","v":0.7142857142857143},{"$f":"OFFSET(Data!DZ12,Offsets!$A$28,0)","v":80.857142857142847},{"$f":"OFFSET(Data!EA12,Offsets!$A$28,0)","v":0.14285714285714285},{"$f":"OFFSET(Data!EB12,Offsets!$A$28,0)","v":0},{"$f":"OFFSET(Data!EC12,Offsets!$A$28,0)","v":16.857142857142858},{"$f":"OFFSET(Data!ED12,Offsets!$A$28,0)","v":24.571428571428573},{"$f":"OFFSET(Data!EE12,Offsets!$A$28,0)","v":2.4285714285714284},{"$f":"OFFSET(Data!EF12,Offsets!$A$28,0)","v":0.42857142857142855},{"$f":"OFFSET(Data!EG12,Offsets!$A$28,0)","v":0},{"$f":"OFFSET(Data!EH12,Offsets!$A$28,0)","v":0.14285714285714285},{"$f":"OFFSET(Data!EI12,Offsets!$A$28,0)","v":0.14285714285714285},{"$f":"OFFSET(Data!EJ12,Offsets!$A$28,0)","v":0},{"$f":"OFFSET(Data!EK12,Offsets!$A$28,0)","v":0.7142857142857143},{"$f":"OFFSET(Data!EL12,Offsets!$A$28,0)","v":1.4285714285714286},{"$f":"OFFSET(Data!EM12,Offsets!$A$28,0)","v":46.857142857142868},{"$f":"OFFSET(Data!EN12,Offsets!$A$28,0)","v":0.5714285714285714},{"$f":"OFFSET(Data!EO12,Offsets!$A$28,0)","v":1.1428571428571428},{"$f":"OFFSET(Data!EP12,Offsets!$A$28,0)","v":68},{"$f":"OFFSET(Data!EQ12,Offsets!$A$28,0)","v":49.428571428571431},{"$f":"OFFSET(Data!ER12,Offsets!$A$28,0)","v":4.1428571428571423},{"$f":"OFFSET(Data!ES12,Offsets!$A$28,0)","v":0.8571428571428571},{"$f":"OFFSET(Data!ET12,Offsets!$A$28,0)","v":0},{"$f":"OFFSET(Data!EU12,Offsets!$A$28,0)","v":0.2857142857142857},{"$f":"OFFSET(Data!EV12,Offsets!$A$28,0)","v":0.14285714285714285},{"$f":"OFFSET(Data!EW12,Offsets!$A$28,0)","v":0},{"$f":"OFFSET(Data!EX12,Offsets!$A$28,0)","v":1},{"$f":"OFFSET(Data!EY12,Offsets!$A$28,0)","v":2.1428571428571428},{"$f":"OFFSET(Data!EZ12,Offsets!$A$28,0)","v":127.71428571428572}]
[null,"08:00:00",{"$f":"OFFSET(Data!DN13,Offsets!$A$28,0)","v":0.7142857142857143},{"$f":"OFFSET(Data!DO13,Offsets!$A$28,0)","v":1.4285714285714286},{"$f":"OFFSET(Data!DP13,Offsets!$A$28,0)","v":73.142857142857139},{"$f":"OFFSET(Data!DQ13,Offsets!$A$28,0)","v":31.428571428571427},{"$f":"OFFSET(Data!DR13,Offsets!$A$28,0)","v":3.2857142857142856},{"$f":"OFFSET(Data!DS13,Offsets!$A$28,0)","v":0.8571428571428571},{"$f":"OFFSET(Data!DT13,Offsets!$A$28,0)","v":0},{"$f":"OFFSET(Data!DU13,Offsets!$A$28,0)","v":0.42857142857142855},{"$f":"OFFSET(Data!DV13,Offsets!$A$28,0)","v":0},{"$f":"OFFSET(Data!DW13,Offsets!$A$28,0)","v":0},{"$f":"OFFSET(Data!DX13,Offsets!$A$28,0)","v":0.42857142857142855},{"$f":"OFFSET(Data!DY13,Offsets!$A$28,0)","v":0.8571428571428571},{"$f":"OFFSET(Data!DZ13,Offsets!$A$28,0)","v":112.57142857142858},{"$f":"OFFSET(Data!EA13,Offsets!$A$28,0)","v":0},{"$f":"OFFSET(Data!EB13,Offsets!$A$28,0)","v":0.42857142857142855},{"$f":"OFFSET(Data!EC13,Offsets!$A$28,0)","v":40.142857142857146},{"$f":"OFFSET(Data!ED13,Offsets!$A$28,0)","v":42.857142857142854},{"$f":"OFFSET(Data!EE13,Offsets!$A$28,0)","v":2.4285714285714284},{"$f":"OFFSET(Data!EF13,Offsets!$A$28,0)","v":1},{"$f":"OFFSET(Data!EG13,Offsets!$A$28,0)","v":0},{"$f":"OFFSET(Data!EH13,Offsets!$A$28,0)","v":1.5714285714285714},{"$f":"OFFSET(Data!EI13,Offsets!$A$28,0)","v":0},{"$f":"OFFSET(Data!EJ13,Offsets!$A$28,0)","v":0.14285714285714285},{"$f":"OFFSET(Data!EK13,Offsets!$A$28,0)","v":0.8571428571428571},{"$f":"OFFSET(Data!EL13,Offsets!$A$28,0)","v":3.4285714285714284},{"$f":"OFFSET(Data!EM13,Offsets!$A$28,0)","v":92.857142857142861},{"$f":"OFFSET(Data!EN13,Offsets!$A$28,0)","v":0.7142857142857143},{"$f":"OFFSET(Data!EO13,Offsets!$A$28,0)","v":1.8571428571428572},{"$f":"OFFSET(Data!EP13,Offsets!$A$28,0)","v":113.28571428571428},{"$f":"OFFSET(Data!EQ13,Offsets!$A$28,0)","v":74.285714285714278},{"$f":"OFFSET(Data!ER13,Offsets!$A$28,0)","v":5.7142857142857135},{"$f":"OFFSET(Data!ES13,Offsets!$A$28,0)","v":1.8571428571428572},{"$f":"OFFSET(Data!ET13,Offsets!$A$28,0)","v":0},{"$f":"OFFSET(Data!EU13,Offsets!$A$28,0)","v":2},{"$f":"OFFSET(Data!EV13,Offsets!$A$28,0)","v":0},{"$f":"OFFSET(Data!EW13,Offsets!$A$28,0)","v":0.14285714285714285},{"$f":"OFFSET(Data!EX13,Offsets!$A$28,0)","v":1.2857142857142856},{"$f":"OFFSET(Data!EY13,Offsets!$A$28,0)","v":4.2857142857142856},{"$f":"OFFSET(Data!EZ13,Offsets!$A$28,0)","v":205.42857142857144}]
[null,"09:00:00",{"$f":"OFFSET(Data!DN14,Offsets!$A$28,0)","v":0.42857142857142855},{"$f":"OFFSET(Data!DO14,Offsets!$A$28,0)","v":0.42857142857142855},{"$f":"OFFSET(Data!DP14,Offsets!$A$28,0)","v":82.571428571428569},{"$f":"OFFSET(Data!DQ14,Offsets!$A$28,0)","v":31.857142857142858},{"$f":"OFFSET(Data!DR14,Offsets!$A$28,0)","v":2.5714285714285716},{"$f":"OFFSET(Data!DS14,Offsets!$A$28,0)","v":0.5714285714285714},{"$f":"OFFSET(Data!DT14,Offsets!$A$28,0)","v":0},{"$f":"OFFSET(Data!DU14,Offsets!$A$28,0)","v":0.2857142857142857},{"$f":"OFFSET(Data!DV14,Offsets!$A$28,0)","v":0},{"$f":"OFFSET(Data!DW14,Offsets!$A$28,0)","v":0.14285714285714285},{"$f":"OFFSET(Data!DX14,Offsets!$A$28,0)","v":0.42857142857142855},{"$f":"OFFSET(Data!DY14,Offsets!$A$28,0)","v":1.8571428571428572},{"$f":"OFFSET(Data!DZ14,Offsets!$A$28,0)","v":121.14285714285715},{"$f":"OFFSET(Data!EA14,Offsets!$A$28,0)","v":0},{"$f":"OFFSET(Data!EB14,Offsets!$A$28,0)","v":0},{"$f":"OFFSET(Data!EC14,Offsets!$A$28,0)","v":59},{"$f":"OFFSET(Data!ED14,Offsets!$A$28,0)","v":45.428571428571431},{"$f":"OFFSET(Data!EE14,Offsets!$A$28,0)","v":3.1428571428571428},{"$f":"OFFSET(Data!EF14,Offsets!$A$28,0)","v":1.1428571428571428},{"$f":"OFFSET(Data!EG14,Offsets!$A$28,0)","v":0.14285714285714285},{"$f":"OFFSET(Data!EH14,Offsets!$A$28,0)","v":0.2857142857142857},{"$f":"OFFSET(Data!EI14,Offsets!$A$28,0)","v":0},{"$f":"OFFSET(Data!EJ14,Offsets!$A$28,0)","v":0},{"$f":"OFFSET(Data!EK14,Offsets!$A$28,0)","v":0.2857142857142857},{"$f":"OFFSET(Data!EL14,Offsets!$A$28,0)","v":4.8571428571428568},{"$f":"OFFSET(Data!EM14,Offsets!$A$28,0)","v":114.28571428571429},{"$f":"OFFSET(Data!EN14,Offsets!$A$28,0)","v":0.42857142857142855},{"$f":"OFFSET(Data!EO14,Offsets!$A$28,0)","v":0.42857142857142855},{"$f":"OFFSET(Data!EP14,Offsets!$A$28,0)","v":141.57142857142856},{"$f":"OFFSET(Data!EQ14,Offsets!$A$28,0)","v":77.285714285714292},{"$f":"OFFSET(Data!ER14,Offsets!$A$28,0)","v":5.7142857142857144},{"$f":"OFFSET(Data!ES14,Offsets!$A$28,0)","v":1.7142857142857142},{"$f":"OFFSET(Data!ET14,Offsets!$A$28,0)","v":0.14285714285714285},{"$f":"OFFSET(Data!EU14,Offsets!$A$28,0)","v":0.5714285714285714},{"$f":"OFFSET(Data!EV14,Offsets!$A$28,0)","v":0},{"$f":"OFFSET(Data!EW14,Offsets!$A$28,0)","v":0.14285714285714285},{"$f":"OFFSET(Data!EX14,Offsets!$A$28,0)","v":0.71428571428571419},{"$f":"OFFSET(Data!EY14,Offsets!$A$28,0)","v":6.7142857142857135},{"$f":"OFFSET(Data!EZ14,Offsets!$A$28,0)","v":235.42857142857144}]
[null,"10:00:00",{"$f":"OFFSET(Data!DN15,Offsets!$A$28,0)","v":0.7142857142857143},{"$f":"OFFSET(Data!DO15,Offsets!$A$28,0)","v":1},{"$f":"OFFSET(Data!DP15,Offsets!$A$28,0)","v":87.857142857142861},{"$f":"OFFSET(Data!DQ15,Offsets!$A$28,0)","v":31.857142857142858},{"$f":"OFFSET(Data!DR15,Offsets!$A$28,0)","v":2.8571428571428572},{"$f":"OFFSET(Data!DS15,Offsets!$A$28,0)","v":0.7142857142857143},{"$f":"OFFSET(Data!DT15,Offsets!$A$28,0)","v":0.14285714285714285},{"$f":"OFFSET(Data!DU15,Offsets!$A$28,0)","v":0.42857142857142855},{"$f":"OFFSET(Data!DV15,Offsets!$A$28,0)","v":0},{"$f":"OFFSET(Data!DW15,Offsets!$A$28,0)","v":0.2857142857142857},{"$f":"OFFSET(Data!DX15,Offsets!$A$28,0)","v":0.2857142857142857},{"$f":"OFFSET(Data!DY15,Offsets!$A$28,0)","v":1.8571428571428572},{"$f":"OFFSET(Data!DZ15,Offsets!$A$28,0)","v":128},{"$f":"OFFSET(Data!EA15,Offsets!$A$28,0)","v":0},{"$f":"OFFSET(Data!EB15,Offsets!$A$28,0)","v":0.42857142857142855},{"$f":"OFFSET(Data!EC15,Offsets!$A$28,0)","v":56.857142857142854},{"$f":"OFFSET(Data!ED15,Offsets!$A$28,0)","v":54.142857142857146},{"$f":"OFFSET(Data!EE15,Offsets!$A$28,0)","v":3.1428571428571428},{"$f":"OFFSET(Data!EF15,Offsets!$A$28,0)","v":0.8571428571428571},{"$f":"OFFSET(Data!EG15,Offsets!$A$28,0)","v":0},{"$f":"OFFSET(Data!EH15,Offsets!$A$28,0)","v":0.14285714285714285},{"$f":"OFFSET(Data!EI15,Offsets!$A$28,0)","v":0},{"$f":"OFFSET(Data!EJ15,Offsets!$A$28,0)","v":0},{"$f":"OFFSET(Data!EK15,Offsets!$A$28,0)","v":0.14285714285714285},{"$f":"OFFSET(Data!EL15,Offsets!$A$28,0)","v":4.7142857142857144},{"$f":"OFFSET(Data!EM15,Offsets!$A$28,0)","v":120.42857142857142},{"$f":"OFFSET(Data!EN15,Offsets!$A$28,0)","v":0.7142857142857143},{"$f":"OFFSET(Data!EO15,Offsets!$A$28,0)","v":1.4285714285714286},{"$f":"OFFSET(Data!EP15,Offsets!$A$28,0)","v":144.71428571428572},{"$f":"OFFSET(Data!EQ15,Offsets!$A$28,0)","v":86},{"$f":"OFFSET(Data!ER15,Offsets!$A$28,0)","v":6},{"$f":"OFFSET(Data!ES15,Offsets!$A$28,0)","v":1.5714285714285714},{"$f":"OFFSET(Data!ET15,Offsets!$A$28,0)","v":0.14285714285714285},{"$f":"OFFSET(Data!EU15,Offsets!$A$28,0)","v":0.5714285714285714},{"$f":"OFFSET(Data!EV15,Offsets!$A$28,0)","v":0},{"$f":"OFFSET(Data!EW15,Offsets!$A$28,0)","v":0.2857142857142857},{"$f":"OFFSET(Data!EX15,Offsets!$A$28,0)","v":0.42857142857142855},{"$f":"OFFSET(Data!EY15,Offsets!$A$28,0)","v":6.5714285714285712},{"$f":"OFFSET(Data!EZ15,Offsets!$A$28,0)","v":248.42857142857142}]
[null,"11:00:00",{"$f":"OFFSET(Data!DN16,Offsets!$A$28,0)","v":0.42857142857142855},{"$f":"OFFSET(Data!DO16,Offsets!$A$28,0)","v":1.7142857142857142},{"$f":"OFFSET(Data!DP16,Offsets!$A$28,0)","v":82.142857142857139},{"$f":"OFFSET(Data!DQ16,Offsets!$A$28,0)","v":33.571428571428569},{"$f":"OFFSET(Data!DR16,Offsets!$A$28,0)","v":2.1428571428571428},{"$f":"OFFSET(Data!DS16,Offsets!$A$28,0)","v":0.14285714285714285},{"$f":"OFFSET(Data!DT16,Offsets!$A$28,0)","v":0.14285714285714285},{"$f":"OFFSET(Data!DU16,Offsets!$A$28,0)","v":0.42857142857142855},{"$f":"OFFSET(Data!DV16,Offsets!$A$28,0)","v":0},{"$f":"OFFSET(Data!DW16,Offsets!$A$28,0)","v":0},{"$f":"OFFSET(Data!DX16,Offsets!$A$28,0)","v":0.14285714285714285},{"$f":"OFFSET(Data!DY16,Offsets!$A$28,0)","v":1.7142857142857142},{"$f":"OFFSET(Data!DZ16,Offsets!$A$28,0)","v":122.57142857142854},{"$f":"OFFSET(Data!EA16,Offsets!$A$28,0)","v":0.14285714285714285},{"$f":"OFFSET(Data!EB16,Offsets!$A$28,0)","v":1.5714285714285714},{"$f":"OFFSET(Data!EC16,Offsets!$A$28,0)","v":50.428571428571431},{"$f":"OFFSET(Data!ED16,Offsets!$A$28,0)","v":55},{"$f":"OFFSET(Data!EE16,Offsets!$A$28,0)","v":2.8571428571428572},{"$f":"OFFSET(Data!EF16,Offsets!$A$28,0)","v":0.7142857142857143},{"$f":"OFFSET(Data!EG16,Offsets!$A$28,0)","v":0},{"$f":"OFFSET(Data!EH16,Offsets!$A$28,0)","v":0},{"$f":"OFFSET(Data!EI16,Offsets!$A$28,0)","v":0},{"$f":"OFFSET(Data!EJ16,Offsets!$A$28,0)","v":0},{"$f":"OFFSET(Data!EK16,Offsets!$A$28,0)","v":0.5714285714285714},{"$f":"OFFSET(Data!EL16,Offsets!$A$28,0)","v":3.5714285714285716},{"$f":"OFFSET(Data!EM16,Offsets!$A$28,0)","v":114.85714285714285},{"$f":"OFFSET(Data!EN16,Offsets!$A$28,0)","v":0.5714285714285714},{"$f":"OFFSET(Data!EO16,Offsets!$A$28,0)","v":3.2857142857142856},{"$f":"OFFSET(Data!EP16,Offsets!$A$28,0)","v":132.57142857142856},{"$f":"OFFSET(Data!EQ16,Offsets!$A$28,0)","v":88.571428571428569},{"$f":"OFFSET(Data!ER16,Offsets!$A$28,0)","v":5},{"$f":"OFFSET(Data!ES16,Offsets!$A$28,0)","v":0.85714285714285721},{"$f":"OFFSET(Data!ET16,Offsets!$A$28,0)","v":0.14285714285714285},{"$f":"OFFSET(Data!EU16,Offsets!$A$28,0)","v":0.42857142857142855},{"$f":"OFFSET(Data!EV16,Offsets!$A$28,0)","v":0},{"$f":"OFFSET(Data!EW16,Offsets!$A$28,0)","v":0},{"$f":"OFFSET(Data!EX16,Offsets!$A$28,0)","v":0.71428571428571419},{"$f":"OFFSET(Data!EY16,Offsets!$A$28,0)","v":5.2857142857142856},{"$f":"OFFSET(Data!EZ16,Offsets!$A$28,0)","v":237.42857142857139}]
[null,"12:00:00",{"$f":"OFFSET(Data!DN17,Offsets!$A$28,0)","v":0.42857142857142855},{"$f":"OFFSET(Data!DO17,Offsets!$A$28,0)","v":1.1428571428571428},{"$f":"OFFSET(Data!DP17,Offsets!$A$28,0)","v":75.857142857142861},{"$f":"OFFSET(Data!DQ17,Offsets!$A$28,0)","v":33.857142857142854},{"$f":"OFFSET(Data!DR17,Offsets!$A$28,0)","v":2.1428571428571428},{"$f":"OFFSET(Data!DS17,Offsets!$A$28,0)","v":0.42857142857142855},{"$f":"OFFSET(Data!DT17,Offsets!$A$28,0)","v":0},{"$f":"OFFSET(Data!DU17,Offsets!$A$28,0)","v":0.7142857142857143},{"$f":"OFFSET(Data!DV17,Offsets!$A$28,0)","v":0},{"$f":"OFFSET(Data!DW17,Offsets!$A$28,0)","v":0.14285714285714285},{"$f":"OFFSET(Data!DX17,Offsets!$A$28,0)","v":0.14285714285714285},{"$f":"OFFSET(Data!DY17,Offsets!$A$28,0)","v":1},{"$f":"OFFSET(Data!DZ17,Offsets!$A$28,0)","v":115.85714285714283},{"$f":"OFFSET(Data!EA17,Offsets!$A$28,0)","v":0},{"$f":"OFFSET(Data!EB17,Offsets!$A$28,0)","v":2.2857142857142856},{"$f":"OFFSET(Data!EC17,Offsets!$A$28,0)","v":52.714285714285715},{"$f":"OFFSET(Data!ED17,Offsets!$A$28,0)","v":54.285714285714285},{"$f":"OFFSET(Data!EE17,Offsets!$A$28,0)","v":1.8571428571428572},{"$f":"OFFSET(Data!EF17,Offsets!$A$28,0)","v":0.5714285714285714},{"$f":"OFFSET(Data!EG17,Offsets!$A$28,0)","v":0.42857142857142855},{"$f":"OFFSET(Data!EH17,Offsets!$A$28,0)","v":0.42857142857142855},{"$f":"OFFSET(Data!EI17,Offsets!$A$28,0)","v":0},{"$f":"OFFSET(Data!EJ17,Offsets!$A$28,0)","v":0},{"$f":"OFFSET(Data!EK17,Offsets!$A$28,0)","v":0.5714285714285714},{"$f":"OFFSET(Data!EL17,Offsets!$A$28,0)","v":3.8571428571428572},{"$f":"OFFSET(Data!EM17,Offsets!$A$28,0)","v":117},{"$f":"OFFSET(Data!EN17,Offsets!$A$28,0)","v":0.42857142857142855},{"$f":"OFFSET(Data!EO17,Offsets!$A$28,0)","v":3.4285714285714284},{"$f":"OFFSET(Data!EP17,Offsets!$A$28,0)","v":128.57142857142858},{"$f":"OFFSET(Data!EQ17,Offsets!$A$28,0)","v":88.142857142857139},{"$f":"OFFSET(Data!ER17,Offsets!$A$28,0)","v":4},{"$f":"OFFSET(Data!ES17,Offsets!$A$28,0)","v":1},{"$f":"OFFSET(Data!ET17,Offsets!$A$28,0)","v":0.42857142857142855},{"$f":"OFFSET(Data!EU17,Offsets!$A$28,0)","v":1.1428571428571428},{"$f":"OFFSET(Data!EV17,Offsets!$A$28,0)","v":0},{"$f":"OFFSET(Data!EW17,Offsets!$A$28,0)","v":0.14285714285714285},{"$f":"OFFSET(Data!EX17,Offsets!$A$28,0)","v":0.71428571428571419},{"$f":"OFFSET(Data!EY17,Offsets!$A$28,0)","v":4.8571428571428577},{"$f":"OFFSET(Data!EZ17,Offsets!$A$28,0)","v":232.85714285714283}]
[null,"13:00:00",{"$f":"OFFSET(Data!DN18,Offsets!$A$28,0)","v":0.2857142857142857},{"$f":"OFFSET(Data!DO18,Offsets!$A$28,0)","v":2.7142857142857144},{"$f":"OFFSET(Data!DP18,Offsets!$A$28,0)","v":71.857142857142861},{"$f":"OFFSET(Data!DQ18,Offsets!$A$28,0)","v":30.714285714285715},{"$f":"OFFSET(Data!DR18,Offsets!$A$28,0)","v":2.1428571428571428},{"$f":"OFFSET(Data!DS18,Offsets!$A$28,0)","v":0.42857142857142855},{"$f":"OFFSET(Data!DT18,Offsets!$A$28,0)","v":0.2857142857142857},{"$f":"OFFSET(Data!DU18,Offsets!$A$28,0)","v":0.42857142857142855},{"$f":"OFFSET(Data!DV18,Offsets!$A$28,0)","v":0},{"$f":"OFFSET(Data!DW18,Offsets!$A$28,0)","v":0.14285714285714285},{"$f":"OFFSET(Data!DX18,Offsets!$A$28,0)","v":0},{"$f":"OFFSET(Data!DY18,Offsets!$A$28,0)","v":0.42857142857142855},{"$f":"OFFSET(Data!DZ18,Offsets!$A$28,0)","v":109.42857142857144},{"$f":"OFFSET(Data!EA18,Offsets!$A$28,0)","v":0.14285714285714285},{"$f":"OFFSET(Data!EB18,Offsets!$A$28,0)","v":1.2857142857142858},{"$f":"OFFSET(Data!EC18,Offsets!$A$28,0)","v":38.571428571428569},{"$f":"OFFSET(Data!ED18,Offsets!$A$28,0)","v":52.428571428571431},{"$f":"OFFSET(Data!EE18,Offsets!$A$28,0)","v":2.4285714285714284},{"$f":"OFFSET(Data!EF18,Offsets!$A$28,0)","v":0.42857142857142855},{"$f":"OFFSET(Data!EG18,Offsets!$A$28,0)","v":0},{"$f":"OFFSET(Data!EH18,Offsets!$A$28,0)","v":0.2857142857142857},{"$f":"OFFSET(Data!EI18,Offsets!$A$28,0)","v":0},{"$f":"OFFSET(Data!EJ18,Offsets!$A$28,0)","v":0.2857142857142857},{"$f":"OFFSET(Data!EK18,Offsets!$A$28,0)","v":0.2857142857142857},{"$f":"OFFSET(Data!EL18,Offsets!$A$28,0)","v":3.1428571428571428},{"$f":"OFFSET(Data!EM18,Offsets!$A$28,0)","v":99.285714285714306},{"$f":"OFFSET(Data!EN18,Offsets!$A$28,0)","v":0.42857142857142855},{"$f":"OFFSET(Data!EO18,Offsets!$A$28,0)","v":4},{"$f":"OFFSET(Data!EP18,Offsets!$A$28,0)","v":110.42857142857143},{"$f":"OFFSET(Data!EQ18,Offsets!$A$28,0)","v":83.142857142857139},{"$f":"OFFSET(Data!ER18,Offsets!$A$28,0)","v":4.5714285714285712},{"$f":"OFFSET(Data!ES18,Offsets!$A$28,0)","v":0.8571428571428571},{"$f":"OFFSET(Data!ET18,Offsets!$A$28,0)","v":0.2857142857142857},{"$f":"OFFSET(Data!EU18,Offsets!$A$28,0)","v":0.71428571428571419},{"$f":"OFFSET(Data!EV18,Offsets!$A$28,0)","v":0},{"$f":"OFFSET(Data!EW18,Offsets!$A$28,0)","v":0.42857142857142855},{"$f":"OFFSET(Data!EX18,Offsets!$A$28,0)","v":0.2857142857142857},{"$f":"OFFSET(Data!EY18,Offsets!$A$28,0)","v":3.5714285714285712},{"$f":"OFFSET(Data!EZ18,Offsets!$A$28,0)","v":208.71428571428575}]
[null,"14:00:00",{"$f":"OFFSET(Data!DN19,Offsets!$A$28,0)","v":0.42857142857142855},{"$f":"OFFSET(Data!DO19,Offsets!$A$28,0)","v":2},{"$f":"OFFSET(Data!DP19,Offsets!$A$28,0)","v":72.428571428571431},{"$f":"OFFSET(Data!DQ19,Offsets!$A$28,0)","v":30.857142857142858},{"$f":"OFFSET(Data!DR19,Offsets!$A$28,0)","v":1.5714285714285714},{"$f":"OFFSET(Data!DS19,Offsets!$A$28,0)","v":0.42857142857142855},{"$f":"OFFSET(Data!DT19,Offsets!$A$28,0)","v":0},{"$f":"OFFSET(Data!DU19,Offsets!$A$28,0)","v":0.2857142857142857},{"$f":"OFFSET(Data!DV19,Offsets!$A$28,0)","v":0},{"$f":"OFFSET(Data!DW19,Offsets!$A$28,0)","v":0},{"$f":"OFFSET(Data!DX19,Offsets!$A$28,0)","v":0.14285714285714285},{"$f":"OFFSET(Data!DY19,Offsets!$A$28,0)","v":0.42857142857142855},{"$f":"OFFSET(Data!DZ19,Offsets!$A$28,0)","v":108.57142857142858},{"$f":"OFFSET(Data!EA19,Offsets!$A$28,0)","v":0},{"$f":"OFFSET(Data!EB19,Offsets!$A$28,0)","v":1.4285714285714286},{"$f":"OFFSET(Data!EC19,Offsets!$A$28,0)","v":40.857142857142854},{"$f":"OFFSET(Data!ED19,Offsets!$A$28,0)","v":54.285714285714285},{"$f":"OFFSET(Data!EE19,Offsets!$A$28,0)","v":1.1428571428571428},{"$f":"OFFSET(Data!EF19,Offsets!$A$28,0)","v":0.42857142857142855},{"$f":"OFFSET(Data!EG19,Offsets!$A$28,0)","v":0.14285714285714285},{"$f":"OFFSET(Data!EH19,Offsets!$A$28,0)","v":0.42857142857142855},{"$f":"OFFSET(Data!EI19,Offsets!$A$28,0)","v":0},{"$f":"OFFSET(Data!EJ19,Offsets!$A$28,0)","v":0},{"$f":"OFFSET(Data!EK19,Offsets!$A$28,0)","v":0},{"$f":"OFFSET(Data!EL19,Offsets!$A$28,0)","v":3.4285714285714284},{"$f":"OFFSET(Data!EM19,Offsets!$A$28,0)","v":102.14285714285714},{"$f":"OFFSET(Data!EN19,Offsets!$A$28,0)","v":0.42857142857142855},{"$f":"OFFSET(Data!EO19,Offsets!$A$28,0)","v":3.4285714285714288},{"$f":"OFFSET(Data!EP19,Offsets!$A$28,0)","v":113.28571428571428},{"$f":"OFFSET(Data!EQ19,Offsets!$A$28,0)","v":85.142857142857139},{"$f":"OFFSET(Data!ER19,Offsets!$A$28,0)","v":2.7142857142857144},{"$f":"OFFSET(Data!ES19,Offsets!$A$28,0)","v":0.8571428571428571},{"$f":"OFFSET(Data!ET19,Offsets!$A$28,0)","v":0.14285714285714285},{"$f":"OFFSET(Data!EU19,Offsets!$A$28,0)","v":0.71428571428571419},{"$f":"OFFSET(Data!EV19,Offsets!$A$28,0)","v":0},{"$f":"OFFSET(Data!EW19,Offsets!$A$28,0)","v":0},{"$f":"OFFSET(Data!EX19,Offsets!$A$28,0)","v":0.14285714285714285},{"$f":"OFFSET(Data!EY19,Offsets!$A$28,0)","v":3.8571428571428568},{"$f":"OFFSET(Data!EZ19,Offsets!$A$28,0)","v":210.71428571428572}]
[null,"15:00:00",{"$f":"OFFSET(Data!DN20,Offsets!$A$28,0)","v":0.42857142857142855},{"$f":"OFFSET(Data!DO20,Offsets!$A$28,0)","v":1.1428571428571428},{"$f":"OFFSET(Data!DP20,Offsets!$A$28,0)","v":72.857142857142861},{"$f":"OFFSET(Data!DQ20,Offsets!$A$28,0)","v":34.857142857142854},{"$f":"OFFSET(Data!DR20,Offsets!$A$28,0)","v":2.5714285714285716},{"$f":"OFFSET(Data!DS20,Offsets!$A$28,0)","v":0.2857142857142857},{"$f":"OFFSET(Data!DT20,Offsets!$A$28,0)","v":0},{"$f":"OFFSET(Data!DU20,Offsets!$A$28,0)","v":0.42857142857142855},{"$f":"OFFSET(Data!DV20,Offsets!$A$28,0)","v":0},{"$f":"OFFSET(Data!DW20,Offsets!$A$28,0)","v":0.14285714285714285},{"$f":"OFFSET(Data!DX20,Offsets!$A$28,0)","v":0},{"$f":"OFFSET(Data!DY20,Offsets!$A$28,0)","v":1.2857142857142858},{"$f":"OFFSET(Data!DZ20,Offsets!$A$28,0)","v":114},{"$f":"OFFSET(Data!EA20,Offsets!$A$28,0)","v":0.2857142857142857},{"$f":"OFFSET(Data!EB20,Offsets!$A$28,0)","v":1.4285714285714286},{"$f":"OFFSET(Data!EC20,Offsets!$A$28,0)","v":52.285714285714285},{"$f":"OFFSET(Data!ED20,Offsets!$A$28,0)","v":67.857142857142861},{"$f":"OFFSET(Data!EE20,Offsets!$A$28,0)","v":2.8571428571428572},{"$f":"OFFSET(Data!EF20,Offsets!$A$28,0)","v":0.7142857142857143},{"$f":"OFFSET(Data!EG20,Offsets!$A$28,0)","v":0},{"$f":"OFFSET(Data!EH20,Offsets!$A$28,0)","v":0.42857142857142855},{"$f":"OFFSET(Data!EI20,Offsets!$A$28,0)","v":0},{"$f":"OFFSET(Data!EJ20,Offsets!$A$28,0)","v":0},{"$f":"OFFSET(Data!EK20,Offsets!$A$28,0)","v":0.2857142857142857},{"$f":"OFFSET(Data!EL20,Offsets!$A$28,0)","v":2.8571428571428572},{"$f":"OFFSET(Data!EM20,Offsets!$A$28,0)","v":129},{"$f":"OFFSET(Data!EN20,Offsets!$A$28,0)","v":0.71428571428571419},{"$f":"OFFSET(Data!EO20,Offsets!$A$28,0)","v":2.5714285714285712},{"$f":"OFFSET(Data!EP20,Offsets!$A$28,0)","v":125.14285714285714},{"$f":"OFFSET(Data!EQ20,Offsets!$A$28,0)","v":102.71428571428572},{"$f":"OFFSET(Data!ER20,Offsets!$A$28,0)","v":5.4285714285714288},{"$f":"OFFSET(Data!ES20,Offsets!$A$28,0)","v":1},{"$f":"OFFSET(Data!ET20,Offsets!$A$28,0)","v":0},{"$f":"OFFSET(Data!EU20,Offsets!$A$28,0)","v":0.8571428571428571},{"$f":"OFFSET(Data!EV20,Offsets!$A$28,0)","v":0},{"$f":"OFFSET(Data!EW20,Offsets!$A$28,0)","v":0.14285714285714285},{"$f":"OFFSET(Data!EX20,Offsets!$A$28,0)","v":0.2857142857142857},{"$f":"OFFSET(Data!EY20,Offsets!$A$28,0)","v":4.1428571428571432},{"$f":"OFFSET(Data!EZ20,Offsets!$A$28,0)","v":243}]
[null,"16:00:00",{"$f":"OFFSET(Data!DN21,Offsets!$A$28,0)","v":0.5714285714285714},{"$f":"OFFSET(Data!DO21,Offsets!$A$28,0)","v":1.4285714285714286},{"$f":"OFFSET(Data!DP21,Offsets!$A$28,0)","v":74.714285714285708},{"$f":"OFFSET(Data!DQ21,Offsets!$A$28,0)","v":33.571428571428569},{"$f":"OFFSET(Data!DR21,Offsets!$A$28,0)","v":2.4285714285714284},{"$f":"OFFSET(Data!DS21,Offsets!$A$28,0)","v":1},{"$f":"OFFSET(Data!DT21,Offsets!$A$28,0)","v":0},{"$f":"OFFSET(Data!DU21,Offsets!$A$28,0)","v":0.2857142857142857},{"$f":"OFFSET(Data!DV21,Offsets!$A$28,0)","v":0},{"$f":"OFFSET(Data!DW21,Offsets!$A$28,0)","v":0.2857142857142857},{"$f":"OFFSET(Data!DX21,Offsets!$A$28,0)","v":0.2857142857142857},{"$f":"OFFSET(Data!DY21,Offsets!$A$28,0)","v":1.8571428571428572},{"$f":"OFFSET(Data!DZ21,Offsets!$A$28,0)","v":116.42857142857144},{"$f":"OFFSET(Data!EA21,Offsets!$A$28,0)","v":0},{"$f":"OFFSET(Data!EB21,Offsets!$A$28,0)","v":0.8571428571428571},{"$f":"OFFSET(Data!EC21,Offsets!$A$28,0)","v":66.142857142857139},{"$f":"OFFSET(Data!ED21,Offsets!$A$28,0)","v":62.857142857142854},{"$f":"OFFSET(Data!EE21,Offsets!$A$28,0)","v":1.2857142857142858},{"$f":"OFFSET(Data!EF21,Offsets!$A$28,0)","v":1},{"$f":"OFFSET(Data!EG21,Offsets!$A$28,0)","v":0.2857142857142857},{"$f":"OFFSET(Data!EH21,Offsets!$A$28,0)","v":0.2857142857142857},{"$f":"OFFSET(Data!EI21,Offsets!$A$28,0)","v":0},{"$f":"OFFSET(Data!EJ21,Offsets!$A$28,0)","v":0},{"$f":"OFFSET(Data!EK21,Offsets!$A$28,0)","v":0.14285714285714285},{"$f":"OFFSET(Data!EL21,Offsets!$A$28,0)","v":5.2857142857142856},{"$f":"OFFSET(Data!EM21,Offsets!$A$28,0)","v":138.14285714285711},{"$f":"OFFSET(Data!EN21,Offsets!$A$28,0)","v":0.5714285714285714},{"$f":"OFFSET(Data!EO21,Offsets!$A$28,0)","v":2.2857142857142856},{"$f":"OFFSET(Data!EP21,Offsets!$A$28,0)","v":140.85714285714283},{"$f":"OFFSET(Data!EQ21,Offsets!$A$28,0)","v":96.428571428571416},{"$f":"OFFSET(Data!ER21,Offsets!$A$28,0)","v":3.7142857142857144},{"$f":"OFFSET(Data!ES21,Offsets!$A$28,0)","v":2},{"$f":"OFFSET(Data!ET21,Offsets!$A$28,0)","v":0.2857142857142857},{"$f":"OFFSET(Data!EU21,Offsets!$A$28,0)","v":0.5714285714285714},{"$f":"OFFSET(Data!EV21,Offsets!$A$28,0)","v":0},{"$f":"OFFSET(Data!EW21,Offsets!$A$28,0)","v":0.2857142857142857},{"$f":"OFFSET(Data!EX21,Offsets!$A$28,0)","v":0.42857142857142855},{"$f":"OFFSET(Data!EY21,Offsets!$A$28,0)","v":7.1428571428571423},{"$f":"OFFSET(Data!EZ21,Offsets!$A$28,0)","v":254.57142857142856}]
[null,"17:00:00",{"$f":"OFFSET(Data!DN22,Offsets!$A$28,0)","v":0.5714285714285714},{"$f":"OFFSET(Data!DO22,Offsets!$A$28,0)","v":0.7142857142857143},{"$f":"OFFSET(Data!DP22,Offsets!$A$28,0)","v":80.428571428571431},{"$f":"OFFSET(Data!DQ22,Offsets!$A$28,0)","v":32.714285714285715},{"$f":"OFFSET(Data!DR22,Offsets!$A$28,0)","v":0.2857142857142857},{"$f":"OFFSET(Data!DS22,Offsets!$A$28,0)","v":0.5714285714285714},{"$f":"OFFSET(Data!DT22,Offsets!$A$28,0)","v":0.14285714285714285},{"$f":"OFFSET(Data!DU22,Offsets!$A$28,0)","v":0.8571428571428571},{"$f":"OFFSET(Data!DV22,Offsets!$A$28,0)","v":0},{"$f":"OFFSET(Data!DW22,Offsets!$A$28,0)","v":0.2857142857142857},{"$f":"OFFSET(Data!DX22,Offsets!$A$28,0)","v":0},{"$f":"OFFSET(Data!DY22,Offsets!$A$28,0)","v":1.4285714285714286},{"$f":"OFFSET(Data!DZ22,Offsets!$A$28,0)","v":118.00000000000003},{"$f":"OFFSET(Data!EA22,Offsets!$A$28,0)","v":0},{"$f":"OFFSET(Data!EB22,Offsets!$A$28,0)","v":1.8571428571428572},{"$f":"OFFSET(Data!EC22,Offsets!$A$28,0)","v":73},{"$f":"OFFSET(Data!ED22,Offsets!$A$28,0)","v":69.285714285714292},{"$f":"OFFSET(Data!EE22,Offsets!$A$28,0)","v":1.2857142857142858},{"$f":"OFFSET(Data!EF22,Offsets!$A$28,0)","v":1.2857142857142858},{"$f":"OFFSET(Data!EG22,Offsets!$A$28,0)","v":0},{"$f":"OFFSET(Data!EH22,Offsets!$A$28,0)","v":0},{"$f":"OFFSET(Data!EI22,Offsets!$A$28,0)","v":0},{"$f":"OFFSET(Data!EJ22,Offsets!$A$28,0)","v":0},{"$f":"OFFSET(Data!EK22,Offsets!$A$28,0)","v":0},{"$f":"OFFSET(Data!EL22,Offsets!$A$28,0)","v":3.1428571428571428},{"$f":"OFFSET(Data!EM22,Offsets!$A$28,0)","v":149.85714285714286},{"$f":"OFFSET(Data!EN22,Offsets!$A$28,0)","v":0.5714285714285714},{"$f":"OFFSET(Data!EO22,Offsets!$A$28,0)","v":2.5714285714285716},{"$f":"OFFSET(Data!EP22,Offsets!$A$28,0)","v":153.42857142857144},{"$f":"OFFSET(Data!EQ22,Offsets!$A$28,0)","v":102},{"$f":"OFFSET(Data!ER22,Offsets!$A$28,0)","v":1.5714285714285716},{"$f":"OFFSET(Data!ES22,Offsets!$A$28,0)","v":1.8571428571428572},{"$f":"OFFSET(Data!ET22,Offsets!$A$28,0)","v":0.14285714285714285},{"$f":"OFFSET(Data!EU22,Offsets!$A$28,0)","v":0.8571428571428571},{"$f":"OFFSET(Data!EV22,Offsets!$A$28,0)","v":0},{"$f":"OFFSET(Data!EW22,Offsets!$A$28,0)","v":0.2857142857142857},{"$f":"OFFSET(Data!EX22,Offsets!$A$28,0)","v":0},{"$f":"OFFSET(Data!EY22,Offsets!$A$28,0)","v":4.5714285714285712},{"$f":"OFFSET(Data!EZ22,Offsets!$A$28,0)","v":267.85714285714289}]
[null,"18:00:00",{"$f":"OFFSET(Data!DN23,Offsets!$A$28,0)","v":0.14285714285714285},{"$f":"OFFSET(Data!DO23,Offsets!$A$28,0)","v":0.2857142857142857},{"$f":"OFFSET(Data!DP23,Offsets!$A$28,0)","v":61.142857142857146},{"$f":"OFFSET(Data!DQ23,Offsets!$A$28,0)","v":24.857142857142858},{"$f":"OFFSET(Data!DR23,Offsets!$A$28,0)","v":1.8571428571428572},{"$f":"OFFSET(Data!DS23,Offsets!$A$28,0)","v":0.2857142857142857},{"$f":"OFFSET(Data!DT23,Offsets!$A$28,0)","v":0},{"$f":"OFFSET(Data!DU23,Offsets!$A$28,0)","v":0.14285714285714285},{"$f":"OFFSET(Data!DV23,Offsets!$A$28,0)","v":0},{"$f":"OFFSET(Data!DW23,Offsets!$A$28,0)","v":0.14285714285714285},{"$f":"OFFSET(Data!DX23,Offsets!$A$28,0)","v":0},{"$f":"OFFSET(Data!DY23,Offsets!$A$28,0)","v":0.42857142857142855},{"$f":"OFFSET(Data!DZ23,Offsets!$A$28,0)","v":89.285714285714292},{"$f":"OFFSET(Data!EA23,Offsets!$A$28,0)","v":0},{"$f":"OFFSET(Data!EB23,Offsets!$A$28,0)","v":1},{"$f":"OFFSET(Data!EC23,Offsets!$A$28,0)","v":51},{"$f":"OFFSET(Data!ED23,Offsets!$A$28,0)","v":50.285714285714285},{"$f":"OFFSET(Data!EE23,Offsets!$A$28,0)","v":0.8571428571428571},{"$f":"OFFSET(Data!EF23,Offsets!$A$28,0)","v":1},{"$f":"OFFSET(Data!EG23,Offsets!$A$28,0)","v":0},{"$f":"OFFSET(Data!EH23,Offsets!$A$28,0)","v":0.2857142857142857},{"$f":"OFFSET(Data!EI23,Offsets!$A$28,0)","v":0},{"$f":"OFFSET(Data!EJ23,Offsets!$A$28,0)","v":0},{"$f":"OFFSET(Data!EK23,Offsets!$A$28,0)","v":0},{"$f":"OFFSET(Data!EL23,Offsets!$A$28,0)","v":4.1428571428571432},{"$f":"OFFSET(Data!EM23,Offsets!$A$28,0)","v":108.57142857142857},{"$f":"OFFSET(Data!EN23,Offsets!$A$28,0)","v":0.14285714285714285},{"$f":"OFFSET(Data!EO23,Offsets!$A$28,0)","v":1.2857142857142856},{"$f":"OFFSET(Data!EP23,Offsets!$A$28,0)","v":112.14285714285714},{"$f":"OFFSET(Data!EQ23,Offsets!$A$28,0)","v":75.142857142857139},{"$f":"OFFSET(Data!ER23,Offsets!$A$28,0)","v":2.7142857142857144},{"$f":"OFFSET(Data!ES23,Offsets!$A$28,0)","v":1.2857142857142856},{"$f":"OFFSET(Data!ET23,Offsets!$A$28,0)","v":0},{"$f":"OFFSET(Data!EU23,Offsets!$A$28,0)","v":0.42857142857142855},{"$f":"OFFSET(Data!EV23,Offsets!$A$28,0)","v":0},{"$f":"OFFSET(Data!EW23,Offsets!$A$28,0)","v":0.14285714285714285},{"$f":"OFFSET(Data!EX23,Offsets!$A$28,0)","v":0},{"$f":"OFFSET(Data!EY23,Offsets!$A$28,0)","v":4.5714285714285721},{"$f":"OFFSET(Data!EZ23,Offsets!$A$28,0)","v":197.85714285714286}]
[null,"19:00:00",{"$f":"OFFSET(Data!DN24,Offsets!$A$28,0)","v":0.2857142857142857},{"$f":"OFFSET(Data!DO24,Offsets!$A$28,0)","v":1.2857142857142858},{"$f":"OFFSET(Data!DP24,Offsets!$A$28,0)","v":41.857142857142854},{"$f":"OFFSET(Data!DQ24,Offsets!$A$28,0)","v":16},{"$f":"OFFSET(Data!DR24,Offsets!$A$28,0)","v":0.2857142857142857},{"$f":"OFFSET(Data!DS24,Offsets!$A$28,0)","v":0},{"$f":"OFFSET(Data!DT24,Offsets!$A$28,0)","v":0},{"$f":"OFFSET(Data!DU24,Offsets!$A$28,0)","v":0},{"$f":"OFFSET(Data!DV24,Offsets!$A$28,0)","v":0},{"$f":"OFFSET(Data!DW24,Offsets!$A$28,0)","v":0},{"$f":"OFFSET(Data!DX24,Offsets!$A$28,0)","v":0},{"$f":"OFFSET(Data!DY24,Offsets!$A$28,0)","v":1},{"$f":"OFFSET(Data!DZ24,Offsets!$A$28,0)","v":60.714285714285708},{"$f":"OFFSET(Data!EA24,Offsets!$A$28,0)","v":0.2857142857142857},{"$f":"OFFSET(Data!EB24,Offsets!$A$28,0)","v":1.4285714285714286},{"$f":"OFFSET(Data!EC24,Offsets!$A$28,0)","v":35.714285714285715},{"$f":"OFFSET(Data!ED24,Offsets!$A$28,0)","v":28.428571428571427},{"$f":"OFFSET(Data!EE24,Offsets!$A$28,0)","v":1.2857142857142858},{"$f":"OFFSET(Data!EF24,Offsets!$A$28,0)","v":0.8571428571428571},{"$f":"OFFSET(Data!EG24,Offsets!$A$28,0)","v":0},{"$f":"OFFSET(Data!EH24,Offsets!$A$28,0)","v":0.14285714285714285},{"$f":"OFFSET(Data!EI24,Offsets!$A$28,0)","v":0},{"$f":"OFFSET(Data!EJ24,Offsets!$A$28,0)","v":0},{"$f":"OFFSET(Data!EK24,Offsets!$A$28,0)","v":0.14285714285714285},{"$f":"OFFSET(Data!EL24,Offsets!$A$28,0)","v":1.7142857142857142},{"$f":"OFFSET(Data!EM24,Offsets!$A$28,0)","v":70},{"$f":"OFFSET(Data!EN24,Offsets!$A$28,0)","v":0.5714285714285714},{"$f":"OFFSET(Data!EO24,Offsets!$A$28,0)","v":2.7142857142857144},{"$f":"OFFSET(Data!EP24,Offsets!$A$28,0)","v":77.571428571428569},{"$f":"OFFSET(Data!EQ24,Offsets!$A$28,0)","v":44.428571428571431},{"$f":"OFFSET(Data!ER24,Offsets!$A$28,0)","v":1.5714285714285716},{"$f":"OFFSET(Data!ES24,Offsets!$A$28,0)","v":0.8571428571428571},{"$f":"OFFSET(Data!ET24,Offsets!$A$28,0)","v":0},{"$f":"OFFSET(Data!EU24,Offsets!$A$28,0)","v":0.14285714285714285},{"$f":"OFFSET(Data!EV24,Offsets!$A$28,0)","v":0},{"$f":"OFFSET(Data!EW24,Offsets!$A$28,0)","v":0},{"$f":"OFFSET(Data!EX24,Offsets!$A$28,0)","v":0.14285714285714285},{"$f":"OFFSET(Data!EY24,Offsets!$A$28,0)","v":2.7142857142857144},{"$f":"OFFSET(Data!EZ24,Offsets!$A$28,0)","v":130.71428571428572}]
[null,"20:00:00",{"$f":"OFFSET(Data!DN25,Offsets!$A$28,0)","v":0},{"$f":"OFFSET(Data!DO25,Offsets!$A$28,0)","v":0.14285714285714285},{"$f":"OFFSET(Data!DP25,Offsets!$A$28,0)","v":27.857142857142858},{"$f":"OFFSET(Data!DQ25,Offsets!$A$28,0)","v":12.428571428571429},{"$f":"OFFSET(Data!DR25,Offsets!$A$28,0)","v":0.42857142857142855},{"$f":"OFFSET(Data!DS25,Offsets!$A$28,0)","v":0.42857142857142855},{"$f":"OFFSET(Data!DT25,Offsets!$A$28,0)","v":0},{"$f":"OFFSET(Data!DU25,Offsets!$A$28,0)","v":0.14285714285714285},{"$f":"OFFSET(Data!DV25,Offsets!$A$28,0)","v":0},{"$f":"OFFSET(Data!DW25,Offsets!$A$28,0)","v":0},{"$f":"OFFSET(Data!DX25,Offsets!$A$28,0)","v":0},{"$f":"OFFSET(Data!DY25,Offsets!$A$28,0)","v":0.42857142857142855},{"$f":"OFFSET(Data!DZ25,Offsets!$A$28,0)","v":41.857142857142868},{"$f":"OFFSET(Data!EA25,Offsets!$A$28,0)","v":0},{"$f":"OFFSET(Data!EB25,Offsets!$A$28,0)","v":0},{"$f":"OFFSET(Data!EC25,Offsets!$A$28,0)","v":24.285714285714285},{"$f":"OFFSET(Data!ED25,Offsets!$A$28,0)","v":19.285714285714285},{"$f":"OFFSET(Data!EE25,Offsets!$A$28,0)","v":0.7142857142857143},{"$f":"OFFSET(Data!EF25,Offsets!$A$28,0)","v":1},{"$f":"OFFSET(Data!EG25,Offsets!$A$28,0)","v":0},{"$f":"OFFSET(Data!EH25,Offsets!$A$28,0)","v":0.5714285714285714},{"$f":"OFFSET(Data!EI25,Offsets!$A$28,0)","v":0},{"$f":"OFFSET(Data!EJ25,Offsets!$A$28,0)","v":0},{"$f":"OFFSET(Data!EK25,Offsets!$A$28,0)","v":0},{"$f":"OFFSET(Data!EL25,Offsets!$A$28,0)","v":2.2857142857142856},{"$f":"OFFSET(Data!EM25,Offsets!$A$28,0)","v":48.142857142857139},{"$f":"OFFSET(Data!EN25,Offsets!$A$28,0)","v":0},{"$f":"OFFSET(Data!EO25,Offsets!$A$28,0)","v":0.14285714285714285},{"$f":"OFFSET(Data!EP25,Offsets!$A$28,0)","v":52.142857142857139},{"$f":"OFFSET(Data!EQ25,Offsets!$A$28,0)","v":31.714285714285715},{"$f":"OFFSET(Data!ER25,Offsets!$A$28,0)","v":1.1428571428571428},{"$f":"OFFSET(Data!ES25,Offsets!$A$28,0)","v":1.4285714285714286},{"$f":"OFFSET(Data!ET25,Offsets!$A$28,0)","v":0},{"$f":"OFFSET(Data!EU25,Offsets!$A$28,0)","v":0.71428571428571419},{"$f":"OFFSET(Data!EV25,Offsets!$A$28,0)","v":0},{"$f":"OFFSET(Data!EW25,Offsets!$A$28,0)","v":0},{"$f":"OFFSET(Data!EX25,Offsets!$A$28,0)","v":0},{"$f":"OFFSET(Data!EY25,Offsets!$A$28,0)","v":2.714285714285714},{"$f":"OFFSET(Data!EZ25,Offsets!$A$28,0)","v":90}]
[null,"21:00:00",{"$f":"OFFSET(Data!DN26,Offsets!$A$28,0)","v":0.14285714285714285},{"$f":"OFFSET(Data!DO26,Offsets!$A$28,0)","v":0.14285714285714285},{"$f":"OFFSET(Data!DP26,Offsets!$A$28,0)","v":20},{"$f":"OFFSET(Data!DQ26,Offsets!$A$28,0)","v":9.5714285714285712},{"$f":"OFFSET(Data!DR26,Offsets!$A$28,0)","v":0.8571428571428571},{"$f":"OFFSET(Data!DS26,Offsets!$A$28,0)","v":0.2857142857142857},{"$f":"OFFSET(Data!DT26,Offsets!$A$28,0)","v":0},{"$f":"OFFSET(Data!DU26,Offsets!$A$28,0)","v":0},{"$f":"OFFSET(Data!DV26,Offsets!$A$28,0)","v":0},{"$f":"OFFSET(Data!DW26,Offsets!$A$28,0)","v":0},{"$f":"OFFSET(Data!DX26,Offsets!$A$28,0)","v":0},{"$f":"OFFSET(Data!DY26,Offsets!$A$28,0)","v":0},{"$f":"OFFSET(Data!DZ26,Offsets!$A$28,0)","v":30.999999999999996},{"$f":"OFFSET(Data!EA26,Offsets!$A$28,0)","v":0},{"$f":"OFFSET(Data!EB26,Offsets!$A$28,0)","v":0},{"$f":"OFFSET(Data!EC26,Offsets!$A$28,0)","v":16.857142857142858},{"$f":"OFFSET(Data!ED26,Offsets!$A$28,0)","v":14.142857142857142},{"$f":"OFFSET(Data!EE26,Offsets!$A$28,0)","v":0},{"$f":"OFFSET(Data!EF26,Offsets!$A$28,0)","v":0.2857142857142857},{"$f":"OFFSET(Data!EG26,Offsets!$A$28,0)","v":0},{"$f":"OFFSET(Data!EH26,Offsets!$A$28,0)","v":0.2857142857142857},{"$f":"OFFSET(Data!EI26,Offsets!$A$28,0)","v":0},{"$f":"OFFSET(Data!EJ26,Offsets!$A$28,0)","v":0},{"$f":"OFFSET(Data!EK26,Offsets!$A$28,0)","v":0},{"$f":"OFFSET(Data!EL26,Offsets!$A$28,0)","v":1},{"$f":"OFFSET(Data!EM26,Offsets!$A$28,0)","v":32.571428571428569},{"$f":"OFFSET(Data!EN26,Offsets!$A$28,0)","v":0.14285714285714285},{"$f":"OFFSET(Data!EO26,Offsets!$A$28,0)","v":0.14285714285714285},{"$f":"OFFSET(Data!EP26,Offsets!$A$28,0)","v":36.857142857142861},{"$f":"OFFSET(Data!EQ26,Offsets!$A$28,0)","v":23.714285714285715},{"$f":"OFFSET(Data!ER26,Offsets!$A$28,0)","v":0.8571428571428571},{"$f":"OFFSET(Data!ES26,Offsets!$A$28,0)","v":0.5714285714285714},{"$f":"OFFSET(Data!ET26,Offsets!$A$28,0)","v":0},{"$f":"OFFSET(Data!EU26,Offsets!$A$28,0)","v":0.2857142857142857},{"$f":"OFFSET(Data!EV26,Offsets!$A$28,0)","v":0},{"$f":"OFFSET(Data!EW26,Offsets!$A$28,0)","v":0},{"$f":"OFFSET(Data!EX26,Offsets!$A$28,0)","v":0},{"$f":"OFFSET(Data!EY26,Offsets!$A$28,0)","v":1},{"$f":"OFFSET(Data!EZ26,Offsets!$A$28,0)","v":63.571428571428569}]
[null,"22:00:00",{"$f":"OFFSET(Data!DN27,Offsets!$A$28,0)","v":0},{"$f":"OFFSET(Data!DO27,Offsets!$A$28,0)","v":0.2857142857142857},{"$f":"OFFSET(Data!DP27,Offsets!$A$28,0)","v":6.1428571428571432},{"$f":"OFFSET(Data!DQ27,Offsets!$A$28,0)","v":3},{"$f":"OFFSET(Data!DR27,Offsets!$A$28,0)","v":0},{"$f":"OFFSET(Data!DS27,Offsets!$A$28,0)","v":0},{"$f":"OFFSET(Data!DT27,Offsets!$A$28,0)","v":0},{"$f":"OFFSET(Data!DU27,Offsets!$A$28,0)","v":0.14285714285714285},{"$f":"OFFSET(Data!DV27,Offsets!$A$28,0)","v":0},{"$f":"OFFSET(Data!DW27,Offsets!$A$28,0)","v":0},{"$f":"OFFSET(Data!DX27,Offsets!$A$28,0)","v":0},{"$f":"OFFSET(Data!DY27,Offsets!$A$28,0)","v":0},{"$f":"OFFSET(Data!DZ27,Offsets!$A$28,0)","v":9.5714285714285712},{"$f":"OFFSET(Data!EA27,Offsets!$A$28,0)","v":0},{"$f":"OFFSET(Data!EB27,Offsets!$A$28,0)","v":0.5714285714285714},{"$f":"OFFSET(Data!EC27,Offsets!$A$28,0)","v":5.5714285714285712},{"$f":"OFFSET(Data!ED27,Offsets!$A$28,0)","v":7.8571428571428568},{"$f":"OFFSET(Data!EE27,Offsets!$A$28,0)","v":0},{"$f":"OFFSET(Data!EF27,Offsets!$A$28,0)","v":0.2857142857142857},{"$f":"OFFSET(Data!EG27,Offsets!$A$28,0)","v":0},{"$f":"OFFSET(Data!EH27,Offsets!$A$28,0)","v":0.14285714285714285},{"$f":"OFFSET(Data!EI27,Offsets!$A$28,0)","v":0},{"$f":"OFFSET(Data!EJ27,Offsets!$A$28,0)","v":0},{"$f":"OFFSET(Data!EK27,Offsets!$A$28,0)","v":0},{"$f":"OFFSET(Data!EL27,Offsets!$A$28,0)","v":0.42857142857142855},{"$f":"OFFSET(Data!EM27,Offsets!$A$28,0)","v":14.857142857142858},{"$f":"OFFSET(Data!EN27,Offsets!$A$28,0)","v":0},{"$f":"OFFSET(Data!EO27,Offsets!$A$28,0)","v":0.8571428571428571},{"$f":"OFFSET(Data!EP27,Offsets!$A$28,0)","v":11.714285714285715},{"$f":"OFFSET(Data!EQ27,Offsets!$A$28,0)","v":10.857142857142858},{"$f":"OFFSET(Data!ER27,Offsets!$A$28,0)","v":0},{"$f":"OFFSET(Data!ES27,Offsets!$A$28,0)","v":0.2857142857142857},{"$f":"OFFSET(Data!ET27,Offsets!$A$28,0)","v":0},{"$f":"OFFSET(Data!EU27,Offsets!$A$28,0)","v":0.2857142857142857},{"$f":"OFFSET(Data!EV27,Offsets!$A$28,0)","v":0},{"$f":"OFFSET(Data!EW27,Offsets!$A$28,0)","v":0},{"$f":"OFFSET(Data!EX27,Offsets!$A$28,0)","v":0},{"$f":"OFFSET(Data!EY27,Offsets!$A$28,0)","v":0.42857142857142855},{"$f":"OFFSET(Data!EZ27,Offsets!$A$28,0)","v":24.428571428571431}]
[null,"23:00:00",{"$f":"OFFSET(Data!DN28,Offsets!$A$28,0)","v":0},{"$f":"OFFSET(Data!DO28,Offsets!$A$28,0)","v":0},{"$f":"OFFSET(Data!DP28,Offsets!$A$28,0)","v":2.7142857142857144},{"$f":"OFFSET(Data!DQ28,Offsets!$A$28,0)","v":0.42857142857142855},{"$f":"OFFSET(Data!DR28,Offsets!$A$28,0)","v":0},{"$f":"OFFSET(Data!DS28,Offsets!$A$28,0)","v":0},{"$f":"OFFSET(Data!DT28,Offsets!$A$28,0)","v":0},{"$f":"OFFSET(Data!DU28,Offsets!$A$28,0)","v":0.14285714285714285},{"$f":"OFFSET(Data!DV28,Offsets!$A$28,0)","v":0},{"$f":"OFFSET(Data!DW28,Offsets!$A$28,0)","v":0},{"$f":"OFFSET(Data!DX28,Offsets!$A$28,0)","v":0},{"$f":"OFFSET(Data!DY28,Offsets!$A$28,0)","v":0},{"$f":"OFFSET(Data!DZ28,Offsets!$A$28,0)","v":3.2857142857142856},{"$f":"OFFSET(Data!EA28,Offsets!$A$28,0)","v":0},{"$f":"OFFSET(Data!EB28,Offsets!$A$28,0)","v":0.14285714285714285},{"$f":"OFFSET(Data!EC28,Offsets!$A$28,0)","v":3.1428571428571428},{"$f":"OFFSET(Data!ED28,Offsets!$A$28,0)","v":3.7142857142857144},{"$f":"OFFSET(Data!EE28,Offsets!$A$28,0)","v":0},{"$f":"OFFSET(Data!EF28,Offsets!$A$28,0)","v":0.14285714285714285},{"$f":"OFFSET(Data!EG28,Offsets!$A$28,0)","v":0},{"$f":"OFFSET(Data!EH28,Offsets!$A$28,0)","v":0},{"$f":"OFFSET(Data!EI28,Offsets!$A$28,0)","v":0},{"$f":"OFFSET(Data!EJ28,Offsets!$A$28,0)","v":0},{"$f":"OFFSET(Data!EK28,Offsets!$A$28,0)","v":0},{"$f":"OFFSET(Data!EL28,Offsets!$A$28,0)","v":0.14285714285714285},{"$f":"OFFSET(Data!EM28,Offsets!$A$28,0)","v":7.2857142857142865},{"$f":"OFFSET(Data!EN28,Offsets!$A$28,0)","v":0},{"$f":"OFFSET(Data!EO28,Offsets!$A$28,0)","v":0.14285714285714285},{"$f":"OFFSET(Data!EP28,Offsets!$A$28,0)","v":5.8571428571428577},{"$f":"OFFSET(Data!EQ28,Offsets!$A$28,0)","v":4.1428571428571432},{"$f":"OFFSET(Data!ER28,Offsets!$A$28,0)","v":0},{"$f":"OFFSET(Data!ES28,Offsets!$A$28,0)","v":0.14285714285714285},{"$f":"OFFSET(Data!ET28,Offsets!$A$28,0)","v":0},{"$f":"OFFSET(Data!EU28,Offsets!$A$28,0)","v":0.14285714285714285},{"$f":"OFFSET(Data!EV28,Offsets!$A$28,0)","v":0},{"$f":"OFFSET(Data!EW28,Offsets!$A$28,0)","v":0},{"$f":"OFFSET(Data!EX28,Offsets!$A$28,0)","v":0},{"$f":"OFFSET(Data!EY28,Offsets!$A$28,0)","v":0.14285714285714285},{"$f":"OFFSET(Data!EZ28,Offsets!$A$28,0)","v":10.571428571428573}]
[null,"Total",{"$f":"SUM(C22:C45)","v":5.9999999999999991},{"$f":"SUM(D22:D45)","v":17.285714285714285},1012.4285714285714,428.71428571428567,28.571428571428569,7.2857142857142847,0.71428571428571419,5.5714285714285721,0,1.5714285714285712,2.1428571428571423,15.285714285714288,1525.5714285714284,0.99999999999999989,{"$f":"SUM(Q22:Q45)","v":14.857142857142858},688.57142857142856,716.42857142857156,29.714285714285712,12.714285714285717,0.99999999999999989,5.4285714285714279,0.14285714285714285,0.42857142857142855,4.1428571428571423,49.428571428571438,1523.8571428571429,7,32.142857142857146,1701.0000000000002,1145.1428571428571,58.285714285714285,20,1.714285714285714,11,0.14285714285714285,1.9999999999999996,6.2857142857142856,64.714285714285708,3049.4285714285716]

{"sheet":"Speed Summary","index":4,"n_rows":43,"n_cols":30,"rows_kept":43,"cut":false,"hidden":false,"merged":[[16,2,16,24],[16,25,16,26],[2,8,2,9],[6,3,6,5],[2,10,2,11],[9,3,9,5],[1,28,1,29],[1,23,1,26],[2,19,2,20],[2,21,2,22],[2,14,2,15],[2,16,2,17]]}
[]
[null,"Job No",null,{"$f":"'Volume Summary'!C2","v":"GBSth3680"},null,null,null,null,null,null,null,null,null,null,null,null,null,null,null,null,null,null,null,"Bin Summary",null,null,null,null,"Bin Summary"]
[null,"Client",null,{"$f":"'Volume Summary'!C3","v":"Lisa Bolland - Kirkbymoorside Town Council"},null,null,null,null,null,null,null,null,null,null,null,null,null,null,null,null,null,null,null,{"$f":"AC3","v":"5-10"},{"$f":"AD3","v":9.1872128995968885E-3},{"$f":"AC15","v":"65-70"},{"$f":"AD15","v":0},null,"5-10",{"$f":"SUM(C$43/SUM($C$43:$Y$43))","v":9.1872128995968885E-3}]
[null,"Site",null,{"$f":"+Offsets!G3","v":"Piercy End - North"},null,null,null,null,null,null,null,null,null,null,null,null,null,null,null,null,null,null,null,{"$f":"AC4","v":"10-15"},6.6466672916471375E-2,{"$f":"AC16","v":"70-75"},0,null,"10-15",{"$f":"SUM(D$43/SUM($C$43:$Y$43))","v":6.6466672916471375E-2}]
[null,"Location",null,{"$f":"+Offsets!H3","v":"Kirkbymoorside"},null,null,null,null,null,null,null,null,null,null,null,null,null,null,null,null,null,null,null,"15-20",0.22489922189931569,"75-80",0,null,"15-20",{"$f":"SUM(E$43/SUM($C$43:$Y$43))","v":0.22489922189931569}]
[null,"Site No",null,{"$f":"+Offsets!I3","v":2},null,null,null,null,null,null,null,null,null,null,null,null,null,null,null,null,null,null,null,"20-25",0.42298678166307313,"80-85",0,null,"20-25",{"$f":"SUM(F$43/SUM($C$43:$Y$43))","v":0.42298678166307313}]
[null,"Start Date",null,{"$f":"+Offsets!L3","v":"2022-05-11"},null,null,null,null,null,null,null,null,null,null,null,null,null,null,null,null,null,null,null,"25-30",0.22836786350426552,"85-90",0,null,"25-30",{"$f":"SUM(G$43/SUM($C$43:$Y$43))","v":0.22836786350426552}]
[null,"Day",null,{"$f":"OFFSET(Offsets!A15,Offsets!A15,0)","v":"7 Day Ave"},null,null,null,null,null,null,null,null,null,null,null,null,null,null,null,null,null,null,null,"30-35",4.1342458048186002E-2,"90-95",0,null,"30-35",{"$f":"SUM(H$43/SUM($C$43:$Y$43))","v":4.1342458048186002E-2}]
[null,"Direction",null,{"$f":"+Offsets!A2","v":"SB"},null,null,null,null,null,null,null,null,null,null,null,null,null,null,null,null,null,null,null,"35-40",5.531077153838943E-3,"95-100",0,null,"35-40",{"$f":"SUM(I$43/SUM($C$43:$Y$43))","v":5.531077153838943E-3}]
[null,"Description",null,"Speed Summary",null,null,null,null,null,null,null,null,null,null,null,null,null,null,null,null,null,null,null,"40-45",7.4997656323239894E-4,"100-105",0,null,"40-45",{"$f":"SUM(J$43/SUM($C$43:$Y$43))","v":7.4997656323239894E-4}]
[null,"Select Site",null,null,null,null,null,null,null,null,null,null,null,null,null,null,null,null,null,null,null,null,null,"45-50",1.8749414080809976E-4,"105-110",0,null,"45-50",{"$f":"SUM(K$43/SUM($C$43:$Y$43))","v":1.8749414080809976E-4}]
[null,null,null,null,null,null,null,null,null,null,null,null,null,null,null,null,null,null,null,null,null,null,null,"50-55",2.8124121121214966E-4,"110-115",0,null,"50-55",{"$f":"SUM(L$43/SUM($C$43:$Y$43))","v":2.8124121121214966E-4}]
[null,null,null,null,null,null,null,null,null,null,null,null,null,null,null,null,null,null,null,null,null,null,null,"55-60",0,"115+",0,null,"55-60",{"$f":"SUM(M$43/SUM($C$43:$Y$43))","v":0}]
[null,"Select Day",null,null,"Select Direction",null,null,null,null,null,null,null,null,null,null,null,null,null,null,null,null,null,null,"60-65",0,{"$f":"+Z43","v":22.23},{"$f":"+AA43","v":26.83},null,"60-65",{"$f":"SUM(N$43/SUM($C$43:$Y$43))","v":0}]
[null,null,null,null,null,null,null,null,null,null,null,null,null,null,null,null,null,null,null,null,null,null,null,null,null,null,null,null,"65-70",{"$f":"SUM(O$43/SUM($C$43:$Y$43))","v":0}]
[null,null,null,null,null,null,null,null,null,null,null,null,null,null,null,null,null,null,null,null,null,null,null,null,null,null,null,null,"70-75",{"$f":"SUM(P$43/SUM($C$43:$Y$43))","v":0}]
[null,"Hour","Vehicle Speed Bins (kph)",null,null,null,null,null,null,null,null,null,null,null,null,null,null,null,null,null,null,null,null,null,null,"Speed",null,null,"75-80",{"$f":"SUM(Q$43/SUM($C$43:$Y$43))","v":0}]
[null,"Starting","5-10","10-15","15-20","20-25","25-30","30-35","35-40","40-45","45-50","50-55","55-60","60-65","65-70","70-75","75-80","80-85","85-90","90-95","95-100","100-105","105-110","110-115","115+","Average","85%ile",null,"80-85",{"$f":"SUM(R$43/SUM($C$43:$Y$43))","v":0}]
[null,"00:00:00",{"$f":"OFFSET(Data!O5,Offsets!$A$33,Offsets!$A$31)","v":0},{"$f":"OFFSET(Data!P5,Offsets!$A$33,Offsets!$A$31)","v":0.14285714285714285},{"$f":"OFFSET(Data!Q5,Offsets!$A$33,Offsets!$A$31)","v":0.42857142857142855},{"$f":"OFFSET(Data!R5,Offsets!$A$33,Offsets!$A$31)","v":0.42857142857142855},{"$f":"OFFSET(Data!S5,Offsets!$A$33,Offsets!$A$31)","v":0},{"$f":"OFFSET(Data!T5,Offsets!$A$33,Offsets!$A$31)","v":0},{"$f":"OFFSET(Data!U5,Offsets!$A$33,Offsets!$A$31)","v":0.14285714285714285},{"$f":"OFFSET(Data!V5,Offsets!$A$33,Offsets!$A$31)","v":0.14285714285714285},{"$f":"OFFSET(Data!W5,Offsets!$A$33,Offsets!$A$31)","v":0},{"$f":"OFFSET(Data!X5,Offsets!$A$33,Offsets!$A$31)","v":0},{"$f":"OFFSET(Data!Y5,Offsets!$A$33,Offsets!$A$31)","v":0},{"$f":"OFFSET(Data!Z5,Offsets!$A$33,Offsets!$A$31)","v":0},{"$f":"OFFSET(Data!AA5,Offsets!$A$33,Offsets!$A$31)","v":0},{"$f":"OFFSET(Data!AB5,Offsets!$A$33,Offsets!$A$31)","v":0},{"$f":"OFFSET(Data!AC5,Offsets!$A$33,Offsets!$A$31)","v":0},{"$f":"OFFSET(Data!AD5,Offsets!$A$33,Offsets!$A$31)","v":0},{"$f":"OFFSET(Data!AE5,Offsets!$A$33,Offsets!$A$31)","v":0},{"$f":"OFFSET(Data!AF5,Offsets!$A$33,Offsets!$A$31)","v":0},{"$f":"OFFSET(Data!AG5,Offsets!$A$33,Offsets!$A$31)","v":0},{"$f":"OFFSET(Data!AH5,Offsets!$A$33,Offsets!$A$31)","v":0},{"$f":"OFFSET(Data!AI5,Offsets!$A$33,Offsets!$A$31)","v":0},{"$f":"OFFSET(Data!AJ5,Offsets!$A$33,Offsets!$A$31)","v":0},{"$f":"OFFSET(Data!AK5,Offsets!$A$33,Offsets!$A$31)","v":0},{"$f":"OFFSET(Data!AL5,Offsets!$A$33,Offsets!$A$31)","v":24.05},{"$f":"OFFSET(Data!AM5,Offsets!$A$33,Offsets!$A$31)","v":"-"},null,"85-90",{"$f":"SUM(S$43/SUM($C$43:$Y$43))","v":0}]
[null,"01:00:00",{"$f":"OFFSET(Data!O6,Offsets!$A$33,Offsets!$A$31)","v":0},{"$f":"OFFSET(Data!P6,Offsets!$A$33,Offsets!$A$31)","v":0},{"$f":"OFFSET(Data!Q6,Offsets!$A$33,Offsets!$A$31)","v":0},{"$f":"OFFSET(Data!R6,Offsets!$A$33,Offsets!$A$31)","v":0},{"$f":"OFFSET(Data!S6,Offsets!$A$33,Offsets!$A$31)","v":0.14285714285714285},{"$f":"OFFSET(Data!T6,Offsets!$A$33,Offsets!$A$31)","v":0.14285714285714285},{"$f":"OFFSET(Data!U6,Offsets!$A$33,Offsets!$A$31)","v":0},{"$f":"OFFSET(Data!V6,Offsets!$A$33,Offsets!$A$31)","v":0},{"$f":"OFFSET(Data!W6,Offsets!$A$33,Offsets!$A$31)","v":0},{"$f":"OFFSET(Data!X6,Offsets!$A$33,Offsets!$A$31)","v":0},{"$f":"OFFSET(Data!Y6,Offsets!$A$33,Offsets!$A$31)","v":0},{"$f":"OFFSET(Data!Z6,Offsets!$A$33,Offsets!$A$31)","v":0},{"$f":"OFFSET(Data!AA6,Offsets!$A$33,Offsets!$A$31)","v":0},{"$f":"OFFSET(Data!AB6,Offsets!$A$33,Offsets!$A$31)","v":0},{"$f":"OFFSET(Data!AC6,Offsets!$A$33,Offsets!$A$31)","v":0},{"$f":"OFFSET(Data!AD6,Offsets!$A$33,Offsets!$A$31)","v":0},{"$f":"OFFSET(Data!AE6,Offsets!$A$33,Offsets!$A$31)","v":0},{"$f":"OFFSET(Data!AF6,Offsets!$A$33,Offsets!$A$31)","v":0},{"$f":"OFFSET(Data!AG6,Offsets!$A$33,Offsets!$A$31)","v":0},{"$f":"OFFSET(Data!AH6,Offsets!$A$33,Offsets!$A$31)","v":0},{"$f":"OFFSET(Data!AI6,Offsets!$A$33,Offsets!$A$31)","v":0},{"$f":"OFFSET(Data!AJ6,Offsets!$A$33,Offsets!$A$31)","v":0},{"$f":"OFFSET(Data!AK6,Offsets!$A$33,Offsets!$A$31)","v":0},{"$f":"OFFSET(Data!AL6,Offsets!$A$33,Offsets!$A$31)","v":31.49},{"$f":"OFFSET(Data!AM6,Offsets!$A$33,Offsets!$A$31)","v":"-"},null,"90-95",{"$f":"SUM(T$43/SUM($C$43:$Y$43))","v":0}]
[null,"02:00:00",{"$f":"OFFSET(Data!O7,Offsets!$A$33,Offsets!$A$31)","v":0},{"$f":"OFFSET(Data!P7,Offsets!$A$33,Offsets!$A$31)","v":0},{"$f":"OFFSET(Data!Q7,Offsets!$A$33,Offsets!$A$31)","v":0.2857142857142857},{"$f":"OFFSET(Data!R7,Offsets!$A$33,Offsets!$A$31)","v":0.14285714285714285},{"$f":"OFFSET(Data!S7,Offsets!$A$33,Offsets!$A$31)","v":0.14285714285714285},{"$f":"OFFSET(Data!T7,Offsets!$A$33,Offsets!$A$31)","v":0},{"$f":"OFFSET(Data!U7,Offsets!$A$33,Offsets!$A$31)","v":0},{"$f":"OFFSET(Data!V7,Offsets!$A$33,Offsets!$A$31)","v":0},{"$f":"OFFSET(Data!W7,Offsets!$A$33,Offsets!$A$31)","v":0},{"$f":"OFFSET(Data!X7,Offsets!$A$33,Offsets!$A$31)","v":0},{"$f":"OFFSET(Data!Y7,Offsets!$A$33,Offsets!$A$31)","v":0},{"$f":"OFFSET(Data!Z7,Offsets!$A$33,Offsets!$A$31)","v":0},{"$f":"OFFSET(Data!AA7,Offsets!$A$33,Offsets!$A$31)","v":0},{"$f":"OFFSET(Data!AB7,Offsets!$A$33,Offsets!$A$31)","v":0},{"$f":"OFFSET(Data!AC7,Offsets!$A$33,Offsets!$A$31)","v":0},{"$f":"OFFSET(Data!AD7,Offsets!$A$33,Offsets!$A$31)","v":0},{"$f":"OFFSET(Data!AE7,Offsets!$A$33,Offsets!$A$31)","v":0},{"$f":"OFFSET(Data!AF7,Offsets!$A$33,Offsets!$A$31)","v":0},{"$f":"OFFSET(Data!AG7,Offsets!$A$33,Offsets!$A$31)","v":0},{"$f":"OFFSET(Data!AH7,Offsets!$A$33,Offsets!$A$31)","v":0},{"$f":"OFFSET(Data!AI7,Offsets!$A$33,Offsets!$A$31)","v":0},{"$f":"OFFSET(Data!AJ7,Offsets!$A$33,Offsets!$A$31)","v":0},{"$f":"OFFSET(Data!AK7,Offsets!$A$33,Offsets!$A$31)","v":0},{"$f":"OFFSET(Data!AL7,Offsets!$A$33,Offsets!$A$31)","v":20.83},{"$f":"OFFSET(Data!AM7,Offsets!$A$33,Offsets!$A$31)","v":"-"},null,"95-100",{"$f":"SUM(U$43/SUM($C$43:$Y$43))","v":0}]
[null,"03:00:00",{"$f":"OFFSET(Data!O8,Offsets!$A$33,Offsets!$A$31)","v":0},{"$f":"OFFSET(Data!P8,Offsets!$A$33,Offsets!$A$31)","v":0},{"$f":"OFFSET(Data!Q8,Offsets!$A$33,Offsets!$A$31)","v":0},{"$f":"OFFSET(Data!R8,Offsets!$A$33,Offsets!$A$31)","v":0.14285714285714285},{"$f":"OFFSET(Data!S8,Offsets!$A$33,Offsets!$A$31)","v":0.14285714285714285},{"$f":"OFFSET(Data!T8,Offsets!$A$33,Offsets!$A$31)","v":0},{"$f":"OFFSET(Data!U8,Offsets!$A$33,Offsets!$A$31)","v":0},{"$f":"OFFSET(Data!V8,Offsets!$A$33,Offsets!$A$31)","v":0},{"$f":"OFFSET(Data!W8,Offsets!$A$33,Offsets!$A$31)","v":0},{"$f":"OFFSET(Data!X8,Offsets!$A$33,Offsets!$A$31)","v":0},{"$f":"OFFSET(Data!Y8,Offsets!$A$33,Offsets!$A$31)","v":0},{"$f":"OFFSET(Data!Z8,Offsets!$A$33,Offsets!$A$31)","v":0},{"$f":"OFFSET(Data!AA8,Offsets!$A$33,Offsets!$A$31)","v":0},{"$f":"OFFSET(Data!AB8,Offsets!$A$33,Offsets!$A$31)","v":0},{"$f":"OFFSET(Data!AC8,Offsets!$A$33,Offsets!$A$31)","v":0},{"$f":"OFFSET(Data!AD8,Offsets!$A$33,Offsets!$A$31)","v":0},{"$f":"OFFSET(Data!AE8,Offsets!$A$33,Offsets!$A$31)","v":0},{"$f":"OFFSET(Data!AF8,Offsets!$A$33,Offsets!$A$31)","v":0},{"$f":"OFFSET(Data!AG8,Offsets!$A$33,Offsets!$A$31)","v":0},{"$f":"OFFSET(Data!AH8,Offsets!$A$33,Offsets!$A$31)","v":0},{"$f":"OFFSET(Data!AI8,Offsets!$A$33,Offsets!$A$31)","v":0},{"$f":"OFFSET(Data!AJ8,Offsets!$A$33,Offsets!$A$31)","v":0},{"$f":"OFFSET(Data!AK8,Offsets!$A$33,Offsets!$A$31)","v":0},{"$f":"OFFSET(Data!AL8,Offsets!$A$33,Offsets!$A$31)","v":26.02},{"$f":"OFFSET(Data!AM8,Offsets!$A$33,Offsets!$A$31)","v":"-"},null,"100-105",{"$f":"SUM(V$43/SUM($C$43:$Y$43))","v":0}]
[null,"04:00:00",{"$f":"OFFSET(Data!O9,Offsets!$A$33,Offsets!$A$31)","v":0},{"$f":"OFFSET(Data!P9,Offsets!$A$33,Offsets!$A$31)","v":0},{"$f":"OFFSET(Data!Q9,Offsets!$A$33,Offsets!$A$31)","v":0.14285714285714285},{"$f":"OFFSET(Data!R9,Offsets!$A$33,Offsets!$A$31)","v":0.5714285714285714},{"$f":"OFFSET(Data!S9,Offsets!$A$33,Offsets!$A$31)","v":0.2857142857142857},{"$f":"OFFSET(Data!T9,Offsets!$A$33,Offsets!$A$31)","v":0.7142857142857143},{"$f":"OFFSET(Data!U9,Offsets!$A$33,Offsets!$A$31)","v":0},{"$f":"OFFSET(Data!V9,Offsets!$A$33,Offsets!$A$31)","v":0},{"$f":"OFFSET(Data!W9,Offsets!$A$33,Offsets!$A$31)","v":0},{"$f":"OFFSET(Data!X9,Offsets!$A$33,Offsets!$A$31)","v":0},{"$f":"OFFSET(Data!Y9,Offsets!$A$33,Offsets!$A$31)","v":0},{"$f":"OFFSET(Data!Z9,Offsets!$A$33,Offsets!$A$31)","v":0},{"$f":"OFFSET(Data!AA9,Offsets!$A$33,Offsets!$A$31)","v":0},{"$f":"OFFSET(Data!AB9,Offsets!$A$33,Offsets!$A$31)","v":0},{"$f":"OFFSET(Data!AC9,Offsets!$A$33,Offsets!$A$31)","v":0},{"$f":"OFFSET(Data!AD9,Offsets!$A$33,Offsets!$A$31)","v":0},{"$f":"OFFSET(Data!AE9,Offsets!$A$33,Offsets!$A$31)","v":0},{"$f":"OFFSET(Data!AF9,Offsets!$A$33,Offsets!$A$31)","v":0},{"$f":"OFFSET(Data!AG9,Offsets!$A$33,Offsets!$A$31)","v":0},{"$f":"OFFSET(Data!AH9,Offsets!$A$33,Offsets!$A$31)","v":0},{"$f":"OFFSET(Data!AI9,Offsets!$A$33,Offsets!$A$31)","v":0},{"$f":"OFFSET(Data!AJ9,Offsets!$A$33,Offsets!$A$31)","v":0},{"$f":"OFFSET(Data!AK9,Offsets!$A$33,Offsets!$A$31)","v":0},{"$f":"OFFSET(Data!AL9,Offsets!$A$33,Offsets!$A$31)","v":27.81},{"$f":"OFFSET(Data!AM9,Offsets!$A$33,Offsets!$A$31)","v":34.119999999999997},null,"105-110",{"$f":"SUM(W$43/SUM($C$43:$Y$43))","v":0}]
[null,"05:00:00",{"$f":"OFFSET(Data!O10,Offsets!$A$33,Offsets!$A$31)","v":0},{"$f":"OFFSET(Data!P10,Offsets!$A$33,Offsets!$A$31)","v":0},{"$f":"OFFSET(Data!Q10,Offsets!$A$33,Offsets!$A$31)","v":0.5714285714285714},{"$f":"OFFSET(Data!R10,Offsets!$A$33,Offsets!$A$31)","v":1.2857142857142858},{"$f":"OFFSET(Data!S10,Offsets!$A$33,Offsets!$A$31)","v":1},{"$f":"OFFSET(Data!T10,Offsets!$A$33,Offsets!$A$31)","v":0.5714285714285714},{"$f":"OFFSET(Data!U10,Offsets!$A$33,Offsets!$A$31)","v":0.2857142857142857},{"$f":"OFFSET(Data!V10,Offsets!$A$33,Offsets!$A$31)","v":0},{"$f":"OFFSET(Data!W10,Offsets!$A$33,Offsets!$A$31)","v":0},{"$f":"OFFSET(Data!X10,Offsets!$A$33,Offsets!$A$31)","v":0},{"$f":"OFFSET(Data!Y10,Offsets!$A$33,Offsets!$A$31)","v":0},{"$f":"OFFSET(Data!Z10,Offsets!$A$33,Offsets!$A$31)","v":0},{"$f":"OFFSET(Data!AA10,Offsets!$A$33,Offsets!$A$31)","v":0},{"$f":"OFFSET(Data!AB10,Offsets!$A$33,Offsets!$A$31)","v":0},{"$f":"OFFSET(Data!AC10,Offsets!$A$33,Offsets!$A$31)","v":0},{"$f":"OFFSET(Data!AD10,Offsets!$A$33,Offsets!$A$31)","v":0},{"$f":"OFFSET(Data!AE10,Offsets!$A$33,Offsets!$A$31)","v":0},{"$f":"OFFSET(Data!AF10,Offsets!$A$33,Offsets!$A$31)","v":0},{"$f":"OFFSET(Data!AG10,Offsets!$A$33,Offsets!$A$31)","v":0},{"$f":"OFFSET(Data!AH10,Offsets!$A$33,Offsets!$A$31)","v":0},{"$f":"OFFSET(Data!AI10,Offsets!$A$33,Offsets!$A$31)","v":0},{"$f":"OFFSET(Data!AJ10,Offsets!$A$33,Offsets!$A$31)","v":0},{"$f":"OFFSET(Data!AK10,Offsets!$A$33,Offsets!$A$31)","v":0},{"$f":"OFFSET(Data!AL10,Offsets!$A$33,Offsets!$A$31)","v":25.45},{"$f":"OFFSET(Data!AM10,Offsets!$A$33,Offsets!$A$31)","v":31.22},null,"110-115",{"$f":"SUM(X$43/SUM($C$43:$Y$43))","v":0}]
[null,"06:00:00",{"$f":"OFFSET(Data!O11,Offsets!$A$33,Offsets!$A$31)","v":0},{"$f":"OFFSET(Data!P11,Offsets!$A$33,Offsets!$A$31)","v":0},{"$f":"OFFSET(Data!Q11,Offsets!$A$33,Offsets!$A$31)","v":1.2857142857142858},{"$f":"OFFSET(Data!R11,Offsets!$A$33,Offsets!$A$31)","v":2.8571428571428572},{"$f":"OFFSET(Data!S11,Offsets!$A$33,Offsets!$A$31)","v":3.4285714285714284},{"$f":"OFFSET(Data!T11,Offsets!$A$33,Offsets!$A$31)","v":1.4285714285714286},{"$f":"OFFSET(Data!U11,Offsets!$A$33,Offsets!$A$31)","v":0.8571428571428571},{"$f":"OFFSET(Data!V11,Offsets!$A$33,Offsets!$A$31)","v":0},{"$f":"OFFSET(Data!W11,Offsets!$A$33,Offsets!$A$31)","v":0},{"$f":"OFFSET(Data!X11,Offsets!$A$33,Offsets!$A$31)","v":0},{"$f":"OFFSET(Data!Y11,Offsets!$A$33,Offsets!$A$31)","v":0},{"$f":"OFFSET(Data!Z11,Offsets!$A$33,Offsets!$A$31)","v":0},{"$f":"OFFSET(Data!AA11,Offsets!$A$33,Offsets!$A$31)","v":0},{"$f":"OFFSET(Data!AB11,Offsets!$A$33,Offsets!$A$31)","v":0},{"$f":"OFFSET(Data!AC11,Offsets!$A$33,Offsets!$A$31)","v":0},{"$f":"OFFSET(Data!AD11,Offsets!$A$33,Offsets!$A$31)","v":0},{"$f":"OFFSET(Data!AE11,Offsets!$A$33,Offsets!$A$31)","v":0},{"$f":"OFFSET(Data!AF11,Offsets!$A$33,Offsets!$A$31)","v":0},{"$f":"OFFSET(Data!AG11,Offsets!$A$33,Offsets!$A$31)","v":0},{"$f":"OFFSET(Data!AH11,Offsets!$A$33,Offsets!$A$31)","v":0},{"$f":"OFFSET(Data!AI11,Offsets!$A$33,Offsets!$A$31)","v":0},{"$f":"OFFSET(Data!AJ11,Offsets!$A$33,Offsets!$A$31)","v":0},{"$f":"OFFSET(Data!AK11,Offsets!$A$33,Offsets!$A$31)","v":0},{"$f":"OFFSET(Data!AL11,Offsets!$A$33,Offsets!$A$31)","v":26.17},{"$f":"OFFSET(Data!AM11,Offsets!$A$33,Offsets!$A$31)","v":32.130000000000003},null,"115+",{"$f":"SUM(Y$43/SUM($C$43:$Y$43))","v":0}]
[null,"07:00:00",{"$f":"OFFSET(Data!O12,Offsets!$A$33,Offsets!$A$31)","v":0.14285714285714285},{"$f":"OFFSET(Data!P12,Offsets!$A$33,Offsets!$A$31)","v":0.8571428571428571},{"$f":"OFFSET(Data!Q12,Offsets!$A$33,Offsets!$A$31)","v":4.2857142857142856},{"$f":"OFFSET(Data!R12,Offsets!$A$33,Offsets!$A$31)","v":16.428571428571427},{"$f":"OFFSET(Data!S12,Offsets!$A$33,Offsets!$A$31)","v":20.142857142857142},{"$f":"OFFSET(Data!T12,Offsets!$A$33,Offsets!$A$31)","v":4.5714285714285712},{"$f":"OFFSET(Data!U12,Offsets!$A$33,Offsets!$A$31)","v":0.42857142857142855},{"$f":"OFFSET(Data!V12,Offsets!$A$33,Offsets!$A$31)","v":0},{"$f":"OFFSET(Data!W12,Offsets!$A$33,Offsets!$A$31)","v":0},{"$f":"OFFSET(Data!X12,Offsets!$A$33,Offsets!$A$31)","v":0},{"$f":"OFFSET(Data!Y12,Offsets!$A$33,Offsets!$A$31)","v":0},{"$f":"OFFSET(Data!Z12,Offsets!$A$33,Offsets!$A$31)","v":0},{"$f":"OFFSET(Data!AA12,Offsets!$A$33,Offsets!$A$31)","v":0},{"$f":"OFFSET(Data!AB12,Offsets!$A$33,Offsets!$A$31)","v":0},{"$f":"OFFSET(Data!AC12,Offsets!$A$33,Offsets!$A$31)","v":0},{"$f":"OFFSET(Data!AD12,Offsets!$A$33,Offsets!$A$31)","v":0},{"$f":"OFFSET(Data!AE12,Offsets!$A$33,Offsets!$A$31)","v":0},{"$f":"OFFSET(Data!AF12,Offsets!$A$33,Offsets!$A$31)","v":0},{"$f":"OFFSET(Data!AG12,Offsets!$A$33,Offsets!$A$31)","v":0},{"$f":"OFFSET(Data!AH12,Offsets!$A$33,Offsets!$A$31)","v":0},{"$f":"OFFSET(Data!AI12,Offsets!$A$33,Offsets!$A$31)","v":0},{"$f":"OFFSET(Data!AJ12,Offsets!$A$33,Offsets!$A$31)","v":0},{"$f":"OFFSET(Data!AK12,Offsets!$A$33,Offsets!$A$31)","v":0},{"$f":"OFFSET(Data!AL12,Offsets!$A$33,Offsets!$A$31)","v":25.05},{"$f":"OFFSET(Data!AM12,Offsets!$A$33,Offsets!$A$31)","v":29.41}]
[null,"08:00:00",{"$f":"OFFSET(Data!O13,Offsets!$A$33,Offsets!$A$31)","v":0},{"$f":"OFFSET(Data!P13,Offsets!$A$33,Offsets!$A$31)","v":1.5714285714285714},{"$f":"OFFSET(Data!Q13,Offsets!$A$33,Offsets!$A$31)","v":17.714285714285715},{"$f":"OFFSET(Data!R13,Offsets!$A$33,Offsets!$A$31)","v":38.285714285714285},{"$f":"OFFSET(Data!S13,Offsets!$A$33,Offsets!$A$31)","v":31},{"$f":"OFFSET(Data!T13,Offsets!$A$33,Offsets!$A$31)","v":3.7142857142857144},{"$f":"OFFSET(Data!U13,Offsets!$A$33,Offsets!$A$31)","v":0.14285714285714285},{"$f":"OFFSET(Data!V13,Offsets!$A$33,Offsets!$A$31)","v":0},{"$f":"OFFSET(Data!W13,Offsets!$A$33,Offsets!$A$31)","v":0},{"$f":"OFFSET(Data!X13,Offsets!$A$33,Offsets!$A$31)","v":0.42857142857142855},{"$f":"OFFSET(Data!Y13,Offsets!$A$33,Offsets!$A$31)","v":0},{"$f":"OFFSET(Data!Z13,Offsets!$A$33,Offsets!$A$31)","v":0},{"$f":"OFFSET(Data!AA13,Offsets!$A$33,Offsets!$A$31)","v":0},{"$f":"OFFSET(Data!AB13,Offsets!$A$33,Offsets!$A$31)","v":0},{"$f":"OFFSET(Data!AC13,Offsets!$A$33,Offsets!$A$31)","v":0},{"$f":"OFFSET(Data!AD13,Offsets!$A$33,Offsets!$A$31)","v":0},{"$f":"OFFSET(Data!AE13,Offsets!$A$33,Offsets!$A$31)","v":0},{"$f":"OFFSET(Data!AF13,Offsets!$A$33,Offsets!$A$31)","v":0},{"$f":"OFFSET(Data!AG13,Offsets!$A$33,Offsets!$A$31)","v":0},{"$f":"OFFSET(Data!AH13,Offsets!$A$33,Offsets!$A$31)","v":0},{"$f":"OFFSET(Data!AI13,Offsets!$A$33,Offsets!$A$31)","v":0},{"$f":"OFFSET(Data!AJ13,Offsets!$A$33,Offsets!$A$31)","v":0},{"$f":"OFFSET(Data!AK13,Offsets!$A$33,Offsets!$A$31)","v":0},{"$f":"OFFSET(Data!AL13,Offsets!$A$33,Offsets!$A$31)","v":23.6},{"$f":"OFFSET(Data!AM13,Offsets!$A$33,Offsets!$A$31)","v":27.39}]
[null,"09:00:00",{"$f":"OFFSET(Data!O14,Offsets!$A$33,Offsets!$A$31)","v":1.5714285714285714},{"$f":"OFFSET(Data!P14,Offsets!$A$33,Offsets!$A$31)","v":7.5714285714285712},{"$f":"OFFSET(Data!Q14,Offsets!$A$33,Offsets!$A$31)","v":27.428571428571427},{"$f":"OFFSET(Data!R14,Offsets!$A$33,Offsets!$A$31)","v":55.571428571428569},{"$f":"OFFSET(Data!S14,Offsets!$A$33,Offsets!$A$31)","v":19.428571428571427},{"$f":"OFFSET(Data!T14,Offsets!$A$33,Offsets!$A$31)","v":2.2857142857142856},{"$f":"OFFSET(Data!U14,Offsets!$A$33,Offsets!$A$31)","v":0.42857142857142855},{"$f":"OFFSET(Data!V14,Offsets!$A$33,Offsets!$A$31)","v":0},{"$f":"OFFSET(Data!W14,Offsets!$A$33,Offsets!$A$31)","v":0},{"$f":"OFFSET(Data!X14,Offsets!$A$33,Offsets!$A$31)","v":0},{"$f":"OFFSET(Data!Y14,Offsets!$A$33,Offsets!$A$31)","v":0},{"$f":"OFFSET(Data!Z14,Offsets!$A$33,Offsets!$A$31)","v":0},{"$f":"OFFSET(Data!AA14,Offsets!$A$33,Offsets!$A$31)","v":0},{"$f":"OFFSET(Data!AB14,Offsets!$A$33,Offsets!$A$31)","v":0},{"$f":"OFFSET(Data!AC14,Offsets!$A$33,Offsets!$A$31)","v":0},{"$f":"OFFSET(Data!AD14,Offsets!$A$33,Offsets!$A$31)","v":0},{"$f":"OFFSET(Data!AE14,Offsets!$A$33,Offsets!$A$31)","v":0},{"$f":"OFFSET(Data!AF14,Offsets!$A$33,Offsets!$A$31)","v":0},{"$f":"OFFSET(Data!AG14,Offsets!$A$33,Offsets!$A$31)","v":0},{"$f":"OFFSET(Data!AH14,Offsets!$A$33,Offsets!$A$31)","v":0},{"$f":"OFFSET(Data!AI14,Offsets!$A$33,Offsets!$A$31)","v":0},{"$f":"OFFSET(Data!AJ14,Offsets!$A$33,Offsets!$A$31)","v":0},{"$f":"OFFSET(Data!AK14,Offsets!$A$33,Offsets!$A$31)","v":0},{"$f":"OFFSET(Data!AL14,Offsets!$A$33,Offsets!$A$31)","v":21.47},{"$f":"OFFSET(Data!AM14,Offsets!$A$33,Offsets!$A$31)","v":25.61}]
[null,"10:00:00",{"$f":"OFFSET(Data!O15,Offsets!$A$33,Offsets!$A$31)","v":3.1428571428571428},{"$f":"OFFSET(Data!P15,Offsets!$A$33,Offsets!$A$31)","v":19.571428571428573},{"$f":"OFFSET(Data!Q15,Offsets!$A$33,Offsets!$A$31)","v":37.285714285714285},{"$f":"OFFSET(Data!R15,Offsets!$A$33,Offsets!$A$31)","v":47.428571428571431},{"$f":"OFFSET(Data!S15,Offsets!$A$33,Offsets!$A$31)","v":11},{"$f":"OFFSET(Data!T15,Offsets!$A$33,Offsets!$A$31)","v":2},{"$f":"OFFSET(Data!U15,Offsets!$A$33,Offsets!$A$31)","v":0},{"$f":"OFFSET(Data!V15,Offsets!$A$33,Offsets!$A$31)","v":0},{"$f":"OFFSET(Data!W15,Offsets!$A$33,Offsets!$A$31)","v":0},{"$f":"OFFSET(Data!X15,Offsets!$A$33,Offsets!$A$31)","v":0},{"$f":"OFFSET(Data!Y15,Offsets!$A$33,Offsets!$A$31)","v":0},{"$f":"OFFSET(Data!Z15,Offsets!$A$33,Offsets!$A$31)","v":0},{"$f":"OFFSET(Data!AA15,Offsets!$A$33,Offsets!$A$31)","v":0},{"$f":"OFFSET(Data!AB15,Offsets!$A$33,Offsets!$A$31)","v":0},{"$f":"OFFSET(Data!AC15,Offsets!$A$33,Offsets!$A$31)","v":0},{"$f":"OFFSET(Data!AD15,Offsets!$A$33,Offsets!$A$31)","v":0},{"$f":"OFFSET(Data!AE15,Offsets!$A$33,Offsets!$A$31)","v":0},{"$f":"OFFSET(Data!AF15,Offsets!$A$33,Offsets!$A$31)","v":0},{"$f":"OFFSET(Data!AG15,Offsets!$A$33,Offsets!$A$31)","v":0},{"$f":"OFFSET(Data!AH15,Offsets!$A$33,Offsets!$A$31)","v":0},{"$f":"OFFSET(Data!AI15,Offsets!$A$33,Offsets!$A$31)","v":0},{"$f":"OFFSET(Data!AJ15,Offsets!$A$33,Offsets!$A$31)","v":0},{"$f":"OFFSET(Data!AK15,Offsets!$A$33,Offsets!$A$31)","v":0},{"$f":"OFFSET(Data!AL15,Offsets!$A$33,Offsets!$A$31)","v":19.57},{"$f":"OFFSET(Data!AM15,Offsets!$A$33,Offsets!$A$31)","v":24.29}]
[null,"11:00:00",{"$f":"OFFSET(Data!O16,Offsets!$A$33,Offsets!$A$31)","v":2.1428571428571428},{"$f":"OFFSET(Data!P16,Offsets!$A$33,Offsets!$A$31)","v":18},{"$f":"OFFSET(Data!Q16,Offsets!$A$33,Offsets!$A$31)","v":40.714285714285715},{"$f":"OFFSET(Data!R16,Offsets!$A$33,Offsets!$A$31)","v":41.285714285714285},{"$f":"OFFSET(Data!S16,Offsets!$A$33,Offsets!$A$31)","v":12.142857142857142},{"$f":"OFFSET(Data!T16,Offsets!$A$33,Offsets!$A$31)","v":0.5714285714285714},{"$f":"OFFSET(Data!U16,Offsets!$A$33,Offsets!$A$31)","v":0},{"$f":"OFFSET(Data!V16,Offsets!$A$33,Offsets!$A$31)","v":0},{"$f":"OFFSET(Data!W16,Offsets!$A$33,Offsets!$A$31)","v":0},{"$f":"OFFSET(Data!X16,Offsets!$A$33,Offsets!$A$31)","v":0},{"$f":"OFFSET(Data!Y16,Offsets!$A$33,Offsets!$A$31)","v":0},{"$f":"OFFSET(Data!Z16,Offsets!$A$33,Offsets!$A$31)","v":0},{"$f":"OFFSET(Data!AA16,Offsets!$A$33,Offsets!$A$31)","v":0},{"$f":"OFFSET(Data!AB16,Offsets!$A$33,Offsets!$A$31)","v":0},{"$f":"OFFSET(Data!AC16,Offsets!$A$33,Offsets!$A$31)","v":0},{"$f":"OFFSET(Data!AD16,Offsets!$A$33,Offsets!$A$31)","v":0},{"$f":"OFFSET(Data!AE16,Offsets!$A$33,Offsets!$A$31)","v":0},{"$f":"OFFSET(Data!AF16,Offsets!$A$33,Offsets!$A$31)","v":0},{"$f":"OFFSET(Data!AG16,Offsets!$A$33,Offsets!$A$31)","v":0},{"$f":"OFFSET(Data!AH16,Offsets!$A$33,Offsets!$A$31)","v":0},{"$f":"OFFSET(Data!AI16,Offsets!$A$33,Offsets!$A$31)","v":0},{"$f":"OFFSET(Data!AJ16,Offsets!$A$33,Offsets!$A$31)","v":0},{"$f":"OFFSET(Data!AK16,Offsets!$A$33,Offsets!$A$31)","v":0},{"$f":"OFFSET(Data!AL16,Offsets!$A$33,Offsets!$A$31)","v":19.329999999999998},{"$f":"OFFSET(Data!AM16,Offsets!$A$33,Offsets!$A$31)","v":24.08}]
[null,"12:00:00",{"$f":"OFFSET(Data!O17,Offsets!$A$33,Offsets!$A$31)","v":0.2857142857142857},{"$f":"OFFSET(Data!P17,Offsets!$A$33,Offsets!$A$31)","v":11.857142857142858},{"$f":"OFFSET(Data!Q17,Offsets!$A$33,Offsets!$A$31)","v":36},{"$f":"OFFSET(Data!R17,Offsets!$A$33,Offsets!$A$31)","v":51.857142857142854},{"$f":"OFFSET(Data!S17,Offsets!$A$33,Offsets!$A$31)","v":14.857142857142858},{"$f":"OFFSET(Data!T17,Offsets!$A$33,Offsets!$A$31)","v":2},{"$f":"OFFSET(Data!U17,Offsets!$A$33,Offsets!$A$31)","v":0.14285714285714285},{"$f":"OFFSET(Data!V17,Offsets!$A$33,Offsets!$A$31)","v":0},{"$f":"OFFSET(Data!W17,Offsets!$A$33,Offsets!$A$31)","v":0},{"$f":"OFFSET(Data!X17,Offsets!$A$33,Offsets!$A$31)","v":0},{"$f":"OFFSET(Data!Y17,Offsets!$A$33,Offsets!$A$31)","v":0},{"$f":"OFFSET(Data!Z17,Offsets!$A$33,Offsets!$A$31)","v":0},{"$f":"OFFSET(Data!AA17,Offsets!$A$33,Offsets!$A$31)","v":0},{"$f":"OFFSET(Data!AB17,Offsets!$A$33,Offsets!$A$31)","v":0},{"$f":"OFFSET(Data!AC17,Offsets!$A$33,Offsets!$A$31)","v":0},{"$f":"OFFSET(Data!AD17,Offsets!$A$33,Offsets!$A$31)","v":0},{"$f":"OFFSET(Data!AE17,Offsets!$A$33,Offsets!$A$31)","v":0},{"$f":"OFFSET(Data!AF17,Offsets!$A$33,Offsets!$A$31)","v":0},{"$f":"OFFSET(Data!AG17,Offsets!$A$33,Offsets!$A$31)","v":0},{"$f":"OFFSET(Data!AH17,Offsets!$A$33,Offsets!$A$31)","v":0},{"$f":"OFFSET(Data!AI17,Offsets!$A$33,Offsets!$A$31)","v":0},{"$f":"OFFSET(Data!AJ17,Offsets!$A$33,Offsets!$A$31)","v":0},{"$f":"OFFSET(Data!AK17,Offsets!$A$33,Offsets!$A$31)","v":0},{"$f":"OFFSET(Data!AL17,Offsets!$A$33,Offsets!$A$31)","v":20.76},{"$f":"OFFSET(Data!AM17,Offsets!$A$33,Offsets!$A$31)","v":24.87}]
[null,"13:00:00",{"$f":"OFFSET(Data!O18,Offsets!$A$33,Offsets!$A$31)","v":1},{"$f":"OFFSET(Data!P18,Offsets!$A$33,Offsets!$A$31)","v":10.428571428571429},{"$f":"OFFSET(Data!Q18,Offsets!$A$33,Offsets!$A$31)","v":30.142857142857142},{"$f":"OFFSET(Data!R18,Offsets!$A$33,Offsets!$A$31)","v":42.571428571428569},{"$f":"OFFSET(Data!S18,Offsets!$A$33,Offsets!$A$31)","v":13.714285714285714},{"$f":"OFFSET(Data!T18,Offsets!$A$33,Offsets!$A$31)","v":1.1428571428571428},{"$f":"OFFSET(Data!U18,Offsets!$A$33,Offsets!$A$31)","v":0.2857142857142857},{"$f":"OFFSET(Data!V18,Offsets!$A$33,Offsets!$A$31)","v":0},{"$f":"OFFSET(Data!W18,Offsets!$A$33,Offsets!$A$31)","v":0},{"$f":"OFFSET(Data!X18,Offsets!$A$33,Offsets!$A$31)","v":0},{"$f":"OFFSET(Data!Y18,Offsets!$A$33,Offsets!$A$31)","v":0},{"$f":"OFFSET(Data!Z18,Offsets!$A$33,Offsets!$A$31)","v":0},{"$f":"OFFSET(Data!AA18,Offsets!$A$33,Offsets!$A$31)","v":0},{"$f":"OFFSET(Data!AB18,Offsets!$A$33,Offsets!$A$31)","v":0},{"$f":"OFFSET(Data!AC18,Offsets!$A$33,Offsets!$A$31)","v":0},{"$f":"OFFSET(Data!AD18,Offsets!$A$33,Offsets!$A$31)","v":0},{"$f":"OFFSET(Data!AE18,Offsets!$A$33,Offsets!$A$31)","v":0},{"$f":"OFFSET(Data!AF18,Offsets!$A$33,Offsets!$A$31)","v":0},{"$f":"OFFSET(Data!AG18,Offsets!$A$33,Offsets!$A$31)","v":0},{"$f":"OFFSET(Data!AH18,Offsets!$A$33,Offsets!$A$31)","v":0},{"$f":"OFFSET(Data!AI18,Offsets!$A$33,Offsets!$A$31)","v":0},{"$f":"OFFSET(Data!AJ18,Offsets!$A$33,Offsets!$A$31)","v":0},{"$f":"OFFSET(Data!AK18,Offsets!$A$33,Offsets!$A$31)","v":0},{"$f":"OFFSET(Data!AL18,Offsets!$A$33,Offsets!$A$31)","v":20.7},{"$f":"OFFSET(Data!AM18,Offsets!$A$33,Offsets!$A$31)","v":25.05}]
[null,"14:00:00",{"$f":"OFFSET(Data!O19,Offsets!$A$33,Offsets!$A$31)","v":1.4285714285714286},{"$f":"OFFSET(Data!P19,Offsets!$A$33,Offsets!$A$31)","v":7.1428571428571432},{"$f":"OFFSET(Data!Q19,Offsets!$A$33,Offsets!$A$31)","v":25.857142857142858},{"$f":"OFFSET(Data!R19,Offsets!$A$33,Offsets!$A$31)","v":49.428571428571431},{"$f":"OFFSET(Data!S19,Offsets!$A$33,Offsets!$A$31)","v":16.428571428571427},{"$f":"OFFSET(Data!T19,Offsets!$A$33,Offsets!$A$31)","v":1.5714285714285714},{"$f":"OFFSET(Data!U19,Offsets!$A$33,Offsets!$A$31)","v":0.2857142857142857},{"$f":"OFFSET(Data!V19,Offsets!$A$33,Offsets!$A$31)","v":0},{"$f":"OFFSET(Data!W19,Offsets!$A$33,Offsets!$A$31)","v":0},{"$f":"OFFSET(Data!X19,Offsets!$A$33,Offsets!$A$31)","v":0},{"$f":"OFFSET(Data!Y19,Offsets!$A$33,Offsets!$A$31)","v":0},{"$f":"OFFSET(Data!Z19,Offsets!$A$33,Offsets!$A$31)","v":0},{"$f":"OFFSET(Data!AA19,Offsets!$A$33,Offsets!$A$31)","v":0},{"$f":"OFFSET(Data!AB19,Offsets!$A$33,Offsets!$A$31)","v":0},{"$f":"OFFSET(Data!AC19,Offsets!$A$33,Offsets!$A$31)","v":0},{"$f":"OFFSET(Data!AD19,Offsets!$A$33,Offsets!$A$31)","v":0},{"$f":"OFFSET(Data!AE19,Offsets!$A$33,Offsets!$A$31)","v":0},{"$f":"OFFSET(Data!AF19,Offsets!$A$33,Offsets!$A$31)","v":0},{"$f":"OFFSET(Data!AG19,Offsets!$A$33,Offsets!$A$31)","v":0},{"$f":"OFFSET(Data!AH19,Offsets!$A$33,Offsets!$A$31)","v":0},{"$f":"OFFSET(Data!AI19,Offsets!$A$33,Offsets!$A$31)","v":0},{"$f":"OFFSET(Data!AJ19,Offsets!$A$33,Offsets!$A$31)","v":0},{"$f":"OFFSET(Data!AK19,Offsets!$A$33,Offsets!$A$31)","v":0},{"$f":"OFFSET(Data!AL19,Offsets!$A$33,Offsets!$A$31)","v":21.37},{"$f":"OFFSET(Data!AM19,Offsets!$A$33,Offsets!$A$31)","v":25.56}]
[null,"15:00:00",{"$f":"OFFSET(Data!O20,Offsets!$A$33,Offsets!$A$31)","v":0.5714285714285714},{"$f":"OFFSET(Data!P20,Offsets!$A$33,Offsets!$A$31)","v":6.2857142857142856},{"$f":"OFFSET(Data!Q20,Offsets!$A$33,Offsets!$A$31)","v":31.142857142857142},{"$f":"OFFSET(Data!R20,Offsets!$A$33,Offsets!$A$31)","v":64.571428571428569},{"$f":"OFFSET(Data!S20,Offsets!$A$33,Offsets!$A$31)","v":23.285714285714285},{"$f":"OFFSET(Data!T20,Offsets!$A$33,Offsets!$A$31)","v":3},{"$f":"OFFSET(Data!U20,Offsets!$A$33,Offsets!$A$31)","v":0.14285714285714285},{"$f":"OFFSET(Data!V20,Offsets!$A$33,Offsets!$A$31)","v":0},{"$f":"OFFSET(Data!W20,Offsets!$A$33,Offsets!$A$31)","v":0},{"$f":"OFFSET(Data!X20,Offsets!$A$33,Offsets!$A$31)","v":0},{"$f":"OFFSET(Data!Y20,Offsets!$A$33,Offsets!$A$31)","v":0},{"$f":"OFFSET(Data!Z20,Offsets!$A$33,Offsets!$A$31)","v":0},{"$f":"OFFSET(Data!AA20,Offsets!$A$33,Offsets!$A$31)","v":0},{"$f":"OFFSET(Data!AB20,Offsets!$A$33,Offsets!$A$31)","v":0},{"$f":"OFFSET(Data!AC20,Offsets!$A$33,Offsets!$A$31)","v":0},{"$f":"OFFSET(Data!AD20,Offsets!$A$33,Offsets!$A$31)","v":0},{"$f":"OFFSET(Data!AE20,Offsets!$A$33,Offsets!$A$31)","v":0},{"$f":"OFFSET(Data!AF20,Offsets!$A$33,Offsets!$A$31)","v":0},{"$f":"OFFSET(Data!AG20,Offsets!$A$33,Offsets!$A$31)","v":0},{"$f":"OFFSET(Data!AH20,Offsets!$A$33,Offsets!$A$31)","v":0},{"$f":"OFFSET(Data!AI20,Offsets!$A$33,Offsets!$A$31)","v":0},{"$f":"OFFSET(Data!AJ20,Offsets!$A$33,Offsets!$A$31)","v":0},{"$f":"OFFSET(Data!AK20,Offsets!$A$33,Offsets!$A$31)","v":0},{"$f":"OFFSET(Data!AL20,Offsets!$A$33,Offsets!$A$31)","v":21.93},{"$f":"OFFSET(Data!AM20,Offsets!$A$33,Offsets!$A$31)","v":25.91}]
[null,"16:00:00",{"$f":"OFFSET(Data!O21,Offsets!$A$33,Offsets!$A$31)","v":0.8571428571428571},{"$f":"OFFSET(Data!P21,Offsets!$A$33,Offsets!$A$31)","v":4.5714285714285712},{"$f":"OFFSET(Data!Q21,Offsets!$A$33,Offsets!$A$31)","v":32.285714285714285},{"$f":"OFFSET(Data!R21,Offsets!$A$33,Offsets!$A$31)","v":66.142857142857139},{"$f":"OFFSET(Data!S21,Offsets!$A$33,Offsets!$A$31)","v":28.714285714285715},{"$f":"OFFSET(Data!T21,Offsets!$A$33,Offsets!$A$31)","v":5.2857142857142856},{"$f":"OFFSET(Data!U21,Offsets!$A$33,Offsets!$A$31)","v":0.2857142857142857},{"$f":"OFFSET(Data!V21,Offsets!$A$33,Offsets!$A$31)","v":0},{"$f":"OFFSET(Data!W21,Offsets!$A$33,Offsets!$A$31)","v":0},{"$f":"OFFSET(Data!X21,Offsets!$A$33,Offsets!$A$31)","v":0},{"$f":"OFFSET(Data!Y21,Offsets!$A$33,Offsets!$A$31)","v":0},{"$f":"OFFSET(Data!Z21,Offsets!$A$33,Offsets!$A$31)","v":0},{"$f":"OFFSET(Data!AA21,Offsets!$A$33,Offsets!$A$31)","v":0},{"$f":"OFFSET(Data!AB21,Offsets!$A$33,Offsets!$A$31)","v":0},{"$f":"OFFSET(Data!AC21,Offsets!$A$33,Offsets!$A$31)","v":0},{"$f":"OFFSET(Data!AD21,Offsets!$A$33,Offsets!$A$31)","v":0},{"$f":"OFFSET(Data!AE21,Offsets!$A$33,Offsets!$A$31)","v":0},{"$f":"OFFSET(Data!AF21,Offsets!$A$33,Offsets!$A$31)","v":0},{"$f":"OFFSET(Data!AG21,Offsets!$A$33,Offsets!$A$31)","v":0},{"$f":"OFFSET(Data!AH21,Offsets!$A$33,Offsets!$A$31)","v":0},{"$f":"OFFSET(Data!AI21,Offsets!$A$33,Offsets!$A$31)","v":0},{"$f":"OFFSET(Data!AJ21,Offsets!$A$33,Offsets!$A$31)","v":0},{"$f":"OFFSET(Data!AK21,Offsets!$A$33,Offsets!$A$31)","v":0},{"$f":"OFFSET(Data!AL21,Offsets!$A$33,Offsets!$A$31)","v":22.32},{"$f":"OFFSET(Data!AM21,Offsets!$A$33,Offsets!$A$31)","v":26.11}]
[null,"17:00:00",{"$f":"OFFSET(Data!O22,Offsets!$A$33,Offsets!$A$31)","v":0.8571428571428571},{"$f":"OFFSET(Data!P22,Offsets!$A$33,Offsets!$A$31)","v":6},{"$f":"OFFSET(Data!Q22,Offsets!$A$33,Offsets!$A$31)","v":26.571428571428573},{"$f":"OFFSET(Data!R22,Offsets!$A$33,Offsets!$A$31)","v":60.428571428571431},{"$f":"OFFSET(Data!S22,Offsets!$A$33,Offsets!$A$31)","v":46.571428571428569},{"$f":"OFFSET(Data!T22,Offsets!$A$33,Offsets!$A$31)","v":7.7142857142857144},{"$f":"OFFSET(Data!U22,Offsets!$A$33,Offsets!$A$31)","v":1.2857142857142858},{"$f":"OFFSET(Data!V22,Offsets!$A$33,Offsets!$A$31)","v":0.42857142857142855},{"$f":"OFFSET(Data!W22,Offsets!$A$33,Offsets!$A$31)","v":0},{"$f":"OFFSET(Data!X22,Offsets!$A$33,Offsets!$A$31)","v":0},{"$f":"OFFSET(Data!Y22,Offsets!$A$33,Offsets!$A$31)","v":0},{"$f":"OFFSET(Data!Z22,Offsets!$A$33,Offsets!$A$31)","v":0},{"$f":"OFFSET(Data!AA22,Offsets!$A$33,Offsets!$A$31)","v":0},{"$f":"OFFSET(Data!AB22,Offsets!$A$33,Offsets!$A$31)","v":0},{"$f":"OFFSET(Data!AC22,Offsets!$A$33,Offsets!$A$31)","v":0},{"$f":"OFFSET(Data!AD22,Offsets!$A$33,Offsets!$A$31)","v":0},{"$f":"OFFSET(Data!AE22,Offsets!$A$33,Offsets!$A$31)","v":0},{"$f":"OFFSET(Data!AF22,Offsets!$A$33,Offsets!$A$31)","v":0},{"$f":"OFFSET(Data!AG22,Offsets!$A$33,Offsets!$A$31)","v":0},{"$f":"OFFSET(Data!AH22,Offsets!$A$33,Offsets!$A$31)","v":0},{"$f":"OFFSET(Data!AI22,Offsets!$A$33,Offsets!$A$31)","v":0},{"$f":"OFFSET(Data!AJ22,Offsets!$A$33,Offsets!$A$31)","v":0},{"$f":"OFFSET(Data!AK22,Offsets!$A$33,Offsets!$A$31)","v":0},{"$f":"OFFSET(Data!AL22,Offsets!$A$33,Offsets!$A$31)","v":23.31},{"$f":"OFFSET(Data!AM22,Offsets!$A$33,Offsets!$A$31)","v":27.43}]
[null,"18:00:00",{"$f":"OFFSET(Data!O23,Offsets!$A$33,Offsets!$A$31)","v":1.2857142857142858},{"$f":"OFFSET(Data!P23,Offsets!$A$33,Offsets!$A$31)","v":3.4285714285714284},{"$f":"OFFSET(Data!Q23,Offsets!$A$33,Offsets!$A$31)","v":18},{"$f":"OFFSET(Data!R23,Offsets!$A$33,Offsets!$A$31)","v":45.142857142857146},{"$f":"OFFSET(Data!S23,Offsets!$A$33,Offsets!$A$31)","v":33.428571428571431},{"$f":"OFFSET(Data!T23,Offsets!$A$33,Offsets!$A$31)","v":6.2857142857142856},{"$f":"OFFSET(Data!U23,Offsets!$A$33,Offsets!$A$31)","v":0.8571428571428571},{"$f":"OFFSET(Data!V23,Offsets!$A$33,Offsets!$A$31)","v":0},{"$f":"OFFSET(Data!W23,Offsets!$A$33,Offsets!$A$31)","v":0.14285714285714285},{"$f":"OFFSET(Data!X23,Offsets!$A$33,Offsets!$A$31)","v":0},{"$f":"OFFSET(Data!Y23,Offsets!$A$33,Offsets!$A$31)","v":0},{"$f":"OFFSET(Data!Z23,Offsets!$A$33,Offsets!$A$31)","v":0},{"$f":"OFFSET(Data!AA23,Offsets!$A$33,Offsets!$A$31)","v":0},{"$f":"OFFSET(Data!AB23,Offsets!$A$33,Offsets!$A$31)","v":0},{"$f":"OFFSET(Data!AC23,Offsets!$A$33,Offsets!$A$31)","v":0},{"$f":"OFFSET(Data!AD23,Offsets!$A$33,Offsets!$A$31)","v":0},{"$f":"OFFSET(Data!AE23,Offsets!$A$33,Offsets!$A$31)","v":0},{"$f":"OFFSET(Data!AF23,Offsets!$A$33,Offsets!$A$31)","v":0},{"$f":"OFFSET(Data!AG23,Offsets!$A$33,Offsets!$A$31)","v":0},{"$f":"OFFSET(Data!AH23,Offsets!$A$33,Offsets!$A$31)","v":0},{"$f":"OFFSET(Data!AI23,Offsets!$A$33,Offsets!$A$31)","v":0},{"$f":"OFFSET(Data!AJ23,Offsets!$A$33,Offsets!$A$31)","v":0},{"$f":"OFFSET(Data!AK23,Offsets!$A$33,Offsets!$A$31)","v":0},{"$f":"OFFSET(Data!AL23,Offsets!$A$33,Offsets!$A$31)","v":23.58},{"$f":"OFFSET(Data!AM23,Offsets!$A$33,Offsets!$A$31)","v":27.95}]
[null,"19:00:00",{"$f":"OFFSET(Data!O24,Offsets!$A$33,Offsets!$A$31)","v":0.42857142857142855},{"$f":"OFFSET(Data!P24,Offsets!$A$33,Offsets!$A$31)","v":2.7142857142857144},{"$f":"OFFSET(Data!Q24,Offsets!$A$33,Offsets!$A$31)","v":7.1428571428571432},{"$f":"OFFSET(Data!R24,Offsets!$A$33,Offsets!$A$31)","v":27},{"$f":"OFFSET(Data!S24,Offsets!$A$33,Offsets!$A$31)","v":26.142857142857142},{"$f":"OFFSET(Data!T24,Offsets!$A$33,Offsets!$A$31)","v":5.7142857142857144},{"$f":"OFFSET(Data!U24,Offsets!$A$33,Offsets!$A$31)","v":0.7142857142857143},{"$f":"OFFSET(Data!V24,Offsets!$A$33,Offsets!$A$31)","v":0.14285714285714285},{"$f":"OFFSET(Data!W24,Offsets!$A$33,Offsets!$A$31)","v":0},{"$f":"OFFSET(Data!X24,Offsets!$A$33,Offsets!$A$31)","v":0},{"$f":"OFFSET(Data!Y24,Offsets!$A$33,Offsets!$A$31)","v":0},{"$f":"OFFSET(Data!Z24,Offsets!$A$33,Offsets!$A$31)","v":0},{"$f":"OFFSET(Data!AA24,Offsets!$A$33,Offsets!$A$31)","v":0},{"$f":"OFFSET(Data!AB24,Offsets!$A$33,Offsets!$A$31)","v":0},{"$f":"OFFSET(Data!AC24,Offsets!$A$33,Offsets!$A$31)","v":0},{"$f":"OFFSET(Data!AD24,Offsets!$A$33,Offsets!$A$31)","v":0},{"$f":"OFFSET(Data!AE24,Offsets!$A$33,Offsets!$A$31)","v":0},{"$f":"OFFSET(Data!AF24,Offsets!$A$33,Offsets!$A$31)","v":0},{"$f":"OFFSET(Data!AG24,Offsets!$A$33,Offsets!$A$31)","v":0},{"$f":"OFFSET(Data!AH24,Offsets!$A$33,Offsets!$A$31)","v":0},{"$f":"OFFSET(Data!AI24,Offsets!$A$33,Offsets!$A$31)","v":0},{"$f":"OFFSET(Data!AJ24,Offsets!$A$33,Offsets!$A$31)","v":0},{"$f":"OFFSET(Data!AK24,Offsets!$A$33,Offsets!$A$31)","v":0},{"$f":"OFFSET(Data!AL24,Offsets!$A$33,Offsets!$A$31)","v":24.38},{"$f":"OFFSET(Data!AM24,Offsets!$A$33,Offsets!$A$31)","v":28.81}]
[null,"20:00:00",{"$f":"OFFSET(Data!O25,Offsets!$A$33,Offsets!$A$31)","v":0.14285714285714285},{"$f":"OFFSET(Data!P25,Offsets!$A$33,Offsets!$A$31)","v":0.42857142857142855},{"$f":"OFFSET(Data!Q25,Offsets!$A$33,Offsets!$A$31)","v":2.7142857142857144},{"$f":"OFFSET(Data!R25,Offsets!$A$33,Offsets!$A$31)","v":15},{"$f":"OFFSET(Data!S25,Offsets!$A$33,Offsets!$A$31)","v":22.714285714285715},{"$f":"OFFSET(Data!T25,Offsets!$A$33,Offsets!$A$31)","v":6.5714285714285712},{"$f":"OFFSET(Data!U25,Offsets!$A$33,Offsets!$A$31)","v":0.5714285714285714},{"$f":"OFFSET(Data!V25,Offsets!$A$33,Offsets!$A$31)","v":0},{"$f":"OFFSET(Data!W25,Offsets!$A$33,Offsets!$A$31)","v":0},{"$f":"OFFSET(Data!X25,Offsets!$A$33,Offsets!$A$31)","v":0},{"$f":"OFFSET(Data!Y25,Offsets!$A$33,Offsets!$A$31)","v":0},{"$f":"OFFSET(Data!Z25,Offsets!$A$33,Offsets!$A$31)","v":0},{"$f":"OFFSET(Data!AA25,Offsets!$A$33,Offsets!$A$31)","v":0},{"$f":"OFFSET(Data!AB25,Offsets!$A$33,Offsets!$A$31)","v":0},{"$f":"OFFSET(Data!AC25,Offsets!$A$33,Offsets!$A$31)","v":0},{"$f":"OFFSET(Data!AD25,Offsets!$A$33,Offsets!$A$31)","v":0},{"$f":"OFFSET(Data!AE25,Offsets!$A$33,Offsets!$A$31)","v":0},{"$f":"OFFSET(Data!AF25,Offsets!$A$33,Offsets!$A$31)","v":0},{"$f":"OFFSET(Data!AG25,Offsets!$A$33,Offsets!$A$31)","v":0},{"$f":"OFFSET(Data!AH25,Offsets!$A$33,Offsets!$A$31)","v":0},{"$f":"OFFSET(Data!AI25,Offsets!$A$33,Offsets!$A$31)","v":0},{"$f":"OFFSET(Data!AJ25,Offsets!$A$33,Offsets!$A$31)","v":0},{"$f":"OFFSET(Data!AK25,Offsets!$A$33,Offsets!$A$31)","v":0},{"$f":"OFFSET(Data!AL25,Offsets!$A$33,Offsets!$A$31)","v":25.91},{"$f":"OFFSET(Data!AM25,Offsets!$A$33,Offsets!$A$31)","v":29.92}]
[null,"21:00:00",{"$f":"OFFSET(Data!O26,Offsets!$A$33,Offsets!$A$31)","v":0.14285714285714285},{"$f":"OFFSET(Data!P26,Offsets!$A$33,Offsets!$A$31)","v":0.2857142857142857},{"$f":"OFFSET(Data!Q26,Offsets!$A$33,Offsets!$A$31)","v":2.2857142857142856},{"$f":"OFFSET(Data!R26,Offsets!$A$33,Offsets!$A$31)","v":13.285714285714286},{"$f":"OFFSET(Data!S26,Offsets!$A$33,Offsets!$A$31)","v":13.285714285714286},{"$f":"OFFSET(Data!T26,Offsets!$A$33,Offsets!$A$31)","v":2.7142857142857144},{"$f":"OFFSET(Data!U26,Offsets!$A$33,Offsets!$A$31)","v":0.2857142857142857},{"$f":"OFFSET(Data!V26,Offsets!$A$33,Offsets!$A$31)","v":0.14285714285714285},{"$f":"OFFSET(Data!W26,Offsets!$A$33,Offsets!$A$31)","v":0.14285714285714285},{"$f":"OFFSET(Data!X26,Offsets!$A$33,Offsets!$A$31)","v":0},{"$f":"OFFSET(Data!Y26,Offsets!$A$33,Offsets!$A$31)","v":0},{"$f":"OFFSET(Data!Z26,Offsets!$A$33,Offsets!$A$31)","v":0},{"$f":"OFFSET(Data!AA26,Offsets!$A$33,Offsets!$A$31)","v":0},{"$f":"OFFSET(Data!AB26,Offsets!$A$33,Offsets!$A$31)","v":0},{"$f":"OFFSET(Data!AC26,Offsets!$A$33,Offsets!$A$31)","v":0},{"$f":"OFFSET(Data!AD26,Offsets!$A$33,Offsets!$A$31)","v":0},{"$f":"OFFSET(Data!AE26,Offsets!$A$33,Offsets!$A$31)","v":0},{"$f":"OFFSET(Data!AF26,Offsets!$A$33,Offsets!$A$31)","v":0},{"$f":"OFFSET(Data!AG26,Offsets!$A$33,Offsets!$A$31)","v":0},{"$f":"OFFSET(Data!AH26,Offsets!$A$33,Offsets!$A$31)","v":0},{"$f":"OFFSET(Data!AI26,Offsets!$A$33,Offsets!$A$31)","v":0},{"$f":"OFFSET(Data!AJ26,Offsets!$A$33,Offsets!$A$31)","v":0},{"$f":"OFFSET(Data!AK26,Offsets!$A$33,Offsets!$A$31)","v":0},{"$f":"OFFSET(Data!AL26,Offsets!$A$33,Offsets!$A$31)","v":25.26},{"$f":"OFFSET(Data!AM26,Offsets!$A$33,Offsets!$A$31)","v":28.91}]
[null,"22:00:00",{"$f":"OFFSET(Data!O27,Offsets!$A$33,Offsets!$A$31)","v":0},{"$f":"OFFSET(Data!P27,Offsets!$A$33,Offsets!$A$31)","v":0.2857142857142857},{"$f":"OFFSET(Data!Q27,Offsets!$A$33,Offsets!$A$31)","v":0.14285714285714285},{"$f":"OFFSET(Data!R27,Offsets!$A$33,Offsets!$A$31)","v":2.4285714285714284},{"$f":"OFFSET(Data!S27,Offsets!$A$33,Offsets!$A$31)","v":6.7142857142857144},{"$f":"OFFSET(Data!T27,Offsets!$A$33,Offsets!$A$31)","v":4.1428571428571432},{"$f":"OFFSET(Data!U27,Offsets!$A$33,Offsets!$A$31)","v":1},{"$f":"OFFSET(Data!V27,Offsets!$A$33,Offsets!$A$31)","v":0.14285714285714285},{"$f":"OFFSET(Data!W27,Offsets!$A$33,Offsets!$A$31)","v":0},{"$f":"OFFSET(Data!X27,Offsets!$A$33,Offsets!$A$31)","v":0},{"$f":"OFFSET(Data!Y27,Offsets!$A$33,Offsets!$A$31)","v":0},{"$f":"OFFSET(Data!Z27,Offsets!$A$33,Offsets!$A$31)","v":0},{"$f":"OFFSET(Data!AA27,Offsets!$A$33,Offsets!$A$31)","v":0},{"$f":"OFFSET(Data!AB27,Offsets!$A$33,Offsets!$A$31)","v":0},{"$f":"OFFSET(Data!AC27,Offsets!$A$33,Offsets!$A$31)","v":0},{"$f":"OFFSET(Data!AD27,Offsets!$A$33,Offsets!$A$31)","v":0},{"$f":"OFFSET(Data!AE27,Offsets!$A$33,Offsets!$A$31)","v":0},{"$f":"OFFSET(Data!AF27,Offsets!$A$33,Offsets!$A$31)","v":0},{"$f":"OFFSET(Data!AG27,Offsets!$A$33,Offsets!$A$31)","v":0},{"$f":"OFFSET(Data!AH27,Offsets!$A$33,Offsets!$A$31)","v":0},{"$f":"OFFSET(Data!AI27,Offsets!$A$33,Offsets!$A$31)","v":0},{"$f":"OFFSET(Data!AJ27,Offsets!$A$33,Offsets!$A$31)","v":0},{"$f":"OFFSET(Data!AK27,Offsets!$A$33,Offsets!$A$31)","v":0},{"$f":"OFFSET(Data!AL27,Offsets!$A$33,Offsets!$A$31)","v":28.27},{"$f":"OFFSET(Data!AM27,Offsets!$A$33,Offsets!$A$31)","v":32.29}]
[null,"23:00:00",{"$f":"OFFSET(Data!O28,Offsets!$A$33,Offsets!$A$31)","v":0},{"$f":"OFFSET(Data!P28,Offsets!$A$33,Offsets!$A$31)","v":0.14285714285714285},{"$f":"OFFSET(Data!Q28,Offsets!$A$33,Offsets!$A$31)","v":0.2857142857142857},{"$f":"OFFSET(Data!R28,Offsets!$A$33,Offsets!$A$31)","v":2.2857142857142856},{"$f":"OFFSET(Data!S28,Offsets!$A$33,Offsets!$A$31)","v":3.2857142857142856},{"$f":"OFFSET(Data!T28,Offsets!$A$33,Offsets!$A$31)","v":0.8571428571428571},{"$f":"OFFSET(Data!U28,Offsets!$A$33,Offsets!$A$31)","v":0.2857142857142857},{"$f":"OFFSET(Data!V28,Offsets!$A$33,Offsets!$A$31)","v":0.14285714285714285},{"$f":"OFFSET(Data!W28,Offsets!$A$33,Offsets!$A$31)","v":0},{"$f":"OFFSET(Data!X28,Offsets!$A$33,Offsets!$A$31)","v":0},{"$f":"OFFSET(Data!Y28,Offsets!$A$33,Offsets!$A$31)","v":0},{"$f":"OFFSET(Data!Z28,Offsets!$A$33,Offsets!$A$31)","v":0},{"$f":"OFFSET(Data!AA28,Offsets!$A$33,Offsets!$A$31)","v":0},{"$f":"OFFSET(Data!AB28,Offsets!$A$33,Offsets!$A$31)","v":0},{"$f":"OFFSET(Data!AC28,Offsets!$A$33,Offsets!$A$31)","v":0},{"$f":"OFFSET(Data!AD28,Offsets!$A$33,Offsets!$A$31)","v":0},{"$f":"OFFSET(Data!AE28,Offsets!$A$33,Offsets!$A$31)","v":0},{"$f":"OFFSET(Data!AF28,Offsets!$A$33,Offsets!$A$31)","v":0},{"$f":"OFFSET(Data!AG28,Offsets!$A$33,Offsets!$A$31)","v":0},{"$f":"OFFSET(Data!AH28,Offsets!$A$33,Offsets!$A$31)","v":0},{"$f":"OFFSET(Data!AI28,Offsets!$A$33,Offsets!$A$31)","v":0},{"$f":"OFFSET(Data!AJ28,Offsets!$A$33,Offsets!$A$31)","v":0},{"$f":"OFFSET(Data!AK28,Offsets!$A$33,Offsets!$A$31)","v":0},{"$f":"OFFSET(Data!AL28,Offsets!$A$33,Offsets!$A$31)","v":26.74},{"$f":"OFFSET(Data!AM28,Offsets!$A$33,Offsets!$A$31)","v":30.58}]
[null,"Total",{"$f":"SUM(C19:C42)","v":14},{"$f":"SUM(D19:D42)","v":101.28571428571429},342.71428571428572,644.57142857142867,348,{"$f":"SUM(H19:H42)","v":63},{"$f":"SUM(I19:I42)","v":8.4285714285714288},{"$f":"SUM(J19:J42)","v":1.1428571428571426},0.2857142857142857,0.42857142857142855,{"$f":"SUM(M19:M42)","v":0},{"$f":"SUM(N19:N42)","v":0},{"$f":"SUM(O19:O42)","v":0},{"$f":"SUM(P19:P42)","v":0},{"$f":"SUM(Q19:Q42)","v":0},0,{"$f":"SUM(S19:S42)","v":0},{"$f":"SUM(T19:T42)","v":0},{"$f":"SUM(U19:U42)","v":0},{"$f":"SUM(V19:V42)","v":0},0,0,0,{"$f":"OFFSET(Data!$FF$32,Offsets!$A$11+Offsets!$A$15,(Offsets!$A$3-1)*10)","v":22.23},{"$f":"OFFSET(Data!$FG$32,Offsets!$A$11+Offsets!$A$15,(Offsets!$A$3-1)*10)","v":26.83}]

{"sheet":"Vol Graph","index":5,"n_rows":3,"n_cols":18,"rows_kept":3,"cut":false,"hidden":false,"merged":[]}
[]
[null,"Select Site",null,null,null,null,null,null,null,"Select direction"]
[null,null,null,null,null,null,null,null,null,null,null,null,null,null,null,null,null,"Select Day"]

{"sheet":"Traffic Data Summary","index":6,"n_rows":61,"n_cols":13,"rows_kept":61,"cut":false,"hidden":false,"merged":[[0,0,0,13],[2,4,2,5],[30,6,30,7],[32,1,33,4],[32,5,32,8],[32,9,32,10],[32,11,32,12],[33,5,33,8],[33,9,33,10],[33,11,33,12],[35,1,36,4],[35,5,35,8],[35,9,35,12],[36,6,36,7],[36,10,36,11],[37,1,37,4],[37,5,37,6],[37,7,37,8],[37,9,37,10],[37,11,37,12],[38,1,38,4],[38,5,38,6],[38,7,38,8],[38,9,38,10],[38,11,38,12],[40,1,40,4],[40,5,40,6],[40,7,40,8],[40,9,40,10],[40,11,40,12],[41,5,41,6],[41,7,41,8],[41,9,41,10],[41,11,41,12],[42,5,42,6],[42,7,42,8],[42,9,42,10],[42,11,42,12],[44,1,45,4],[44,5,44,6],[44,7,44,8],[44,9,44,10],[44,11,44,12],[52,1,53,4],[52,5,52,6],[52,7,52,8],[52,9,52,10],[52,11,52,12],[60,1,60,12],[54,1,54,4],[55,1,55,4],[56,1,56,4],[57,1,57,4],[58,1,58,4]]}
["SUMMARY OF AUTOMATIC TRAFFIC COUNT DATA"]
[null,null,"LOCATION :",{"$f":"CONCATENATE(Offsets!G3, \" \", Offsets!H3)","v":"Piercy End - North Kirkbymoorside"}]
[null,null,null,"SITE NUMBER :",{"$f":"Offsets!I3","v":2},null,null,null,"GRID REFERENCE :",{"$f":"Offsets!E3","v":697863}]
[null,null,null,"SPEED LIMIT (mph) :",{"$f":"Offsets!D3","v":30},null,null,null,"COUNT DURATION : 1 WEEK :",{"$f":"CONCATENATE(TEXT(Offsets!L3,\"ddd dd-mmm-yyyy\"),\" to \",TEXT(Offsets!L3+7,\"ddd dd-mmm-yyyy\"))","v":"Wed 11-May-2022 to Wed 18-May-2022"}]
[]
[]
[]
[]
[]
[]
[]
[]
[]
[]
[]
[]
[]
[]
[]
[]
[]
[]
[]
[]
[]
[]
[]
[]
[]
[]
[null,null,null,null,null,null,"Location Plan"]
[]
[null,"Combined Directions\nTraffic Volumes",null,null,null,"Time Period",null,null,null,"Weekday Average ",null,"7 Day Average"]
[null,null,null,null,null,"24 Hr Day",null,null,null,{"$f":"F39+J39","v":3599},null,{"$f":"H39+L39","v":3050}]
[]
[null,"Directional Traffic Data",null,null,null,"DIRECTION 1",null,null,null,"DIRECTION 2"]
[null,null,null,null,null,null,{"$f":"_xlfn.IFS(LEFT(Offsets!J3,1)=\"N\",\"Northbound\",LEFT(Offsets!J3,1)=\"S\",\"Southbound\",LEFT(Offsets!J3,1)=\"E\",\"Eastbound\",LEFT(Offsets!J3,1)=\"W\",\"Westbound\")","v":{"$error":"#NAME?"}},null,null,null,{"$f":"_xlfn.IFS(LEFT(Offsets!K3,1)=\"N\",\"Northbound\",LEFT(Offsets!K3,1)=\"S\",\"Southbound\",LEFT(Offsets!K3,1)=\"E\",\"Eastbound\",LEFT(Offsets!K3,1)=\"W\",\"Westbound\")","v":{"$error":"#NAME?"}}]
[null,"Traffic Volumes",null,null,null,"Weekday Average",null,"7 Day Average",null,"Weekday Average",null,"7 Day Average"]
[null,"24 Hr Day",null,null,null,{"$f":"ROUND(SUM(OFFSET(Data!$FA$5,(Offsets!$M$4-1)*219,0,24,5))/5,0)","v":1804},null,{"$f":"ROUND(SUM(OFFSET(Data!$FA$5,(Offsets!$M$4-1)*219,0,24,7))/7,0)","v":1526},null,{"$f":"ROUND(SUM(OFFSET(Data!$FH$5,(Offsets!$M$4-1)*219,0,24,5))/5,0)","v":1795},null,{"$f":"ROUND(SUM(OFFSET(Data!$FH$5,(Offsets!$M$4-1)*219,0,24,7))/7,0)","v":1524}]
[]
[null,"Vehicle Speeds",null,null,null,"Weekday Average",null,"7 Day Average",null,"Weekday Average",null,"7 Day Average"]
[null,null,null,null,"85 Percentile Speed (mph)",{"$f":"OFFSET(Data!$FG$40,(Offsets!$M$4-1)*219,0)","v":24.58},null,{"$f":"OFFSET(Data!$FG$41,(Offsets!$M$4-1)*219,0)","v":24.45},null,{"$f":"OFFSET(Data!$FQ$40,(Offsets!$M$4-1)*219,0)","v":26.93},null,{"$f":"OFFSET(Data!$FQ$41,(Offsets!$M$4-1)*219,0)","v":26.83}]
[null,null,null,null,"Average Speed (mph)",{"$f":"OFFSET(Data!$FF$40,(Offsets!$M$4-1)*219,0)","v":20.12},null,{"$f":"OFFSET(Data!$FF$41,(Offsets!$M$4-1)*219,0)","v":19.98},null,{"$f":"OFFSET(Data!$FP$40,(Offsets!$M$4-1)*219,0)","v":22.43},null,{"$f":"OFFSET(Data!$FP$41,(Offsets!$M$4-1)*219,0)","v":22.23}]
[]
[null,"Vehicle Speeds",null,null,null,"Weekday Average",null,"7 Day Average",null,"Weekday Average",null,"7 Day Average"]
[null,null,null,null,null,"Number","Percentage","Number","Percentage","Number","Percentage","Number","Percentage"]
[null,null,null,null,"Vehicles exceeding 20 mph ",{"$f":"SUM(OFFSET(Data!$R$173,(Offsets!$M$4-1)*219,0,24,20))","v":953.20000000000039},{"$f":"(F47/F$39)*100","v":52.838137472283833},{"$f":"SUM(OFFSET(Data!$R$197,(Offsets!$M$4-1)*219,0,24,20))","v":787.42857142857133},{"$f":"(H47/H$39)*100","v":51.600823815764826},{"$f":"SUM(OFFSET(Data!$BE$173,(Offsets!$M$4-1)*219,0,24,20))","v":1286.8000000000002},{"$f":"(J47/J$39)*100","v":71.688022284122582},{"$f":"SUM(OFFSET(Data!$BE$197,(Offsets!$M$4-1)*219,0,24,20))","v":1065.8571428571422},{"$f":"(L47/L$39)*100","v":69.938132733408281}]
[null,null,null,null,"Vehicles exceeding 30 mph ",{"$f":"SUM(OFFSET(Data!$T$173,(Offsets!$M$4-1)*219,0,24,18))","v":19.199999999999992},{"$f":"(F48/F$39)*100","v":1.0643015521064298},{"$f":"SUM(OFFSET(Data!$T$197,(Offsets!$M$4-1)*219,0,24,18))","v":16.428571428571423},{"$f":"(H48/H$39)*100","v":1.076577419958809},{"$f":"SUM(OFFSET(Data!$BG$173,(Offsets!$M$4-1)*219,0,24,18))","v":91.200000000000031},{"$f":"(J48/J$39)*100","v":5.0807799442896959},{"$f":"SUM(OFFSET(Data!$BG$197,(Offsets!$M$4-1)*219,0,24,18))","v":73.285714285714278},{"$f":"(L48/L$39)*100","v":4.8087739032620913}]
[null,null,null,null,"Vehicles exceeding 40 mph ",{"$f":"SUM(OFFSET(Data!$V$173,(Offsets!$M$4-1)*219,0,24,16))","v":0.60000000000000009},{"$f":"(F49/F$39)*100","v":3.3259423503325947E-2},{"$f":"SUM(OFFSET(Data!$V$197,(Offsets!$M$4-1)*219,0,24,16))","v":0.5714285714285714},{"$f":"(H49/H$39)*100","v":3.7446171129002059E-2},{"$f":"SUM(OFFSET(Data!$BI$173,(Offsets!$M$4-1)*219,0,24,16))","v":2.6},{"$f":"(J49/J$39)*100","v":0.14484679665738162},{"$f":"SUM(OFFSET(Data!$BI$197,(Offsets!$M$4-1)*219,0,24,16))","v":1.8571428571428568},{"$f":"(L49/L$39)*100","v":0.12185976752905885}]
[null,null,null,null,"Vehicles exceeding 50 mph ",{"$f":"SUM(OFFSET(Data!$X$173,(Offsets!$M$4-1)*219,0,24,14))","v":0},{"$f":"(F50/F$39)*100","v":0},{"$f":"SUM(OFFSET(Data!$X$197,(Offsets!$M$4-1)*219,0,24,14))","v":0},{"$f":"(H50/H$39)*100","v":0},{"$f":"SUM(OFFSET(Data!$BK$173,(Offsets!$M$4-1)*219,0,24,14))","v":0.6},{"$f":"(J50/J$39)*100","v":3.3426183844011144E-2},{"$f":"SUM(OFFSET(Data!$BK$197,(Offsets!$M$4-1)*219,0,24,14))","v":0.42857142857142855},{"$f":"(L50/L$39)*100","v":2.8121484814398197E-2}]
[null,null,null,null,"Vehicles exceeding 60 mph ",{"$f":"SUM(OFFSET(Data!$Z$173,(Offsets!$M$4-1)*219,0,24,12))","v":0},{"$f":"(F51/F$39)*100","v":0},{"$f":"SUM(OFFSET(Data!$Z$197,(Offsets!$M$4-1)*219,0,24,12))","v":0},{"$f":"(H51/H$39)*100","v":0},{"$f":"SUM(OFFSET(Data!$BM$173,(Offsets!$M$4-1)*219,0,24,12))","v":0},{"$f":"(J51/J$39)*100","v":0},{"$f":"SUM(OFFSET(Data!$BM$197,(Offsets!$M$4-1)*219,0,24,12))","v":0},{"$f":"(L51/L$39)*100","v":0}]
[]
[null,"Vehicle Classes",null,null,null,"Weekday Average",null,"7 Day Average",null,"Weekday Average",null,"7 Day Average"]
[null,null,null,null,null,"Number","Percentage","Number","Percentage","Number","Percentage","Number","Percentage"]
[null,"Motor Cycle",null,null,null,{"$f":"SUM(OFFSET(Data!$D$173,(Offsets!$M$4-1)*219,0,24,1))","v":16.400000000000002},{"$f":"(F55/F$39)*100","v":0.90909090909090917},{"$f":"SUM(OFFSET(Data!$D$197,(Offsets!$M$4-1)*219,0,24,1))","v":17.285714285714285},{"$f":"(H55/H$39)*100","v":1.1327466766523122},{"$f":"SUM(OFFSET(Data!$AQ$173,(Offsets!$M$4-1)*219,0,24,1))","v":14.400000000000002},{"$f":"(J55/J$39)*100","v":0.80222841225626751},{"$f":"SUM(OFFSET(Data!$AQ$197,(Offsets!$M$4-1)*219,0,24,1))","v":14.857142857142858},{"$f":"(L55/L$39)*100","v":0.97487814023247099}]
[null,"Car",null,null,null,{"$f":"SUM(OFFSET(Data!$E$173,(Offsets!$M$4-1)*219,0,24,1))","v":1192.7999999999997},{"$f":"(F56/F$39)*100","v":66.11973392461195},{"$f":"SUM(OFFSET(Data!$E$197,(Offsets!$M$4-1)*219,0,24,1))","v":1012.4285714285714},{"$f":"(H56/H$39)*100","v":66.345253697809397},{"$f":"SUM(OFFSET(Data!$AR$173,(Offsets!$M$4-1)*219,0,24,1))","v":819},{"$f":"(J56/J$39)*100","v":45.626740947075213},{"$f":"SUM(OFFSET(Data!$AR$197,(Offsets!$M$4-1)*219,0,24,1))","v":688.57142857142856},{"$f":"(L56/L$39)*100","v":45.181852268466436}]
[null,"LGV",null,null,null,{"$f":"SUM(OFFSET(Data!$F$173,(Offsets!$M$4-1)*219,0,24,1))","v":510.6},{"$f":"(F57/F$39)*100","v":28.303769401330381},{"$f":"SUM(OFFSET(Data!$F$197,(Offsets!$M$4-1)*219,0,24,1))","v":428.71428571428567},{"$f":"(H57/H$39)*100","v":28.093989889533795},{"$f":"SUM(OFFSET(Data!$AS$173,(Offsets!$M$4-1)*219,0,24,1))","v":835.99999999999977},{"$f":"(J57/J$39)*100","v":46.573816155988844},{"$f":"SUM(OFFSET(Data!$AS$197,(Offsets!$M$4-1)*219,0,24,1))","v":716.42857142857156},{"$f":"(L57/L$39)*100","v":47.00974878140233}]
[null,"HGV",null,null,null,{"$f":"SUM(OFFSET(Data!$G$173,(Offsets!$M$4-1)*219,0,24,6))","v":54.800000000000004},{"$f":"(F58/F$39)*100","v":3.0376940133037698},{"$f":"SUM(OFFSET(Data!$G$197,(Offsets!$M$4-1)*219,0,24,6))","v":43.714285714285708},{"$f":"(H58/H$39)*100","v":2.8646320913686569},{"$f":"SUM(OFFSET(Data!$AT$173,(Offsets!$M$4-1)*219,0,24,6))","v":63.199999999999996},{"$f":"(J58/J$39)*100","v":3.5208913649025062},{"$f":"SUM(OFFSET(Data!$AT$197,(Offsets!$M$4-1)*219,0,24,6))","v":49.428571428571416},{"$f":"(L58/L$39)*100","v":3.2433445819272584}]
[null,"Bus",null,null,null,{"$f":"SUM(OFFSET(Data!$M$173,(Offsets!$M$4-1)*219,0,24,1))","v":2.4},{"$f":"(F59/F$39)*100","v":0.13303769401330376},{"$f":"SUM(OFFSET(Data!$M$197,(Offsets!$M$4-1)*219,0,24,1))","v":2.1428571428571423},{"$f":"(H59/H$39)*100","v":0.14042314173375769},{"$f":"SUM(OFFSET(Data!$AZ$173,(Offsets!$M$4-1)*219,0,24,1))","v":5.4000000000000012},{"$f":"(J59/J$39)*100","v":0.30083565459610034},{"$f":"SUM(OFFSET(Data!$AZ$197,(Offsets!$M$4-1)*219,0,24,1))","v":4.1428571428571423},{"$f":"(L59/L$39)*100","v":0.27184101987251585}]
[]
[null,""]

{"sheet":"Offsets","index":7,"n_rows":42,"n_cols":44,"rows_kept":42,"cut":false,"hidden":true,"merged":[]}
["Vol Sum Dir",null,null,null,null,"Job No","GBSth3680"]
[{"$f":"OFFSET(A4,A3,0)","v":"SB"},null,null,null,null,"Client","Lisa Bolland - Kirkbymoorside Town Council",null,null,null,null,null,null,null,null,null,null,null,null,null,null,null,null,null,"Graph Data"]
[2,null,null,{"$f":"OFFSET(D4,$M$4,0)","v":30},697863,{"$f":"OFFSET(F4,Site_No,0)","v":2},{"$f":"OFFSET(Rd,Site_No,0)","v":"Piercy End - North"},{"$f":"OFFSET(Loc,Site_No,0)","v":"Kirkbymoorside"},{"$f":"OFFSET(Site_Id,Site_No,0)","v":2},{"$f":"OFFSET(Dir_1,Site_No,0)","v":"NB"},{"$f":"OFFSET(Dir_2,Site_No,0)","v":"SB"},{"$f":"OFFSET(Dte,Site_No,0)","v":"2022-05-11"},{"$f":"OFFSET(Site_No,Site_No,0)","v":"2. Piercy End - North"},null,{"$f":"OFFSET(O4,$M$4,0)","v":"2022-05-16"},{"$f":"OFFSET(P4,$M$4,0)","v":"2022-05-17"},"2022-05-11","2022-05-12","2022-05-13","2022-05-14","2022-05-15",null,null,null,null,null,null,null,null,null,null,null,null,null,null,true,true,true,true,true,true,true,true,true]
["Direction",null,null,"PSL","OSGR",null,"Road","Location","Site No.","Dir1","Dir2","DATE",2,"Start Day","Mon","Tue","Wed","Thu","Fri","Sat","Sun",null,null,null,null,"Mon","Tue","Wed","Thu","Fri","Sat","Sun","5 Day Ave","7 Day Ave",null,"Mon","Tue","Wed","Thu","Fri","Sat","Sun","5 Day Ave","7 Day Ave"]
[{"$f":"+J3","v":"NB"},null,null,30,697862,1,"Piercy End - South","Kirkbymoorside",1,"NB","SB","2022-05-11",{"$f":"I5&\". \"&G5&\"\"","v":"1. Piercy End - South"},{"$f":"IF(ISBLANK($L5),\"\",IF(WEEKDAY(L5,2)=1,\"Mon\",IF(WEEKDAY(L5,2)=2,\"Tue\",IF(WEEKDAY(L5,2)=3,\"Wed\",IF(WEEKDAY(L5,2)=4,\"Thu\",IF(WEEKDAY(L5,2)=5,\"Fri\",IF(WEEKDAY(L5,2)=6,\"Sat\",IF(WEEKDAY(L5,2)=7,\"Sun\"))))))))","v":"Wed"},{"$f":"IF(ISBLANK($L5),\"\",$L5+MOD(weekdaycode(O$4)-WEEKDAY($L5,2),7))","v":"2022-05-16"},{"$f":"IF(ISBLANK($L5),\"\",$L5+MOD(weekdaycode(P$4)-WEEKDAY($L5,2),7))","v":"2022-05-17"},{"$f":"IF(ISBLANK($L5),\"\",$L5+MOD(weekdaycode(Q$4)-WEEKDAY($L5,2),7))","v":"2022-05-11"},{"$f":"IF(ISBLANK($L5),\"\",$L5+MOD(weekdaycode(R$4)-WEEKDAY($L5,2),7))","v":"2022-05-12"},{"$f":"IF(ISBLANK($L5),\"\",$L5+MOD(weekdaycode(S$4)-WEEKDAY($L5,2),7))","v":"2022-05-13"},{"$f":"IF(ISBLANK($L5),\"\",$L5+MOD(weekdaycode(T$4)-WEEKDAY($L5,2),7))","v":"2022-05-14"},{"$f":"IF(ISBLANK($L5),\"\",$L5+MOD(weekdaycode(U$4)-WEEKDAY($L5,2),7))","v":"2022-05-15"},null,null,null,0,{"$f":"OFFSET(Data!FA5,$A$37,$A$36)","v":0},{"$f":"OFFSET(Data!FB5,$A$37,$A$36)","v":1},{"$f":"OFFSET(Data!FC5,$A$37,$A$36)","v":1},{"$f":"OFFSET(Data!FD5,$A$37,$A$36)","v":2},{"$f":"OFFSET(Data!FE5,$A$37,$A$36)","v":4},{"$f":"OFFSET(Data!FF5,$A$37,$A$36)","v":1},{"$f":"OFFSET(Data!FG5,$A$37,$A$36)","v":0},{"$f":"SUM(Z5:AD5)/5","v":1.6},{"$f":"SUM(Z5:AF5)/7","v":1.2857142857142858},0,{"$f":"IF(AJ$3=TRUE,Z5,\"\")","v":0},{"$f":"IF(AK$3=TRUE,AA5,\"\")","v":1},{"$f":"IF(AL$3=TRUE,AB5,\"\")","v":1},{"$f":"IF(AM$3=TRUE,AC5,\"\")","v":2},{"$f":"IF(AN$3=TRUE,AD5,\"\")","v":4},{"$f":"IF(AO$3=TRUE,AE5,\"\")","v":1},{"$f":"IF(AP$3=TRUE,AF5,\"\")","v":0},{"$f":"IF(AQ$3=TRUE,AG5,\"\")","v":1.6},{"$f":"IF(AR$3=TRUE,AH5,\"\")","v":1.2857142857142858}]
[{"$f":"+K3","v":"SB"},null,null,30,697863,2,"Piercy End - North","Kirkbymoorside",2,"NB","SB","2022-05-11","2. Piercy End - North",{"$f":"IF(ISBLANK($L6),\"\",IF(WEEKDAY(L6,2)=1,\"Mon\",IF(WEEKDAY(L6,2)=2,\"Tue\",IF(WEEKDAY(L6,2)=3,\"Wed\",IF(WEEKDAY(L6,2)=4,\"Thu\",IF(WEEKDAY(L6,2)=5,\"Fri\",IF(WEEKDAY(L6,2)=6,\"Sat\",IF(WEEKDAY(L6,2)=7,\"Sun\"))))))))","v":"Wed"},{"$f":"IF(ISBLANK($L6),\"\",$L6+MOD(weekdaycode(O$4)-WEEKDAY($L6,2),7))","v":"2022-05-16"},"2022-05-17","2022-05-11","2022-05-12","2022-05-13","2022-05-14","2022-05-15",null,null,null,100,{"$f":"OFFSET(Data!FA6,$A$37,$A$36)","v":0},{"$f":"OFFSET(Data!FB6,$A$37,$A$36)","v":0},{"$f":"OFFSET(Data!FC6,$A$37,$A$36)","v":1},{"$f":"OFFSET(Data!FD6,$A$37,$A$36)","v":0},{"$f":"OFFSET(Data!FE6,$A$37,$A$36)","v":1},{"$f":"OFFSET(Data!FF6,$A$37,$A$36)","v":0},{"$f":"OFFSET(Data!FG6,$A$37,$A$36)","v":0},{"$f":"SUM(Z6:AD6)/5","v":0.4},{"$f":"SUM(Z6:AF6)/7","v":0.2857142857142857},100,{"$f":"IF(AJ$3=TRUE,Z6,\"\")","v":0},0,1,0,1,0,0,0.4,0.2857142857142857]
["Combined",null,null,30,696865,3,"High Market Place - South","Kirkbymoorside",3,"NB","SB","2022-05-11","3. High Market Place - South",{"$f":"IF(ISBLANK($L7),\"\",IF(WEEKDAY(L7,2)=1,\"Mon\",IF(WEEKDAY(L7,2)=2,\"Tue\",IF(WEEKDAY(L7,2)=3,\"Wed\",IF(WEEKDAY(L7,2)=4,\"Thu\",IF(WEEKDAY(L7,2)=5,\"Fri\",IF(WEEKDAY(L7,2)=6,\"Sat\",IF(WEEKDAY(L7,2)=7,\"Sun\"))))))))","v":"Wed"},"2022-05-16","2022-05-17","2022-05-11","2022-05-12","2022-05-13","2022-05-14","2022-05-15",null,null,null,200,{"$f":"OFFSET(Data!FA7,$A$37,$A$36)","v":0},{"$f":"OFFSET(Data!FB7,$A$37,$A$36)","v":0},{"$f":"OFFSET(Data!FC7,$A$37,$A$36)","v":2},{"$f":"OFFSET(Data!FD7,$A$37,$A$36)","v":2},{"$f":"OFFSET(Data!FE7,$A$37,$A$36)","v":0},{"$f":"OFFSET(Data!FF7,$A$37,$A$36)","v":0},{"$f":"OFFSET(Data!FG7,$A$37,$A$36)","v":0},0.8,0.5714285714285714,200,0,0,2,2,0,0,0,0.8,0.5714285714285714]
[null,null,null,30,696866,4,"High Market Place - North","Kirkbymoorside",4,"NB","SB","2022-05-11","4. High Market Place - North","Wed","2022-05-16","2022-05-17","2022-05-11","2022-05-12","2022-05-13","2022-05-14","2022-05-15",null,null,null,300,{"$f":"OFFSET(Data!FA8,$A$37,$A$36)","v":0},{"$f":"OFFSET(Data!FB8,$A$37,$A$36)","v":0},{"$f":"OFFSET(Data!FC8,$A$37,$A$36)","v":0},{"$f":"OFFSET(Data!FD8,$A$37,$A$36)","v":0},{"$f":"OFFSET(Data!FE8,$A$37,$A$36)","v":1},{"$f":"OFFSET(Data!FF8,$A$37,$A$36)","v":1},{"$f":"OFFSET(Data!FG8,$A$37,$A$36)","v":0},0.2,0.2857142857142857,300,0,0,0,0,1,1,0,0.2,0.2857142857142857]
["Vol Sum Dir",null,null,30,709862,5,"Gray Lane ","Kirkbymoorside",5,"NB","SB","2022-05-11","5. Gray Lane ","Wed","2022-05-16","2022-05-17","2022-05-11","2022-05-12","2022-05-13","2022-05-14","2022-05-15",null,null,null,400,{"$f":"OFFSET(Data!FA9,$A$37,$A$36)","v":0},{"$f":"OFFSET(Data!FB9,$A$37,$A$36)","v":4},{"$f":"OFFSET(Data!FC9,$A$37,$A$36)","v":3},{"$f":"OFFSET(Data!FD9,$A$37,$A$36)","v":0},{"$f":"OFFSET(Data!FE9,$A$37,$A$36)","v":3},{"$f":"OFFSET(Data!FF9,$A$37,$A$36)","v":2},{"$f":"OFFSET(Data!FG9,$A$37,$A$36)","v":0},2,1.7142857142857142,400,0,4,3,0,3,2,0,2,1.7142857142857142]
[{"$f":"SUM($A$3-1)*7","v":7},"Col","Dir",null,null,6,null,null,null,null,null,null,". ","","","","","","","","",null,null,null,500,{"$f":"OFFSET(Data!FA10,$A$37,$A$36)","v":0},{"$f":"OFFSET(Data!FB10,$A$37,$A$36)","v":9},{"$f":"OFFSET(Data!FC10,$A$37,$A$36)","v":5},{"$f":"OFFSET(Data!FD10,$A$37,$A$36)","v":6},{"$f":"OFFSET(Data!FE10,$A$37,$A$36)","v":5},{"$f":"OFFSET(Data!FF10,$A$37,$A$36)","v":1},{"$f":"OFFSET(Data!FG10,$A$37,$A$36)","v":0},5,3.7142857142857144,500,0,9,5,6,5,1,0,5,3.7142857142857144]
[{"$f":"SUM($F$3-1)*219","v":219},"Row","Site",null,null,7,null,null,null,null,null,null,". ","","","","","","","","",null,null,null,600,{"$f":"OFFSET(Data!FA11,$A$37,$A$36)","v":0},{"$f":"OFFSET(Data!FB11,$A$37,$A$36)","v":15},{"$f":"OFFSET(Data!FC11,$A$37,$A$36)","v":13},{"$f":"OFFSET(Data!FD11,$A$37,$A$36)","v":17},{"$f":"OFFSET(Data!FE11,$A$37,$A$36)","v":15},{"$f":"OFFSET(Data!FF11,$A$37,$A$36)","v":9},{"$f":"OFFSET(Data!FG11,$A$37,$A$36)","v":0},12,9.8571428571428577,600,0,15,13,17,15,9,0,12,9.8571428571428577]
[null,null,null,null,null,8,null,null,null,null,null,null,". ","","","","","","","","",null,null,null,700,{"$f":"OFFSET(Data!FA12,$A$37,$A$36)","v":0},{"$f":"OFFSET(Data!FB12,$A$37,$A$36)","v":82},{"$f":"OFFSET(Data!FC12,$A$37,$A$36)","v":64},{"$f":"OFFSET(Data!FD12,$A$37,$A$36)","v":79},{"$f":"OFFSET(Data!FE12,$A$37,$A$36)","v":58},{"$f":"OFFSET(Data!FF12,$A$37,$A$36)","v":45},{"$f":"OFFSET(Data!FG12,$A$37,$A$36)","v":0},56.6,46.857142857142854,700,0,82,64,79,58,45,0,56.6,46.857142857142854]
[null,null,null,null,null,9,null,null,null,null,null,null,". ","","","","","","","","",null,null,null,800,{"$f":"OFFSET(Data!FA13,$A$37,$A$36)","v":0},{"$f":"OFFSET(Data!FB13,$A$37,$A$36)","v":124},{"$f":"OFFSET(Data!FC13,$A$37,$A$36)","v":135},{"$f":"OFFSET(Data!FD13,$A$37,$A$36)","v":151},{"$f":"OFFSET(Data!FE13,$A$37,$A$36)","v":146},{"$f":"OFFSET(Data!FF13,$A$37,$A$36)","v":94},{"$f":"OFFSET(Data!FG13,$A$37,$A$36)","v":0},111.2,92.857142857142861,800,0,124,135,151,146,94,0,111.2,92.857142857142861]
["Class Summ",null,null,null,null,10,null,null,null,null,null,null,". ","","","","","","","","",null,null,null,900,{"$f":"OFFSET(Data!FA14,$A$37,$A$36)","v":0},{"$f":"OFFSET(Data!FB14,$A$37,$A$36)","v":158},{"$f":"OFFSET(Data!FC14,$A$37,$A$36)","v":115},{"$f":"OFFSET(Data!FD14,$A$37,$A$36)","v":158},{"$f":"OFFSET(Data!FE14,$A$37,$A$36)","v":184},{"$f":"OFFSET(Data!FF14,$A$37,$A$36)","v":185},{"$f":"OFFSET(Data!FG14,$A$37,$A$36)","v":0},123,114.28571428571429,900,0,158,115,158,184,185,0,123,114.28571428571429]
[9,null,null,null,null,11,null,null,null,null,null,null,". ","","","","","","","","",null,null,null,1000,{"$f":"OFFSET(Data!FA15,$A$37,$A$36)","v":0},{"$f":"OFFSET(Data!FB15,$A$37,$A$36)","v":125},{"$f":"OFFSET(Data!FC15,$A$37,$A$36)","v":164},{"$f":"OFFSET(Data!FD15,$A$37,$A$36)","v":139},{"$f":"OFFSET(Data!FE15,$A$37,$A$36)","v":159},{"$f":"OFFSET(Data!FF15,$A$37,$A$36)","v":256},{"$f":"OFFSET(Data!FG15,$A$37,$A$36)","v":0},117.4,120.42857142857143,1000,0,125,164,139,159,256,0,117.4,120.42857142857143]
["Monday",null,null,null,null,12,null,null,null,null,null,null,". ","","","","","","","","",null,null,null,1100,{"$f":"OFFSET(Data!FA16,$A$37,$A$36)","v":0},{"$f":"OFFSET(Data!FB16,$A$37,$A$36)","v":144},{"$f":"OFFSET(Data!FC16,$A$37,$A$36)","v":147},{"$f":"OFFSET(Data!FD16,$A$37,$A$36)","v":155},{"$f":"OFFSET(Data!FE16,$A$37,$A$36)","v":158},{"$f":"OFFSET(Data!FF16,$A$37,$A$36)","v":200},{"$f":"OFFSET(Data!FG16,$A$37,$A$36)","v":0},120.8,114.85714285714286,1100,0,144,147,155,158,200,0,120.8,114.85714285714286]
["Tuesday",null,null,null,null,13,null,null,null,null,null,null,". ","","","","","","","","",null,null,null,1200,{"$f":"OFFSET(Data!FA17,$A$37,$A$36)","v":0},{"$f":"OFFSET(Data!FB17,$A$37,$A$36)","v":155},{"$f":"OFFSET(Data!FC17,$A$37,$A$36)","v":145},{"$f":"OFFSET(Data!FD17,$A$37,$A$36)","v":149},{"$f":"OFFSET(Data!FE17,$A$37,$A$36)","v":187},{"$f":"OFFSET(Data!FF17,$A$37,$A$36)","v":183},{"$f":"OFFSET(Data!FG17,$A$37,$A$36)","v":0},127.2,117,1200,0,155,145,149,187,183,0,127.2,117]
["Wednesday",null,null,null,null,14,null,null,null,null,null,null,". ","","","","","","","","",null,null,null,1300,{"$f":"OFFSET(Data!FA18,$A$37,$A$36)","v":0},{"$f":"OFFSET(Data!FB18,$A$37,$A$36)","v":136},{"$f":"OFFSET(Data!FC18,$A$37,$A$36)","v":139},{"$f":"OFFSET(Data!FD18,$A$37,$A$36)","v":121},{"$f":"OFFSET(Data!FE18,$A$37,$A$36)","v":155},{"$f":"OFFSET(Data!FF18,$A$37,$A$36)","v":144},{"$f":"OFFSET(Data!FG18,$A$37,$A$36)","v":0},110.2,99.285714285714292,1300,0,136,139,121,155,144,0,110.2,99.285714285714292]
["Thursday",null,null,null,null,15,null,null,null,null,null,null,". ","","","","","","","","",null,null,null,1400,{"$f":"OFFSET(Data!FA19,$A$37,$A$36)","v":0},{"$f":"OFFSET(Data!FB19,$A$37,$A$36)","v":109},{"$f":"OFFSET(Data!FC19,$A$37,$A$36)","v":138},{"$f":"OFFSET(Data!FD19,$A$37,$A$36)","v":118},{"$f":"OFFSET(Data!FE19,$A$37,$A$36)","v":192},{"$f":"OFFSET(Data!FF19,$A$37,$A$36)","v":158},{"$f":"OFFSET(Data!FG19,$A$37,$A$36)","v":0},111.4,102.14285714285714,1400,0,109,138,118,192,158,0,111.4,102.14285714285714]
["Friday",null,null,null,null,16,null,null,null,null,null,null,". ","","","","","","","","",null,null,null,1500,{"$f":"OFFSET(Data!FA20,$A$37,$A$36)","v":0},{"$f":"OFFSET(Data!FB20,$A$37,$A$36)","v":199},{"$f":"OFFSET(Data!FC20,$A$37,$A$36)","v":181},{"$f":"OFFSET(Data!FD20,$A$37,$A$36)","v":163},{"$f":"OFFSET(Data!FE20,$A$37,$A$36)","v":242},{"$f":"OFFSET(Data!FF20,$A$37,$A$36)","v":118},{"$f":"OFFSET(Data!FG20,$A$37,$A$36)","v":0},157,129,1500,0,199,181,163,242,118,0,157,129]
["Saturday",null,null,null,null,17,"   ",null,null,null,null,null,".    ","","","","","","","","",null,null,null,1600,{"$f":"OFFSET(Data!FA21,$A$37,$A$36)","v":0},{"$f":"OFFSET(Data!FB21,$A$37,$A$36)","v":198},{"$f":"OFFSET(Data!FC21,$A$37,$A$36)","v":201},{"$f":"OFFSET(Data!FD21,$A$37,$A$36)","v":216},{"$f":"OFFSET(Data!FE21,$A$37,$A$36)","v":212},{"$f":"OFFSET(Data!FF21,$A$37,$A$36)","v":140},{"$f":"OFFSET(Data!FG21,$A$37,$A$36)","v":0},165.4,138.14285714285714,1600,0,198,201,216,212,140,0,165.4,138.14285714285714]
["Sunday",null,null,null,null,18,null,null,null,null,null,null,". ","",{"$f":"IF(ISBLANK($L22),\"\",$L22+MOD(weekdaycode(O$4)-WEEKDAY($L22,2),7))","v":""},"","","","","","",null,null,null,1700,{"$f":"OFFSET(Data!FA22,$A$37,$A$36)","v":142},{"$f":"OFFSET(Data!FB22,$A$37,$A$36)","v":179},{"$f":"OFFSET(Data!FC22,$A$37,$A$36)","v":188},{"$f":"OFFSET(Data!FD22,$A$37,$A$36)","v":201},{"$f":"OFFSET(Data!FE22,$A$37,$A$36)","v":231},{"$f":"OFFSET(Data!FF22,$A$37,$A$36)","v":108},{"$f":"OFFSET(Data!FG22,$A$37,$A$36)","v":0},188.2,149.85714285714286,1700,142,179,188,201,231,108,0,188.2,149.85714285714286]
["Weekday Ave",null,null,null,null,19,null,null,null,null,null,null,". ","","","","","","","","",null,null,null,1800,{"$f":"OFFSET(Data!FA23,$A$37,$A$36)","v":124},{"$f":"OFFSET(Data!FB23,$A$37,$A$36)","v":112},{"$f":"OFFSET(Data!FC23,$A$37,$A$36)","v":138},{"$f":"OFFSET(Data!FD23,$A$37,$A$36)","v":160},{"$f":"OFFSET(Data!FE23,$A$37,$A$36)","v":179},{"$f":"OFFSET(Data!FF23,$A$37,$A$36)","v":47},{"$f":"OFFSET(Data!FG23,$A$37,$A$36)","v":0},142.6,108.57142857142857,1800,124,112,138,160,179,47,0,142.6,108.57142857142857]
["7 Day Ave",null,null,null,null,20,null,null,null,null,null,null,". ","","","","","","","","",null,null,null,1900,{"$f":"OFFSET(Data!FA24,$A$37,$A$36)","v":86},{"$f":"OFFSET(Data!FB24,$A$37,$A$36)","v":84},{"$f":"OFFSET(Data!FC24,$A$37,$A$36)","v":112},{"$f":"OFFSET(Data!FD24,$A$37,$A$36)","v":110},{"$f":"OFFSET(Data!FE24,$A$37,$A$36)","v":98},{"$f":"OFFSET(Data!FF24,$A$37,$A$36)","v":0},{"$f":"OFFSET(Data!FG24,$A$37,$A$36)","v":0},98,70,1900,86,84,112,110,98,0,0,98,70]
[null,null,null,null,null,21,null,null,null,null,null,null,". ","","","","","","","","",null,null,null,2000,{"$f":"OFFSET(Data!FA25,$A$37,$A$36)","v":80},{"$f":"OFFSET(Data!FB25,$A$37,$A$36)","v":49},{"$f":"OFFSET(Data!FC25,$A$37,$A$36)","v":71},{"$f":"OFFSET(Data!FD25,$A$37,$A$36)","v":67},{"$f":"OFFSET(Data!FE25,$A$37,$A$36)","v":70},{"$f":"OFFSET(Data!FF25,$A$37,$A$36)","v":0},{"$f":"OFFSET(Data!FG25,$A$37,$A$36)","v":0},67.400000000000006,48.142857142857146,2000,80,49,71,67,70,0,0,67.400000000000006,48.142857142857146]
["Class Summ",null,null,null,null,22,null,null,null,null,null,null,". ","","","","","","","","",null,null,null,2100,{"$f":"OFFSET(Data!FA26,$A$37,$A$36)","v":38},{"$f":"OFFSET(Data!FB26,$A$37,$A$36)","v":37},{"$f":"OFFSET(Data!FC26,$A$37,$A$36)","v":51},{"$f":"OFFSET(Data!FD26,$A$37,$A$36)","v":57},{"$f":"OFFSET(Data!FE26,$A$37,$A$36)","v":45},{"$f":"OFFSET(Data!FF26,$A$37,$A$36)","v":0},{"$f":"OFFSET(Data!FG26,$A$37,$A$36)","v":0},45.6,32.571428571428569,2100,38,37,51,57,45,0,0,45.6,32.571428571428569]
[{"$f":"SUM($A$15-1)*24","v":192},"Row 1","Day",null,null,23,null,null,null,null,null,null,". ","","","","","","","","",null,null,null,2200,{"$f":"OFFSET(Data!FA27,$A$37,$A$36)","v":16},{"$f":"OFFSET(Data!FB27,$A$37,$A$36)","v":21},{"$f":"OFFSET(Data!FC27,$A$37,$A$36)","v":21},{"$f":"OFFSET(Data!FD27,$A$37,$A$36)","v":20},{"$f":"OFFSET(Data!FE27,$A$37,$A$36)","v":26},{"$f":"OFFSET(Data!FF27,$A$37,$A$36)","v":0},{"$f":"OFFSET(Data!FG27,$A$37,$A$36)","v":0},20.8,14.857142857142858,2200,16,21,21,20,26,0,0,20.8,14.857142857142858]
[{"$f":"SUM(($F$3-1)*219)+A27","v":411},"Row 2","Site",null,null,24,null,null,null,null,null,null,". ","","","","","","","","",null,null,null,2300,{"$f":"OFFSET(Data!FA28,$A$37,$A$36)","v":5},{"$f":"OFFSET(Data!FB28,$A$37,$A$36)","v":12},{"$f":"OFFSET(Data!FC28,$A$37,$A$36)","v":9},{"$f":"OFFSET(Data!FD28,$A$37,$A$36)","v":9},{"$f":"OFFSET(Data!FE28,$A$37,$A$36)","v":16},{"$f":"OFFSET(Data!FF28,$A$37,$A$36)","v":0},{"$f":"OFFSET(Data!FG28,$A$37,$A$36)","v":0},10.199999999999999,7.2857142857142856,2300,5,12,9,9,16,0,0,10.199999999999999,7.2857142857142856]
[null,null,null,null,null,25,null,null,null,null,null,null,". ","","","","","","","",""]
["Speed Summary",null,null,null,null,26,null,null,null,null,null,null,". ","","","","","","","",""]
[{"$f":"SUM($A$3-1)*39","v":39},"Col",null,null,null,27,null,null,null,null,null,null,". ","","","","","","","",""]
[{"$f":"SUM($A$15-1)*24","v":192},"Row1",null,null,null,28,null,null,null,null,null,null,". ","","","","","","","",""]
[{"$f":"SUM($A$32+$A$11)","v":411},"Row2",null,null,null,29,null,null,null,null,null,null,". ","","","","","","","",""]
[null,null,null,null,null,30,null,null,null,null,null,null,". ","","","","","","","",""]
["Vol Graph"]
[{"$f":"+A10","v":7},"Col"]
[{"$f":"+A11","v":219},"Row","Site"]
[]
[2]
["Headway"]
[">= 0s"]
[">= 4s"]

{"sheet":"ImportData","index":8,"n_rows":56,"n_cols":24,"rows_kept":56,"cut":false,"hidden":true,"merged":[[20,0,20,4],[20,5,20,9],[21,0,21,4],[21,5,21,9],[22,0,22,4],[22,5,22,9],[23,0,23,4],[23,5,23,9],[24,0,24,4],[24,5,24,9],[25,0,25,4],[25,5,25,9],[26,0,26,4],[26,5,26,9],[27,0,27,4],[27,5,27,9],[28,0,28,4],[28,5,28,9],[29,0,29,4],[29,5,29,9],[30,0,30,4],[30,5,30,9],[31,0,31,4],[31,5,31,9],[32,0,32,4],[32,5,32,9],[33,0,33,4],[33,5,33,9],[34,0,34,4],[34,5,34,9],[35,0,35,4],[35,5,35,9],[36,0,36,4],[36,5,36,9],[37,0,37,4],[37,5,37,9],[38,0,38,4],[38,5,38,9],[39,0,39,4],[39,5,39,9],[40,0,40,4],[40,5,40,9],[41,0,41,4],[41,5,41,9],[42,0,42,4],[42,5,42,9],[43,0,43,4],[43,5,43,9],[44,0,44,4],[44,5,44,9],[45,0,45,4],[45,5,45,9],[46,0,46,4],[46,5,46,9],[47,0,47,4],[47,5,47,9],[48,0,48,4],[48,5,48,9],[49,0,49,4],[49,5,49,9],[50,0,50,4],[50,5,50,9],[51,0,51,4],[51,5,51,9],[52,0,52,4],[52,5,52,9],[53,0,53,4],[53,5,53,9],[54,0,54,4],[54,5,54,9],[55,0,55,4],[55,5,55,9],[17,10,17,23],[17,0,19,4],[17,5,19,9],[18,10,18,11],[18,12,18,13],[18,14,18,15],[18,16,18,17],[18,18,18,19],[18,20,18,21],[18,22,18,23]]}
[]
[]
[]
[]
[]
[]
[]
["Time Interval (Minute)",60]
[]
["Start Date",{"$f":"OFFSET(Offsets!L4,Offsets!Site_No,0,1,1)","v":"2022-05-11"},null,"Day of Week",{"$f":"WEEKDAY(B10,2)","v":3}]
[]
["Survey Period (Weeks)",1," "]
[]
["Dir1","N"]
["Dir2",{"$f":"IF(B14=\"N\",\"S\",IF(B14=\"S\",\"N\",IF(B14=\"E\",\"W\",IF(B14=\"W\",\"E\"))))","v":"S"}]
[]
[]
["Survey Location:",null,null,null,null,"Individual Report File:",null,null,null,null,"Percentage of Class 5 Out of Total Volume"]
[null,null,null,null,null,null,null,null,null,null,"Mon",null,"Tue",null,"Wed",null,"Thu",null,"Fri",null,"Sat",null,"Sun"]
[null,null,null,null,null,null,null,null,null,null,"Dir 1","Dir 2","Dir 1","Dir 2","Dir 1","Dir 2","Dir 1","Dir 2","Dir 1","Dir 2","Dir 1","Dir 2","Dir 1","Dir 2"]
["1. Piercy End - South",null,null,null,null,"Piercy End 1.txt",null,null,null,null,{"$f":"IF(ISBLANK($F21),\"\",SUM(OFFSET(Data!$G$5,(Offsets!$F5-1)*(9 * 24 * (60 / $B$8) + 3)+(weekdaycode(K$19)-1)*24* (60 / $B$8),0,24* (60 / $B$8),1))/SUM(OFFSET(Data!$C$5,(Offsets!$F5-1)*(9 * 24 * (60 / $B$8) + 3)+(weekdaycode(K$19)-1)*24* (60 / $B$8),0,24* (60 / $B$8),12)))","v":3.5679374389051811E-2},{"$f":"IF(ISBLANK($F21),\"\",SUM(OFFSET(Data!$G$5,(Offsets!$F5-1)*(9 * 24 * (60 / $B$8) + 3)+(weekdaycode(K$19)-1)*24* (60 / $B$8),39,24* (60 / $B$8),1))/SUM(OFFSET(Data!$C$5,(Offsets!$F5-1)*(9 * 24 * (60 / $B$8) + 3)+(weekdaycode(K$19)-1)*24* (60 / $B$8),39,24* (60 / $B$8),12)))","v":3.1631520532741396E-2},{"$f":"IF(ISBLANK($F21),\"\",SUM(OFFSET(Data!$G$5,(Offsets!$F5-1)*(9 * 24 * (60 / $B$8) + 3)+(weekdaycode(M$19)-1)*24* (60 / $B$8),0,24* (60 / $B$8),1))/SUM(OFFSET(Data!$C$5,(Offsets!$F5-1)*(9 * 24 * (60 / $B$8) + 3)+(weekdaycode(M$19)-1)*24* (60 / $B$8),0,24* (60 / $B$8),12)))","v":3.7753657385559226E-2},{"$f":"IF(ISBLANK($F21),\"\",SUM(OFFSET(Data!$G$5,(Offsets!$F5-1)*(9 * 24 * (60 / $B$8) + 3)+(weekdaycode(M$19)-1)*24* (60 / $B$8),39,24* (60 / $B$8),1))/SUM(OFFSET(Data!$C$5,(Offsets!$F5-1)*(9 * 24 * (60 / $B$8) + 3)+(weekdaycode(M$19)-1)*24* (60 / $B$8),39,24* (60 / $B$8),12)))","v":2.9873417721518986E-2},{"$f":"IF(ISBLANK($F21),\"\",SUM(OFFSET(Data!$G$5,(Offsets!$F5-1)*(9 * 24 * (60 / $B$8) + 3)+(weekdaycode(O$19)-1)*24* (60 / $B$8),0,24* (60 / $B$8),1))/SUM(OFFSET(Data!$C$5,(Offsets!$F5-1)*(9 * 24 * (60 / $B$8) + 3)+(weekdaycode(O$19)-1)*24* (60 / $B$8),0,24* (60 / $B$8),12)))","v":4.0352504638218926E-2},{"$f":"IF(ISBLANK($F21),\"\",SUM(OFFSET(Data!$G$5,(Offsets!$F5-1)*(9 * 24 * (60 / $B$8) + 3)+(weekdaycode(O$19)-1)*24* (60 / $B$8),39,24* (60 / $B$8),1))/SUM(OFFSET(Data!$C$5,(Offsets!$F5-1)*(9 * 24 * (60 / $B$8) + 3)+(weekdaycode(O$19)-1)*24* (60 / $B$8),39,24* (60 / $B$8),12)))","v":3.1936127744510975E-2},{"$f":"IF(ISBLANK($F21),\"\",SUM(OFFSET(Data!$G$5,(Offsets!$F5-1)*(9 * 24 * (60 / $B$8) + 3)+(weekdaycode(Q$19)-1)*24* (60 / $B$8),0,24* (60 / $B$8),1))/SUM(OFFSET(Data!$C$5,(Offsets!$F5-1)*(9 * 24 * (60 / $B$8) + 3)+(weekdaycode(Q$19)-1)*24* (60 / $B$8),0,24* (60 / $B$8),12)))","v":3.7717601547388784E-2},{"$f":"IF(ISBLANK($F21),\"\",SUM(OFFSET(Data!$G$5,(Offsets!$F5-1)*(9 * 24 * (60 / $B$8) + 3)+(weekdaycode(Q$19)-1)*24* (60 / $B$8),39,24* (60 / $B$8),1))/SUM(OFFSET(Data!$C$5,(Offsets!$F5-1)*(9 * 24 * (60 / $B$8) + 3)+(weekdaycode(Q$19)-1)*24* (60 / $B$8),39,24* (60 / $B$8),12)))","v":3.5732516590096991E-2},{"$f":"IF(ISBLANK($F21),\"\",SUM(OFFSET(Data!$G$5,(Offsets!$F5-1)*(9 * 24 * (60 / $B$8) + 3)+(weekdaycode(S$19)-1)*24* (60 / $B$8),0,24* (60 / $B$8),1))/SUM(OFFSET(Data!$C$5,(Offsets!$F5-1)*(9 * 24 * (60 / $B$8) + 3)+(weekdaycode(S$19)-1)*24* (60 / $B$8),0,24* (60 / $B$8),12)))","v":3.8082437275985662E-2},{"$f":"IF(ISBLANK($F21),\"\",SUM(OFFSET(Data!$G$5,(Offsets!$F5-1)*(9 * 24 * (60 / $B$8) + 3)+(weekdaycode(S$19)-1)*24* (60 / $B$8),39,24* (60 / $B$8),1))/SUM(OFFSET(Data!$C$5,(Offsets!$F5-1)*(9 * 24 * (60 / $B$8) + 3)+(weekdaycode(S$19)-1)*24* (60 / $B$8),39,24* (60 / $B$8),12)))","v":3.2075471698113207E-2},{"$f":"IF(ISBLANK($F21),\"\",SUM(OFFSET(Data!$G$5,(Offsets!$F5-1)*(9 * 24 * (60 / $B$8) + 3)+(weekdaycode(U$19)-1)*24* (60 / $B$8),0,24* (60 / $B$8),1))/SUM(OFFSET(Data!$C$5,(Offsets!$F5-1)*(9 * 24 * (60 / $B$8) + 3)+(weekdaycode(U$19)-1)*24* (60 / $B$8),0,24* (60 / $B$8),12)))","v":2.5089605734767026E-2},{"$f":"IF(ISBLANK($F21),\"\",SUM(OFFSET(Data!$G$5,(Offsets!$F5-1)*(9 * 24 * (60 / $B$8) + 3)+(weekdaycode(U$19)-1)*24* (60 / $B$8),39,24* (60 / $B$8),1))/SUM(OFFSET(Data!$C$5,(Offsets!$F5-1)*(9 * 24 * (60 / $B$8) + 3)+(weekdaycode(U$19)-1)*24* (60 / $B$8),39,24* (60 / $B$8),12)))","v":2.0010531858873092E-2},{"$f":"IF(ISBLANK($F21),\"\",SUM(OFFSET(Data!$G$5,(Offsets!$F5-1)*(9 * 24 * (60 / $B$8) + 3)+(weekdaycode(W$19)-1)*24* (60 / $B$8),0,24* (60 / $B$8),1))/SUM(OFFSET(Data!$C$5,(Offsets!$F5-1)*(9 * 24 * (60 / $B$8) + 3)+(weekdaycode(W$19)-1)*24* (60 / $B$8),0,24* (60 / $B$8),12)))","v":1.1913104414856343E-2},{"$f":"IF(ISBLANK($F21),\"\",SUM(OFFSET(Data!$G$5,(Offsets!$F5-1)*(9 * 24 * (60 / $B$8) + 3)+(weekdaycode(W$19)-1)*24* (60 / $B$8),39,24* (60 / $B$8),1))/SUM(OFFSET(Data!$C$5,(Offsets!$F5-1)*(9 * 24 * (60 / $B$8) + 3)+(weekdaycode(W$19)-1)*24* (60 / $B$8),39,24* (60 / $B$8),12)))","v":9.3385214007782099E-3}]
["2. Piercy End - North",null,null,null,null,"Piercy End 2.txt",null,null,null,null,{"$f":"IF(ISBLANK($F22),\"\",SUM(OFFSET(Data!$G$5,(Offsets!$F6-1)*(9 * 24 * (60 / $B$8) + 3)+(weekdaycode(K$19)-1)*24* (60 / $B$8),0,24* (60 / $B$8),1))/SUM(OFFSET(Data!$C$5,(Offsets!$F6-1)*(9 * 24 * (60 / $B$8) + 3)+(weekdaycode(K$19)-1)*24* (60 / $B$8),0,24* (60 / $B$8),12)))","v":1.020408163265306E-2},{"$f":"IF(ISBLANK($F22),\"\",SUM(OFFSET(Data!$G$5,(Offsets!$F6-1)*(9 * 24 * (60 / $B$8) + 3)+(weekdaycode(K$19)-1)*24* (60 / $B$8),39,24* (60 / $B$8),1))/SUM(OFFSET(Data!$C$5,(Offsets!$F6-1)*(9 * 24 * (60 / $B$8) + 3)+(weekdaycode(K$19)-1)*24* (60 / $B$8),39,24* (60 / $B$8),12)))","v":1.2219959266802444E-2},{"$f":"IF(ISBLANK($F22),\"\",SUM(OFFSET(Data!$G$5,(Offsets!$F6-1)*(9 * 24 * (60 / $B$8) + 3)+(weekdaycode(M$19)-1)*24* (60 / $B$8),0,24* (60 / $B$8),1))/SUM(OFFSET(Data!$C$5,(Offsets!$F6-1)*(9 * 24 * (60 / $B$8) + 3)+(weekdaycode(M$19)-1)*24* (60 / $B$8),0,24* (60 / $B$8),12)))","v":2.2285443338074917E-2},{"$f":"IF(ISBLANK($F22),\"\",SUM(OFFSET(Data!$G$5,(Offsets!$F6-1)*(9 * 24 * (60 / $B$8) + 3)+(weekdaycode(M$19)-1)*24* (60 / $B$8),39,24* (60 / $B$8),1))/SUM(OFFSET(Data!$C$5,(Offsets!$F6-1)*(9 * 24 * (60 / $B$8) + 3)+(weekdaycode(M$19)-1)*24* (60 / $B$8),39,24* (60 / $B$8),12)))","v":2.4065540194572452E-2},{"$f":"IF(ISBLANK($F22),\"\",SUM(OFFSET(Data!$G$5,(Offsets!$F6-1)*(9 * 24 * (60 / $B$8) + 3)+(weekdaycode(O$19)-1)*24* (60 / $B$8),0,24* (60 / $B$8),1))/SUM(OFFSET(Data!$C$5,(Offsets!$F6-1)*(9 * 24 * (60 / $B$8) + 3)+(weekdaycode(O$19)-1)*24* (60 / $B$8),0,24* (60 / $B$8),12)))","v":1.9990913221263062E-2},{"$f":"IF(ISBLANK($F22),\"\",SUM(OFFSET(Data!$G$5,(Offsets!$F6-1)*(9 * 24 * (60 / $B$8) + 3)+(weekdaycode(O$19)-1)*24* (60 / $B$8),39,24* (60 / $B$8),1))/SUM(OFFSET(Data!$C$5,(Offsets!$F6-1)*(9 * 24 * (60 / $B$8) + 3)+(weekdaycode(O$19)-1)*24* (60 / $B$8),39,24* (60 / $B$8),12)))","v":2.7886497064579255E-2},{"$f":"IF(ISBLANK($F22),\"\",SUM(OFFSET(Data!$G$5,(Offsets!$F6-1)*(9 * 24 * (60 / $B$8) + 3)+(weekdaycode(Q$19)-1)*24* (60 / $B$8),0,24* (60 / $B$8),1))/SUM(OFFSET(Data!$C$5,(Offsets!$F6-1)*(9 * 24 * (60 / $B$8) + 3)+(weekdaycode(Q$19)-1)*24* (60 / $B$8),0,24* (60 / $B$8),12)))","v":2.0732883317261332E-2},{"$f":"IF(ISBLANK($F22),\"\",SUM(OFFSET(Data!$G$5,(Offsets!$F6-1)*(9 * 24 * (60 / $B$8) + 3)+(weekdaycode(Q$19)-1)*24* (60 / $B$8),39,24* (60 / $B$8),1))/SUM(OFFSET(Data!$C$5,(Offsets!$F6-1)*(9 * 24 * (60 / $B$8) + 3)+(weekdaycode(Q$19)-1)*24* (60 / $B$8),39,24* (60 / $B$8),12)))","v":2.1904761904761906E-2},{"$f":"IF(ISBLANK($F22),\"\",SUM(OFFSET(Data!$G$5,(Offsets!$F6-1)*(9 * 24 * (60 / $B$8) + 3)+(weekdaycode(S$19)-1)*24* (60 / $B$8),0,24* (60 / $B$8),1))/SUM(OFFSET(Data!$C$5,(Offsets!$F6-1)*(9 * 24 * (60 / $B$8) + 3)+(weekdaycode(S$19)-1)*24* (60 / $B$8),0,24* (60 / $B$8),12)))","v":1.871657754010695E-2},{"$f":"IF(ISBLANK($F22),\"\",SUM(OFFSET(Data!$G$5,(Offsets!$F6-1)*(9 * 24 * (60 / $B$8) + 3)+(weekdaycode(S$19)-1)*24* (60 / $B$8),39,24* (60 / $B$8),1))/SUM(OFFSET(Data!$C$5,(Offsets!$F6-1)*(9 * 24 * (60 / $B$8) + 3)+(weekdaycode(S$19)-1)*24* (60 / $B$8),39,24* (60 / $B$8),12)))","v":1.3405948889819858E-2},{"$f":"IF(ISBLANK($F22),\"\",SUM(OFFSET(Data!$G$5,(Offsets!$F6-1)*(9 * 24 * (60 / $B$8) + 3)+(weekdaycode(U$19)-1)*24* (60 / $B$8),0,24* (60 / $B$8),1))/SUM(OFFSET(Data!$C$5,(Offsets!$F6-1)*(9 * 24 * (60 / $B$8) + 3)+(weekdaycode(U$19)-1)*24* (60 / $B$8),0,24* (60 / $B$8),12)))","v":1.2055455093429777E-2},{"$f":"IF(ISBLANK($F22),\"\",SUM(OFFSET(Data!$G$5,(Offsets!$F6-1)*(9 * 24 * (60 / $B$8) + 3)+(weekdaycode(U$19)-1)*24* (60 / $B$8),39,24* (60 / $B$8),1))/SUM(OFFSET(Data!$C$5,(Offsets!$F6-1)*(9 * 24 * (60 / $B$8) + 3)+(weekdaycode(U$19)-1)*24* (60 / $B$8),39,24* (60 / $B$8),12)))","v":1.1820330969267139E-2},{"$f":"IF(ISBLANK($F22),\"\",SUM(OFFSET(Data!$G$5,(Offsets!$F6-1)*(9 * 24 * (60 / $B$8) + 3)+(weekdaycode(W$19)-1)*24* (60 / $B$8),0,24* (60 / $B$8),1))/SUM(OFFSET(Data!$C$5,(Offsets!$F6-1)*(9 * 24 * (60 / $B$8) + 3)+(weekdaycode(W$19)-1)*24* (60 / $B$8),0,24* (60 / $B$8),12)))","v":{"$error":"#DIV/0!"}},{"$f":"IF(ISBLANK($F22),\"\",SUM(OFFSET(Data!$G$5,(Offsets!$F6-1)*(9 * 24 * (60 / $B$8) + 3)+(weekdaycode(W$19)-1)*24* (60 / $B$8),39,24* (60 / $B$8),1))/SUM(OFFSET(Data!$C$5,(Offsets!$F6-1)*(9 * 24 * (60 / $B$8) + 3)+(weekdaycode(W$19)-1)*24* (60 / $B$8),39,24* (60 / $B$8),12)))","v":{"$error":"#DIV/0!"}}]
["3. High Market Place - South",null,null,null,null,"High Market Place 3.txt",null,null,null,null,{"$f":"IF(ISBLANK($F23),\"\",SUM(OFFSET(Data!$G$5,(Offsets!$F7-1)*(9 * 24 * (60 / $B$8) + 3)+(weekdaycode(K$19)-1)*24* (60 / $B$8),0,24* (60 / $B$8),1))/SUM(OFFSET(Data!$C$5,(Offsets!$F7-1)*(9 * 24 * (60 / $B$8) + 3)+(weekdaycode(K$19)-1)*24* (60 / $B$8),0,24* (60 / $B$8),12)))","v":2.361111111111111E-2},{"$f":"IF(ISBLANK($F23),\"\",SUM(OFFSET(Data!$G$5,(Offsets!$F7-1)*(9 * 24 * (60 / $B$8) + 3)+(weekdaycode(K$19)-1)*24* (60 / $B$8),39,24* (60 / $B$8),1))/SUM(OFFSET(Data!$C$5,(Offsets!$F7-1)*(9 * 24 * (60 / $B$8) + 3)+(weekdaycode(K$19)-1)*24* (60 / $B$8),39,24* (60 / $B$8),12)))","v":2.0731707317073172E-2},{"$f":"IF(ISBLANK($F23),\"\",SUM(OFFSET(Data!$G$5,(Offsets!$F7-1)*(9 * 24 * (60 / $B$8) + 3)+(weekdaycode(M$19)-1)*24* (60 / $B$8),0,24* (60 / $B$8),1))/SUM(OFFSET(Data!$C$5,(Offsets!$F7-1)*(9 * 24 * (60 / $B$8) + 3)+(weekdaycode(M$19)-1)*24* (60 / $B$8),0,24* (60 / $B$8),12)))","v":2.159827213822894E-2},{"$f":"IF(ISBLANK($F23),\"\",SUM(OFFSET(Data!$G$5,(Offsets!$F7-1)*(9 * 24 * (60 / $B$8) + 3)+(weekdaycode(M$19)-1)*24* (60 / $B$8),39,24* (60 / $B$8),1))/SUM(OFFSET(Data!$C$5,(Offsets!$F7-1)*(9 * 24 * (60 / $B$8) + 3)+(weekdaycode(M$19)-1)*24* (60 / $B$8),39,24* (60 / $B$8),12)))","v":2.5195968645016796E-2},{"$f":"IF(ISBLANK($F23),\"\",SUM(OFFSET(Data!$G$5,(Offsets!$F7-1)*(9 * 24 * (60 / $B$8) + 3)+(weekdaycode(O$19)-1)*24* (60 / $B$8),0,24* (60 / $B$8),1))/SUM(OFFSET(Data!$C$5,(Offsets!$F7-1)*(9 * 24 * (60 / $B$8) + 3)+(weekdaycode(O$19)-1)*24* (60 / $B$8),0,24* (60 / $B$8),12)))","v":2.2674687644608976E-2},{"$f":"IF(ISBLANK($F23),\"\",SUM(OFFSET(Data!$G$5,(Offsets!$F7-1)*(9 * 24 * (60 / $B$8) + 3)+(weekdaycode(O$19)-1)*24* (60 / $B$8),39,24* (60 / $B$8),1))/SUM(OFFSET(Data!$C$5,(Offsets!$F7-1)*(9 * 24 * (60 / $B$8) + 3)+(weekdaycode(O$19)-1)*24* (60 / $B$8),39,24* (60 / $B$8),12)))","v":3.0358227079538554E-2},{"$f":"IF(ISBLANK($F23),\"\",SUM(OFFSET(Data!$G$5,(Offsets!$F7-1)*(9 * 24 * (60 / $B$8) + 3)+(weekdaycode(Q$19)-1)*24* (60 / $B$8),0,24* (60 / $B$8),1))/SUM(OFFSET(Data!$C$5,(Offsets!$F7-1)*(9 * 24 * (60 / $B$8) + 3)+(weekdaycode(Q$19)-1)*24* (60 / $B$8),0,24* (60 / $B$8),12)))","v":2.9950827000447027E-2},{"$f":"IF(ISBLANK($F23),\"\",SUM(OFFSET(Data!$G$5,(Offsets!$F7-1)*(9 * 24 * (60 / $B$8) + 3)+(weekdaycode(Q$19)-1)*24* (60 / $B$8),39,24* (60 / $B$8),1))/SUM(OFFSET(Data!$C$5,(Offsets!$F7-1)*(9 * 24 * (60 / $B$8) + 3)+(weekdaycode(Q$19)-1)*24* (60 / $B$8),39,24* (60 / $B$8),12)))","v":3.1810294968189705E-2},{"$f":"IF(ISBLANK($F23),\"\",SUM(OFFSET(Data!$G$5,(Offsets!$F7-1)*(9 * 24 * (60 / $B$8) + 3)+(weekdaycode(S$19)-1)*24* (60 / $B$8),0,24* (60 / $B$8),1))/SUM(OFFSET(Data!$C$5,(Offsets!$F7-1)*(9 * 24 * (60 / $B$8) + 3)+(weekdaycode(S$19)-1)*24* (60 / $B$8),0,24* (60 / $B$8),12)))","v":2.2005924672027083E-2},{"$f":"IF(ISBLANK($F23),\"\",SUM(OFFSET(Data!$G$5,(Offsets!$F7-1)*(9 * 24 * (60 / $B$8) + 3)+(weekdaycode(S$19)-1)*24* (60 / $B$8),39,24* (60 / $B$8),1))/SUM(OFFSET(Data!$C$5,(Offsets!$F7-1)*(9 * 24 * (60 / $B$8) + 3)+(weekdaycode(S$19)-1)*24* (60 / $B$8),39,24* (60 / $B$8),12)))","v":2.4226804123711341E-2},{"$f":"IF(ISBLANK($F23),\"\",SUM(OFFSET(Data!$G$5,(Offsets!$F7-1)*(9 * 24 * (60 / $B$8) + 3)+(weekdaycode(U$19)-1)*24* (60 / $B$8),0,24* (60 / $B$8),1))/SUM(OFFSET(Data!$C$5,(Offsets!$F7-1)*(9 * 24 * (60 / $B$8) + 3)+(weekdaycode(U$19)-1)*24* (60 / $B$8),0,24* (60 / $B$8),12)))","v":1.3493253373313344E-2},{"$f":"IF(ISBLANK($F23),\"\",SUM(OFFSET(Data!$G$5,(Offsets!$F7-1)*(9 * 24 * (60 / $B$8) + 3)+(weekdaycode(U$19)-1)*24* (60 / $B$8),39,24* (60 / $B$8),1))/SUM(OFFSET(Data!$C$5,(Offsets!$F7-1)*(9 * 24 * (60 / $B$8) + 3)+(weekdaycode(U$19)-1)*24* (60 / $B$8),39,24* (60 / $B$8),12)))","v":1.4409221902017291E-2},{"$f":"IF(ISBLANK($F23),\"\",SUM(OFFSET(Data!$G$5,(Offsets!$F7-1)*(9 * 24 * (60 / $B$8) + 3)+(weekdaycode(W$19)-1)*24* (60 / $B$8),0,24* (60 / $B$8),1))/SUM(OFFSET(Data!$C$5,(Offsets!$F7-1)*(9 * 24 * (60 / $B$8) + 3)+(weekdaycode(W$19)-1)*24* (60 / $B$8),0,24* (60 / $B$8),12)))","v":9.4756790903348081E-3},{"$f":"IF(ISBLANK($F23),\"\",SUM(OFFSET(Data!$G$5,(Offsets!$F7-1)*(9 * 24 * (60 / $B$8) + 3)+(weekdaycode(W$19)-1)*24* (60 / $B$8),39,24* (60 / $B$8),1))/SUM(OFFSET(Data!$C$5,(Offsets!$F7-1)*(9 * 24 * (60 / $B$8) + 3)+(weekdaycode(W$19)-1)*24* (60 / $B$8),39,24* (60 / $B$8),12)))","v":6.3441712926249009E-3}]
["4. High Market Place - North",null,null,null,null,"High Market Place 4.txt",null,null,null,null,{"$f":"IF(ISBLANK($F24),\"\",SUM(OFFSET(Data!$G$5,(Offsets!$F8-1)*(9 * 24 * (60 / $B$8) + 3)+(weekdaycode(K$19)-1)*24* (60 / $B$8),0,24* (60 / $B$8),1))/SUM(OFFSET(Data!$C$5,(Offsets!$F8-1)*(9 * 24 * (60 / $B$8) + 3)+(weekdaycode(K$19)-1)*24* (60 / $B$8),0,24* (60 / $B$8),12)))","v":3.7918215613382898E-2},{"$f":"IF(ISBLANK($F24),\"\",SUM(OFFSET(Data!$G$5,(Offsets!$F8-1)*(9 * 24 * (60 / $B$8) + 3)+(weekdaycode(K$19)-1)*24* (60 / $B$8),39,24* (60 / $B$8),1))/SUM(OFFSET(Data!$C$5,(Offsets!$F8-1)*(9 * 24 * (60 / $B$8) + 3)+(weekdaycode(K$19)-1)*24* (60 / $B$8),39,24* (60 / $B$8),12)))","v":3.6669213139801378E-2},{"$f":"IF(ISBLANK($F24),\"\",SUM(OFFSET(Data!$G$5,(Offsets!$F8-1)*(9 * 24 * (60 / $B$8) + 3)+(weekdaycode(M$19)-1)*24* (60 / $B$8),0,24* (60 / $B$8),1))/SUM(OFFSET(Data!$C$5,(Offsets!$F8-1)*(9 * 24 * (60 / $B$8) + 3)+(weekdaycode(M$19)-1)*24* (60 / $B$8),0,24* (60 / $B$8),12)))","v":3.9517749497655727E-2},{"$f":"IF(ISBLANK($F24),\"\",SUM(OFFSET(Data!$G$5,(Offsets!$F8-1)*(9 * 24 * (60 / $B$8) + 3)+(weekdaycode(M$19)-1)*24* (60 / $B$8),39,24* (60 / $B$8),1))/SUM(OFFSET(Data!$C$5,(Offsets!$F8-1)*(9 * 24 * (60 / $B$8) + 3)+(weekdaycode(M$19)-1)*24* (60 / $B$8),39,24* (60 / $B$8),12)))","v":3.6703601108033244E-2},{"$f":"IF(ISBLANK($F24),\"\",SUM(OFFSET(Data!$G$5,(Offsets!$F8-1)*(9 * 24 * (60 / $B$8) + 3)+(weekdaycode(O$19)-1)*24* (60 / $B$8),0,24* (60 / $B$8),1))/SUM(OFFSET(Data!$C$5,(Offsets!$F8-1)*(9 * 24 * (60 / $B$8) + 3)+(weekdaycode(O$19)-1)*24* (60 / $B$8),0,24* (60 / $B$8),12)))","v":4.7361299052774017E-2},{"$f":"IF(ISBLANK($F24),\"\",SUM(OFFSET(Data!$G$5,(Offsets!$F8-1)*(9 * 24 * (60 / $B$8) + 3)+(weekdaycode(O$19)-1)*24* (60 / $B$8),39,24* (60 / $B$8),1))/SUM(OFFSET(Data!$C$5,(Offsets!$F8-1)*(9 * 24 * (60 / $B$8) + 3)+(weekdaycode(O$19)-1)*24* (60 / $B$8),39,24* (60 / $B$8),12)))","v":3.5788024776324846E-2},{"$f":"IF(ISBLANK($F24),\"\",SUM(OFFSET(Data!$G$5,(Offsets!$F8-1)*(9 * 24 * (60 / $B$8) + 3)+(weekdaycode(Q$19)-1)*24* (60 / $B$8),0,24* (60 / $B$8),1))/SUM(OFFSET(Data!$C$5,(Offsets!$F8-1)*(9 * 24 * (60 / $B$8) + 3)+(weekdaycode(Q$19)-1)*24* (60 / $B$8),0,24* (60 / $B$8),12)))","v":5.1886792452830191E-2},{"$f":"IF(ISBLANK($F24),\"\",SUM(OFFSET(Data!$G$5,(Offsets!$F8-1)*(9 * 24 * (60 / $B$8) + 3)+(weekdaycode(Q$19)-1)*24* (60 / $B$8),39,24* (60 / $B$8),1))/SUM(OFFSET(Data!$C$5,(Offsets!$F8-1)*(9 * 24 * (60 / $B$8) + 3)+(weekdaycode(Q$19)-1)*24* (60 / $B$8),39,24* (60 / $B$8),12)))","v":4.601648351648352E-2},{"$f":"IF(ISBLANK($F24),\"\",SUM(OFFSET(Data!$G$5,(Offsets!$F8-1)*(9 * 24 * (60 / $B$8) + 3)+(weekdaycode(S$19)-1)*24* (60 / $B$8),0,24* (60 / $B$8),1))/SUM(OFFSET(Data!$C$5,(Offsets!$F8-1)*(9 * 24 * (60 / $B$8) + 3)+(weekdaycode(S$19)-1)*24* (60 / $B$8),0,24* (60 / $B$8),12)))","v":4.1305796135909394E-2},{"$f":"IF(ISBLANK($F24),\"\",SUM(OFFSET(Data!$G$5,(Offsets!$F8-1)*(9 * 24 * (60 / $B$8) + 3)+(weekdaycode(S$19)-1)*24* (60 / $B$8),39,24* (60 / $B$8),1))/SUM(OFFSET(Data!$C$5,(Offsets!$F8-1)*(9 * 24 * (60 / $B$8) + 3)+(weekdaycode(S$19)-1)*24* (60 / $B$8),39,24* (60 / $B$8),12)))","v":3.5038542396636299E-2},{"$f":"IF(ISBLANK($F24),\"\",SUM(OFFSET(Data!$G$5,(Offsets!$F8-1)*(9 * 24 * (60 / $B$8) + 3)+(weekdaycode(U$19)-1)*24* (60 / $B$8),0,24* (60 / $B$8),1))/SUM(OFFSET(Data!$C$5,(Offsets!$F8-1)*(9 * 24 * (60 / $B$8) + 3)+(weekdaycode(U$19)-1)*24* (60 / $B$8),0,24* (60 / $B$8),12)))","v":3.1548055759354363E-2},{"$f":"IF(ISBLANK($F24),\"\",SUM(OFFSET(Data!$G$5,(Offsets!$F8-1)*(9 * 24 * (60 / $B$8) + 3)+(weekdaycode(U$19)-1)*24* (60 / $B$8),39,24* (60 / $B$8),1))/SUM(OFFSET(Data!$C$5,(Offsets!$F8-1)*(9 * 24 * (60 / $B$8) + 3)+(weekdaycode(U$19)-1)*24* (60 / $B$8),39,24* (60 / $B$8),12)))","v":2.4577572964669739E-2},{"$f":"IF(ISBLANK($F24),\"\",SUM(OFFSET(Data!$G$5,(Offsets!$F8-1)*(9 * 24 * (60 / $B$8) + 3)+(weekdaycode(W$19)-1)*24* (60 / $B$8),0,24* (60 / $B$8),1))/SUM(OFFSET(Data!$C$5,(Offsets!$F8-1)*(9 * 24 * (60 / $B$8) + 3)+(weekdaycode(W$19)-1)*24* (60 / $B$8),0,24* (60 / $B$8),12)))","v":1.9589552238805971E-2},{"$f":"IF(ISBLANK($F24),\"\",SUM(OFFSET(Data!$G$5,(Offsets!$F8-1)*(9 * 24 * (60 / $B$8) + 3)+(weekdaycode(W$19)-1)*24* (60 / $B$8),39,24* (60 / $B$8),1))/SUM(OFFSET(Data!$C$5,(Offsets!$F8-1)*(9 * 24 * (60 / $B$8) + 3)+(weekdaycode(W$19)-1)*24* (60 / $B$8),39,24* (60 / $B$8),12)))","v":1.5813953488372091E-2}]
["5. Gray Lane ",null,null,null,null,"Gray Lane.txt",null,null,null,null,{"$f":"IF(ISBLANK($F25),\"\",SUM(OFFSET(Data!$G$5,(Offsets!$F9-1)*(9 * 24 * (60 / $B$8) + 3)+(weekdaycode(K$19)-1)*24* (60 / $B$8),0,24* (60 / $B$8),1))/SUM(OFFSET(Data!$C$5,(Offsets!$F9-1)*(9 * 24 * (60 / $B$8) + 3)+(weekdaycode(K$19)-1)*24* (60 / $B$8),0,24* (60 / $B$8),12)))","v":7.7407740774077402E-2},{"$f":"IF(ISBLANK($F25),\"\",SUM(OFFSET(Data!$G$5,(Offsets!$F9-1)*(9 * 24 * (60 / $B$8) + 3)+(weekdaycode(K$19)-1)*24* (60 / $B$8),39,24* (60 / $B$8),1))/SUM(OFFSET(Data!$C$5,(Offsets!$F9-1)*(9 * 24 * (60 / $B$8) + 3)+(weekdaycode(K$19)-1)*24* (60 / $B$8),39,24* (60 / $B$8),12)))","v":7.476635514018691E-2},{"$f":"IF(ISBLANK($F25),\"\",SUM(OFFSET(Data!$G$5,(Offsets!$F9-1)*(9 * 24 * (60 / $B$8) + 3)+(weekdaycode(M$19)-1)*24* (60 / $B$8),0,24* (60 / $B$8),1))/SUM(OFFSET(Data!$C$5,(Offsets!$F9-1)*(9 * 24 * (60 / $B$8) + 3)+(weekdaycode(M$19)-1)*24* (60 / $B$8),0,24* (60 / $B$8),12)))","v":7.1969696969696975E-2},{"$f":"IF(ISBLANK($F25),\"\",SUM(OFFSET(Data!$G$5,(Offsets!$F9-1)*(9 * 24 * (60 / $B$8) + 3)+(weekdaycode(M$19)-1)*24* (60 / $B$8),39,24* (60 / $B$8),1))/SUM(OFFSET(Data!$C$5,(Offsets!$F9-1)*(9 * 24 * (60 / $B$8) + 3)+(weekdaycode(M$19)-1)*24* (60 / $B$8),39,24* (60 / $B$8),12)))","v":6.4466615502686106E-2},{"$f":"IF(ISBLANK($F25),\"\",SUM(OFFSET(Data!$G$5,(Offsets!$F9-1)*(9 * 24 * (60 / $B$8) + 3)+(weekdaycode(O$19)-1)*24* (60 / $B$8),0,24* (60 / $B$8),1))/SUM(OFFSET(Data!$C$5,(Offsets!$F9-1)*(9 * 24 * (60 / $B$8) + 3)+(weekdaycode(O$19)-1)*24* (60 / $B$8),0,24* (60 / $B$8),12)))","v":5.5225148683092605E-2},{"$f":"IF(ISBLANK($F25),\"\",SUM(OFFSET(Data!$G$5,(Offsets!$F9-1)*(9 * 24 * (60 / $B$8) + 3)+(weekdaycode(O$19)-1)*24* (60 / $B$8),39,24* (60 / $B$8),1))/SUM(OFFSET(Data!$C$5,(Offsets!$F9-1)*(9 * 24 * (60 / $B$8) + 3)+(weekdaycode(O$19)-1)*24* (60 / $B$8),39,24* (60 / $B$8),12)))","v":5.2772808586762074E-2},{"$f":"IF(ISBLANK($F25),\"\",SUM(OFFSET(Data!$G$5,(Offsets!$F9-1)*(9 * 24 * (60 / $B$8) + 3)+(weekdaycode(Q$19)-1)*24* (60 / $B$8),0,24* (60 / $B$8),1))/SUM(OFFSET(Data!$C$5,(Offsets!$F9-1)*(9 * 24 * (60 / $B$8) + 3)+(weekdaycode(Q$19)-1)*24* (60 / $B$8),0,24* (60 / $B$8),12)))","v":6.0686015831134567E-2},{"$f":"IF(ISBLANK($F25),\"\",SUM(OFFSET(Data!$G$5,(Offsets!$F9-1)*(9 * 24 * (60 / $B$8) + 3)+(weekdaycode(Q$19)-1)*24* (60 / $B$8),39,24* (60 / $B$8),1))/SUM(OFFSET(Data!$C$5,(Offsets!$F9-1)*(9 * 24 * (60 / $B$8) + 3)+(weekdaycode(Q$19)-1)*24* (60 / $B$8),39,24* (60 / $B$8),12)))","v":4.5289855072463768E-2},{"$f":"IF(ISBLANK($F25),\"\",SUM(OFFSET(Data!$G$5,(Offsets!$F9-1)*(9 * 24 * (60 / $B$8) + 3)+(weekdaycode(S$19)-1)*24* (60 / $B$8),0,24* (60 / $B$8),1))/SUM(OFFSET(Data!$C$5,(Offsets!$F9-1)*(9 * 24 * (60 / $B$8) + 3)+(weekdaycode(S$19)-1)*24* (60 / $B$8),0,24* (60 / $B$8),12)))","v":5.1894563426688634E-2},{"$f":"IF(ISBLANK($F25),\"\",SUM(OFFSET(Data!$G$5,(Offsets!$F9-1)*(9 * 24 * (60 / $B$8) + 3)+(weekdaycode(S$19)-1)*24* (60 / $B$8),39,24* (60 / $B$8),1))/SUM(OFFSET(Data!$C$5,(Offsets!$F9-1)*(9 * 24 * (60 / $B$8) + 3)+(weekdaycode(S$19)-1)*24* (60 / $B$8),39,24* (60 / $B$8),12)))","v":5.387205387205387E-2},{"$f":"IF(ISBLANK($F25),\"\",SUM(OFFSET(Data!$G$5,(Offsets!$F9-1)*(9 * 24 * (60 / $B$8) + 3)+(weekdaycode(U$19)-1)*24* (60 / $B$8),0,24* (60 / $B$8),1))/SUM(OFFSET(Data!$C$5,(Offsets!$F9-1)*(9 * 24 * (60 / $B$8) + 3)+(weekdaycode(U$19)-1)*24* (60 / $B$8),0,24* (60 / $B$8),12)))","v":2.2297297297297299E-2},{"$f":"IF(ISBLANK($F25),\"\",SUM(OFFSET(Data!$G$5,(Offsets!$F9-1)*(9 * 24 * (60 / $B$8) + 3)+(weekdaycode(U$19)-1)*24* (60 / $B$8),39,24* (60 / $B$8),1))/SUM(OFFSET(Data!$C$5,(Offsets!$F9-1)*(9 * 24 * (60 / $B$8) + 3)+(weekdaycode(U$19)-1)*24* (60 / $B$8),39,24* (60 / $B$8),12)))","v":2.5222551928783383E-2},{"$f":"IF(ISBLANK($F25),\"\",SUM(OFFSET(Data!$G$5,(Offsets!$F9-1)*(9 * 24 * (60 / $B$8) + 3)+(weekdaycode(W$19)-1)*24* (60 / $B$8),0,24* (60 / $B$8),1))/SUM(OFFSET(Data!$C$5,(Offsets!$F9-1)*(9 * 24 * (60 / $B$8) + 3)+(weekdaycode(W$19)-1)*24* (60 / $B$8),0,24* (60 / $B$8),12)))","v":3.0560271646859084E-2},{"$f":"IF(ISBLANK($F25),\"\",SUM(OFFSET(Data!$G$5,(Offsets!$F9-1)*(9 * 24 * (60 / $B$8) + 3)+(weekdaycode(W$19)-1)*24* (60 / $B$8),39,24* (60 / $B$8),1))/SUM(OFFSET(Data!$C$5,(Offsets!$F9-1)*(9 * 24 * (60 / $B$8) + 3)+(weekdaycode(W$19)-1)*24* (60 / $B$8),39,24* (60 / $B$8),12)))","v":1.6608391608391608E-2}]
[null,null,null,null,null,null,null,null,null,null,{"$f":"IF(ISBLANK($F26),\"\",SUM(OFFSET(Data!$G$5,(Offsets!$F10-1)*(9 * 24 * (60 / $B$8) + 3)+(weekdaycode(K$19)-1)*24* (60 / $B$8),0,24* (60 / $B$8),1))/SUM(OFFSET(Data!$C$5,(Offsets!$F10-1)*(9 * 24 * (60 / $B$8) + 3)+(weekdaycode(K$19)-1)*24* (60 / $B$8),0,24* (60 / $B$8),12)))","v":""},{"$f":"IF(ISBLANK($F26),\"\",SUM(OFFSET(Data!$G$5,(Offsets!$F10-1)*(9 * 24 * (60 / $B$8) + 3)+(weekdaycode(K$19)-1)*24* (60 / $B$8),39,24* (60 / $B$8),1))/SUM(OFFSET(Data!$C$5,(Offsets!$F10-1)*(9 * 24 * (60 / $B$8) + 3)+(weekdaycode(K$19)-1)*24* (60 / $B$8),39,24* (60 / $B$8),12)))","v":""},{"$f":"IF(ISBLANK($F26),\"\",SUM(OFFSET(Data!$G$5,(Offsets!$F10-1)*(9 * 24 * (60 / $B$8) + 3)+(weekdaycode(M$19)-1)*24* (60 / $B$8),0,24* (60 / $B$8),1))/SUM(OFFSET(Data!$C$5,(Offsets!$F10-1)*(9 * 24 * (60 / $B$8) + 3)+(weekdaycode(M$19)-1)*24* (60 / $B$8),0,24* (60 / $B$8),12)))","v":""},{"$f":"IF(ISBLANK($F26),\"\",SUM(OFFSET(Data!$G$5,(Offsets!$F10-1)*(9 * 24 * (60 / $B$8) + 3)+(weekdaycode(M$19)-1)*24* (60 / $B$8),39,24* (60 / $B$8),1))/SUM(OFFSET(Data!$C$5,(Offsets!$F10-1)*(9 * 24 * (60 / $B$8) + 3)+(weekdaycode(M$19)-1)*24* (60 / $B$8),39,24* (60 / $B$8),12)))","v":""},{"$f":"IF(ISBLANK($F26),\"\",SUM(OFFSET(Data!$G$5,(Offsets!$F10-1)*(9 * 24 * (60 / $B$8) + 3)+(weekdaycode(O$19)-1)*24* (60 / $B$8),0,24* (60 / $B$8),1))/SUM(OFFSET(Data!$C$5,(Offsets!$F10-1)*(9 * 24 * (60 / $B$8) + 3)+(weekdaycode(O$19)-1)*24* (60 / $B$8),0,24* (60 / $B$8),12)))","v":""},{"$f":"IF(ISBLANK($F26),\"\",SUM(OFFSET(Data!$G$5,(Offsets!$F10-1)*(9 * 24 * (60 / $B$8) + 3)+(weekdaycode(O$19)-1)*24* (60 / $B$8),39,24* (60 / $B$8),1))/SUM(OFFSET(Data!$C$5,(Offsets!$F10-1)*(9 * 24 * (60 / $B$8) + 3)+(weekdaycode(O$19)-1)*24* (60 / $B$8),39,24* (60 / $B$8),12)))","v":""},{"$f":"IF(ISBLANK($F26),\"\",SUM(OFFSET(Data!$G$5,(Offsets!$F10-1)*(9 * 24 * (60 / $B$8) + 3)+(weekdaycode(Q$19)-1)*24* (60 / $B$8),0,24* (60 / $B$8),1))/SUM(OFFSET(Data!$C$5,(Offsets!$F10-1)*(9 * 24 * (60 / $B$8) + 3)+(weekdaycode(Q$19)-1)*24* (60 / $B$8),0,24* (60 / $B$8),12)))","v":""},{"$f":"IF(ISBLANK($F26),\"\",SUM(OFFSET(Data!$G$5,(Offsets!$F10-1)*(9 * 24 * (60 / $B$8) + 3)+(weekdaycode(Q$19)-1)*24* (60 / $B$8),39,24* (60 / $B$8),1))/SUM(OFFSET(Data!$C$5,(Offsets!$F10-1)*(9 * 24 * (60 / $B$8) + 3)+(weekdaycode(Q$19)-1)*24* (60 / $B$8),39,24* (60 / $B$8),12)))","v":""},{"$f":"IF(ISBLANK($F26),\"\",SUM(OFFSET(Data!$G$5,(Offsets!$F10-1)*(9 * 24 * (60 / $B$8) + 3)+(weekdaycode(S$19)-1)*24* (60 / $B$8),0,24* (60 / $B$8),1))/SUM(OFFSET(Data!$C$5,(Offsets!$F10-1)*(9 * 24 * (60 / $B$8) + 3)+(weekdaycode(S$19)-1)*24* (60 / $B$8),0,24* (60 / $B$8),12)))","v":""},{"$f":"IF(ISBLANK($F26),\"\",SUM(OFFSET(Data!$G$5,(Offsets!$F10-1)*(9 * 24 * (60 / $B$8) + 3)+(weekdaycode(S$19)-1)*24* (60 / $B$8),39,24* (60 / $B$8),1))/SUM(OFFSET(Data!$C$5,(Offsets!$F10-1)*(9 * 24 * (60 / $B$8) + 3)+(weekdaycode(S$19)-1)*24* (60 / $B$8),39,24* (60 / $B$8),12)))","v":""},{"$f":"IF(ISBLANK($F26),\"\",SUM(OFFSET(Data!$G$5,(Offsets!$F10-1)*(9 * 24 * (60 / $B$8) + 3)+(weekdaycode(U$19)-1)*24* (60 / $B$8),0,24* (60 / $B$8),1))/SUM(OFFSET(Data!$C$5,(Offsets!$F10-1)*(9 * 24 * (60 / $B$8) + 3)+(weekdaycode(U$19)-1)*24* (60 / $B$8),0,24* (60 / $B$8),12)))","v":""},{"$f":"IF(ISBLANK($F26),\"\",SUM(OFFSET(Data!$G$5,(Offsets!$F10-1)*(9 * 24 * (60 / $B$8) + 3)+(weekdaycode(U$19)-1)*24* (60 / $B$8),39,24* (60 / $B$8),1))/SUM(OFFSET(Data!$C$5,(Offsets!$F10-1)*(9 * 24 * (60 / $B$8) + 3)+(weekdaycode(U$19)-1)*24* (60 / $B$8),39,24* (60 / $B$8),12)))","v":""},{"$f":"IF(ISBLANK($F26),\"\",SUM(OFFSET(Data!$G$5,(Offsets!$F10-1)*(9 * 24 * (60 / $B$8) + 3)+(weekdaycode(W$19)-1)*24* (60 / $B$8),0,24* (60 / $B$8),1))/SUM(OFFSET(Data!$C$5,(Offsets!$F10-1)*(9 * 24 * (60 / $B$8) + 3)+(weekdaycode(W$19)-1)*24* (60 / $B$8),0,24* (60 / $B$8),12)))","v":""},{"$f":"IF(ISBLANK($F26),\"\",SUM(OFFSET(Data!$G$5,(Offsets!$F10-1)*(9 * 24 * (60 / $B$8) + 3)+(weekdaycode(W$19)-1)*24* (60 / $B$8),39,24* (60 / $B$8),1))/SUM(OFFSET(Data!$C$5,(Offsets!$F10-1)*(9 * 24 * (60 / $B$8) + 3)+(weekdaycode(W$19)-1)*24* (60 / $B$8),39,24* (60 / $B$8),12)))","v":""}]
[null,null,null,null,null,null,null,null,null,null,{"$f":"IF(ISBLANK($F27),\"\",SUM(OFFSET(Data!$G$5,(Offsets!$F11-1)*(9 * 24 * (60 / $B$8) + 3)+(weekdaycode(K$19)-1)*24* (60 / $B$8),0,24* (60 / $B$8),1))/SUM(OFFSET(Data!$C$5,(Offsets!$F11-1)*(9 * 24 * (60 / $B$8) + 3)+(weekdaycode(K$19)-1)*24* (60 / $B$8),0,24* (60 / $B$8),12)))","v":""},{"$f":"IF(ISBLANK($F27),\"\",SUM(OFFSET(Data!$G$5,(Offsets!$F11-1)*(9 * 24 * (60 / $B$8) + 3)+(weekdaycode(K$19)-1)*24* (60 / $B$8),39,24* (60 / $B$8),1))/SUM(OFFSET(Data!$C$5,(Offsets!$F11-1)*(9 * 24 * (60 / $B$8) + 3)+(weekdaycode(K$19)-1)*24* (60 / $B$8),39,24* (60 / $B$8),12)))","v":""},{"$f":"IF(ISBLANK($F27),\"\",SUM(OFFSET(Data!$G$5,(Offsets!$F11-1)*(9 * 24 * (60 / $B$8) + 3)+(weekdaycode(M$19)-1)*24* (60 / $B$8),0,24* (60 / $B$8),1))/SUM(OFFSET(Data!$C$5,(Offsets!$F11-1)*(9 * 24 * (60 / $B$8) + 3)+(weekdaycode(M$19)-1)*24* (60 / $B$8),0,24* (60 / $B$8),12)))","v":""},{"$f":"IF(ISBLANK($F27),\"\",SUM(OFFSET(Data!$G$5,(Offsets!$F11-1)*(9 * 24 * (60 / $B$8) + 3)+(weekdaycode(M$19)-1)*24* (60 / $B$8),39,24* (60 / $B$8),1))/SUM(OFFSET(Data!$C$5,(Offsets!$F11-1)*(9 * 24 * (60 / $B$8) + 3)+(weekdaycode(M$19)-1)*24* (60 / $B$8),39,24* (60 / $B$8),12)))","v":""},{"$f":"IF(ISBLANK($F27),\"\",SUM(OFFSET(Data!$G$5,(Offsets!$F11-1)*(9 * 24 * (60 / $B$8) + 3)+(weekdaycode(O$19)-1)*24* (60 / $B$8),0,24* (60 / $B$8),1))/SUM(OFFSET(Data!$C$5,(Offsets!$F11-1)*(9 * 24 * (60 / $B$8) + 3)+(weekdaycode(O$19)-1)*24* (60 / $B$8),0,24* (60 / $B$8),12)))","v":""},{"$f":"IF(ISBLANK($F27),\"\",SUM(OFFSET(Data!$G$5,(Offsets!$F11-1)*(9 * 24 * (60 / $B$8) + 3)+(weekdaycode(O$19)-1)*24* (60 / $B$8),39,24* (60 / $B$8),1))/SUM(OFFSET(Data!$C$5,(Offsets!$F11-1)*(9 * 24 * (60 / $B$8) + 3)+(weekdaycode(O$19)-1)*24* (60 / $B$8),39,24* (60 / $B$8),12)))","v":""},{"$f":"IF(ISBLANK($F27),\"\",SUM(OFFSET(Data!$G$5,(Offsets!$F11-1)*(9 * 24 * (60 / $B$8) + 3)+(weekdaycode(Q$19)-1)*24* (60 / $B$8),0,24* (60 / $B$8),1))/SUM(OFFSET(Data!$C$5,(Offsets!$F11-1)*(9 * 24 * (60 / $B$8) + 3)+(weekdaycode(Q$19)-1)*24* (60 / $B$8),0,24* (60 / $B$8),12)))","v":""},{"$f":"IF(ISBLANK($F27),\"\",SUM(OFFSET(Data!$G$5,(Offsets!$F11-1)*(9 * 24 * (60 / $B$8) + 3)+(weekdaycode(Q$19)-1)*24* (60 / $B$8),39,24* (60 / $B$8),1))/SUM(OFFSET(Data!$C$5,(Offsets!$F11-1)*(9 * 24 * (60 / $B$8) + 3)+(weekdaycode(Q$19)-1)*24* (60 / $B$8),39,24* (60 / $B$8),12)))","v":""},{"$f":"IF(ISBLANK($F27),\"\",SUM(OFFSET(Data!$G$5,(Offsets!$F11-1)*(9 * 24 * (60 / $B$8) + 3)+(weekdaycode(S$19)-1)*24* (60 / $B$8),0,24* (60 / $B$8),1))/SUM(OFFSET(Data!$C$5,(Offsets!$F11-1)*(9 * 24 * (60 / $B$8) + 3)+(weekdaycode(S$19)-1)*24* (60 / $B$8),0,24* (60 / $B$8),12)))","v":""},{"$f":"IF(ISBLANK($F27),\"\",SUM(OFFSET(Data!$G$5,(Offsets!$F11-1)*(9 * 24 * (60 / $B$8) + 3)+(weekdaycode(S$19)-1)*24* (60 / $B$8),39,24* (60 / $B$8),1))/SUM(OFFSET(Data!$C$5,(Offsets!$F11-1)*(9 * 24 * (60 / $B$8) + 3)+(weekdaycode(S$19)-1)*24* (60 / $B$8),39,24* (60 / $B$8),12)))","v":""},{"$f":"IF(ISBLANK($F27),\"\",SUM(OFFSET(Data!$G$5,(Offsets!$F11-1)*(9 * 24 * (60 / $B$8) + 3)+(weekdaycode(U$19)-1)*24* (60 / $B$8),0,24* (60 / $B$8),1))/SUM(OFFSET(Data!$C$5,(Offsets!$F11-1)*(9 * 24 * (60 / $B$8) + 3)+(weekdaycode(U$19)-1)*24* (60 / $B$8),0,24* (60 / $B$8),12)))","v":""},{"$f":"IF(ISBLANK($F27),\"\",SUM(OFFSET(Data!$G$5,(Offsets!$F11-1)*(9 * 24 * (60 / $B$8) + 3)+(weekdaycode(U$19)-1)*24* (60 / $B$8),39,24* (60 / $B$8),1))/SUM(OFFSET(Data!$C$5,(Offsets!$F11-1)*(9 * 24 * (60 / $B$8) + 3)+(weekdaycode(U$19)-1)*24* (60 / $B$8),39,24* (60 / $B$8),12)))","v":""},{"$f":"IF(ISBLANK($F27),\"\",SUM(OFFSET(Data!$G$5,(Offsets!$F11-1)*(9 * 24 * (60 / $B$8) + 3)+(weekdaycode(W$19)-1)*24* (60 / $B$8),0,24* (60 / $B$8),1))/SUM(OFFSET(Data!$C$5,(Offsets!$F11-1)*(9 * 24 * (60 / $B$8) + 3)+(weekdaycode(W$19)-1)*24* (60 / $B$8),0,24* (60 / $B$8),12)))","v":""},{"$f":"IF(ISBLANK($F27),\"\",SUM(OFFSET(Data!$G$5,(Offsets!$F11-1)*(9 * 24 * (60 / $B$8) + 3)+(weekdaycode(W$19)-1)*24* (60 / $B$8),39,24* (60 / $B$8),1))/SUM(OFFSET(Data!$C$5,(Offsets!$F11-1)*(9 * 24 * (60 / $B$8) + 3)+(weekdaycode(W$19)-1)*24* (60 / $B$8),39,24* (60 / $B$8),12)))","v":""}]
[null,null,null,null,null,null,null,null,null,null,{"$f":"IF(ISBLANK($F28),\"\",SUM(OFFSET(Data!$G$5,(Offsets!$F12-1)*(9 * 24 * (60 / $B$8) + 3)+(weekdaycode(K$19)-1)*24* (60 / $B$8),0,24* (60 / $B$8),1))/SUM(OFFSET(Data!$C$5,(Offsets!$F12-1)*(9 * 24 * (60 / $B$8) + 3)+(weekdaycode(K$19)-1)*24* (60 / $B$8),0,24* (60 / $B$8),12)))","v":""},{"$f":"IF(ISBLANK($F28),\"\",SUM(OFFSET(Data!$G$5,(Offsets!$F12-1)*(9 * 24 * (60 / $B$8) + 3)+(weekdaycode(K$19)-1)*24* (60 / $B$8),39,24* (60 / $B$8),1))/SUM(OFFSET(Data!$C$5,(Offsets!$F12-1)*(9 * 24 * (60 / $B$8) + 3)+(weekdaycode(K$19)-1)*24* (60 / $B$8),39,24* (60 / $B$8),12)))","v":""},{"$f":"IF(ISBLANK($F28),\"\",SUM(OFFSET(Data!$G$5,(Offsets!$F12-1)*(9 * 24 * (60 / $B$8) + 3)+(weekdaycode(M$19)-1)*24* (60 / $B$8),0,24* (60 / $B$8),1))/SUM(OFFSET(Data!$C$5,(Offsets!$F12-1)*(9 * 24 * (60 / $B$8) + 3)+(weekdaycode(M$19)-1)*24* (60 / $B$8),0,24* (60 / $B$8),12)))","v":""},{"$f":"IF(ISBLANK($F28),\"\",SUM(OFFSET(Data!$G$5,(Offsets!$F12-1)*(9 * 24 * (60 / $B$8) + 3)+(weekdaycode(M$19)-1)*24* (60 / $B$8),39,24* (60 / $B$8),1))/SUM(OFFSET(Data!$C$5,(Offsets!$F12-1)*(9 * 24 * (60 / $B$8) + 3)+(weekdaycode(M$19)-1)*24* (60 / $B$8),39,24* (60 / $B$8),12)))","v":""},{"$f":"IF(ISBLANK($F28),\"\",SUM(OFFSET(Data!$G$5,(Offsets!$F12-1)*(9 * 24 * (60 / $B$8) + 3)+(weekdaycode(O$19)-1)*24* (60 / $B$8),0,24* (60 / $B$8),1))/SUM(OFFSET(Data!$C$5,(Offsets!$F12-1)*(9 * 24 * (60 / $B$8) + 3)+(weekdaycode(O$19)-1)*24* (60 / $B$8),0,24* (60 / $B$8),12)))","v":""},{"$f":"IF(ISBLANK($F28),\"\",SUM(OFFSET(Data!$G$5,(Offsets!$F12-1)*(9 * 24 * (60 / $B$8) + 3)+(weekdaycode(O$19)-1)*24* (60 / $B$8),39,24* (60 / $B$8),1))/SUM(OFFSET(Data!$C$5,(Offsets!$F12-1)*(9 * 24 * (60 / $B$8) + 3)+(weekdaycode(O$19)-1)*24* (60 / $B$8),39,24* (60 / $B$8),12)))","v":""},{"$f":"IF(ISBLANK($F28),\"\",SUM(OFFSET(Data!$G$5,(Offsets!$F12-1)*(9 * 24 * (60 / $B$8) + 3)+(weekdaycode(Q$19)-1)*24* (60 / $B$8),0,24* (60 / $B$8),1))/SUM(OFFSET(Data!$C$5,(Offsets!$F12-1)*(9 * 24 * (60 / $B$8) + 3)+(weekdaycode(Q$19)-1)*24* (60 / $B$8),0,24* (60 / $B$8),12)))","v":""},{"$f":"IF(ISBLANK($F28),\"\",SUM(OFFSET(Data!$G$5,(Offsets!$F12-1)*(9 * 24 * (60 / $B$8) + 3)+(weekdaycode(Q$19)-1)*24* (60 / $B$8),39,24* (60 / $B$8),1))/SUM(OFFSET(Data!$C$5,(Offsets!$F12-1)*(9 * 24 * (60 / $B$8) + 3)+(weekdaycode(Q$19)-1)*24* (60 / $B$8),39,24* (60 / $B$8),12)))","v":""},{"$f":"IF(ISBLANK($F28),\"\",SUM(OFFSET(Data!$G$5,(Offsets!$F12-1)*(9 * 24 * (60 / $B$8) + 3)+(weekdaycode(S$19)-1)*24* (60 / $B$8),0,24* (60 / $B$8),1))/SUM(OFFSET(Data!$C$5,(Offsets!$F12-1)*(9 * 24 * (60 / $B$8) + 3)+(weekdaycode(S$19)-1)*24* (60 / $B$8),0,24* (60 / $B$8),12)))","v":""},{"$f":"IF(ISBLANK($F28),\"\",SUM(OFFSET(Data!$G$5,(Offsets!$F12-1)*(9 * 24 * (60 / $B$8) + 3)+(weekdaycode(S$19)-1)*24* (60 / $B$8),39,24* (60 / $B$8),1))/SUM(OFFSET(Data!$C$5,(Offsets!$F12-1)*(9 * 24 * (60 / $B$8) + 3)+(weekdaycode(S$19)-1)*24* (60 / $B$8),39,24* (60 / $B$8),12)))","v":""},{"$f":"IF(ISBLANK($F28),\"\",SUM(OFFSET(Data!$G$5,(Offsets!$F12-1)*(9 * 24 * (60 / $B$8) + 3)+(weekdaycode(U$19)-1)*24* (60 / $B$8),0,24* (60 / $B$8),1))/SUM(OFFSET(Data!$C$5,(Offsets!$F12-1)*(9 * 24 * (60 / $B$8) + 3)+(weekdaycode(U$19)-1)*24* (60 / $B$8),0,24* (60 / $B$8),12)))","v":""},{"$f":"IF(ISBLANK($F28),\"\",SUM(OFFSET(Data!$G$5,(Offsets!$F12-1)*(9 * 24 * (60 / $B$8) + 3)+(weekdaycode(U$19)-1)*24* (60 / $B$8),39,24* (60 / $B$8),1))/SUM(OFFSET(Data!$C$5,(Offsets!$F12-1)*(9 * 24 * (60 / $B$8) + 3)+(weekdaycode(U$19)-1)*24* (60 / $B$8),39,24* (60 / $B$8),12)))","v":""},{"$f":"IF(ISBLANK($F28),\"\",SUM(OFFSET(Data!$G$5,(Offsets!$F12-1)*(9 * 24 * (60 / $B$8) + 3)+(weekdaycode(W$19)-1)*24* (60 / $B$8),0,24* (60 / $B$8),1))/SUM(OFFSET(Data!$C$5,(Offsets!$F12-1)*(9 * 24 * (60 / $B$8) + 3)+(weekdaycode(W$19)-1)*24* (60 / $B$8),0,24* (60 / $B$8),12)))","v":""},{"$f":"IF(ISBLANK($F28),\"\",SUM(OFFSET(Data!$G$5,(Offsets!$F12-1)*(9 * 24 * (60 / $B$8) + 3)+(weekdaycode(W$19)-1)*24* (60 / $B$8),39,24* (60 / $B$8),1))/SUM(OFFSET(Data!$C$5,(Offsets!$F12-1)*(9 * 24 * (60 / $B$8) + 3)+(weekdaycode(W$19)-1)*24* (60 / $B$8),39,24* (60 / $B$8),12)))","v":""}]
[null,null,null,null,null,null,null,null,null,null,{"$f":"IF(ISBLANK($F29),\"\",SUM(OFFSET(Data!$G$5,(Offsets!$F13-1)*(9 * 24 * (60 / $B$8) + 3)+(weekdaycode(K$19)-1)*24* (60 / $B$8),0,24* (60 / $B$8),1))/SUM(OFFSET(Data!$C$5,(Offsets!$F13-1)*(9 * 24 * (60 / $B$8) + 3)+(weekdaycode(K$19)-1)*24* (60 / $B$8),0,24* (60 / $B$8),12)))","v":""},{"$f":"IF(ISBLANK($F29),\"\",SUM(OFFSET(Data!$G$5,(Offsets!$F13-1)*(9 * 24 * (60 / $B$8) + 3)+(weekdaycode(K$19)-1)*24* (60 / $B$8),39,24* (60 / $B$8),1))/SUM(OFFSET(Data!$C$5,(Offsets!$F13-1)*(9 * 24 * (60 / $B$8) + 3)+(weekdaycode(K$19)-1)*24* (60 / $B$8),39,24* (60 / $B$8),12)))","v":""},{"$f":"IF(ISBLANK($F29),\"\",SUM(OFFSET(Data!$G$5,(Offsets!$F13-1)*(9 * 24 * (60 / $B$8) + 3)+(weekdaycode(M$19)-1)*24* (60 / $B$8),0,24* (60 / $B$8),1))/SUM(OFFSET(Data!$C$5,(Offsets!$F13-1)*(9 * 24 * (60 / $B$8) + 3)+(weekdaycode(M$19)-1)*24* (60 / $B$8),0,24* (60 / $B$8),12)))","v":""},{"$f":"IF(ISBLANK($F29),\"\",SUM(OFFSET(Data!$G$5,(Offsets!$F13-1)*(9 * 24 * (60 / $B$8) + 3)+(weekdaycode(M$19)-1)*24* (60 / $B$8),39,24* (60 / $B$8),1))/SUM(OFFSET(Data!$C$5,(Offsets!$F13-1)*(9 * 24 * (60 / $B$8) + 3)+(weekdaycode(M$19)-1)*24* (60 / $B$8),39,24* (60 / $B$8),12)))","v":""},{"$f":"IF(ISBLANK($F29),\"\",SUM(OFFSET(Data!$G$5,(Offsets!$F13-1)*(9 * 24 * (60 / $B$8) + 3)+(weekdaycode(O$19)-1)*24* (60 / $B$8),0,24* (60 / $B$8),1))/SUM(OFFSET(Data!$C$5,(Offsets!$F13-1)*(9 * 24 * (60 / $B$8) + 3)+(weekdaycode(O$19)-1)*24* (60 / $B$8),0,24* (60 / $B$8),12)))","v":""},{"$f":"IF(ISBLANK($F29),\"\",SUM(OFFSET(Data!$G$5,(Offsets!$F13-1)*(9 * 24 * (60 / $B$8) + 3)+(weekdaycode(O$19)-1)*24* (60 / $B$8),39,24* (60 / $B$8),1))/SUM(OFFSET(Data!$C$5,(Offsets!$F13-1)*(9 * 24 * (60 / $B$8) + 3)+(weekdaycode(O$19)-1)*24* (60 / $B$8),39,24* (60 / $B$8),12)))","v":""},{"$f":"IF(ISBLANK($F29),\"\",SUM(OFFSET(Data!$G$5,(Offsets!$F13-1)*(9 * 24 * (60 / $B$8) + 3)+(weekdaycode(Q$19)-1)*24* (60 / $B$8),0,24* (60 / $B$8),1))/SUM(OFFSET(Data!$C$5,(Offsets!$F13-1)*(9 * 24 * (60 / $B$8) + 3)+(weekdaycode(Q$19)-1)*24* (60 / $B$8),0,24* (60 / $B$8),12)))","v":""},{"$f":"IF(ISBLANK($F29),\"\",SUM(OFFSET(Data!$G$5,(Offsets!$F13-1)*(9 * 24 * (60 / $B$8) + 3)+(weekdaycode(Q$19)-1)*24* (60 / $B$8),39,24* (60 / $B$8),1))/SUM(OFFSET(Data!$C$5,(Offsets!$F13-1)*(9 * 24 * (60 / $B$8) + 3)+(weekdaycode(Q$19)-1)*24* (60 / $B$8),39,24* (60 / $B$8),12)))","v":""},{"$f":"IF(ISBLANK($F29),\"\",SUM(OFFSET(Data!$G$5,(Offsets!$F13-1)*(9 * 24 * (60 / $B$8) + 3)+(weekdaycode(S$19)-1)*24* (60 / $B$8),0,24* (60 / $B$8),1))/SUM(OFFSET(Data!$C$5,(Offsets!$F13-1)*(9 * 24 * (60 / $B$8) + 3)+(weekdaycode(S$19)-1)*24* (60 / $B$8),0,24* (60 / $B$8),12)))","v":""},{"$f":"IF(ISBLANK($F29),\"\",SUM(OFFSET(Data!$G$5,(Offsets!$F13-1)*(9 * 24 * (60 / $B$8) + 3)+(weekdaycode(S$19)-1)*24* (60 / $B$8),39,24* (60 / $B$8),1))/SUM(OFFSET(Data!$C$5,(Offsets!$F13-1)*(9 * 24 * (60 / $B$8) + 3)+(weekdaycode(S$19)-1)*24* (60 / $B$8),39,24* (60 / $B$8),12)))","v":""},{"$f":"IF(ISBLANK($F29),\"\",SUM(OFFSET(Data!$G$5,(Offsets!$F13-1)*(9 * 24 * (60 / $B$8) + 3)+(weekdaycode(U$19)-1)*24* (60 / $B$8),0,24* (60 / $B$8),1))/SUM(OFFSET(Data!$C$5,(Offsets!$F13-1)*(9 * 24 * (60 / $B$8) + 3)+(weekdaycode(U$19)-1)*24* (60 / $B$8),0,24* (60 / $B$8),12)))","v":""},{"$f":"IF(ISBLANK($F29),\"\",SUM(OFFSET(Data!$G$5,(Offsets!$F13-1)*(9 * 24 * (60 / $B$8) + 3)+(weekdaycode(U$19)-1)*24* (60 / $B$8),39,24* (60 / $B$8),1))/SUM(OFFSET(Data!$C$5,(Offsets!$F13-1)*(9 * 24 * (60 / $B$8) + 3)+(weekdaycode(U$19)-1)*24* (60 / $B$8),39,24* (60 / $B$8),12)))","v":""},{"$f":"IF(ISBLANK($F29),\"\",SUM(OFFSET(Data!$G$5,(Offsets!$F13-1)*(9 * 24 * (60 / $B$8) + 3)+(weekdaycode(W$19)-1)*24* (60 / $B$8),0,24* (60 / $B$8),1))/SUM(OFFSET(Data!$C$5,(Offsets!$F13-1)*(9 * 24 * (60 / $B$8) + 3)+(weekdaycode(W$19)-1)*24* (60 / $B$8),0,24* (60 / $B$8),12)))","v":""},{"$f":"IF(ISBLANK($F29),\"\",SUM(OFFSET(Data!$G$5,(Offsets!$F13-1)*(9 * 24 * (60 / $B$8) + 3)+(weekdaycode(W$19)-1)*24* (60 / $B$8),39,24* (60 / $B$8),1))/SUM(OFFSET(Data!$C$5,(Offsets!$F13-1)*(9 * 24 * (60 / $B$8) + 3)+(weekdaycode(W$19)-1)*24* (60 / $B$8),39,24* (60 / $B$8),12)))","v":""}]
[null,null,null,null,null,null,null,null,null,null,{"$f":"IF(ISBLANK($F30),\"\",SUM(OFFSET(Data!$G$5,(Offsets!$F14-1)*(9 * 24 * (60 / $B$8) + 3)+(weekdaycode(K$19)-1)*24* (60 / $B$8),0,24* (60 / $B$8),1))/SUM(OFFSET(Data!$C$5,(Offsets!$F14-1)*(9 * 24 * (60 / $B$8) + 3)+(weekdaycode(K$19)-1)*24* (60 / $B$8),0,24* (60 / $B$8),12)))","v":""},{"$f":"IF(ISBLANK($F30),\"\",SUM(OFFSET(Data!$G$5,(Offsets!$F14-1)*(9 * 24 * (60 / $B$8) + 3)+(weekdaycode(K$19)-1)*24* (60 / $B$8),39,24* (60 / $B$8),1))/SUM(OFFSET(Data!$C$5,(Offsets!$F14-1)*(9 * 24 * (60 / $B$8) + 3)+(weekdaycode(K$19)-1)*24* (60 / $B$8),39,24* (60 / $B$8),12)))","v":""},{"$f":"IF(ISBLANK($F30),\"\",SUM(OFFSET(Data!$G$5,(Offsets!$F14-1)*(9 * 24 * (60 / $B$8) + 3)+(weekdaycode(M$19)-1)*24* (60 / $B$8),0,24* (60 / $B$8),1))/SUM(OFFSET(Data!$C$5,(Offsets!$F14-1)*(9 * 24 * (60 / $B$8) + 3)+(weekdaycode(M$19)-1)*24* (60 / $B$8),0,24* (60 / $B$8),12)))","v":""},{"$f":"IF(ISBLANK($F30),\"\",SUM(OFFSET(Data!$G$5,(Offsets!$F14-1)*(9 * 24 * (60 / $B$8) + 3)+(weekdaycode(M$19)-1)*24* (60 / $B$8),39,24* (60 / $B$8),1))/SUM(OFFSET(Data!$C$5,(Offsets!$F14-1)*(9 * 24 * (60 / $B$8) + 3)+(weekdaycode(M$19)-1)*24* (60 / $B$8),39,24* (60 / $B$8),12)))","v":""},{"$f":"IF(ISBLANK($F30),\"\",SUM(OFFSET(Data!$G$5,(Offsets!$F14-1)*(9 * 24 * (60 / $B$8) + 3)+(weekdaycode(O$19)-1)*24* (60 / $B$8),0,24* (60 / $B$8),1))/SUM(OFFSET(Data!$C$5,(Offsets!$F14-1)*(9 * 24 * (60 / $B$8) + 3)+(weekdaycode(O$19)-1)*24* (60 / $B$8),0,24* (60 / $B$8),12)))","v":""},{"$f":"IF(ISBLANK($F30),\"\",SUM(OFFSET(Data!$G$5,(Offsets!$F14-1)*(9 * 24 * (60 / $B$8) + 3)+(weekdaycode(O$19)-1)*24* (60 / $B$8),39,24* (60 / $B$8),1))/SUM(OFFSET(Data!$C$5,(Offsets!$F14-1)*(9 * 24 * (60 / $B$8) + 3)+(weekdaycode(O$19)-1)*24* (60 / $B$8),39,24* (60 / $B$8),12)))","v":""},{"$f":"IF(ISBLANK($F30),\"\",SUM(OFFSET(Data!$G$5,(Offsets!$F14-1)*(9 * 24 * (60 / $B$8) + 3)+(weekdaycode(Q$19)-1)*24* (60 / $B$8),0,24* (60 / $B$8),1))/SUM(OFFSET(Data!$C$5,(Offsets!$F14-1)*(9 * 24 * (60 / $B$8) + 3)+(weekdaycode(Q$19)-1)*24* (60 / $B$8),0,24* (60 / $B$8),12)))","v":""},{"$f":"IF(ISBLANK($F30),\"\",SUM(OFFSET(Data!$G$5,(Offsets!$F14-1)*(9 * 24 * (60 / $B$8) + 3)+(weekdaycode(Q$19)-1)*24* (60 / $B$8),39,24* (60 / $B$8),1))/SUM(OFFSET(Data!$C$5,(Offsets!$F14-1)*(9 * 24 * (60 / $B$8) + 3)+(weekdaycode(Q$19)-1)*24* (60 / $B$8),39,24* (60 / $B$8),12)))","v":""},{"$f":"IF(ISBLANK($F30),\"\",SUM(OFFSET(Data!$G$5,(Offsets!$F14-1)*(9 * 24 * (60 / $B$8) + 3)+(weekdaycode(S$19)-1)*24* (60 / $B$8),0,24* (60 / $B$8),1))/SUM(OFFSET(Data!$C$5,(Offsets!$F14-1)*(9 * 24 * (60 / $B$8) + 3)+(weekdaycode(S$19)-1)*24* (60 / $B$8),0,24* (60 / $B$8),12)))","v":""},{"$f":"IF(ISBLANK($F30),\"\",SUM(OFFSET(Data!$G$5,(Offsets!$F14-1)*(9 * 24 * (60 / $B$8) + 3)+(weekdaycode(S$19)-1)*24* (60 / $B$8),39,24* (60 / $B$8),1))/SUM(OFFSET(Data!$C$5,(Offsets!$F14-1)*(9 * 24 * (60 / $B$8) + 3)+(weekdaycode(S$19)-1)*24* (60 / $B$8),39,24* (60 / $B$8),12)))","v":""},{"$f":"IF(ISBLANK($F30),\"\",SUM(OFFSET(Data!$G$5,(Offsets!$F14-1)*(9 * 24 * (60 / $B$8) + 3)+(weekdaycode(U$19)-1)*24* (60 / $B$8),0,24* (60 / $B$8),1))/SUM(OFFSET(Data!$C$5,(Offsets!$F14-1)*(9 * 24 * (60 / $B$8) + 3)+(weekdaycode(U$19)-1)*24* (60 / $B$8),0,24* (60 / $B$8),12)))","v":""},{"$f":"IF(ISBLANK($F30),\"\",SUM(OFFSET(Data!$G$5,(Offsets!$F14-1)*(9 * 24 * (60 / $B$8) + 3)+(weekdaycode(U$19)-1)*24* (60 / $B$8),39,24* (60 / $B$8),1))/SUM(OFFSET(Data!$C$5,(Offsets!$F14-1)*(9 * 24 * (60 / $B$8) + 3)+(weekdaycode(U$19)-1)*24* (60 / $B$8),39,24* (60 / $B$8),12)))","v":""},{"$f":"IF(ISBLANK($F30),\"\",SUM(OFFSET(Data!$G$5,(Offsets!$F14-1)*(9 * 24 * (60 / $B$8) + 3)+(weekdaycode(W$19)-1)*24* (60 / $B$8),0,24* (60 / $B$8),1))/SUM(OFFSET(Data!$C$5,(Offsets!$F14-1)*(9 * 24 * (60 / $B$8) + 3)+(weekdaycode(W$19)-1)*24* (60 / $B$8),0,24* (60 / $B$8),12)))","v":""},{"$f":"IF(ISBLANK($F30),\"\",SUM(OFFSET(Data!$G$5,(Offsets!$F14-1)*(9 * 24 * (60 / $B$8) + 3)+(weekdaycode(W$19)-1)*24* (60 / $B$8),39,24* (60 / $B$8),1))/SUM(OFFSET(Data!$C$5,(Offsets!$F14-1)*(9 * 24 * (60 / $B$8) + 3)+(weekdaycode(W$19)-1)*24* (60 / $B$8),39,24* (60 / $B$8),12)))","v":""}]
[null,null,null,null,null,null,null,null,null,null,{"$f":"IF(ISBLANK($F31),\"\",SUM(OFFSET(Data!$G$5,(Offsets!$F15-1)*(9 * 24 * (60 / $B$8) + 3)+(weekdaycode(K$19)-1)*24* (60 / $B$8),0,24* (60 / $B$8),1))/SUM(OFFSET(Data!$C$5,(Offsets!$F15-1)*(9 * 24 * (60 / $B$8) + 3)+(weekdaycode(K$19)-1)*24* (60 / $B$8),0,24* (60 / $B$8),12)))","v":""},{"$f":"IF(ISBLANK($F31),\"\",SUM(OFFSET(Data!$G$5,(Offsets!$F15-1)*(9 * 24 * (60 / $B$8) + 3)+(weekdaycode(K$19)-1)*24* (60 / $B$8),39,24* (60 / $B$8),1))/SUM(OFFSET(Data!$C$5,(Offsets!$F15-1)*(9 * 24 * (60 / $B$8) + 3)+(weekdaycode(K$19)-1)*24* (60 / $B$8),39,24* (60 / $B$8),12)))","v":""},{"$f":"IF(ISBLANK($F31),\"\",SUM(OFFSET(Data!$G$5,(Offsets!$F15-1)*(9 * 24 * (60 / $B$8) + 3)+(weekdaycode(M$19)-1)*24* (60 / $B$8),0,24* (60 / $B$8),1))/SUM(OFFSET(Data!$C$5,(Offsets!$F15-1)*(9 * 24 * (60 / $B$8) + 3)+(weekdaycode(M$19)-1)*24* (60 / $B$8),0,24* (60 / $B$8),12)))","v":""},{"$f":"IF(ISBLANK($F31),\"\",SUM(OFFSET(Data!$G$5,(Offsets!$F15-1)*(9 * 24 * (60 / $B$8) + 3)+(weekdaycode(M$19)-1)*24* (60 / $B$8),39,24* (60 / $B$8),1))/SUM(OFFSET(Data!$C$5,(Offsets!$F15-1)*(9 * 24 * (60 / $B$8) + 3)+(weekdaycode(M$19)-1)*24* (60 / $B$8),39,24* (60 / $B$8),12)))","v":""},{"$f":"IF(ISBLANK($F31),\"\",SUM(OFFSET(Data!$G$5,(Offsets!$F15-1)*(9 * 24 * (60 / $B$8) + 3)+(weekdaycode(O$19)-1)*24* (60 / $B$8),0,24* (60 / $B$8),1))/SUM(OFFSET(Data!$C$5,(Offsets!$F15-1)*(9 * 24 * (60 / $B$8) + 3)+(weekdaycode(O$19)-1)*24* (60 / $B$8),0,24* (60 / $B$8),12)))","v":""},{"$f":"IF(ISBLANK($F31),\"\",SUM(OFFSET(Data!$G$5,(Offsets!$F15-1)*(9 * 24 * (60 / $B$8) + 3)+(weekdaycode(O$19)-1)*24* (60 / $B$8),39,24* (60 / $B$8),1))/SUM(OFFSET(Data!$C$5,(Offsets!$F15-1)*(9 * 24 * (60 / $B$8) + 3)+(weekdaycode(O$19)-1)*24* (60 / $B$8),39,24* (60 / $B$8),12)))","v":""},{"$f":"IF(ISBLANK($F31),\"\",SUM(OFFSET(Data!$G$5,(Offsets!$F15-1)*(9 * 24 * (60 / $B$8) + 3)+(weekdaycode(Q$19)-1)*24* (60 / $B$8),0,24* (60 / $B$8),1))/SUM(OFFSET(Data!$C$5,(Offsets!$F15-1)*(9 * 24 * (60 / $B$8) + 3)+(weekdaycode(Q$19)-1)*24* (60 / $B$8),0,24* (60 / $B$8),12)))","v":""},{"$f":"IF(ISBLANK($F31),\"\",SUM(OFFSET(Data!$G$5,(Offsets!$F15-1)*(9 * 24 * (60 / $B$8) + 3)+(weekdaycode(Q$19)-1)*24* (60 / $B$8),39,24* (60 / $B$8),1))/SUM(OFFSET(Data!$C$5,(Offsets!$F15-1)*(9 * 24 * (60 / $B$8) + 3)+(weekdaycode(Q$19)-1)*24* (60 / $B$8),39,24* (60 / $B$8),12)))","v":""},{"$f":"IF(ISBLANK($F31),\"\",SUM(OFFSET(Data!$G$5,(Offsets!$F15-1)*(9 * 24 * (60 / $B$8) + 3)+(weekdaycode(S$19)-1)*24* (60 / $B$8),0,24* (60 / $B$8),1))/SUM(OFFSET(Data!$C$5,(Offsets!$F15-1)*(9 * 24 * (60 / $B$8) + 3)+(weekdaycode(S$19)-1)*24* (60 / $B$8),0,24* (60 / $B$8),12)))","v":""},{"$f":"IF(ISBLANK($F31),\"\",SUM(OFFSET(Data!$G$5,(Offsets!$F15-1)*(9 * 24 * (60 / $B$8) + 3)+(weekdaycode(S$19)-1)*24* (60 / $B$8),39,24* (60 / $B$8),1))/SUM(OFFSET(Data!$C$5,(Offsets!$F15-1)*(9 * 24 * (60 / $B$8) + 3)+(weekdaycode(S$19)-1)*24* (60 / $B$8),39,24* (60 / $B$8),12)))","v":""},{"$f":"IF(ISBLANK($F31),\"\",SUM(OFFSET(Data!$G$5,(Offsets!$F15-1)*(9 * 24 * (60 / $B$8) + 3)+(weekdaycode(U$19)-1)*24* (60 / $B$8),0,24* (60 / $B$8),1))/SUM(OFFSET(Data!$C$5,(Offsets!$F15-1)*(9 * 24 * (60 / $B$8) + 3)+(weekdaycode(U$19)-1)*24* (60 / $B$8),0,24* (60 / $B$8),12)))","v":""},{"$f":"IF(ISBLANK($F31),\"\",SUM(OFFSET(Data!$G$5,(Offsets!$F15-1)*(9 * 24 * (60 / $B$8) + 3)+(weekdaycode(U$19)-1)*24* (60 / $B$8),39,24* (60 / $B$8),1))/SUM(OFFSET(Data!$C$5,(Offsets!$F15-1)*(9 * 24 * (60 / $B$8) + 3)+(weekdaycode(U$19)-1)*24* (60 / $B$8),39,24* (60 / $B$8),12)))","v":""},{"$f":"IF(ISBLANK($F31),\"\",SUM(OFFSET(Data!$G$5,(Offsets!$F15-1)*(9 * 24 * (60 / $B$8) + 3)+(weekdaycode(W$19)-1)*24* (60 / $B$8),0,24* (60 / $B$8),1))/SUM(OFFSET(Data!$C$5,(Offsets!$F15-1)*(9 * 24 * (60 / $B$8) + 3)+(weekdaycode(W$19)-1)*24* (60 / $B$8),0,24* (60 / $B$8),12)))","v":""},{"$f":"IF(ISBLANK($F31),\"\",SUM(OFFSET(Data!$G$5,(Offsets!$F15-1)*(9 * 24 * (60 / $B$8) + 3)+(weekdaycode(W$19)-1)*24* (60 / $B$8),39,24* (60 / $B$8),1))/SUM(OFFSET(Data!$C$5,(Offsets!$F15-1)*(9 * 24 * (60 / $B$8) + 3)+(weekdaycode(W$19)-1)*24* (60 / $B$8),39,24* (60 / $B$8),12)))","v":""}]
[null,null,null,null,null,null,null,null,null,null,{"$f":"IF(ISBLANK($F32),\"\",SUM(OFFSET(Data!$G$5,(Offsets!$F16-1)*(9 * 24 * (60 / $B$8) + 3)+(weekdaycode(K$19)-1)*24* (60 / $B$8),0,24* (60 / $B$8),1))/SUM(OFFSET(Data!$C$5,(Offsets!$F16-1)*(9 * 24 * (60 / $B$8) + 3)+(weekdaycode(K$19)-1)*24* (60 / $B$8),0,24* (60 / $B$8),12)))","v":""},{"$f":"IF(ISBLANK($F32),\"\",SUM(OFFSET(Data!$G$5,(Offsets!$F16-1)*(9 * 24 * (60 / $B$8) + 3)+(weekdaycode(K$19)-1)*24* (60 / $B$8),39,24* (60 / $B$8),1))/SUM(OFFSET(Data!$C$5,(Offsets!$F16-1)*(9 * 24 * (60 / $B$8) + 3)+(weekdaycode(K$19)-1)*24* (60 / $B$8),39,24* (60 / $B$8),12)))","v":""},{"$f":"IF(ISBLANK($F32),\"\",SUM(OFFSET(Data!$G$5,(Offsets!$F16-1)*(9 * 24 * (60 / $B$8) + 3)+(weekdaycode(M$19)-1)*24* (60 / $B$8),0,24* (60 / $B$8),1))/SUM(OFFSET(Data!$C$5,(Offsets!$F16-1)*(9 * 24 * (60 / $B$8) + 3)+(weekdaycode(M$19)-1)*24* (60 / $B$8),0,24* (60 / $B$8),12)))","v":""},{"$f":"IF(ISBLANK($F32),\"\",SUM(OFFSET(Data!$G$5,(Offsets!$F16-1)*(9 * 24 * (60 / $B$8) + 3)+(weekdaycode(M$19)-1)*24* (60 / $B$8),39,24* (60 / $B$8),1))/SUM(OFFSET(Data!$C$5,(Offsets!$F16-1)*(9 * 24 * (60 / $B$8) + 3)+(weekdaycode(M$19)-1)*24* (60 / $B$8),39,24* (60 / $B$8),12)))","v":""},{"$f":"IF(ISBLANK($F32),\"\",SUM(OFFSET(Data!$G$5,(Offsets!$F16-1)*(9 * 24 * (60 / $B$8) + 3)+(weekdaycode(O$19)-1)*24* (60 / $B$8),0,24* (60 / $B$8),1))/SUM(OFFSET(Data!$C$5,(Offsets!$F16-1)*(9 * 24 * (60 / $B$8) + 3)+(weekdaycode(O$19)-1)*24* (60 / $B$8),0,24* (60 / $B$8),12)))","v":""},{"$f":"IF(ISBLANK($F32),\"\",SUM(OFFSET(Data!$G$5,(Offsets!$F16-1)*(9 * 24 * (60 / $B$8) + 3)+(weekdaycode(O$19)-1)*24* (60 / $B$8),39,24* (60 / $B$8),1))/SUM(OFFSET(Data!$C$5,(Offsets!$F16-1)*(9 * 24 * (60 / $B$8) + 3)+(weekdaycode(O$19)-1)*24* (60 / $B$8),39,24* (60 / $B$8),12)))","v":""},{"$f":"IF(ISBLANK($F32),\"\",SUM(OFFSET(Data!$G$5,(Offsets!$F16-1)*(9 * 24 * (60 / $B$8) + 3)+(weekdaycode(Q$19)-1)*24* (60 / $B$8),0,24* (60 / $B$8),1))/SUM(OFFSET(Data!$C$5,(Offsets!$F16-1)*(9 * 24 * (60 / $B$8) + 3)+(weekdaycode(Q$19)-1)*24* (60 / $B$8),0,24* (60 / $B$8),12)))","v":""},{"$f":"IF(ISBLANK($F32),\"\",SUM(OFFSET(Data!$G$5,(Offsets!$F16-1)*(9 * 24 * (60 / $B$8) + 3)+(weekdaycode(Q$19)-1)*24* (60 / $B$8),39,24* (60 / $B$8),1))/SUM(OFFSET(Data!$C$5,(Offsets!$F16-1)*(9 * 24 * (60 / $B$8) + 3)+(weekdaycode(Q$19)-1)*24* (60 / $B$8),39,24* (60 / $B$8),12)))","v":""},{"$f":"IF(ISBLANK($F32),\"\",SUM(OFFSET(Data!$G$5,(Offsets!$F16-1)*(9 * 24 * (60 / $B$8) + 3)+(weekdaycode(S$19)-1)*24* (60 / $B$8),0,24* (60 / $B$8),1))/SUM(OFFSET(Data!$C$5,(Offsets!$F16-1)*(9 * 24 * (60 / $B$8) + 3)+(weekdaycode(S$19)-1)*24* (60 / $B$8),0,24* (60 / $B$8),12)))","v":""},{"$f":"IF(ISBLANK($F32),\"\",SUM(OFFSET(Data!$G$5,(Offsets!$F16-1)*(9 * 24 * (60 / $B$8) + 3)+(weekdaycode(S$19)-1)*24* (60 / $B$8),39,24* (60 / $B$8),1))/SUM(OFFSET(Data!$C$5,(Offsets!$F16-1)*(9 * 24 * (60 / $B$8) + 3)+(weekdaycode(S$19)-1)*24* (60 / $B$8),39,24* (60 / $B$8),12)))","v":""},{"$f":"IF(ISBLANK($F32),\"\",SUM(OFFSET(Data!$G$5,(Offsets!$F16-1)*(9 * 24 * (60 / $B$8) + 3)+(weekdaycode(U$19)-1)*24* (60 / $B$8),0,24* (60 / $B$8),1))/SUM(OFFSET(Data!$C$5,(Offsets!$F16-1)*(9 * 24 * (60 / $B$8) + 3)+(weekdaycode(U$19)-1)*24* (60 / $B$8),0,24* (60 / $B$8),12)))","v":""},{"$f":"IF(ISBLANK($F32),\"\",SUM(OFFSET(Data!$G$5,(Offsets!$F16-1)*(9 * 24 * (60 / $B$8) + 3)+(weekdaycode(U$19)-1)*24* (60 / $B$8),39,24* (60 / $B$8),1))/SUM(OFFSET(Data!$C$5,(Offsets!$F16-1)*(9 * 24 * (60 / $B$8) + 3)+(weekdaycode(U$19)-1)*24* (60 / $B$8),39,24* (60 / $B$8),12)))","v":""},{"$f":"IF(ISBLANK($F32),\"\",SUM(OFFSET(Data!$G$5,(Offsets!$F16-1)*(9 * 24 * (60 / $B$8) + 3)+(weekdaycode(W$19)-1)*24* (60 / $B$8),0,24* (60 / $B$8),1))/SUM(OFFSET(Data!$C$5,(Offsets!$F16-1)*(9 * 24 * (60 / $B$8) + 3)+(weekdaycode(W$19)-1)*24* (60 / $B$8),0,24* (60 / $B$8),12)))","v":""},{"$f":"IF(ISBLANK($F32),\"\",SUM(OFFSET(Data!$G$5,(Offsets!$F16-1)*(9 * 24 * (60 / $B$8) + 3)+(weekdaycode(W$19)-1)*24* (60 / $B$8),39,24* (60 / $B$8),1))/SUM(OFFSET(Data!$C$5,(Offsets!$F16-1)*(9 * 24 * (60 / $B$8) + 3)+(weekdaycode(W$19)-1)*24* (60 / $B$8),39,24* (60 / $B$8),12)))","v":""}]
[null,null,null,null,null,null,null,null,null,null,{"$f":"IF(ISBLANK($F33),\"\",SUM(OFFSET(Data!$G$5,(Offsets!$F17-1)*(9 * 24 * (60 / $B$8) + 3)+(weekdaycode(K$19)-1)*24* (60 / $B$8),0,24* (60 / $B$8),1))/SUM(OFFSET(Data!$C$5,(Offsets!$F17-1)*(9 * 24 * (60 / $B$8) + 3)+(weekdaycode(K$19)-1)*24* (60 / $B$8),0,24* (60 / $B$8),12)))","v":""},{"$f":"IF(ISBLANK($F33),\"\",SUM(OFFSET(Data!$G$5,(Offsets!$F17-1)*(9 * 24 * (60 / $B$8) + 3)+(weekdaycode(K$19)-1)*24* (60 / $B$8),39,24* (60 / $B$8),1))/SUM(OFFSET(Data!$C$5,(Offsets!$F17-1)*(9 * 24 * (60 / $B$8) + 3)+(weekdaycode(K$19)-1)*24* (60 / $B$8),39,24* (60 / $B$8),12)))","v":""},{"$f":"IF(ISBLANK($F33),\"\",SUM(OFFSET(Data!$G$5,(Offsets!$F17-1)*(9 * 24 * (60 / $B$8) + 3)+(weekdaycode(M$19)-1)*24* (60 / $B$8),0,24* (60 / $B$8),1))/SUM(OFFSET(Data!$C$5,(Offsets!$F17-1)*(9 * 24 * (60 / $B$8) + 3)+(weekdaycode(M$19)-1)*24* (60 / $B$8),0,24* (60 / $B$8),12)))","v":""},{"$f":"IF(ISBLANK($F33),\"\",SUM(OFFSET(Data!$G$5,(Offsets!$F17-1)*(9 * 24 * (60 / $B$8) + 3)+(weekdaycode(M$19)-1)*24* (60 / $B$8),39,24* (60 / $B$8),1))/SUM(OFFSET(Data!$C$5,(Offsets!$F17-1)*(9 * 24 * (60 / $B$8) + 3)+(weekdaycode(M$19)-1)*24* (60 / $B$8),39,24* (60 / $B$8),12)))","v":""},{"$f":"IF(ISBLANK($F33),\"\",SUM(OFFSET(Data!$G$5,(Offsets!$F17-1)*(9 * 24 * (60 / $B$8) + 3)+(weekdaycode(O$19)-1)*24* (60 / $B$8),0,24* (60 / $B$8),1))/SUM(OFFSET(Data!$C$5,(Offsets!$F17-1)*(9 * 24 * (60 / $B$8) + 3)+(weekdaycode(O$19)-1)*24* (60 / $B$8),0,24* (60 / $B$8),12)))","v":""},{"$f":"IF(ISBLANK($F33),\"\",SUM(OFFSET(Data!$G$5,(Offsets!$F17-1)*(9 * 24 * (60 / $B$8) + 3)+(weekdaycode(O$19)-1)*24* (60 / $B$8),39,24* (60 / $B$8),1))/SUM(OFFSET(Data!$C$5,(Offsets!$F17-1)*(9 * 24 * (60 / $B$8) + 3)+(weekdaycode(O$19)-1)*24* (60 / $B$8),39,24* (60 / $B$8),12)))","v":""},{"$f":"IF(ISBLANK($F33),\"\",SUM(OFFSET(Data!$G$5,(Offsets!$F17-1)*(9 * 24 * (60 / $B$8) + 3)+(weekdaycode(Q$19)-1)*24* (60 / $B$8),0,24* (60 / $B$8),1))/SUM(OFFSET(Data!$C$5,(Offsets!$F17-1)*(9 * 24 * (60 / $B$8) + 3)+(weekdaycode(Q$19)-1)*24* (60 / $B$8),0,24* (60 / $B$8),12)))","v":""},{"$f":"IF(ISBLANK($F33),\"\",SUM(OFFSET(Data!$G$5,(Offsets!$F17-1)*(9 * 24 * (60 / $B$8) + 3)+(weekdaycode(Q$19)-1)*24* (60 / $B$8),39,24* (60 / $B$8),1))/SUM(OFFSET(Data!$C$5,(Offsets!$F17-1)*(9 * 24 * (60 / $B$8) + 3)+(weekdaycode(Q$19)-1)*24* (60 / $B$8),39,24* (60 / $B$8),12)))","v":""},{"$f":"IF(ISBLANK($F33),\"\",SUM(OFFSET(Data!$G$5,(Offsets!$F17-1)*(9 * 24 * (60 / $B$8) + 3)+(weekdaycode(S$19)-1)*24* (60 / $B$8),0,24* (60 / $B$8),1))/SUM(OFFSET(Data!$C$5,(Offsets!$F17-1)*(9 * 24 * (60 / $B$8) + 3)+(weekdaycode(S$19)-1)*24* (60 / $B$8),0,24* (60 / $B$8),12)))","v":""},{"$f":"IF(ISBLANK($F33),\"\",SUM(OFFSET(Data!$G$5,(Offsets!$F17-1)*(9 * 24 * (60 / $B$8) + 3)+(weekdaycode(S$19)-1)*24* (60 / $B$8),39,24* (60 / $B$8),1))/SUM(OFFSET(Data!$C$5,(Offsets!$F17-1)*(9 * 24 * (60 / $B$8) + 3)+(weekdaycode(S$19)-1)*24* (60 / $B$8),39,24* (60 / $B$8),12)))","v":""},{"$f":"IF(ISBLANK($F33),\"\",SUM(OFFSET(Data!$G$5,(Offsets!$F17-1)*(9 * 24 * (60 / $B$8) + 3)+(weekdaycode(U$19)-1)*24* (60 / $B$8),0,24* (60 / $B$8),1))/SUM(OFFSET(Data!$C$5,(Offsets!$F17-1)*(9 * 24 * (60 / $B$8) + 3)+(weekdaycode(U$19)-1)*24* (60 / $B$8),0,24* (60 / $B$8),12)))","v":""},{"$f":"IF(ISBLANK($F33),\"\",SUM(OFFSET(Data!$G$5,(Offsets!$F17-1)*(9 * 24 * (60 / $B$8) + 3)+(weekdaycode(U$19)-1)*24* (60 / $B$8),39,24* (60 / $B$8),1))/SUM(OFFSET(Data!$C$5,(Offsets!$F17-1)*(9 * 24 * (60 / $B$8) + 3)+(weekdaycode(U$19)-1)*24* (60 / $B$8),39,24* (60 / $B$8),12)))","v":""},{"$f":"IF(ISBLANK($F33),\"\",SUM(OFFSET(Data!$G$5,(Offsets!$F17-1)*(9 * 24 * (60 / $B$8) + 3)+(weekdaycode(W$19)-1)*24* (60 / $B$8),0,24* (60 / $B$8),1))/SUM(OFFSET(Data!$C$5,(Offsets!$F17-1)*(9 * 24 * (60 / $B$8) + 3)+(weekdaycode(W$19)-1)*24* (60 / $B$8),0,24* (60 / $B$8),12)))","v":""},{"$f":"IF(ISBLANK($F33),\"\",SUM(OFFSET(Data!$G$5,(Offsets!$F17-1)*(9 * 24 * (60 / $B$8) + 3)+(weekdaycode(W$19)-1)*24* (60 / $B$8),39,24* (60 / $B$8),1))/SUM(OFFSET(Data!$C$5,(Offsets!$F17-1)*(9 * 24 * (60 / $B$8) + 3)+(weekdaycode(W$19)-1)*24* (60 / $B$8),39,24* (60 / $B$8),12)))","v":""}]
[null,null,null,null,null,null,null,null,null,null,{"$f":"IF(ISBLANK($F34),\"\",SUM(OFFSET(Data!$G$5,(Offsets!$F18-1)*(9 * 24 * (60 / $B$8) + 3)+(weekdaycode(K$19)-1)*24* (60 / $B$8),0,24* (60 / $B$8),1))/SUM(OFFSET(Data!$C$5,(Offsets!$F18-1)*(9 * 24 * (60 / $B$8) + 3)+(weekdaycode(K$19)-1)*24* (60 / $B$8),0,24* (60 / $B$8),12)))","v":""},{"$f":"IF(ISBLANK($F34),\"\",SUM(OFFSET(Data!$G$5,(Offsets!$F18-1)*(9 * 24 * (60 / $B$8) + 3)+(weekdaycode(K$19)-1)*24* (60 / $B$8),39,24* (60 / $B$8),1))/SUM(OFFSET(Data!$C$5,(Offsets!$F18-1)*(9 * 24 * (60 / $B$8) + 3)+(weekdaycode(K$19)-1)*24* (60 / $B$8),39,24* (60 / $B$8),12)))","v":""},{"$f":"IF(ISBLANK($F34),\"\",SUM(OFFSET(Data!$G$5,(Offsets!$F18-1)*(9 * 24 * (60 / $B$8) + 3)+(weekdaycode(M$19)-1)*24* (60 / $B$8),0,24* (60 / $B$8),1))/SUM(OFFSET(Data!$C$5,(Offsets!$F18-1)*(9 * 24 * (60 / $B$8) + 3)+(weekdaycode(M$19)-1)*24* (60 / $B$8),0,24* (60 / $B$8),12)))","v":""},{"$f":"IF(ISBLANK($F34),\"\",SUM(OFFSET(Data!$G$5,(Offsets!$F18-1)*(9 * 24 * (60 / $B$8) + 3)+(weekdaycode(M$19)-1)*24* (60 / $B$8),39,24* (60 / $B$8),1))/SUM(OFFSET(Data!$C$5,(Offsets!$F18-1)*(9 * 24 * (60 / $B$8) + 3)+(weekdaycode(M$19)-1)*24* (60 / $B$8),39,24* (60 / $B$8),12)))","v":""},{"$f":"IF(ISBLANK($F34),\"\",SUM(OFFSET(Data!$G$5,(Offsets!$F18-1)*(9 * 24 * (60 / $B$8) + 3)+(weekdaycode(O$19)-1)*24* (60 / $B$8),0,24* (60 / $B$8),1))/SUM(OFFSET(Data!$C$5,(Offsets!$F18-1)*(9 * 24 * (60 / $B$8) + 3)+(weekdaycode(O$19)-1)*24* (60 / $B$8),0,24* (60 / $B$8),12)))","v":""},{"$f":"IF(ISBLANK($F34),\"\",SUM(OFFSET(Data!$G$5,(Offsets!$F18-1)*(9 * 24 * (60 / $B$8) + 3)+(weekdaycode(O$19)-1)*24* (60 / $B$8),39,24* (60 / $B$8),1))/SUM(OFFSET(Data!$C$5,(Offsets!$F18-1)*(9 * 24 * (60 / $B$8) + 3)+(weekdaycode(O$19)-1)*24* (60 / $B$8),39,24* (60 / $B$8),12)))","v":""},{"$f":"IF(ISBLANK($F34),\"\",SUM(OFFSET(Data!$G$5,(Offsets!$F18-1)*(9 * 24 * (60 / $B$8) + 3)+(weekdaycode(Q$19)-1)*24* (60 / $B$8),0,24* (60 / $B$8),1))/SUM(OFFSET(Data!$C$5,(Offsets!$F18-1)*(9 * 24 * (60 / $B$8) + 3)+(weekdaycode(Q$19)-1)*24* (60 / $B$8),0,24* (60 / $B$8),12)))","v":""},{"$f":"IF(ISBLANK($F34),\"\",SUM(OFFSET(Data!$G$5,(Offsets!$F18-1)*(9 * 24 * (60 / $B$8) + 3)+(weekdaycode(Q$19)-1)*24* (60 / $B$8),39,24* (60 / $B$8),1))/SUM(OFFSET(Data!$C$5,(Offsets!$F18-1)*(9 * 24 * (60 / $B$8) + 3)+(weekdaycode(Q$19)-1)*24* (60 / $B$8),39,24* (60 / $B$8),12)))","v":""},{"$f":"IF(ISBLANK($F34),\"\",SUM(OFFSET(Data!$G$5,(Offsets!$F18-1)*(9 * 24 * (60 / $B$8) + 3)+(weekdaycode(S$19)-1)*24* (60 / $B$8),0,24* (60 / $B$8),1))/SUM(OFFSET(Data!$C$5,(Offsets!$F18-1)*(9 * 24 * (60 / $B$8) + 3)+(weekdaycode(S$19)-1)*24* (60 / $B$8),0,24* (60 / $B$8),12)))","v":""},{"$f":"IF(ISBLANK($F34),\"\",SUM(OFFSET(Data!$G$5,(Offsets!$F18-1)*(9 * 24 * (60 / $B$8) + 3)+(weekdaycode(S$19)-1)*24* (60 / $B$8),39,24* (60 / $B$8),1))/SUM(OFFSET(Data!$C$5,(Offsets!$F18-1)*(9 * 24 * (60 / $B$8) + 3)+(weekdaycode(S$19)-1)*24* (60 / $B$8),39,24* (60 / $B$8),12)))","v":""},{"$f":"IF(ISBLANK($F34),\"\",SUM(OFFSET(Data!$G$5,(Offsets!$F18-1)*(9 * 24 * (60 / $B$8) + 3)+(weekdaycode(U$19)-1)*24* (60 / $B$8),0,24* (60 / $B$8),1))/SUM(OFFSET(Data!$C$5,(Offsets!$F18-1)*(9 * 24 * (60 / $B$8) + 3)+(weekdaycode(U$19)-1)*24* (60 / $B$8),0,24* (60 / $B$8),12)))","v":""},{"$f":"IF(ISBLANK($F34),\"\",SUM(OFFSET(Data!$G$5,(Offsets!$F18-1)*(9 * 24 * (60 / $B$8) + 3)+(weekdaycode(U$19)-1)*24* (60 / $B$8),39,24* (60 / $B$8),1))/SUM(OFFSET(Data!$C$5,(Offsets!$F18-1)*(9 * 24 * (60 / $B$8) + 3)+(weekdaycode(U$19)-1)*24* (60 / $B$8),39,24* (60 / $B$8),12)))","v":""},{"$f":"IF(ISBLANK($F34),\"\",SUM(OFFSET(Data!$G$5,(Offsets!$F18-1)*(9 * 24 * (60 / $B$8) + 3)+(weekdaycode(W$19)-1)*24* (60 / $B$8),0,24* (60 / $B$8),1))/SUM(OFFSET(Data!$C$5,(Offsets!$F18-1)*(9 * 24 * (60 / $B$8) + 3)+(weekdaycode(W$19)-1)*24* (60 / $B$8),0,24* (60 / $B$8),12)))","v":""},{"$f":"IF(ISBLANK($F34),\"\",SUM(OFFSET(Data!$G$5,(Offsets!$F18-1)*(9 * 24 * (60 / $B$8) + 3)+(weekdaycode(W$19)-1)*24* (60 / $B$8),39,24* (60 / $B$8),1))/SUM(OFFSET(Data!$C$5,(Offsets!$F18-1)*(9 * 24 * (60 / $B$8) + 3)+(weekdaycode(W$19)-1)*24* (60 / $B$8),39,24* (60 / $B$8),12)))","v":""}]
[null,null,null,null,null,null,null,null,null,null,{"$f":"IF(ISBLANK($F35),\"\",SUM(OFFSET(Data!$G$5,(Offsets!$F19-1)*(9 * 24 * (60 / $B$8) + 3)+(weekdaycode(K$19)-1)*24* (60 / $B$8),0,24* (60 / $B$8),1))/SUM(OFFSET(Data!$C$5,(Offsets!$F19-1)*(9 * 24 * (60 / $B$8) + 3)+(weekdaycode(K$19)-1)*24* (60 / $B$8),0,24* (60 / $B$8),12)))","v":""},{"$f":"IF(ISBLANK($F35),\"\",SUM(OFFSET(Data!$G$5,(Offsets!$F19-1)*(9 * 24 * (60 / $B$8) + 3)+(weekdaycode(K$19)-1)*24* (60 / $B$8),39,24* (60 / $B$8),1))/SUM(OFFSET(Data!$C$5,(Offsets!$F19-1)*(9 * 24 * (60 / $B$8) + 3)+(weekdaycode(K$19)-1)*24* (60 / $B$8),39,24* (60 / $B$8),12)))","v":""},{"$f":"IF(ISBLANK($F35),\"\",SUM(OFFSET(Data!$G$5,(Offsets!$F19-1)*(9 * 24 * (60 / $B$8) + 3)+(weekdaycode(M$19)-1)*24* (60 / $B$8),0,24* (60 / $B$8),1))/SUM(OFFSET(Data!$C$5,(Offsets!$F19-1)*(9 * 24 * (60 / $B$8) + 3)+(weekdaycode(M$19)-1)*24* (60 / $B$8),0,24* (60 / $B$8),12)))","v":""},{"$f":"IF(ISBLANK($F35),\"\",SUM(OFFSET(Data!$G$5,(Offsets!$F19-1)*(9 * 24 * (60 / $B$8) + 3)+(weekdaycode(M$19)-1)*24* (60 / $B$8),39,24* (60 / $B$8),1))/SUM(OFFSET(Data!$C$5,(Offsets!$F19-1)*(9 * 24 * (60 / $B$8) + 3)+(weekdaycode(M$19)-1)*24* (60 / $B$8),39,24* (60 / $B$8),12)))","v":""},{"$f":"IF(ISBLANK($F35),\"\",SUM(OFFSET(Data!$G$5,(Offsets!$F19-1)*(9 * 24 * (60 / $B$8) + 3)+(weekdaycode(O$19)-1)*24* (60 / $B$8),0,24* (60 / $B$8),1))/SUM(OFFSET(Data!$C$5,(Offsets!$F19-1)*(9 * 24 * (60 / $B$8) + 3)+(weekdaycode(O$19)-1)*24* (60 / $B$8),0,24* (60 / $B$8),12)))","v":""},{"$f":"IF(ISBLANK($F35),\"\",SUM(OFFSET(Data!$G$5,(Offsets!$F19-1)*(9 * 24 * (60 / $B$8) + 3)+(weekdaycode(O$19)-1)*24* (60 / $B$8),39,24* (60 / $B$8),1))/SUM(OFFSET(Data!$C$5,(Offsets!$F19-1)*(9 * 24 * (60 / $B$8) + 3)+(weekdaycode(O$19)-1)*24* (60 / $B$8),39,24* (60 / $B$8),12)))","v":""},{"$f":"IF(ISBLANK($F35),\"\",SUM(OFFSET(Data!$G$5,(Offsets!$F19-1)*(9 * 24 * (60 / $B$8) + 3)+(weekdaycode(Q$19)-1)*24* (60 / $B$8),0,24* (60 / $B$8),1))/SUM(OFFSET(Data!$C$5,(Offsets!$F19-1)*(9 * 24 * (60 / $B$8) + 3)+(weekdaycode(Q$19)-1)*24* (60 / $B$8),0,24* (60 / $B$8),12)))","v":""},{"$f":"IF(ISBLANK($F35),\"\",SUM(OFFSET(Data!$G$5,(Offsets!$F19-1)*(9 * 24 * (60 / $B$8) + 3)+(weekdaycode(Q$19)-1)*24* (60 / $B$8),39,24* (60 / $B$8),1))/SUM(OFFSET(Data!$C$5,(Offsets!$F19-1)*(9 * 24 * (60 / $B$8) + 3)+(weekdaycode(Q$19)-1)*24* (60 / $B$8),39,24* (60 / $B$8),12)))","v":""},{"$f":"IF(ISBLANK($F35),\"\",SUM(OFFSET(Data!$G$5,(Offsets!$F19-1)*(9 * 24 * (60 / $B$8) + 3)+(weekdaycode(S$19)-1)*24* (60 / $B$8),0,24* (60 / $B$8),1))/SUM(OFFSET(Data!$C$5,(Offsets!$F19-1)*(9 * 24 * (60 / $B$8) + 3)+(weekdaycode(S$19)-1)*24* (60 / $B$8),0,24* (60 / $B$8),12)))","v":""},{"$f":"IF(ISBLANK($F35),\"\",SUM(OFFSET(Data!$G$5,(Offsets!$F19-1)*(9 * 24 * (60 / $B$8) + 3)+(weekdaycode(S$19)-1)*24* (60 / $B$8),39,24* (60 / $B$8),1))/SUM(OFFSET(Data!$C$5,(Offsets!$F19-1)*(9 * 24 * (60 / $B$8) + 3)+(weekdaycode(S$19)-1)*24* (60 / $B$8),39,24* (60 / $B$8),12)))","v":""},{"$f":"IF(ISBLANK($F35),\"\",SUM(OFFSET(Data!$G$5,(Offsets!$F19-1)*(9 * 24 * (60 / $B$8) + 3)+(weekdaycode(U$19)-1)*24* (60 / $B$8),0,24* (60 / $B$8),1))/SUM(OFFSET(Data!$C$5,(Offsets!$F19-1)*(9 * 24 * (60 / $B$8) + 3)+(weekdaycode(U$19)-1)*24* (60 / $B$8),0,24* (60 / $B$8),12)))","v":""},{"$f":"IF(ISBLANK($F35),\"\",SUM(OFFSET(Data!$G$5,(Offsets!$F19-1)*(9 * 24 * (60 / $B$8) + 3)+(weekdaycode(U$19)-1)*24* (60 / $B$8),39,24* (60 / $B$8),1))/SUM(OFFSET(Data!$C$5,(Offsets!$F19-1)*(9 * 24 * (60 / $B$8) + 3)+(weekdaycode(U$19)-1)*24* (60 / $B$8),39,24* (60 / $B$8),12)))","v":""},{"$f":"IF(ISBLANK($F35),\"\",SUM(OFFSET(Data!$G$5,(Offsets!$F19-1)*(9 * 24 * (60 / $B$8) + 3)+(weekdaycode(W$19)-1)*24* (60 / $B$8),0,24* (60 / $B$8),1))/SUM(OFFSET(Data!$C$5,(Offsets!$F19-1)*(9 * 24 * (60 / $B$8) + 3)+(weekdaycode(W$19)-1)*24* (60 / $B$8),0,24* (60 / $B$8),12)))","v":""},{"$f":"IF(ISBLANK($F35),\"\",SUM(OFFSET(Data!$G$5,(Offsets!$F19-1)*(9 * 24 * (60 / $B$8) + 3)+(weekdaycode(W$19)-1)*24* (60 / $B$8),39,24* (60 / $B$8),1))/SUM(OFFSET(Data!$C$5,(Offsets!$F19-1)*(9 * 24 * (60 / $B$8) + 3)+(weekdaycode(W$19)-1)*24* (60 / $B$8),39,24* (60 / $B$8),12)))","v":""}]
[null,null,null,null,null,null,null,null,null,null,{"$f":"IF(ISBLANK($F36),\"\",SUM(OFFSET(Data!$G$5,(Offsets!$F20-1)*(9 * 24 * (60 / $B$8) + 3)+(weekdaycode(K$19)-1)*24* (60 / $B$8),0,24* (60 / $B$8),1))/SUM(OFFSET(Data!$C$5,(Offsets!$F20-1)*(9 * 24 * (60 / $B$8) + 3)+(weekdaycode(K$19)-1)*24* (60 / $B$8),0,24* (60 / $B$8),12)))","v":""},{"$f":"IF(ISBLANK($F36),\"\",SUM(OFFSET(Data!$G$5,(Offsets!$F20-1)*(9 * 24 * (60 / $B$8) + 3)+(weekdaycode(K$19)-1)*24* (60 / $B$8),39,24* (60 / $B$8),1))/SUM(OFFSET(Data!$C$5,(Offsets!$F20-1)*(9 * 24 * (60 / $B$8) + 3)+(weekdaycode(K$19)-1)*24* (60 / $B$8),39,24* (60 / $B$8),12)))","v":""},{"$f":"IF(ISBLANK($F36),\"\",SUM(OFFSET(Data!$G$5,(Offsets!$F20-1)*(9 * 24 * (60 / $B$8) + 3)+(weekdaycode(M$19)-1)*24* (60 / $B$8),0,24* (60 / $B$8),1))/SUM(OFFSET(Data!$C$5,(Offsets!$F20-1)*(9 * 24 * (60 / $B$8) + 3)+(weekdaycode(M$19)-1)*24* (60 / $B$8),0,24* (60 / $B$8),12)))","v":""},{"$f":"IF(ISBLANK($F36),\"\",SUM(OFFSET(Data!$G$5,(Offsets!$F20-1)*(9 * 24 * (60 / $B$8) + 3)+(weekdaycode(M$19)-1)*24* (60 / $B$8),39,24* (60 / $B$8),1))/SUM(OFFSET(Data!$C$5,(Offsets!$F20-1)*(9 * 24 * (60 / $B$8) + 3)+(weekdaycode(M$19)-1)*24* (60 / $B$8),39,24* (60 / $B$8),12)))","v":""},{"$f":"IF(ISBLANK($F36),\"\",SUM(OFFSET(Data!$G$5,(Offsets!$F20-1)*(9 * 24 * (60 / $B$8) + 3)+(weekdaycode(O$19)-1)*24* (60 / $B$8),0,24* (60 / $B$8),1))/SUM(OFFSET(Data!$C$5,(Offsets!$F20-1)*(9 * 24 * (60 / $B$8) + 3)+(weekdaycode(O$19)-1)*24* (60 / $B$8),0,24* (60 / $B$8),12)))","v":""},{"$f":"IF(ISBLANK($F36),\"\",SUM(OFFSET(Data!$G$5,(Offsets!$F20-1)*(9 * 24 * (60 / $B$8) + 3)+(weekdaycode(O$19)-1)*24* (60 / $B$8),39,24* (60 / $B$8),1))/SUM(OFFSET(Data!$C$5,(Offsets!$F20-1)*(9 * 24 * (60 / $B$8) + 3)+(weekdaycode(O$19)-1)*24* (60 / $B$8),39,24* (60 / $B$8),12)))","v":""},{"$f":"IF(ISBLANK($F36),\"\",SUM(OFFSET(Data!$G$5,(Offsets!$F20-1)*(9 * 24 * (60 / $B$8) + 3)+(weekdaycode(Q$19)-1)*24* (60 / $B$8),0,24* (60 / $B$8),1))/SUM(OFFSET(Data!$C$5,(Offsets!$F20-1)*(9 * 24 * (60 / $B$8) + 3)+(weekdaycode(Q$19)-1)*24* (60 / $B$8),0,24* (60 / $B$8),12)))","v":""},{"$f":"IF(ISBLANK($F36),\"\",SUM(OFFSET(Data!$G$5,(Offsets!$F20-1)*(9 * 24 * (60 / $B$8) + 3)+(weekdaycode(Q$19)-1)*24* (60 / $B$8),39,24* (60 / $B$8),1))/SUM(OFFSET(Data!$C$5,(Offsets!$F20-1)*(9 * 24 * (60 / $B$8) + 3)+(weekdaycode(Q$19)-1)*24* (60 / $B$8),39,24* (60 / $B$8),12)))","v":""},{"$f":"IF(ISBLANK($F36),\"\",SUM(OFFSET(Data!$G$5,(Offsets!$F20-1)*(9 * 24 * (60 / $B$8) + 3)+(weekdaycode(S$19)-1)*24* (60 / $B$8),0,24* (60 / $B$8),1))/SUM(OFFSET(Data!$C$5,(Offsets!$F20-1)*(9 * 24 * (60 / $B$8) + 3)+(weekdaycode(S$19)-1)*24* (60 / $B$8),0,24* (60 / $B$8),12)))","v":""},{"$f":"IF(ISBLANK($F36),\"\",SUM(OFFSET(Data!$G$5,(Offsets!$F20-1)*(9 * 24 * (60 / $B$8) + 3)+(weekdaycode(S$19)-1)*24* (60 / $B$8),39,24* (60 / $B$8),1))/SUM(OFFSET(Data!$C$5,(Offsets!$F20-1)*(9 * 24 * (60 / $B$8) + 3)+(weekdaycode(S$19)-1)*24* (60 / $B$8),39,24* (60 / $B$8),12)))","v":""},{"$f":"IF(ISBLANK($F36),\"\",SUM(OFFSET(Data!$G$5,(Offsets!$F20-1)*(9 * 24 * (60 / $B$8) + 3)+(weekdaycode(U$19)-1)*24* (60 / $B$8),0,24* (60 / $B$8),1))/SUM(OFFSET(Data!$C$5,(Offsets!$F20-1)*(9 * 24 * (60 / $B$8) + 3)+(weekdaycode(U$19)-1)*24* (60 / $B$8),0,24* (60 / $B$8),12)))","v":""},{"$f":"IF(ISBLANK($F36),\"\",SUM(OFFSET(Data!$G$5,(Offsets!$F20-1)*(9 * 24 * (60 / $B$8) + 3)+(weekdaycode(U$19)-1)*24* (60 / $B$8),39,24* (60 / $B$8),1))/SUM(OFFSET(Data!$C$5,(Offsets!$F20-1)*(9 * 24 * (60 / $B$8) + 3)+(weekdaycode(U$19)-1)*24* (60 / $B$8),39,24* (60 / $B$8),12)))","v":""},{"$f":"IF(ISBLANK($F36),\"\",SUM(OFFSET(Data!$G$5,(Offsets!$F20-1)*(9 * 24 * (60 / $B$8) + 3)+(weekdaycode(W$19)-1)*24* (60 / $B$8),0,24* (60 / $B$8),1))/SUM(OFFSET(Data!$C$5,(Offsets!$F20-1)*(9 * 24 * (60 / $B$8) + 3)+(weekdaycode(W$19)-1)*24* (60 / $B$8),0,24* (60 / $B$8),12)))","v":""},{"$f":"IF(ISBLANK($F36),\"\",SUM(OFFSET(Data!$G$5,(Offsets!$F20-1)*(9 * 24 * (60 / $B$8) + 3)+(weekdaycode(W$19)-1)*24* (60 / $B$8),39,24* (60 / $B$8),1))/SUM(OFFSET(Data!$C$5,(Offsets!$F20-1)*(9 * 24 * (60 / $B$8) + 3)+(weekdaycode(W$19)-1)*24* (60 / $B$8),39,24* (60 / $B$8),12)))","v":""}]
[null,null,null,null,null,null,null,null,null,null,{"$f":"IF(ISBLANK($F37),\"\",SUM(OFFSET(Data!$G$5,(Offsets!$F21-1)*(9 * 24 * (60 / $B$8) + 3)+(weekdaycode(K$19)-1)*24* (60 / $B$8),0,24* (60 / $B$8),1))/SUM(OFFSET(Data!$C$5,(Offsets!$F21-1)*(9 * 24 * (60 / $B$8) + 3)+(weekdaycode(K$19)-1)*24* (60 / $B$8),0,24* (60 / $B$8),12)))","v":""},{"$f":"IF(ISBLANK($F37),\"\",SUM(OFFSET(Data!$G$5,(Offsets!$F21-1)*(9 * 24 * (60 / $B$8) + 3)+(weekdaycode(K$19)-1)*24* (60 / $B$8),39,24* (60 / $B$8),1))/SUM(OFFSET(Data!$C$5,(Offsets!$F21-1)*(9 * 24 * (60 / $B$8) + 3)+(weekdaycode(K$19)-1)*24* (60 / $B$8),39,24* (60 / $B$8),12)))","v":""},{"$f":"IF(ISBLANK($F37),\"\",SUM(OFFSET(Data!$G$5,(Offsets!$F21-1)*(9 * 24 * (60 / $B$8) + 3)+(weekdaycode(M$19)-1)*24* (60 / $B$8),0,24* (60 / $B$8),1))/SUM(OFFSET(Data!$C$5,(Offsets!$F21-1)*(9 * 24 * (60 / $B$8) + 3)+(weekdaycode(M$19)-1)*24* (60 / $B$8),0,24* (60 / $B$8),12)))","v":""},{"$f":"IF(ISBLANK($F37),\"\",SUM(OFFSET(Data!$G$5,(Offsets!$F21-1)*(9 * 24 * (60 / $B$8) + 3)+(weekdaycode(M$19)-1)*24* (60 / $B$8),39,24* (60 / $B$8),1))/SUM(OFFSET(Data!$C$5,(Offsets!$F21-1)*(9 * 24 * (60 / $B$8) + 3)+(weekdaycode(M$19)-1)*24* (60 / $B$8),39,24* (60 / $B$8),12)))","v":""},{"$f":"IF(ISBLANK($F37),\"\",SUM(OFFSET(Data!$G$5,(Offsets!$F21-1)*(9 * 24 * (60 / $B$8) + 3)+(weekdaycode(O$19)-1)*24* (60 / $B$8),0,24* (60 / $B$8),1))/SUM(OFFSET(Data!$C$5,(Offsets!$F21-1)*(9 * 24 * (60 / $B$8) + 3)+(weekdaycode(O$19)-1)*24* (60 / $B$8),0,24* (60 / $B$8),12)))","v":""},{"$f":"IF(ISBLANK($F37),\"\",SUM(OFFSET(Data!$G$5,(Offsets!$F21-1)*(9 * 24 * (60 / $B$8) + 3)+(weekdaycode(O$19)-1)*24* (60 / $B$8),39,24* (60 / $B$8),1))/SUM(OFFSET(Data!$C$5,(Offsets!$F21-1)*(9 * 24 * (60 / $B$8) + 3)+(weekdaycode(O$19)-1)*24* (60 / $B$8),39,24* (60 / $B$8),12)))","v":""},{"$f":"IF(ISBLANK($F37),\"\",SUM(OFFSET(Data!$G$5,(Offsets!$F21-1)*(9 * 24 * (60 / $B$8) + 3)+(weekdaycode(Q$19)-1)*24* (60 / $B$8),0,24* (60 / $B$8),1))/SUM(OFFSET(Data!$C$5,(Offsets!$F21-1)*(9 * 24 * (60 / $B$8) + 3)+(weekdaycode(Q$19)-1)*24* (60 / $B$8),0,24* (60 / $B$8),12)))","v":""},{"$f":"IF(ISBLANK($F37),\"\",SUM(OFFSET(Data!$G$5,(Offsets!$F21-1)*(9 * 24 * (60 / $B$8) + 3)+(weekdaycode(Q$19)-1)*24* (60 / $B$8),39,24* (60 / $B$8),1))/SUM(OFFSET(Data!$C$5,(Offsets!$F21-1)*(9 * 24 * (60 / $B$8) + 3)+(weekdaycode(Q$19)-1)*24* (60 / $B$8),39,24* (60 / $B$8),12)))","v":""},{"$f":"IF(ISBLANK($F37),\"\",SUM(OFFSET(Data!$G$5,(Offsets!$F21-1)*(9 * 24 * (60 / $B$8) + 3)+(weekdaycode(S$19)-1)*24* (60 / $B$8),0,24* (60 / $B$8),1))/SUM(OFFSET(Data!$C$5,(Offsets!$F21-1)*(9 * 24 * (60 / $B$8) + 3)+(weekdaycode(S$19)-1)*24* (60 / $B$8),0,24* (60 / $B$8),12)))","v":""},{"$f":"IF(ISBLANK($F37),\"\",SUM(OFFSET(Data!$G$5,(Offsets!$F21-1)*(9 * 24 * (60 / $B$8) + 3)+(weekdaycode(S$19)-1)*24* (60 / $B$8),39,24* (60 / $B$8),1))/SUM(OFFSET(Data!$C$5,(Offsets!$F21-1)*(9 * 24 * (60 / $B$8) + 3)+(weekdaycode(S$19)-1)*24* (60 / $B$8),39,24* (60 / $B$8),12)))","v":""},{"$f":"IF(ISBLANK($F37),\"\",SUM(OFFSET(Data!$G$5,(Offsets!$F21-1)*(9 * 24 * (60 / $B$8) + 3)+(weekdaycode(U$19)-1)*24* (60 / $B$8),0,24* (60 / $B$8),1))/SUM(OFFSET(Data!$C$5,(Offsets!$F21-1)*(9 * 24 * (60 / $B$8) + 3)+(weekdaycode(U$19)-1)*24* (60 / $B$8),0,24* (60 / $B$8),12)))","v":""},{"$f":"IF(ISBLANK($F37),\"\",SUM(OFFSET(Data!$G$5,(Offsets!$F21-1)*(9 * 24 * (60 / $B$8) + 3)+(weekdaycode(U$19)-1)*24* (60 / $B$8),39,24* (60 / $B$8),1))/SUM(OFFSET(Data!$C$5,(Offsets!$F21-1)*(9 * 24 * (60 / $B$8) + 3)+(weekdaycode(U$19)-1)*24* (60 / $B$8),39,24* (60 / $B$8),12)))","v":""},{"$f":"IF(ISBLANK($F37),\"\",SUM(OFFSET(Data!$G$5,(Offsets!$F21-1)*(9 * 24 * (60 / $B$8) + 3)+(weekdaycode(W$19)-1)*24* (60 / $B$8),0,24* (60 / $B$8),1))/SUM(OFFSET(Data!$C$5,(Offsets!$F21-1)*(9 * 24 * (60 / $B$8) + 3)+(weekdaycode(W$19)-1)*24* (60 / $B$8),0,24* (60 / $B$8),12)))","v":""},{"$f":"IF(ISBLANK($F37),\"\",SUM(OFFSET(Data!$G$5,(Offsets!$F21-1)*(9 * 24 * (60 / $B$8) + 3)+(weekdaycode(W$19)-1)*24* (60 / $B$8),39,24* (60 / $B$8),1))/SUM(OFFSET(Data!$C$5,(Offsets!$F21-1)*(9 * 24 * (60 / $B$8) + 3)+(weekdaycode(W$19)-1)*24* (60 / $B$8),39,24* (60 / $B$8),12)))","v":""}]
[null,null,null,null,null,null,null,null,null,null,{"$f":"IF(ISBLANK($F38),\"\",SUM(OFFSET(Data!$G$5,(Offsets!$F22-1)*(9 * 24 * (60 / $B$8) + 3)+(weekdaycode(K$19)-1)*24* (60 / $B$8),0,24* (60 / $B$8),1))/SUM(OFFSET(Data!$C$5,(Offsets!$F22-1)*(9 * 24 * (60 / $B$8) + 3)+(weekdaycode(K$19)-1)*24* (60 / $B$8),0,24* (60 / $B$8),12)))","v":""},{"$f":"IF(ISBLANK($F38),\"\",SUM(OFFSET(Data!$G$5,(Offsets!$F22-1)*(9 * 24 * (60 / $B$8) + 3)+(weekdaycode(K$19)-1)*24* (60 / $B$8),39,24* (60 / $B$8),1))/SUM(OFFSET(Data!$C$5,(Offsets!$F22-1)*(9 * 24 * (60 / $B$8) + 3)+(weekdaycode(K$19)-1)*24* (60 / $B$8),39,24* (60 / $B$8),12)))","v":""},{"$f":"IF(ISBLANK($F38),\"\",SUM(OFFSET(Data!$G$5,(Offsets!$F22-1)*(9 * 24 * (60 / $B$8) + 3)+(weekdaycode(M$19)-1)*24* (60 / $B$8),0,24* (60 / $B$8),1))/SUM(OFFSET(Data!$C$5,(Offsets!$F22-1)*(9 * 24 * (60 / $B$8) + 3)+(weekdaycode(M$19)-1)*24* (60 / $B$8),0,24* (60 / $B$8),12)))","v":""},{"$f":"IF(ISBLANK($F38),\"\",SUM(OFFSET(Data!$G$5,(Offsets!$F22-1)*(9 * 24 * (60 / $B$8) + 3)+(weekdaycode(M$19)-1)*24* (60 / $B$8),39,24* (60 / $B$8),1))/SUM(OFFSET(Data!$C$5,(Offsets!$F22-1)*(9 * 24 * (60 / $B$8) + 3)+(weekdaycode(M$19)-1)*24* (60 / $B$8),39,24* (60 / $B$8),12)))","v":""},{"$f":"IF(ISBLANK($F38),\"\",SUM(OFFSET(Data!$G$5,(Offsets!$F22-1)*(9 * 24 * (60 / $B$8) + 3)+(weekdaycode(O$19)-1)*24* (60 / $B$8),0,24* (60 / $B$8),1))/SUM(OFFSET(Data!$C$5,(Offsets!$F22-1)*(9 * 24 * (60 / $B$8) + 3)+(weekdaycode(O$19)-1)*24* (60 / $B$8),0,24* (60 / $B$8),12)))","v":""},{"$f":"IF(ISBLANK($F38),\"\",SUM(OFFSET(Data!$G$5,(Offsets!$F22-1)*(9 * 24 * (60 / $B$8) + 3)+(weekdaycode(O$19)-1)*24* (60 / $B$8),39,24* (60 / $B$8),1))/SUM(OFFSET(Data!$C$5,(Offsets!$F22-1)*(9 * 24 * (60 / $B$8) + 3)+(weekdaycode(O$19)-1)*24* (60 / $B$8),39,24* (60 / $B$8),12)))","v":""},{"$f":"IF(ISBLANK($F38),\"\",SUM(OFFSET(Data!$G$5,(Offsets!$F22-1)*(9 * 24 * (60 / $B$8) + 3)+(weekdaycode(Q$19)-1)*24* (60 / $B$8),0,24* (60 / $B$8),1))/SUM(OFFSET(Data!$C$5,(Offsets!$F22-1)*(9 * 24 * (60 / $B$8) + 3)+(weekdaycode(Q$19)-1)*24* (60 / $B$8),0,24* (60 / $B$8),12)))","v":""},{"$f":"IF(ISBLANK($F38),\"\",SUM(OFFSET(Data!$G$5,(Offsets!$F22-1)*(9 * 24 * (60 / $B$8) + 3)+(weekdaycode(Q$19)-1)*24* (60 / $B$8),39,24* (60 / $B$8),1))/SUM(OFFSET(Data!$C$5,(Offsets!$F22-1)*(9 * 24 * (60 / $B$8) + 3)+(weekdaycode(Q$19)-1)*24* (60 / $B$8),39,24* (60 / $B$8),12)))","v":""},{"$f":"IF(ISBLANK($F38),\"\",SUM(OFFSET(Data!$G$5,(Offsets!$F22-1)*(9 * 24 * (60 / $B$8) + 3)+(weekdaycode(S$19)-1)*24* (60 / $B$8),0,24* (60 / $B$8),1))/SUM(OFFSET(Data!$C$5,(Offsets!$F22-1)*(9 * 24 * (60 / $B$8) + 3)+(weekdaycode(S$19)-1)*24* (60 / $B$8),0,24* (60 / $B$8),12)))","v":""},{"$f":"IF(ISBLANK($F38),\"\",SUM(OFFSET(Data!$G$5,(Offsets!$F22-1)*(9 * 24 * (60 / $B$8) + 3)+(weekdaycode(S$19)-1)*24* (60 / $B$8),39,24* (60 / $B$8),1))/SUM(OFFSET(Data!$C$5,(Offsets!$F22-1)*(9 * 24 * (60 / $B$8) + 3)+(weekdaycode(S$19)-1)*24* (60 / $B$8),39,24* (60 / $B$8),12)))","v":""},{"$f":"IF(ISBLANK($F38),\"\",SUM(OFFSET(Data!$G$5,(Offsets!$F22-1)*(9 * 24 * (60 / $B$8) + 3)+(weekdaycode(U$19)-1)*24* (60 / $B$8),0,24* (60 / $B$8),1))/SUM(OFFSET(Data!$C$5,(Offsets!$F22-1)*(9 * 24 * (60 / $B$8) + 3)+(weekdaycode(U$19)-1)*24* (60 / $B$8),0,24* (60 / $B$8),12)))","v":""},{"$f":"IF(ISBLANK($F38),\"\",SUM(OFFSET(Data!$G$5,(Offsets!$F22-1)*(9 * 24 * (60 / $B$8) + 3)+(weekdaycode(U$19)-1)*24* (60 / $B$8),39,24* (60 / $B$8),1))/SUM(OFFSET(Data!$C$5,(Offsets!$F22-1)*(9 * 24 * (60 / $B$8) + 3)+(weekdaycode(U$19)-1)*24* (60 / $B$8),39,24* (60 / $B$8),12)))","v":""},{"$f":"IF(ISBLANK($F38),\"\",SUM(OFFSET(Data!$G$5,(Offsets!$F22-1)*(9 * 24 * (60 / $B$8) + 3)+(weekdaycode(W$19)-1)*24* (60 / $B$8),0,24* (60 / $B$8),1))/SUM(OFFSET(Data!$C$5,(Offsets!$F22-1)*(9 * 24 * (60 / $B$8) + 3)+(weekdaycode(W$19)-1)*24* (60 / $B$8),0,24* (60 / $B$8),12)))","v":""},{"$f":"IF(ISBLANK($F38),\"\",SUM(OFFSET(Data!$G$5,(Offsets!$F22-1)*(9 * 24 * (60 / $B$8) + 3)+(weekdaycode(W$19)-1)*24* (60 / $B$8),39,24* (60 / $B$8),1))/SUM(OFFSET(Data!$C$5,(Offsets!$F22-1)*(9 * 24 * (60 / $B$8) + 3)+(weekdaycode(W$19)-1)*24* (60 / $B$8),39,24* (60 / $B$8),12)))","v":""}]
[null,null,null,null,null,null,null,null,null,null,{"$f":"IF(ISBLANK($F39),\"\",SUM(OFFSET(Data!$G$5,(Offsets!$F23-1)*(9 * 24 * (60 / $B$8) + 3)+(weekdaycode(K$19)-1)*24* (60 / $B$8),0,24* (60 / $B$8),1))/SUM(OFFSET(Data!$C$5,(Offsets!$F23-1)*(9 * 24 * (60 / $B$8) + 3)+(weekdaycode(K$19)-1)*24* (60 / $B$8),0,24* (60 / $B$8),12)))","v":""},{"$f":"IF(ISBLANK($F39),\"\",SUM(OFFSET(Data!$G$5,(Offsets!$F23-1)*(9 * 24 * (60 / $B$8) + 3)+(weekdaycode(K$19)-1)*24* (60 / $B$8),39,24* (60 / $B$8),1))/SUM(OFFSET(Data!$C$5,(Offsets!$F23-1)*(9 * 24 * (60 / $B$8) + 3)+(weekdaycode(K$19)-1)*24* (60 / $B$8),39,24* (60 / $B$8),12)))","v":""},{"$f":"IF(ISBLANK($F39),\"\",SUM(OFFSET(Data!$G$5,(Offsets!$F23-1)*(9 * 24 * (60 / $B$8) + 3)+(weekdaycode(M$19)-1)*24* (60 / $B$8),0,24* (60 / $B$8),1))/SUM(OFFSET(Data!$C$5,(Offsets!$F23-1)*(9 * 24 * (60 / $B$8) + 3)+(weekdaycode(M$19)-1)*24* (60 / $B$8),0,24* (60 / $B$8),12)))","v":""},{"$f":"IF(ISBLANK($F39),\"\",SUM(OFFSET(Data!$G$5,(Offsets!$F23-1)*(9 * 24 * (60 / $B$8) + 3)+(weekdaycode(M$19)-1)*24* (60 / $B$8),39,24* (60 / $B$8),1))/SUM(OFFSET(Data!$C$5,(Offsets!$F23-1)*(9 * 24 * (60 / $B$8) + 3)+(weekdaycode(M$19)-1)*24* (60 / $B$8),39,24* (60 / $B$8),12)))","v":""},{"$f":"IF(ISBLANK($F39),\"\",SUM(OFFSET(Data!$G$5,(Offsets!$F23-1)*(9 * 24 * (60 / $B$8) + 3)+(weekdaycode(O$19)-1)*24* (60 / $B$8),0,24* (60 / $B$8),1))/SUM(OFFSET(Data!$C$5,(Offsets!$F23-1)*(9 * 24 * (60 / $B$8) + 3)+(weekdaycode(O$19)-1)*24* (60 / $B$8),0,24* (60 / $B$8),12)))","v":""},{"$f":"IF(ISBLANK($F39),\"\",SUM(OFFSET(Data!$G$5,(Offsets!$F23-1)*(9 * 24 * (60 / $B$8) + 3)+(weekdaycode(O$19)-1)*24* (60 / $B$8),39,24* (60 / $B$8),1))/SUM(OFFSET(Data!$C$5,(Offsets!$F23-1)*(9 * 24 * (60 / $B$8) + 3)+(weekdaycode(O$19)-1)*24* (60 / $B$8),39,24* (60 / $B$8),12)))","v":""},{"$f":"IF(ISBLANK($F39),\"\",SUM(OFFSET(Data!$G$5,(Offsets!$F23-1)*(9 * 24 * (60 / $B$8) + 3)+(weekdaycode(Q$19)-1)*24* (60 / $B$8),0,24* (60 / $B$8),1))/SUM(OFFSET(Data!$C$5,(Offsets!$F23-1)*(9 * 24 * (60 / $B$8) + 3)+(weekdaycode(Q$19)-1)*24* (60 / $B$8),0,24* (60 / $B$8),12)))","v":""},{"$f":"IF(ISBLANK($F39),\"\",SUM(OFFSET(Data!$G$5,(Offsets!$F23-1)*(9 * 24 * (60 / $B$8) + 3)+(weekdaycode(Q$19)-1)*24* (60 / $B$8),39,24* (60 / $B$8),1))/SUM(OFFSET(Data!$C$5,(Offsets!$F23-1)*(9 * 24 * (60 / $B$8) + 3)+(weekdaycode(Q$19)-1)*24* (60 / $B$8),39,24* (60 / $B$8),12)))","v":""},{"$f":"IF(ISBLANK($F39),\"\",SUM(OFFSET(Data!$G$5,(Offsets!$F23-1)*(9 * 24 * (60 / $B$8) + 3)+(weekdaycode(S$19)-1)*24* (60 / $B$8),0,24* (60 / $B$8),1))/SUM(OFFSET(Data!$C$5,(Offsets!$F23-1)*(9 * 24 * (60 / $B$8) + 3)+(weekdaycode(S$19)-1)*24* (60 / $B$8),0,24* (60 / $B$8),12)))","v":""},{"$f":"IF(ISBLANK($F39),\"\",SUM(OFFSET(Data!$G$5,(Offsets!$F23-1)*(9 * 24 * (60 / $B$8) + 3)+(weekdaycode(S$19)-1)*24* (60 / $B$8),39,24* (60 / $B$8),1))/SUM(OFFSET(Data!$C$5,(Offsets!$F23-1)*(9 * 24 * (60 / $B$8) + 3)+(weekdaycode(S$19)-1)*24* (60 / $B$8),39,24* (60 / $B$8),12)))","v":""},{"$f":"IF(ISBLANK($F39),\"\",SUM(OFFSET(Data!$G$5,(Offsets!$F23-1)*(9 * 24 * (60 / $B$8) + 3)+(weekdaycode(U$19)-1)*24* (60 / $B$8),0,24* (60 / $B$8),1))/SUM(OFFSET(Data!$C$5,(Offsets!$F23-1)*(9 * 24 * (60 / $B$8) + 3)+(weekdaycode(U$19)-1)*24* (60 / $B$8),0,24* (60 / $B$8),12)))","v":""},{"$f":"IF(ISBLANK($F39),\"\",SUM(OFFSET(Data!$G$5,(Offsets!$F23-1)*(9 * 24 * (60 / $B$8) + 3)+(weekdaycode(U$19)-1)*24* (60 / $B$8),39,24* (60 / $B$8),1))/SUM(OFFSET(Data!$C$5,(Offsets!$F23-1)*(9 * 24 * (60 / $B$8) + 3)+(weekdaycode(U$19)-1)*24* (60 / $B$8),39,24* (60 / $B$8),12)))","v":""},{"$f":"IF(ISBLANK($F39),\"\",SUM(OFFSET(Data!$G$5,(Offsets!$F23-1)*(9 * 24 * (60 / $B$8) + 3)+(weekdaycode(W$19)-1)*24* (60 / $B$8),0,24* (60 / $B$8),1))/SUM(OFFSET(Data!$C$5,(Offsets!$F23-1)*(9 * 24 * (60 / $B$8) + 3)+(weekdaycode(W$19)-1)*24* (60 / $B$8),0,24* (60 / $B$8),12)))","v":""},{"$f":"IF(ISBLANK($F39),\"\",SUM(OFFSET(Data!$G$5,(Offsets!$F23-1)*(9 * 24 * (60 / $B$8) + 3)+(weekdaycode(W$19)-1)*24* (60 / $B$8),39,24* (60 / $B$8),1))/SUM(OFFSET(Data!$C$5,(Offsets!$F23-1)*(9 * 24 * (60 / $B$8) + 3)+(weekdaycode(W$19)-1)*24* (60 / $B$8),39,24* (60 / $B$8),12)))","v":""}]
[null,null,null,null,null,null,null,null,null,null,{"$f":"IF(ISBLANK($F40),\"\",SUM(OFFSET(Data!$G$5,(Offsets!$F24-1)*(9 * 24 * (60 / $B$8) + 3)+(weekdaycode(K$19)-1)*24* (60 / $B$8),0,24* (60 / $B$8),1))/SUM(OFFSET(Data!$C$5,(Offsets!$F24-1)*(9 * 24 * (60 / $B$8) + 3)+(weekdaycode(K$19)-1)*24* (60 / $B$8),0,24* (60 / $B$8),12)))","v":""},{"$f":"IF(ISBLANK($F40),\"\",SUM(OFFSET(Data!$G$5,(Offsets!$F24-1)*(9 * 24 * (60 / $B$8) + 3)+(weekdaycode(K$19)-1)*24* (60 / $B$8),39,24* (60 / $B$8),1))/SUM(OFFSET(Data!$C$5,(Offsets!$F24-1)*(9 * 24 * (60 / $B$8) + 3)+(weekdaycode(K$19)-1)*24* (60 / $B$8),39,24* (60 / $B$8),12)))","v":""},{"$f":"IF(ISBLANK($F40),\"\",SUM(OFFSET(Data!$G$5,(Offsets!$F24-1)*(9 * 24 * (60 / $B$8) + 3)+(weekdaycode(M$19)-1)*24* (60 / $B$8),0,24* (60 / $B$8),1))/SUM(OFFSET(Data!$C$5,(Offsets!$F24-1)*(9 * 24 * (60 / $B$8) + 3)+(weekdaycode(M$19)-1)*24* (60 / $B$8),0,24* (60 / $B$8),12)))","v":""},{"$f":"IF(ISBLANK($F40),\"\",SUM(OFFSET(Data!$G$5,(Offsets!$F24-1)*(9 * 24 * (60 / $B$8) + 3)+(weekdaycode(M$19)-1)*24* (60 / $B$8),39,24* (60 / $B$8),1))/SUM(OFFSET(Data!$C$5,(Offsets!$F24-1)*(9 * 24 * (60 / $B$8) + 3)+(weekdaycode(M$19)-1)*24* (60 / $B$8),39,24* (60 / $B$8),12)))","v":""},{"$f":"IF(ISBLANK($F40),\"\",SUM(OFFSET(Data!$G$5,(Offsets!$F24-1)*(9 * 24 * (60 / $B$8) + 3)+(weekdaycode(O$19)-1)*24* (60 / $B$8),0,24* (60 / $B$8),1))/SUM(OFFSET(Data!$C$5,(Offsets!$F24-1)*(9 * 24 * (60 / $B$8) + 3)+(weekdaycode(O$19)-1)*24* (60 / $B$8),0,24* (60 / $B$8),12)))","v":""},{"$f":"IF(ISBLANK($F40),\"\",SUM(OFFSET(Data!$G$5,(Offsets!$F24-1)*(9 * 24 * (60 / $B$8) + 3)+(weekdaycode(O$19)-1)*24* (60 / $B$8),39,24* (60 / $B$8),1))/SUM(OFFSET(Data!$C$5,(Offsets!$F24-1)*(9 * 24 * (60 / $B$8) + 3)+(weekdaycode(O$19)-1)*24* (60 / $B$8),39,24* (60 / $B$8),12)))","v":""},{"$f":"IF(ISBLANK($F40),\"\",SUM(OFFSET(Data!$G$5,(Offsets!$F24-1)*(9 * 24 * (60 / $B$8) + 3)+(weekdaycode(Q$19)-1)*24* (60 / $B$8),0,24* (60 / $B$8),1))/SUM(OFFSET(Data!$C$5,(Offsets!$F24-1)*(9 * 24 * (60 / $B$8) + 3)+(weekdaycode(Q$19)-1)*24* (60 / $B$8),0,24* (60 / $B$8),12)))","v":""},{"$f":"IF(ISBLANK($F40),\"\",SUM(OFFSET(Data!$G$5,(Offsets!$F24-1)*(9 * 24 * (60 / $B$8) + 3)+(weekdaycode(Q$19)-1)*24* (60 / $B$8),39,24* (60 / $B$8),1))/SUM(OFFSET(Data!$C$5,(Offsets!$F24-1)*(9 * 24 * (60 / $B$8) + 3)+(weekdaycode(Q$19)-1)*24* (60 / $B$8),39,24* (60 / $B$8),12)))","v":""},{"$f":"IF(ISBLANK($F40),\"\",SUM(OFFSET(Data!$G$5,(Offsets!$F24-1)*(9 * 24 * (60 / $B$8) + 3)+(weekdaycode(S$19)-1)*24* (60 / $B$8),0,24* (60 / $B$8),1))/SUM(OFFSET(Data!$C$5,(Offsets!$F24-1)*(9 * 24 * (60 / $B$8) + 3)+(weekdaycode(S$19)-1)*24* (60 / $B$8),0,24* (60 / $B$8),12)))","v":""},{"$f":"IF(ISBLANK($F40),\"\",SUM(OFFSET(Data!$G$5,(Offsets!$F24-1)*(9 * 24 * (60 / $B$8) + 3)+(weekdaycode(S$19)-1)*24* (60 / $B$8),39,24* (60 / $B$8),1))/SUM(OFFSET(Data!$C$5,(Offsets!$F24-1)*(9 * 24 * (60 / $B$8) + 3)+(weekdaycode(S$19)-1)*24* (60 / $B$8),39,24* (60 / $B$8),12)))","v":""},{"$f":"IF(ISBLANK($F40),\"\",SUM(OFFSET(Data!$G$5,(Offsets!$F24-1)*(9 * 24 * (60 / $B$8) + 3)+(weekdaycode(U$19)-1)*24* (60 / $B$8),0,24* (60 / $B$8),1))/SUM(OFFSET(Data!$C$5,(Offsets!$F24-1)*(9 * 24 * (60 / $B$8) + 3)+(weekdaycode(U$19)-1)*24* (60 / $B$8),0,24* (60 / $B$8),12)))","v":""},{"$f":"IF(ISBLANK($F40),\"\",SUM(OFFSET(Data!$G$5,(Offsets!$F24-1)*(9 * 24 * (60 / $B$8) + 3)+(weekdaycode(U$19)-1)*24* (60 / $B$8),39,24* (60 / $B$8),1))/SUM(OFFSET(Data!$C$5,(Offsets!$F24-1)*(9 * 24 * (60 / $B$8) + 3)+(weekdaycode(U$19)-1)*24* (60 / $B$8),39,24* (60 / $B$8),12)))","v":""},{"$f":"IF(ISBLANK($F40),\"\",SUM(OFFSET(Data!$G$5,(Offsets!$F24-1)*(9 * 24 * (60 / $B$8) + 3)+(weekdaycode(W$19)-1)*24* (60 / $B$8),0,24* (60 / $B$8),1))/SUM(OFFSET(Data!$C$5,(Offsets!$F24-1)*(9 * 24 * (60 / $B$8) + 3)+(weekdaycode(W$19)-1)*24* (60 / $B$8),0,24* (60 / $B$8),12)))","v":""},{"$f":"IF(ISBLANK($F40),\"\",SUM(OFFSET(Data!$G$5,(Offsets!$F24-1)*(9 * 24 * (60 / $B$8) + 3)+(weekdaycode(W$19)-1)*24* (60 / $B$8),39,24* (60 / $B$8),1))/SUM(OFFSET(Data!$C$5,(Offsets!$F24-1)*(9 * 24 * (60 / $B$8) + 3)+(weekdaycode(W$19)-1)*24* (60 / $B$8),39,24* (60 / $B$8),12)))","v":""}]
[null,null,null,null,null,null,null,null,null,null,{"$f":"IF(ISBLANK($F41),\"\",SUM(OFFSET(Data!$G$5,(Offsets!$F25-1)*(9 * 24 * (60 / $B$8) + 3)+(weekdaycode(K$19)-1)*24* (60 / $B$8),0,24* (60 / $B$8),1))/SUM(OFFSET(Data!$C$5,(Offsets!$F25-1)*(9 * 24 * (60 / $B$8) + 3)+(weekdaycode(K$19)-1)*24* (60 / $B$8),0,24* (60 / $B$8),12)))","v":""},{"$f":"IF(ISBLANK($F41),\"\",SUM(OFFSET(Data!$G$5,(Offsets!$F25-1)*(9 * 24 * (60 / $B$8) + 3)+(weekdaycode(K$19)-1)*24* (60 / $B$8),39,24* (60 / $B$8),1))/SUM(OFFSET(Data!$C$5,(Offsets!$F25-1)*(9 * 24 * (60 / $B$8) + 3)+(weekdaycode(K$19)-1)*24* (60 / $B$8),39,24* (60 / $B$8),12)))","v":""},{"$f":"IF(ISBLANK($F41),\"\",SUM(OFFSET(Data!$G$5,(Offsets!$F25-1)*(9 * 24 * (60 / $B$8) + 3)+(weekdaycode(M$19)-1)*24* (60 / $B$8),0,24* (60 / $B$8),1))/SUM(OFFSET(Data!$C$5,(Offsets!$F25-1)*(9 * 24 * (60 / $B$8) + 3)+(weekdaycode(M$19)-1)*24* (60 / $B$8),0,24* (60 / $B$8),12)))","v":""},{"$f":"IF(ISBLANK($F41),\"\",SUM(OFFSET(Data!$G$5,(Offsets!$F25-1)*(9 * 24 * (60 / $B$8) + 3)+(weekdaycode(M$19)-1)*24* (60 / $B$8),39,24* (60 / $B$8),1))/SUM(OFFSET(Data!$C$5,(Offsets!$F25-1)*(9 * 24 * (60 / $B$8) + 3)+(weekdaycode(M$19)-1)*24* (60 / $B$8),39,24* (60 / $B$8),12)))","v":""},{"$f":"IF(ISBLANK($F41),\"\",SUM(OFFSET(Data!$G$5,(Offsets!$F25-1)*(9 * 24 * (60 / $B$8) + 3)+(weekdaycode(O$19)-1)*24* (60 / $B$8),0,24* (60 / $B$8),1))/SUM(OFFSET(Data!$C$5,(Offsets!$F25-1)*(9 * 24 * (60 / $B$8) + 3)+(weekdaycode(O$19)-1)*24* (60 / $B$8),0,24* (60 / $B$8),12)))","v":""},{"$f":"IF(ISBLANK($F41),\"\",SUM(OFFSET(Data!$G$5,(Offsets!$F25-1)*(9 * 24 * (60 / $B$8) + 3)+(weekdaycode(O$19)-1)*24* (60 / $B$8),39,24* (60 / $B$8),1))/SUM(OFFSET(Data!$C$5,(Offsets!$F25-1)*(9 * 24 * (60 / $B$8) + 3)+(weekdaycode(O$19)-1)*24* (60 / $B$8),39,24* (60 / $B$8),12)))","v":""},{"$f":"IF(ISBLANK($F41),\"\",SUM(OFFSET(Data!$G$5,(Offsets!$F25-1)*(9 * 24 * (60 / $B$8) + 3)+(weekdaycode(Q$19)-1)*24* (60 / $B$8),0,24* (60 / $B$8),1))/SUM(OFFSET(Data!$C$5,(Offsets!$F25-1)*(9 * 24 * (60 / $B$8) + 3)+(weekdaycode(Q$19)-1)*24* (60 / $B$8),0,24* (60 / $B$8),12)))","v":""},{"$f":"IF(ISBLANK($F41),\"\",SUM(OFFSET(Data!$G$5,(Offsets!$F25-1)*(9 * 24 * (60 / $B$8) + 3)+(weekdaycode(Q$19)-1)*24* (60 / $B$8),39,24* (60 / $B$8),1))/SUM(OFFSET(Data!$C$5,(Offsets!$F25-1)*(9 * 24 * (60 / $B$8) + 3)+(weekdaycode(Q$19)-1)*24* (60 / $B$8),39,24* (60 / $B$8),12)))","v":""},{"$f":"IF(ISBLANK($F41),\"\",SUM(OFFSET(Data!$G$5,(Offsets!$F25-1)*(9 * 24 * (60 / $B$8) + 3)+(weekdaycode(S$19)-1)*24* (60 / $B$8),0,24* (60 / $B$8),1))/SUM(OFFSET(Data!$C$5,(Offsets!$F25-1)*(9 * 24 * (60 / $B$8) + 3)+(weekdaycode(S$19)-1)*24* (60 / $B$8),0,24* (60 / $B$8),12)))","v":""},{"$f":"IF(ISBLANK($F41),\"\",SUM(OFFSET(Data!$G$5,(Offsets!$F25-1)*(9 * 24 * (60 / $B$8) + 3)+(weekdaycode(S$19)-1)*24* (60 / $B$8),39,24* (60 / $B$8),1))/SUM(OFFSET(Data!$C$5,(Offsets!$F25-1)*(9 * 24 * (60 / $B$8) + 3)+(weekdaycode(S$19)-1)*24* (60 / $B$8),39,24* (60 / $B$8),12)))","v":""},{"$f":"IF(ISBLANK($F41),\"\",SUM(OFFSET(Data!$G$5,(Offsets!$F25-1)*(9 * 24 * (60 / $B$8) + 3)+(weekdaycode(U$19)-1)*24* (60 / $B$8),0,24* (60 / $B$8),1))/SUM(OFFSET(Data!$C$5,(Offsets!$F25-1)*(9 * 24 * (60 / $B$8) + 3)+(weekdaycode(U$19)-1)*24* (60 / $B$8),0,24* (60 / $B$8),12)))","v":""},{"$f":"IF(ISBLANK($F41),\"\",SUM(OFFSET(Data!$G$5,(Offsets!$F25-1)*(9 * 24 * (60 / $B$8) + 3)+(weekdaycode(U$19)-1)*24* (60 / $B$8),39,24* (60 / $B$8),1))/SUM(OFFSET(Data!$C$5,(Offsets!$F25-1)*(9 * 24 * (60 / $B$8) + 3)+(weekdaycode(U$19)-1)*24* (60 / $B$8),39,24* (60 / $B$8),12)))","v":""},{"$f":"IF(ISBLANK($F41),\"\",SUM(OFFSET(Data!$G$5,(Offsets!$F25-1)*(9 * 24 * (60 / $B$8) + 3)+(weekdaycode(W$19)-1)*24* (60 / $B$8),0,24* (60 / $B$8),1))/SUM(OFFSET(Data!$C$5,(Offsets!$F25-1)*(9 * 24 * (60 / $B$8) + 3)+(weekdaycode(W$19)-1)*24* (60 / $B$8),0,24* (60 / $B$8),12)))","v":""},{"$f":"IF(ISBLANK($F41),\"\",SUM(OFFSET(Data!$G$5,(Offsets!$F25-1)*(9 * 24 * (60 / $B$8) + 3)+(weekdaycode(W$19)-1)*24* (60 / $B$8),39,24* (60 / $B$8),1))/SUM(OFFSET(Data!$C$5,(Offsets!$F25-1)*(9 * 24 * (60 / $B$8) + 3)+(weekdaycode(W$19)-1)*24* (60 / $B$8),39,24* (60 / $B$8),12)))","v":""}]
[null,null,null,null,null,null,null,null,null,null,{"$f":"IF(ISBLANK($F42),\"\",SUM(OFFSET(Data!$G$5,(Offsets!$F26-1)*(9 * 24 * (60 / $B$8) + 3)+(weekdaycode(K$19)-1)*24* (60 / $B$8),0,24* (60 / $B$8),1))/SUM(OFFSET(Data!$C$5,(Offsets!$F26-1)*(9 * 24 * (60 / $B$8) + 3)+(weekdaycode(K$19)-1)*24* (60 / $B$8),0,24* (60 / $B$8),12)))","v":""},{"$f":"IF(ISBLANK($F42),\"\",SUM(OFFSET(Data!$G$5,(Offsets!$F26-1)*(9 * 24 * (60 / $B$8) + 3)+(weekdaycode(K$19)-1)*24* (60 / $B$8),39,24* (60 / $B$8),1))/SUM(OFFSET(Data!$C$5,(Offsets!$F26-1)*(9 * 24 * (60 / $B$8) + 3)+(weekdaycode(K$19)-1)*24* (60 / $B$8),39,24* (60 / $B$8),12)))","v":""},{"$f":"IF(ISBLANK($F42),\"\",SUM(OFFSET(Data!$G$5,(Offsets!$F26-1)*(9 * 24 * (60 / $B$8) + 3)+(weekdaycode(M$19)-1)*24* (60 / $B$8),0,24* (60 / $B$8),1))/SUM(OFFSET(Data!$C$5,(Offsets!$F26-1)*(9 * 24 * (60 / $B$8) + 3)+(weekdaycode(M$19)-1)*24* (60 / $B$8),0,24* (60 / $B$8),12)))","v":""},{"$f":"IF(ISBLANK($F42),\"\",SUM(OFFSET(Data!$G$5,(Offsets!$F26-1)*(9 * 24 * (60 / $B$8) + 3)+(weekdaycode(M$19)-1)*24* (60 / $B$8),39,24* (60 / $B$8),1))/SUM(OFFSET(Data!$C$5,(Offsets!$F26-1)*(9 * 24 * (60 / $B$8) + 3)+(weekdaycode(M$19)-1)*24* (60 / $B$8),39,24* (60 / $B$8),12)))","v":""},{"$f":"IF(ISBLANK($F42),\"\",SUM(OFFSET(Data!$G$5,(Offsets!$F26-1)*(9 * 24 * (60 / $B$8) + 3)+(weekdaycode(O$19)-1)*24* (60 / $B$8),0,24* (60 / $B$8),1))/SUM(OFFSET(Data!$C$5,(Offsets!$F26-1)*(9 * 24 * (60 / $B$8) + 3)+(weekdaycode(O$19)-1)*24* (60 / $B$8),0,24* (60 / $B$8),12)))","v":""},{"$f":"IF(ISBLANK($F42),\"\",SUM(OFFSET(Data!$G$5,(Offsets!$F26-1)*(9 * 24 * (60 / $B$8) + 3)+(weekdaycode(O$19)-1)*24* (60 / $B$8),39,24* (60 / $B$8),1))/SUM(OFFSET(Data!$C$5,(Offsets!$F26-1)*(9 * 24 * (60 / $B$8) + 3)+(weekdaycode(O$19)-1)*24* (60 / $B$8),39,24* (60 / $B$8),12)))","v":""},{"$f":"IF(ISBLANK($F42),\"\",SUM(OFFSET(Data!$G$5,(Offsets!$F26-1)*(9 * 24 * (60 / $B$8) + 3)+(weekdaycode(Q$19)-1)*24* (60 / $B$8),0,24* (60 / $B$8),1))/SUM(OFFSET(Data!$C$5,(Offsets!$F26-1)*(9 * 24 * (60 / $B$8) + 3)+(weekdaycode(Q$19)-1)*24* (60 / $B$8),0,24* (60 / $B$8),12)))","v":""},{"$f":"IF(ISBLANK($F42),\"\",SUM(OFFSET(Data!$G$5,(Offsets!$F26-1)*(9 * 24 * (60 / $B$8) + 3)+(weekdaycode(Q$19)-1)*24* (60 / $B$8),39,24* (60 / $B$8),1))/SUM(OFFSET(Data!$C$5,(Offsets!$F26-1)*(9 * 24 * (60 / $B$8) + 3)+(weekdaycode(Q$19)-1)*24* (60 / $B$8),39,24* (60 / $B$8),12)))","v":""},{"$f":"IF(ISBLANK($F42),\"\",SUM(OFFSET(Data!$G$5,(Offsets!$F26-1)*(9 * 24 * (60 / $B$8) + 3)+(weekdaycode(S$19)-1)*24* (60 / $B$8),0,24* (60 / $B$8),1))/SUM(OFFSET(Data!$C$5,(Offsets!$F26-1)*(9 * 24 * (60 / $B$8) + 3)+(weekdaycode(S$19)-1)*24* (60 / $B$8),0,24* (60 / $B$8),12)))","v":""},{"$f":"IF(ISBLANK($F42),\"\",SUM(OFFSET(Data!$G$5,(Offsets!$F26-1)*(9 * 24 * (60 / $B$8) + 3)+(weekdaycode(S$19)-1)*24* (60 / $B$8),39,24* (60 / $B$8),1))/SUM(OFFSET(Data!$C$5,(Offsets!$F26-1)*(9 * 24 * (60 / $B$8) + 3)+(weekdaycode(S$19)-1)*24* (60 / $B$8),39,24* (60 / $B$8),12)))","v":""},{"$f":"IF(ISBLANK($F42),\"\",SUM(OFFSET(Data!$G$5,(Offsets!$F26-1)*(9 * 24 * (60 / $B$8) + 3)+(weekdaycode(U$19)-1)*24* (60 / $B$8),0,24* (60 / $B$8),1))/SUM(OFFSET(Data!$C$5,(Offsets!$F26-1)*(9 * 24 * (60 / $B$8) + 3)+(weekdaycode(U$19)-1)*24* (60 / $B$8),0,24* (60 / $B$8),12)))","v":""},{"$f":"IF(ISBLANK($F42),\"\",SUM(OFFSET(Data!$G$5,(Offsets!$F26-1)*(9 * 24 * (60 / $B$8) + 3)+(weekdaycode(U$19)-1)*24* (60 / $B$8),39,24* (60 / $B$8),1))/SUM(OFFSET(Data!$C$5,(Offsets!$F26-1)*(9 * 24 * (60 / $B$8) + 3)+(weekdaycode(U$19)-1)*24* (60 / $B$8),39,24* (60 / $B$8),12)))","v":""},{"$f":"IF(ISBLANK($F42),\"\",SUM(OFFSET(Data!$G$5,(Offsets!$F26-1)*(9 * 24 * (60 / $B$8) + 3)+(weekdaycode(W$19)-1)*24* (60 / $B$8),0,24* (60 / $B$8),1))/SUM(OFFSET(Data!$C$5,(Offsets!$F26-1)*(9 * 24 * (60 / $B$8) + 3)+(weekdaycode(W$19)-1)*24* (60 / $B$8),0,24* (60 / $B$8),12)))","v":""},{"$f":"IF(ISBLANK($F42),\"\",SUM(OFFSET(Data!$G$5,(Offsets!$F26-1)*(9 * 24 * (60 / $B$8) + 3)+(weekdaycode(W$19)-1)*24* (60 / $B$8),39,24* (60 / $B$8),1))/SUM(OFFSET(Data!$C$5,(Offsets!$F26-1)*(9 * 24 * (60 / $B$8) + 3)+(weekdaycode(W$19)-1)*24* (60 / $B$8),39,24* (60 / $B$8),12)))","v":""}]
[null,null,null,null,null,null,null,null,null,null,{"$f":"IF(ISBLANK($F43),\"\",SUM(OFFSET(Data!$G$5,(Offsets!$F27-1)*(9 * 24 * (60 / $B$8) + 3)+(weekdaycode(K$19)-1)*24* (60 / $B$8),0,24* (60 / $B$8),1))/SUM(OFFSET(Data!$C$5,(Offsets!$F27-1)*(9 * 24 * (60 / $B$8) + 3)+(weekdaycode(K$19)-1)*24* (60 / $B$8),0,24* (60 / $B$8),12)))","v":""},{"$f":"IF(ISBLANK($F43),\"\",SUM(OFFSET(Data!$G$5,(Offsets!$F27-1)*(9 * 24 * (60 / $B$8) + 3)+(weekdaycode(K$19)-1)*24* (60 / $B$8),39,24* (60 / $B$8),1))/SUM(OFFSET(Data!$C$5,(Offsets!$F27-1)*(9 * 24 * (60 / $B$8) + 3)+(weekdaycode(K$19)-1)*24* (60 / $B$8),39,24* (60 / $B$8),12)))","v":""},{"$f":"IF(ISBLANK($F43),\"\",SUM(OFFSET(Data!$G$5,(Offsets!$F27-1)*(9 * 24 * (60 / $B$8) + 3)+(weekdaycode(M$19)-1)*24* (60 / $B$8),0,24* (60 / $B$8),1))/SUM(OFFSET(Data!$C$5,(Offsets!$F27-1)*(9 * 24 * (60 / $B$8) + 3)+(weekdaycode(M$19)-1)*24* (60 / $B$8),0,24* (60 / $B$8),12)))","v":""},{"$f":"IF(ISBLANK($F43),\"\",SUM(OFFSET(Data!$G$5,(Offsets!$F27-1)*(9 * 24 * (60 / $B$8) + 3)+(weekdaycode(M$19)-1)*24* (60 / $B$8),39,24* (60 / $B$8),1))/SUM(OFFSET(Data!$C$5,(Offsets!$F27-1)*(9 * 24 * (60 / $B$8) + 3)+(weekdaycode(M$19)-1)*24* (60 / $B$8),39,24* (60 / $B$8),12)))","v":""},{"$f":"IF(ISBLANK($F43),\"\",SUM(OFFSET(Data!$G$5,(Offsets!$F27-1)*(9 * 24 * (60 / $B$8) + 3)+(weekdaycode(O$19)-1)*24* (60 / $B$8),0,24* (60 / $B$8),1))/SUM(OFFSET(Data!$C$5,(Offsets!$F27-1)*(9 * 24 * (60 / $B$8) + 3)+(weekdaycode(O$19)-1)*24* (60 / $B$8),0,24* (60 / $B$8),12)))","v":""},{"$f":"IF(ISBLANK($F43),\"\",SUM(OFFSET(Data!$G$5,(Offsets!$F27-1)*(9 * 24 * (60 / $B$8) + 3)+(weekdaycode(O$19)-1)*24* (60 / $B$8),39,24* (60 / $B$8),1))/SUM(OFFSET(Data!$C$5,(Offsets!$F27-1)*(9 * 24 * (60 / $B$8) + 3)+(weekdaycode(O$19)-1)*24* (60 / $B$8),39,24* (60 / $B$8),12)))","v":""},{"$f":"IF(ISBLANK($F43),\"\",SUM(OFFSET(Data!$G$5,(Offsets!$F27-1)*(9 * 24 * (60 / $B$8) + 3)+(weekdaycode(Q$19)-1)*24* (60 / $B$8),0,24* (60 / $B$8),1))/SUM(OFFSET(Data!$C$5,(Offsets!$F27-1)*(9 * 24 * (60 / $B$8) + 3)+(weekdaycode(Q$19)-1)*24* (60 / $B$8),0,24* (60 / $B$8),12)))","v":""},{"$f":"IF(ISBLANK($F43),\"\",SUM(OFFSET(Data!$G$5,(Offsets!$F27-1)*(9 * 24 * (60 / $B$8) + 3)+(weekdaycode(Q$19)-1)*24* (60 / $B$8),39,24* (60 / $B$8),1))/SUM(OFFSET(Data!$C$5,(Offsets!$F27-1)*(9 * 24 * (60 / $B$8) + 3)+(weekdaycode(Q$19)-1)*24* (60 / $B$8),39,24* (60 / $B$8),12)))","v":""},{"$f":"IF(ISBLANK($F43),\"\",SUM(OFFSET(Data!$G$5,(Offsets!$F27-1)*(9 * 24 * (60 / $B$8) + 3)+(weekdaycode(S$19)-1)*24* (60 / $B$8),0,24* (60 / $B$8),1))/SUM(OFFSET(Data!$C$5,(Offsets!$F27-1)*(9 * 24 * (60 / $B$8) + 3)+(weekdaycode(S$19)-1)*24* (60 / $B$8),0,24* (60 / $B$8),12)))","v":""},{"$f":"IF(ISBLANK($F43),\"\",SUM(OFFSET(Data!$G$5,(Offsets!$F27-1)*(9 * 24 * (60 / $B$8) + 3)+(weekdaycode(S$19)-1)*24* (60 / $B$8),39,24* (60 / $B$8),1))/SUM(OFFSET(Data!$C$5,(Offsets!$F27-1)*(9 * 24 * (60 / $B$8) + 3)+(weekdaycode(S$19)-1)*24* (60 / $B$8),39,24* (60 / $B$8),12)))","v":""},{"$f":"IF(ISBLANK($F43),\"\",SUM(OFFSET(Data!$G$5,(Offsets!$F27-1)*(9 * 24 * (60 / $B$8) + 3)+(weekdaycode(U$19)-1)*24* (60 / $B$8),0,24* (60 / $B$8),1))/SUM(OFFSET(Data!$C$5,(Offsets!$F27-1)*(9 * 24 * (60 / $B$8) + 3)+(weekdaycode(U$19)-1)*24* (60 / $B$8),0,24* (60 / $B$8),12)))","v":""},{"$f":"IF(ISBLANK($F43),\"\",SUM(OFFSET(Data!$G$5,(Offsets!$F27-1)*(9 * 24 * (60 / $B$8) + 3)+(weekdaycode(U$19)-1)*24* (60 / $B$8),39,24* (60 / $B$8),1))/SUM(OFFSET(Data!$C$5,(Offsets!$F27-1)*(9 * 24 * (60 / $B$8) + 3)+(weekdaycode(U$19)-1)*24* (60 / $B$8),39,24* (60 / $B$8),12)))","v":""},{"$f":"IF(ISBLANK($F43),\"\",SUM(OFFSET(Data!$G$5,(Offsets!$F27-1)*(9 * 24 * (60 / $B$8) + 3)+(weekdaycode(W$19)-1)*24* (60 / $B$8),0,24* (60 / $B$8),1))/SUM(OFFSET(Data!$C$5,(Offsets!$F27-1)*(9 * 24 * (60 / $B$8) + 3)+(weekdaycode(W$19)-1)*24* (60 / $B$8),0,24* (60 / $B$8),12)))","v":""},{"$f":"IF(ISBLANK($F43),\"\",SUM(OFFSET(Data!$G$5,(Offsets!$F27-1)*(9 * 24 * (60 / $B$8) + 3)+(weekdaycode(W$19)-1)*24* (60 / $B$8),39,24* (60 / $B$8),1))/SUM(OFFSET(Data!$C$5,(Offsets!$F27-1)*(9 * 24 * (60 / $B$8) + 3)+(weekdaycode(W$19)-1)*24* (60 / $B$8),39,24* (60 / $B$8),12)))","v":""}]
[null,null,null,null,null,null,null,null,null,null,{"$f":"IF(ISBLANK($F44),\"\",SUM(OFFSET(Data!$G$5,(Offsets!$F28-1)*(9 * 24 * (60 / $B$8) + 3)+(weekdaycode(K$19)-1)*24* (60 / $B$8),0,24* (60 / $B$8),1))/SUM(OFFSET(Data!$C$5,(Offsets!$F28-1)*(9 * 24 * (60 / $B$8) + 3)+(weekdaycode(K$19)-1)*24* (60 / $B$8),0,24* (60 / $B$8),12)))","v":""},{"$f":"IF(ISBLANK($F44),\"\",SUM(OFFSET(Data!$G$5,(Offsets!$F28-1)*(9 * 24 * (60 / $B$8) + 3)+(weekdaycode(K$19)-1)*24* (60 / $B$8),39,24* (60 / $B$8),1))/SUM(OFFSET(Data!$C$5,(Offsets!$F28-1)*(9 * 24 * (60 / $B$8) + 3)+(weekdaycode(K$19)-1)*24* (60 / $B$8),39,24* (60 / $B$8),12)))","v":""},{"$f":"IF(ISBLANK($F44),\"\",SUM(OFFSET(Data!$G$5,(Offsets!$F28-1)*(9 * 24 * (60 / $B$8) + 3)+(weekdaycode(M$19)-1)*24* (60 / $B$8),0,24* (60 / $B$8),1))/SUM(OFFSET(Data!$C$5,(Offsets!$F28-1)*(9 * 24 * (60 / $B$8) + 3)+(weekdaycode(M$19)-1)*24* (60 / $B$8),0,24* (60 / $B$8),12)))","v":""},{"$f":"IF(ISBLANK($F44),\"\",SUM(OFFSET(Data!$G$5,(Offsets!$F28-1)*(9 * 24 * (60 / $B$8) + 3)+(weekdaycode(M$19)-1)*24* (60 / $B$8),39,24* (60 / $B$8),1))/SUM(OFFSET(Data!$C$5,(Offsets!$F28-1)*(9 * 24 * (60 / $B$8) + 3)+(weekdaycode(M$19)-1)*24* (60 / $B$8),39,24* (60 / $B$8),12)))","v":""},{"$f":"IF(ISBLANK($F44),\"\",SUM(OFFSET(Data!$G$5,(Offsets!$F28-1)*(9 * 24 * (60 / $B$8) + 3)+(weekdaycode(O$19)-1)*24* (60 / $B$8),0,24* (60 / $B$8),1))/SUM(OFFSET(Data!$C$5,(Offsets!$F28-1)*(9 * 24 * (60 / $B$8) + 3)+(weekdaycode(O$19)-1)*24* (60 / $B$8),0,24* (60 / $B$8),12)))","v":""},{"$f":"IF(ISBLANK($F44),\"\",SUM(OFFSET(Data!$G$5,(Offsets!$F28-1)*(9 * 24 * (60 / $B$8) + 3)+(weekdaycode(O$19)-1)*24* (60 / $B$8),39,24* (60 / $B$8),1))/SUM(OFFSET(Data!$C$5,(Offsets!$F28-1)*(9 * 24 * (60 / $B$8) + 3)+(weekdaycode(O$19)-1)*24* (60 / $B$8),39,24* (60 / $B$8),12)))","v":""},{"$f":"IF(ISBLANK($F44),\"\",SUM(OFFSET(Data!$G$5,(Offsets!$F28-1)*(9 * 24 * (60 / $B$8) + 3)+(weekdaycode(Q$19)-1)*24* (60 / $B$8),0,24* (60 / $B$8),1))/SUM(OFFSET(Data!$C$5,(Offsets!$F28-1)*(9 * 24 * (60 / $B$8) + 3)+(weekdaycode(Q$19)-1)*24* (60 / $B$8),0,24* (60 / $B$8),12)))","v":""},{"$f":"IF(ISBLANK($F44),\"\",SUM(OFFSET(Data!$G$5,(Offsets!$F28-1)*(9 * 24 * (60 / $B$8) + 3)+(weekdaycode(Q$19)-1)*24* (60 / $B$8),39,24* (60 / $B$8),1))/SUM(OFFSET(Data!$C$5,(Offsets!$F28-1)*(9 * 24 * (60 / $B$8) + 3)+(weekdaycode(Q$19)-1)*24* (60 / $B$8),39,24* (60 / $B$8),12)))","v":""},{"$f":"IF(ISBLANK($F44),\"\",SUM(OFFSET(Data!$G$5,(Offsets!$F28-1)*(9 * 24 * (60 / $B$8) + 3)+(weekdaycode(S$19)-1)*24* (60 / $B$8),0,24* (60 / $B$8),1))/SUM(OFFSET(Data!$C$5,(Offsets!$F28-1)*(9 * 24 * (60 / $B$8) + 3)+(weekdaycode(S$19)-1)*24* (60 / $B$8),0,24* (60 / $B$8),12)))","v":""},{"$f":"IF(ISBLANK($F44),\"\",SUM(OFFSET(Data!$G$5,(Offsets!$F28-1)*(9 * 24 * (60 / $B$8) + 3)+(weekdaycode(S$19)-1)*24* (60 / $B$8),39,24* (60 / $B$8),1))/SUM(OFFSET(Data!$C$5,(Offsets!$F28-1)*(9 * 24 * (60 / $B$8) + 3)+(weekdaycode(S$19)-1)*24* (60 / $B$8),39,24* (60 / $B$8),12)))","v":""},{"$f":"IF(ISBLANK($F44),\"\",SUM(OFFSET(Data!$G$5,(Offsets!$F28-1)*(9 * 24 * (60 / $B$8) + 3)+(weekdaycode(U$19)-1)*24* (60 / $B$8),0,24* (60 / $B$8),1))/SUM(OFFSET(Data!$C$5,(Offsets!$F28-1)*(9 * 24 * (60 / $B$8) + 3)+(weekdaycode(U$19)-1)*24* (60 / $B$8),0,24* (60 / $B$8),12)))","v":""},{"$f":"IF(ISBLANK($F44),\"\",SUM(OFFSET(Data!$G$5,(Offsets!$F28-1)*(9 * 24 * (60 / $B$8) + 3)+(weekdaycode(U$19)-1)*24* (60 / $B$8),39,24* (60 / $B$8),1))/SUM(OFFSET(Data!$C$5,(Offsets!$F28-1)*(9 * 24 * (60 / $B$8) + 3)+(weekdaycode(U$19)-1)*24* (60 / $B$8),39,24* (60 / $B$8),12)))","v":""},{"$f":"IF(ISBLANK($F44),\"\",SUM(OFFSET(Data!$G$5,(Offsets!$F28-1)*(9 * 24 * (60 / $B$8) + 3)+(weekdaycode(W$19)-1)*24* (60 / $B$8),0,24* (60 / $B$8),1))/SUM(OFFSET(Data!$C$5,(Offsets!$F28-1)*(9 * 24 * (60 / $B$8) + 3)+(weekdaycode(W$19)-1)*24* (60 / $B$8),0,24* (60 / $B$8),12)))","v":""},{"$f":"IF(ISBLANK($F44),\"\",SUM(OFFSET(Data!$G$5,(Offsets!$F28-1)*(9 * 24 * (60 / $B$8) + 3)+(weekdaycode(W$19)-1)*24* (60 / $B$8),39,24* (60 / $B$8),1))/SUM(OFFSET(Data!$C$5,(Offsets!$F28-1)*(9 * 24 * (60 / $B$8) + 3)+(weekdaycode(W$19)-1)*24* (60 / $B$8),39,24* (60 / $B$8),12)))","v":""}]
[null,null,null,null,null,null,null,null,null,null,{"$f":"IF(ISBLANK($F45),\"\",SUM(OFFSET(Data!$G$5,(Offsets!$F29-1)*(9 * 24 * (60 / $B$8) + 3)+(weekdaycode(K$19)-1)*24* (60 / $B$8),0,24* (60 / $B$8),1))/SUM(OFFSET(Data!$C$5,(Offsets!$F29-1)*(9 * 24 * (60 / $B$8) + 3)+(weekdaycode(K$19)-1)*24* (60 / $B$8),0,24* (60 / $B$8),12)))","v":""},{"$f":"IF(ISBLANK($F45),\"\",SUM(OFFSET(Data!$G$5,(Offsets!$F29-1)*(9 * 24 * (60 / $B$8) + 3)+(weekdaycode(K$19)-1)*24* (60 / $B$8),39,24* (60 / $B$8),1))/SUM(OFFSET(Data!$C$5,(Offsets!$F29-1)*(9 * 24 * (60 / $B$8) + 3)+(weekdaycode(K$19)-1)*24* (60 / $B$8),39,24* (60 / $B$8),12)))","v":""},{"$f":"IF(ISBLANK($F45),\"\",SUM(OFFSET(Data!$G$5,(Offsets!$F29-1)*(9 * 24 * (60 / $B$8) + 3)+(weekdaycode(M$19)-1)*24* (60 / $B$8),0,24* (60 / $B$8),1))/SUM(OFFSET(Data!$C$5,(Offsets!$F29-1)*(9 * 24 * (60 / $B$8) + 3)+(weekdaycode(M$19)-1)*24* (60 / $B$8),0,24* (60 / $B$8),12)))","v":""},{"$f":"IF(ISBLANK($F45),\"\",SUM(OFFSET(Data!$G$5,(Offsets!$F29-1)*(9 * 24 * (60 / $B$8) + 3)+(weekdaycode(M$19)-1)*24* (60 / $B$8),39,24* (60 / $B$8),1))/SUM(OFFSET(Data!$C$5,(Offsets!$F29-1)*(9 * 24 * (60 / $B$8) + 3)+(weekdaycode(M$19)-1)*24* (60 / $B$8),39,24* (60 / $B$8),12)))","v":""},{"$f":"IF(ISBLANK($F45),\"\",SUM(OFFSET(Data!$G$5,(Offsets!$F29-1)*(9 * 24 * (60 / $B$8) + 3)+(weekdaycode(O$19)-1)*24* (60 / $B$8),0,24* (60 / $B$8),1))/SUM(OFFSET(Data!$C$5,(Offsets!$F29-1)*(9 * 24 * (60 / $B$8) + 3)+(weekdaycode(O$19)-1)*24* (60 / $B$8),0,24* (60 / $B$8),12)))","v":""},{"$f":"IF(ISBLANK($F45),\"\",SUM(OFFSET(Data!$G$5,(Offsets!$F29-1)*(9 * 24 * (60 / $B$8) + 3)+(weekdaycode(O$19)-1)*24* (60 / $B$8),39,24* (60 / $B$8),1))/SUM(OFFSET(Data!$C$5,(Offsets!$F29-1)*(9 * 24 * (60 / $B$8) + 3)+(weekdaycode(O$19)-1)*24* (60 / $B$8),39,24* (60 / $B$8),12)))","v":""},{"$f":"IF(ISBLANK($F45),\"\",SUM(OFFSET(Data!$G$5,(Offsets!$F29-1)*(9 * 24 * (60 / $B$8) + 3)+(weekdaycode(Q$19)-1)*24* (60 / $B$8),0,24* (60 / $B$8),1))/SUM(OFFSET(Data!$C$5,(Offsets!$F29-1)*(9 * 24 * (60 / $B$8) + 3)+(weekdaycode(Q$19)-1)*24* (60 / $B$8),0,24* (60 / $B$8),12)))","v":""},{"$f":"IF(ISBLANK($F45),\"\",SUM(OFFSET(Data!$G$5,(Offsets!$F29-1)*(9 * 24 * (60 / $B$8) + 3)+(weekdaycode(Q$19)-1)*24* (60 / $B$8),39,24* (60 / $B$8),1))/SUM(OFFSET(Data!$C$5,(Offsets!$F29-1)*(9 * 24 * (60 / $B$8) + 3)+(weekdaycode(Q$19)-1)*24* (60 / $B$8),39,24* (60 / $B$8),12)))","v":""},{"$f":"IF(ISBLANK($F45),\"\",SUM(OFFSET(Data!$G$5,(Offsets!$F29-1)*(9 * 24 * (60 / $B$8) + 3)+(weekdaycode(S$19)-1)*24* (60 / $B$8),0,24* (60 / $B$8),1))/SUM(OFFSET(Data!$C$5,(Offsets!$F29-1)*(9 * 24 * (60 / $B$8) + 3)+(weekdaycode(S$19)-1)*24* (60 / $B$8),0,24* (60 / $B$8),12)))","v":""},{"$f":"IF(ISBLANK($F45),\"\",SUM(OFFSET(Data!$G$5,(Offsets!$F29-1)*(9 * 24 * (60 / $B$8) + 3)+(weekdaycode(S$19)-1)*24* (60 / $B$8),39,24* (60 / $B$8),1))/SUM(OFFSET(Data!$C$5,(Offsets!$F29-1)*(9 * 24 * (60 / $B$8) + 3)+(weekdaycode(S$19)-1)*24* (60 / $B$8),39,24* (60 / $B$8),12)))","v":""},{"$f":"IF(ISBLANK($F45),\"\",SUM(OFFSET(Data!$G$5,(Offsets!$F29-1)*(9 * 24 * (60 / $B$8) + 3)+(weekdaycode(U$19)-1)*24* (60 / $B$8),0,24* (60 / $B$8),1))/SUM(OFFSET(Data!$C$5,(Offsets!$F29-1)*(9 * 24 * (60 / $B$8) + 3)+(weekdaycode(U$19)-1)*24* (60 / $B$8),0,24* (60 / $B$8),12)))","v":""},{"$f":"IF(ISBLANK($F45),\"\",SUM(OFFSET(Data!$G$5,(Offsets!$F29-1)*(9 * 24 * (60 / $B$8) + 3)+(weekdaycode(U$19)-1)*24* (60 / $B$8),39,24* (60 / $B$8),1))/SUM(OFFSET(Data!$C$5,(Offsets!$F29-1)*(9 * 24 * (60 / $B$8) + 3)+(weekdaycode(U$19)-1)*24* (60 / $B$8),39,24* (60 / $B$8),12)))","v":""},{"$f":"IF(ISBLANK($F45),\"\",SUM(OFFSET(Data!$G$5,(Offsets!$F29-1)*(9 * 24 * (60 / $B$8) + 3)+(weekdaycode(W$19)-1)*24* (60 / $B$8),0,24* (60 / $B$8),1))/SUM(OFFSET(Data!$C$5,(Offsets!$F29-1)*(9 * 24 * (60 / $B$8) + 3)+(weekdaycode(W$19)-1)*24* (60 / $B$8),0,24* (60 / $B$8),12)))","v":""},{"$f":"IF(ISBLANK($F45),\"\",SUM(OFFSET(Data!$G$5,(Offsets!$F29-1)*(9 * 24 * (60 / $B$8) + 3)+(weekdaycode(W$19)-1)*24* (60 / $B$8),39,24* (60 / $B$8),1))/SUM(OFFSET(Data!$C$5,(Offsets!$F29-1)*(9 * 24 * (60 / $B$8) + 3)+(weekdaycode(W$19)-1)*24* (60 / $B$8),39,24* (60 / $B$8),12)))","v":""}]
[null,null,null,null,null,null,null,null,null,null,{"$f":"IF(ISBLANK($F46),\"\",SUM(OFFSET(Data!$G$5,(Offsets!$F30-1)*(9 * 24 * (60 / $B$8) + 3)+(weekdaycode(K$19)-1)*24* (60 / $B$8),0,24* (60 / $B$8),1))/SUM(OFFSET(Data!$C$5,(Offsets!$F30-1)*(9 * 24 * (60 / $B$8) + 3)+(weekdaycode(K$19)-1)*24* (60 / $B$8),0,24* (60 / $B$8),12)))","v":""},{"$f":"IF(ISBLANK($F46),\"\",SUM(OFFSET(Data!$G$5,(Offsets!$F30-1)*(9 * 24 * (60 / $B$8) + 3)+(weekdaycode(K$19)-1)*24* (60 / $B$8),39,24* (60 / $B$8),1))/SUM(OFFSET(Data!$C$5,(Offsets!$F30-1)*(9 * 24 * (60 / $B$8) + 3)+(weekdaycode(K$19)-1)*24* (60 / $B$8),39,24* (60 / $B$8),12)))","v":""},{"$f":"IF(ISBLANK($F46),\"\",SUM(OFFSET(Data!$G$5,(Offsets!$F30-1)*(9 * 24 * (60 / $B$8) + 3)+(weekdaycode(M$19)-1)*24* (60 / $B$8),0,24* (60 / $B$8),1))/SUM(OFFSET(Data!$C$5,(Offsets!$F30-1)*(9 * 24 * (60 / $B$8) + 3)+(weekdaycode(M$19)-1)*24* (60 / $B$8),0,24* (60 / $B$8),12)))","v":""},{"$f":"IF(ISBLANK($F46),\"\",SUM(OFFSET(Data!$G$5,(Offsets!$F30-1)*(9 * 24 * (60 / $B$8) + 3)+(weekdaycode(M$19)-1)*24* (60 / $B$8),39,24* (60 / $B$8),1))/SUM(OFFSET(Data!$C$5,(Offsets!$F30-1)*(9 * 24 * (60 / $B$8) + 3)+(weekdaycode(M$19)-1)*24* (60 / $B$8),39,24* (60 / $B$8),12)))","v":""},{"$f":"IF(ISBLANK($F46),\"\",SUM(OFFSET(Data!$G$5,(Offsets!$F30-1)*(9 * 24 * (60 / $B$8) + 3)+(weekdaycode(O$19)-1)*24* (60 / $B$8),0,24* (60 / $B$8),1))/SUM(OFFSET(Data!$C$5,(Offsets!$F30-1)*(9 * 24 * (60 / $B$8) + 3)+(weekdaycode(O$19)-1)*24* (60 / $B$8),0,24* (60 / $B$8),12)))","v":""},{"$f":"IF(ISBLANK($F46),\"\",SUM(OFFSET(Data!$G$5,(Offsets!$F30-1)*(9 * 24 * (60 / $B$8) + 3)+(weekdaycode(O$19)-1)*24* (60 / $B$8),39,24* (60 / $B$8),1))/SUM(OFFSET(Data!$C$5,(Offsets!$F30-1)*(9 * 24 * (60 / $B$8) + 3)+(weekdaycode(O$19)-1)*24* (60 / $B$8),39,24* (60 / $B$8),12)))","v":""},{"$f":"IF(ISBLANK($F46),\"\",SUM(OFFSET(Data!$G$5,(Offsets!$F30-1)*(9 * 24 * (60 / $B$8) + 3)+(weekdaycode(Q$19)-1)*24* (60 / $B$8),0,24* (60 / $B$8),1))/SUM(OFFSET(Data!$C$5,(Offsets!$F30-1)*(9 * 24 * (60 / $B$8) + 3)+(weekdaycode(Q$19)-1)*24* (60 / $B$8),0,24* (60 / $B$8),12)))","v":""},{"$f":"IF(ISBLANK($F46),\"\",SUM(OFFSET(Data!$G$5,(Offsets!$F30-1)*(9 * 24 * (60 / $B$8) + 3)+(weekdaycode(Q$19)-1)*24* (60 / $B$8),39,24* (60 / $B$8),1))/SUM(OFFSET(Data!$C$5,(Offsets!$F30-1)*(9 * 24 * (60 / $B$8) + 3)+(weekdaycode(Q$19)-1)*24* (60 / $B$8),39,24* (60 / $B$8),12)))","v":""},{"$f":"IF(ISBLANK($F46),\"\",SUM(OFFSET(Data!$G$5,(Offsets!$F30-1)*(9 * 24 * (60 / $B$8) + 3)+(weekdaycode(S$19)-1)*24* (60 / $B$8),0,24* (60 / $B$8),1))/SUM(OFFSET(Data!$C$5,(Offsets!$F30-1)*(9 * 24 * (60 / $B$8) + 3)+(weekdaycode(S$19)-1)*24* (60 / $B$8),0,24* (60 / $B$8),12)))","v":""},{"$f":"IF(ISBLANK($F46),\"\",SUM(OFFSET(Data!$G$5,(Offsets!$F30-1)*(9 * 24 * (60 / $B$8) + 3)+(weekdaycode(S$19)-1)*24* (60 / $B$8),39,24* (60 / $B$8),1))/SUM(OFFSET(Data!$C$5,(Offsets!$F30-1)*(9 * 24 * (60 / $B$8) + 3)+(weekdaycode(S$19)-1)*24* (60 / $B$8),39,24* (60 / $B$8),12)))","v":""},{"$f":"IF(ISBLANK($F46),\"\",SUM(OFFSET(Data!$G$5,(Offsets!$F30-1)*(9 * 24 * (60 / $B$8) + 3)+(weekdaycode(U$19)-1)*24* (60 / $B$8),0,24* (60 / $B$8),1))/SUM(OFFSET(Data!$C$5,(Offsets!$F30-1)*(9 * 24 * (60 / $B$8) + 3)+(weekdaycode(U$19)-1)*24* (60 / $B$8),0,24* (60 / $B$8),12)))","v":""},{"$f":"IF(ISBLANK($F46),\"\",SUM(OFFSET(Data!$G$5,(Offsets!$F30-1)*(9 * 24 * (60 / $B$8) + 3)+(weekdaycode(U$19)-1)*24* (60 / $B$8),39,24* (60 / $B$8),1))/SUM(OFFSET(Data!$C$5,(Offsets!$F30-1)*(9 * 24 * (60 / $B$8) + 3)+(weekdaycode(U$19)-1)*24* (60 / $B$8),39,24* (60 / $B$8),12)))","v":""},{"$f":"IF(ISBLANK($F46),\"\",SUM(OFFSET(Data!$G$5,(Offsets!$F30-1)*(9 * 24 * (60 / $B$8) + 3)+(weekdaycode(W$19)-1)*24* (60 / $B$8),0,24* (60 / $B$8),1))/SUM(OFFSET(Data!$C$5,(Offsets!$F30-1)*(9 * 24 * (60 / $B$8) + 3)+(weekdaycode(W$19)-1)*24* (60 / $B$8),0,24* (60 / $B$8),12)))","v":""},{"$f":"IF(ISBLANK($F46),\"\",SUM(OFFSET(Data!$G$5,(Offsets!$F30-1)*(9 * 24 * (60 / $B$8) + 3)+(weekdaycode(W$19)-1)*24* (60 / $B$8),39,24* (60 / $B$8),1))/SUM(OFFSET(Data!$C$5,(Offsets!$F30-1)*(9 * 24 * (60 / $B$8) + 3)+(weekdaycode(W$19)-1)*24* (60 / $B$8),39,24* (60 / $B$8),12)))","v":""}]
[null,null,null,null,null,null,null,null,null,null,{"$f":"IF(ISBLANK($F47),\"\",SUM(OFFSET(Data!$G$5,(Offsets!$F31-1)*(9 * 24 * (60 / $B$8) + 3)+(weekdaycode(K$19)-1)*24* (60 / $B$8),0,24* (60 / $B$8),1))/SUM(OFFSET(Data!$C$5,(Offsets!$F31-1)*(9 * 24 * (60 / $B$8) + 3)+(weekdaycode(K$19)-1)*24* (60 / $B$8),0,24* (60 / $B$8),12)))","v":""},{"$f":"IF(ISBLANK($F47),\"\",SUM(OFFSET(Data!$G$5,(Offsets!$F31-1)*(9 * 24 * (60 / $B$8) + 3)+(weekdaycode(K$19)-1)*24* (60 / $B$8),39,24* (60 / $B$8),1))/SUM(OFFSET(Data!$C$5,(Offsets!$F31-1)*(9 * 24 * (60 / $B$8) + 3)+(weekdaycode(K$19)-1)*24* (60 / $B$8),39,24* (60 / $B$8),12)))","v":""},{"$f":"IF(ISBLANK($F47),\"\",SUM(OFFSET(Data!$G$5,(Offsets!$F31-1)*(9 * 24 * (60 / $B$8) + 3)+(weekdaycode(M$19)-1)*24* (60 / $B$8),0,24* (60 / $B$8),1))/SUM(OFFSET(Data!$C$5,(Offsets!$F31-1)*(9 * 24 * (60 / $B$8) + 3)+(weekdaycode(M$19)-1)*24* (60 / $B$8),0,24* (60 / $B$8),12)))","v":""},{"$f":"IF(ISBLANK($F47),\"\",SUM(OFFSET(Data!$G$5,(Offsets!$F31-1)*(9 * 24 * (60 / $B$8) + 3)+(weekdaycode(M$19)-1)*24* (60 / $B$8),39,24* (60 / $B$8),1))/SUM(OFFSET(Data!$C$5,(Offsets!$F31-1)*(9 * 24 * (60 / $B$8) + 3)+(weekdaycode(M$19)-1)*24* (60 / $B$8),39,24* (60 / $B$8),12)))","v":""},{"$f":"IF(ISBLANK($F47),\"\",SUM(OFFSET(Data!$G$5,(Offsets!$F31-1)*(9 * 24 * (60 / $B$8) + 3)+(weekdaycode(O$19)-1)*24* (60 / $B$8),0,24* (60 / $B$8),1))/SUM(OFFSET(Data!$C$5,(Offsets!$F31-1)*(9 * 24 * (60 / $B$8) + 3)+(weekdaycode(O$19)-1)*24* (60 / $B$8),0,24* (60 / $B$8),12)))","v":""},{"$f":"IF(ISBLANK($F47),\"\",SUM(OFFSET(Data!$G$5,(Offsets!$F31-1)*(9 * 24 * (60 / $B$8) + 3)+(weekdaycode(O$19)-1)*24* (60 / $B$8),39,24* (60 / $B$8),1))/SUM(OFFSET(Data!$C$5,(Offsets!$F31-1)*(9 * 24 * (60 / $B$8) + 3)+(weekdaycode(O$19)-1)*24* (60 / $B$8),39,24* (60 / $B$8),12)))","v":""},{"$f":"IF(ISBLANK($F47),\"\",SUM(OFFSET(Data!$G$5,(Offsets!$F31-1)*(9 * 24 * (60 / $B$8) + 3)+(weekdaycode(Q$19)-1)*24* (60 / $B$8),0,24* (60 / $B$8),1))/SUM(OFFSET(Data!$C$5,(Offsets!$F31-1)*(9 * 24 * (60 / $B$8) + 3)+(weekdaycode(Q$19)-1)*24* (60 / $B$8),0,24* (60 / $B$8),12)))","v":""},{"$f":"IF(ISBLANK($F47),\"\",SUM(OFFSET(Data!$G$5,(Offsets!$F31-1)*(9 * 24 * (60 / $B$8) + 3)+(weekdaycode(Q$19)-1)*24* (60 / $B$8),39,24* (60 / $B$8),1))/SUM(OFFSET(Data!$C$5,(Offsets!$F31-1)*(9 * 24 * (60 / $B$8) + 3)+(weekdaycode(Q$19)-1)*24* (60 / $B$8),39,24* (60 / $B$8),12)))","v":""},{"$f":"IF(ISBLANK($F47),\"\",SUM(OFFSET(Data!$G$5,(Offsets!$F31-1)*(9 * 24 * (60 / $B$8) + 3)+(weekdaycode(S$19)-1)*24* (60 / $B$8),0,24* (60 / $B$8),1))/SUM(OFFSET(Data!$C$5,(Offsets!$F31-1)*(9 * 24 * (60 / $B$8) + 3)+(weekdaycode(S$19)-1)*24* (60 / $B$8),0,24* (60 / $B$8),12)))","v":""},{"$f":"IF(ISBLANK($F47),\"\",SUM(OFFSET(Data!$G$5,(Offsets!$F31-1)*(9 * 24 * (60 / $B$8) + 3)+(weekdaycode(S$19)-1)*24* (60 / $B$8),39,24* (60 / $B$8),1))/SUM(OFFSET(Data!$C$5,(Offsets!$F31-1)*(9 * 24 * (60 / $B$8) + 3)+(weekdaycode(S$19)-1)*24* (60 / $B$8),39,24* (60 / $B$8),12)))","v":""},{"$f":"IF(ISBLANK($F47),\"\",SUM(OFFSET(Data!$G$5,(Offsets!$F31-1)*(9 * 24 * (60 / $B$8) + 3)+(weekdaycode(U$19)-1)*24* (60 / $B$8),0,24* (60 / $B$8),1))/SUM(OFFSET(Data!$C$5,(Offsets!$F31-1)*(9 * 24 * (60 / $B$8) + 3)+(weekdaycode(U$19)-1)*24* (60 / $B$8),0,24* (60 / $B$8),12)))","v":""},{"$f":"IF(ISBLANK($F47),\"\",SUM(OFFSET(Data!$G$5,(Offsets!$F31-1)*(9 * 24 * (60 / $B$8) + 3)+(weekdaycode(U$19)-1)*24* (60 / $B$8),39,24* (60 / $B$8),1))/SUM(OFFSET(Data!$C$5,(Offsets!$F31-1)*(9 * 24 * (60 / $B$8) + 3)+(weekdaycode(U$19)-1)*24* (60 / $B$8),39,24* (60 / $B$8),12)))","v":""},{"$f":"IF(ISBLANK($F47),\"\",SUM(OFFSET(Data!$G$5,(Offsets!$F31-1)*(9 * 24 * (60 / $B$8) + 3)+(weekdaycode(W$19)-1)*24* (60 / $B$8),0,24* (60 / $B$8),1))/SUM(OFFSET(Data!$C$5,(Offsets!$F31-1)*(9 * 24 * (60 / $B$8) + 3)+(weekdaycode(W$19)-1)*24* (60 / $B$8),0,24* (60 / $B$8),12)))","v":""},{"$f":"IF(ISBLANK($F47),\"\",SUM(OFFSET(Data!$G$5,(Offsets!$F31-1)*(9 * 24 * (60 / $B$8) + 3)+(weekdaycode(W$19)-1)*24* (60 / $B$8),39,24* (60 / $B$8),1))/SUM(OFFSET(Data!$C$5,(Offsets!$F31-1)*(9 * 24 * (60 / $B$8) + 3)+(weekdaycode(W$19)-1)*24* (60 / $B$8),39,24* (60 / $B$8),12)))","v":""}]
[null,null,null,null,null,null,null,null,null,null,{"$f":"IF(ISBLANK($F48),\"\",SUM(OFFSET(Data!$G$5,(Offsets!$F32-1)*(9 * 24 * (60 / $B$8) + 3)+(weekdaycode(K$19)-1)*24* (60 / $B$8),0,24* (60 / $B$8),1))/SUM(OFFSET(Data!$C$5,(Offsets!$F32-1)*(9 * 24 * (60 / $B$8) + 3)+(weekdaycode(K$19)-1)*24* (60 / $B$8),0,24* (60 / $B$8),12)))","v":""},{"$f":"IF(ISBLANK($F48),\"\",SUM(OFFSET(Data!$G$5,(Offsets!$F32-1)*(9 * 24 * (60 / $B$8) + 3)+(weekdaycode(K$19)-1)*24* (60 / $B$8),39,24* (60 / $B$8),1))/SUM(OFFSET(Data!$C$5,(Offsets!$F32-1)*(9 * 24 * (60 / $B$8) + 3)+(weekdaycode(K$19)-1)*24* (60 / $B$8),39,24* (60 / $B$8),12)))","v":""},{"$f":"IF(ISBLANK($F48),\"\",SUM(OFFSET(Data!$G$5,(Offsets!$F32-1)*(9 * 24 * (60 / $B$8) + 3)+(weekdaycode(M$19)-1)*24* (60 / $B$8),0,24* (60 / $B$8),1))/SUM(OFFSET(Data!$C$5,(Offsets!$F32-1)*(9 * 24 * (60 / $B$8) + 3)+(weekdaycode(M$19)-1)*24* (60 / $B$8),0,24* (60 / $B$8),12)))","v":""},{"$f":"IF(ISBLANK($F48),\"\",SUM(OFFSET(Data!$G$5,(Offsets!$F32-1)*(9 * 24 * (60 / $B$8) + 3)+(weekdaycode(M$19)-1)*24* (60 / $B$8),39,24* (60 / $B$8),1))/SUM(OFFSET(Data!$C$5,(Offsets!$F32-1)*(9 * 24 * (60 / $B$8) + 3)+(weekdaycode(M$19)-1)*24* (60 / $B$8),39,24* (60 / $B$8),12)))","v":""},{"$f":"IF(ISBLANK($F48),\"\",SUM(OFFSET(Data!$G$5,(Offsets!$F32-1)*(9 * 24 * (60 / $B$8) + 3)+(weekdaycode(O$19)-1)*24* (60 / $B$8),0,24* (60 / $B$8),1))/SUM(OFFSET(Data!$C$5,(Offsets!$F32-1)*(9 * 24 * (60 / $B$8) + 3)+(weekdaycode(O$19)-1)*24* (60 / $B$8),0,24* (60 / $B$8),12)))","v":""},{"$f":"IF(ISBLANK($F48),\"\",SUM(OFFSET(Data!$G$5,(Offsets!$F32-1)*(9 * 24 * (60 / $B$8) + 3)+(weekdaycode(O$19)-1)*24* (60 / $B$8),39,24* (60 / $B$8),1))/SUM(OFFSET(Data!$C$5,(Offsets!$F32-1)*(9 * 24 * (60 / $B$8) + 3)+(weekdaycode(O$19)-1)*24* (60 / $B$8),39,24* (60 / $B$8),12)))","v":""},{"$f":"IF(ISBLANK($F48),\"\",SUM(OFFSET(Data!$G$5,(Offsets!$F32-1)*(9 * 24 * (60 / $B$8) + 3)+(weekdaycode(Q$19)-1)*24* (60 / $B$8),0,24* (60 / $B$8),1))/SUM(OFFSET(Data!$C$5,(Offsets!$F32-1)*(9 * 24 * (60 / $B$8) + 3)+(weekdaycode(Q$19)-1)*24* (60 / $B$8),0,24* (60 / $B$8),12)))","v":""},{"$f":"IF(ISBLANK($F48),\"\",SUM(OFFSET(Data!$G$5,(Offsets!$F32-1)*(9 * 24 * (60 / $B$8) + 3)+(weekdaycode(Q$19)-1)*24* (60 / $B$8),39,24* (60 / $B$8),1))/SUM(OFFSET(Data!$C$5,(Offsets!$F32-1)*(9 * 24 * (60 / $B$8) + 3)+(weekdaycode(Q$19)-1)*24* (60 / $B$8),39,24* (60 / $B$8),12)))","v":""},{"$f":"IF(ISBLANK($F48),\"\",SUM(OFFSET(Data!$G$5,(Offsets!$F32-1)*(9 * 24 * (60 / $B$8) + 3)+(weekdaycode(S$19)-1)*24* (60 / $B$8),0,24* (60 / $B$8),1))/SUM(OFFSET(Data!$C$5,(Offsets!$F32-1)*(9 * 24 * (60 / $B$8) + 3)+(weekdaycode(S$19)-1)*24* (60 / $B$8),0,24* (60 / $B$8),12)))","v":""},{"$f":"IF(ISBLANK($F48),\"\",SUM(OFFSET(Data!$G$5,(Offsets!$F32-1)*(9 * 24 * (60 / $B$8) + 3)+(weekdaycode(S$19)-1)*24* (60 / $B$8),39,24* (60 / $B$8),1))/SUM(OFFSET(Data!$C$5,(Offsets!$F32-1)*(9 * 24 * (60 / $B$8) + 3)+(weekdaycode(S$19)-1)*24* (60 / $B$8),39,24* (60 / $B$8),12)))","v":""},{"$f":"IF(ISBLANK($F48),\"\",SUM(OFFSET(Data!$G$5,(Offsets!$F32-1)*(9 * 24 * (60 / $B$8) + 3)+(weekdaycode(U$19)-1)*24* (60 / $B$8),0,24* (60 / $B$8),1))/SUM(OFFSET(Data!$C$5,(Offsets!$F32-1)*(9 * 24 * (60 / $B$8) + 3)+(weekdaycode(U$19)-1)*24* (60 / $B$8),0,24* (60 / $B$8),12)))","v":""},{"$f":"IF(ISBLANK($F48),\"\",SUM(OFFSET(Data!$G$5,(Offsets!$F32-1)*(9 * 24 * (60 / $B$8) + 3)+(weekdaycode(U$19)-1)*24* (60 / $B$8),39,24* (60 / $B$8),1))/SUM(OFFSET(Data!$C$5,(Offsets!$F32-1)*(9 * 24 * (60 / $B$8) + 3)+(weekdaycode(U$19)-1)*24* (60 / $B$8),39,24* (60 / $B$8),12)))","v":""},{"$f":"IF(ISBLANK($F48),\"\",SUM(OFFSET(Data!$G$5,(Offsets!$F32-1)*(9 * 24 * (60 / $B$8) + 3)+(weekdaycode(W$19)-1)*24* (60 / $B$8),0,24* (60 / $B$8),1))/SUM(OFFSET(Data!$C$5,(Offsets!$F32-1)*(9 * 24 * (60 / $B$8) + 3)+(weekdaycode(W$19)-1)*24* (60 / $B$8),0,24* (60 / $B$8),12)))","v":""},{"$f":"IF(ISBLANK($F48),\"\",SUM(OFFSET(Data!$G$5,(Offsets!$F32-1)*(9 * 24 * (60 / $B$8) + 3)+(weekdaycode(W$19)-1)*24* (60 / $B$8),39,24* (60 / $B$8),1))/SUM(OFFSET(Data!$C$5,(Offsets!$F32-1)*(9 * 24 * (60 / $B$8) + 3)+(weekdaycode(W$19)-1)*24* (60 / $B$8),39,24* (60 / $B$8),12)))","v":""}]
[null,null,null,null,null,null,null,null,null,null,{"$f":"IF(ISBLANK($F49),\"\",SUM(OFFSET(Data!$G$5,(Offsets!$F33-1)*(9 * 24 * (60 / $B$8) + 3)+(weekdaycode(K$19)-1)*24* (60 / $B$8),0,24* (60 / $B$8),1))/SUM(OFFSET(Data!$C$5,(Offsets!$F33-1)*(9 * 24 * (60 / $B$8) + 3)+(weekdaycode(K$19)-1)*24* (60 / $B$8),0,24* (60 / $B$8),12)))","v":""},{"$f":"IF(ISBLANK($F49),\"\",SUM(OFFSET(Data!$G$5,(Offsets!$F33-1)*(9 * 24 * (60 / $B$8) + 3)+(weekdaycode(K$19)-1)*24* (60 / $B$8),39,24* (60 / $B$8),1))/SUM(OFFSET(Data!$C$5,(Offsets!$F33-1)*(9 * 24 * (60 / $B$8) + 3)+(weekdaycode(K$19)-1)*24* (60 / $B$8),39,24* (60 / $B$8),12)))","v":""},{"$f":"IF(ISBLANK($F49),\"\",SUM(OFFSET(Data!$G$5,(Offsets!$F33-1)*(9 * 24 * (60 / $B$8) + 3)+(weekdaycode(M$19)-1)*24* (60 / $B$8),0,24* (60 / $B$8),1))/SUM(OFFSET(Data!$C$5,(Offsets!$F33-1)*(9 * 24 * (60 / $B$8) + 3)+(weekdaycode(M$19)-1)*24* (60 / $B$8),0,24* (60 / $B$8),12)))","v":""},{"$f":"IF(ISBLANK($F49),\"\",SUM(OFFSET(Data!$G$5,(Offsets!$F33-1)*(9 * 24 * (60 / $B$8) + 3)+(weekdaycode(M$19)-1)*24* (60 / $B$8),39,24* (60 / $B$8),1))/SUM(OFFSET(Data!$C$5,(Offsets!$F33-1)*(9 * 24 * (60 / $B$8) + 3)+(weekdaycode(M$19)-1)*24* (60 / $B$8),39,24* (60 / $B$8),12)))","v":""},{"$f":"IF(ISBLANK($F49),\"\",SUM(OFFSET(Data!$G$5,(Offsets!$F33-1)*(9 * 24 * (60 / $B$8) + 3)+(weekdaycode(O$19)-1)*24* (60 / $B$8),0,24* (60 / $B$8),1))/SUM(OFFSET(Data!$C$5,(Offsets!$F33-1)*(9 * 24 * (60 / $B$8) + 3)+(weekdaycode(O$19)-1)*24* (60 / $B$8),0,24* (60 / $B$8),12)))","v":""},{"$f":"IF(ISBLANK($F49),\"\",SUM(OFFSET(Data!$G$5,(Offsets!$F33-1)*(9 * 24 * (60 / $B$8) + 3)+(weekdaycode(O$19)-1)*24* (60 / $B$8),39,24* (60 / $B$8),1))/SUM(OFFSET(Data!$C$5,(Offsets!$F33-1)*(9 * 24 * (60 / $B$8) + 3)+(weekdaycode(O$19)-1)*24* (60 / $B$8),39,24* (60 / $B$8),12)))","v":""},{"$f":"IF(ISBLANK($F49),\"\",SUM(OFFSET(Data!$G$5,(Offsets!$F33-1)*(9 * 24 * (60 / $B$8) + 3)+(weekdaycode(Q$19)-1)*24* (60 / $B$8),0,24* (60 / $B$8),1))/SUM(OFFSET(Data!$C$5,(Offsets!$F33-1)*(9 * 24 * (60 / $B$8) + 3)+(weekdaycode(Q$19)-1)*24* (60 / $B$8),0,24* (60 / $B$8),12)))","v":""},{"$f":"IF(ISBLANK($F49),\"\",SUM(OFFSET(Data!$G$5,(Offsets!$F33-1)*(9 * 24 * (60 / $B$8) + 3)+(weekdaycode(Q$19)-1)*24* (60 / $B$8),39,24* (60 / $B$8),1))/SUM(OFFSET(Data!$C$5,(Offsets!$F33-1)*(9 * 24 * (60 / $B$8) + 3)+(weekdaycode(Q$19)-1)*24* (60 / $B$8),39,24* (60 / $B$8),12)))","v":""},{"$f":"IF(ISBLANK($F49),\"\",SUM(OFFSET(Data!$G$5,(Offsets!$F33-1)*(9 * 24 * (60 / $B$8) + 3)+(weekdaycode(S$19)-1)*24* (60 / $B$8),0,24* (60 / $B$8),1))/SUM(OFFSET(Data!$C$5,(Offsets!$F33-1)*(9 * 24 * (60 / $B$8) + 3)+(weekdaycode(S$19)-1)*24* (60 / $B$8),0,24* (60 / $B$8),12)))","v":""},{"$f":"IF(ISBLANK($F49),\"\",SUM(OFFSET(Data!$G$5,(Offsets!$F33-1)*(9 * 24 * (60 / $B$8) + 3)+(weekdaycode(S$19)-1)*24* (60 / $B$8),39,24* (60 / $B$8),1))/SUM(OFFSET(Data!$C$5,(Offsets!$F33-1)*(9 * 24 * (60 / $B$8) + 3)+(weekdaycode(S$19)-1)*24* (60 / $B$8),39,24* (60 / $B$8),12)))","v":""},{"$f":"IF(ISBLANK($F49),\"\",SUM(OFFSET(Data!$G$5,(Offsets!$F33-1)*(9 * 24 * (60 / $B$8) + 3)+(weekdaycode(U$19)-1)*24* (60 / $B$8),0,24* (60 / $B$8),1))/SUM(OFFSET(Data!$C$5,(Offsets!$F33-1)*(9 * 24 * (60 / $B$8) + 3)+(weekdaycode(U$19)-1)*24* (60 / $B$8),0,24* (60 / $B$8),12)))","v":""},{"$f":"IF(ISBLANK($F49),\"\",SUM(OFFSET(Data!$G$5,(Offsets!$F33-1)*(9 * 24 * (60 / $B$8) + 3)+(weekdaycode(U$19)-1)*24* (60 / $B$8),39,24* (60 / $B$8),1))/SUM(OFFSET(Data!$C$5,(Offsets!$F33-1)*(9 * 24 * (60 / $B$8) + 3)+(weekdaycode(U$19)-1)*24* (60 / $B$8),39,24* (60 / $B$8),12)))","v":""},{"$f":"IF(ISBLANK($F49),\"\",SUM(OFFSET(Data!$G$5,(Offsets!$F33-1)*(9 * 24 * (60 / $B$8) + 3)+(weekdaycode(W$19)-1)*24* (60 / $B$8),0,24* (60 / $B$8),1))/SUM(OFFSET(Data!$C$5,(Offsets!$F33-1)*(9 * 24 * (60 / $B$8) + 3)+(weekdaycode(W$19)-1)*24* (60 / $B$8),0,24* (60 / $B$8),12)))","v":""},{"$f":"IF(ISBLANK($F49),\"\",SUM(OFFSET(Data!$G$5,(Offsets!$F33-1)*(9 * 24 * (60 / $B$8) + 3)+(weekdaycode(W$19)-1)*24* (60 / $B$8),39,24* (60 / $B$8),1))/SUM(OFFSET(Data!$C$5,(Offsets!$F33-1)*(9 * 24 * (60 / $B$8) + 3)+(weekdaycode(W$19)-1)*24* (60 / $B$8),39,24* (60 / $B$8),12)))","v":""}]
[null,null,null,null,null,null,null,null,null,null,{"$f":"IF(ISBLANK($F50),\"\",SUM(OFFSET(Data!$G$5,(Offsets!$F34-1)*(9 * 24 * (60 / $B$8) + 3)+(weekdaycode(K$19)-1)*24* (60 / $B$8),0,24* (60 / $B$8),1))/SUM(OFFSET(Data!$C$5,(Offsets!$F34-1)*(9 * 24 * (60 / $B$8) + 3)+(weekdaycode(K$19)-1)*24* (60 / $B$8),0,24* (60 / $B$8),12)))","v":""},{"$f":"IF(ISBLANK($F50),\"\",SUM(OFFSET(Data!$G$5,(Offsets!$F34-1)*(9 * 24 * (60 / $B$8) + 3)+(weekdaycode(K$19)-1)*24* (60 / $B$8),39,24* (60 / $B$8),1))/SUM(OFFSET(Data!$C$5,(Offsets!$F34-1)*(9 * 24 * (60 / $B$8) + 3)+(weekdaycode(K$19)-1)*24* (60 / $B$8),39,24* (60 / $B$8),12)))","v":""},{"$f":"IF(ISBLANK($F50),\"\",SUM(OFFSET(Data!$G$5,(Offsets!$F34-1)*(9 * 24 * (60 / $B$8) + 3)+(weekdaycode(M$19)-1)*24* (60 / $B$8),0,24* (60 / $B$8),1))/SUM(OFFSET(Data!$C$5,(Offsets!$F34-1)*(9 * 24 * (60 / $B$8) + 3)+(weekdaycode(M$19)-1)*24* (60 / $B$8),0,24* (60 / $B$8),12)))","v":""},{"$f":"IF(ISBLANK($F50),\"\",SUM(OFFSET(Data!$G$5,(Offsets!$F34-1)*(9 * 24 * (60 / $B$8) + 3)+(weekdaycode(M$19)-1)*24* (60 / $B$8),39,24* (60 / $B$8),1))/SUM(OFFSET(Data!$C$5,(Offsets!$F34-1)*(9 * 24 * (60 / $B$8) + 3)+(weekdaycode(M$19)-1)*24* (60 / $B$8),39,24* (60 / $B$8),12)))","v":""},{"$f":"IF(ISBLANK($F50),\"\",SUM(OFFSET(Data!$G$5,(Offsets!$F34-1)*(9 * 24 * (60 / $B$8) + 3)+(weekdaycode(O$19)-1)*24* (60 / $B$8),0,24* (60 / $B$8),1))/SUM(OFFSET(Data!$C$5,(Offsets!$F34-1)*(9 * 24 * (60 / $B$8) + 3)+(weekdaycode(O$19)-1)*24* (60 / $B$8),0,24* (60 / $B$8),12)))","v":""},{"$f":"IF(ISBLANK($F50),\"\",SUM(OFFSET(Data!$G$5,(Offsets!$F34-1)*(9 * 24 * (60 / $B$8) + 3)+(weekdaycode(O$19)-1)*24* (60 / $B$8),39,24* (60 / $B$8),1))/SUM(OFFSET(Data!$C$5,(Offsets!$F34-1)*(9 * 24 * (60 / $B$8) + 3)+(weekdaycode(O$19)-1)*24* (60 / $B$8),39,24* (60 / $B$8),12)))","v":""},{"$f":"IF(ISBLANK($F50),\"\",SUM(OFFSET(Data!$G$5,(Offsets!$F34-1)*(9 * 24 * (60 / $B$8) + 3)+(weekdaycode(Q$19)-1)*24* (60 / $B$8),0,24* (60 / $B$8),1))/SUM(OFFSET(Data!$C$5,(Offsets!$F34-1)*(9 * 24 * (60 / $B$8) + 3)+(weekdaycode(Q$19)-1)*24* (60 / $B$8),0,24* (60 / $B$8),12)))","v":""},{"$f":"IF(ISBLANK($F50),\"\",SUM(OFFSET(Data!$G$5,(Offsets!$F34-1)*(9 * 24 * (60 / $B$8) + 3)+(weekdaycode(Q$19)-1)*24* (60 / $B$8),39,24* (60 / $B$8),1))/SUM(OFFSET(Data!$C$5,(Offsets!$F34-1)*(9 * 24 * (60 / $B$8) + 3)+(weekdaycode(Q$19)-1)*24* (60 / $B$8),39,24* (60 / $B$8),12)))","v":""},{"$f":"IF(ISBLANK($F50),\"\",SUM(OFFSET(Data!$G$5,(Offsets!$F34-1)*(9 * 24 * (60 / $B$8) + 3)+(weekdaycode(S$19)-1)*24* (60 / $B$8),0,24* (60 / $B$8),1))/SUM(OFFSET(Data!$C$5,(Offsets!$F34-1)*(9 * 24 * (60 / $B$8) + 3)+(weekdaycode(S$19)-1)*24* (60 / $B$8),0,24* (60 / $B$8),12)))","v":""},{"$f":"IF(ISBLANK($F50),\"\",SUM(OFFSET(Data!$G$5,(Offsets!$F34-1)*(9 * 24 * (60 / $B$8) + 3)+(weekdaycode(S$19)-1)*24* (60 / $B$8),39,24* (60 / $B$8),1))/SUM(OFFSET(Data!$C$5,(Offsets!$F34-1)*(9 * 24 * (60 / $B$8) + 3)+(weekdaycode(S$19)-1)*24* (60 / $B$8),39,24* (60 / $B$8),12)))","v":""},{"$f":"IF(ISBLANK($F50),\"\",SUM(OFFSET(Data!$G$5,(Offsets!$F34-1)*(9 * 24 * (60 / $B$8) + 3)+(weekdaycode(U$19)-1)*24* (60 / $B$8),0,24* (60 / $B$8),1))/SUM(OFFSET(Data!$C$5,(Offsets!$F34-1)*(9 * 24 * (60 / $B$8) + 3)+(weekdaycode(U$19)-1)*24* (60 / $B$8),0,24* (60 / $B$8),12)))","v":""},{"$f":"IF(ISBLANK($F50),\"\",SUM(OFFSET(Data!$G$5,(Offsets!$F34-1)*(9 * 24 * (60 / $B$8) + 3)+(weekdaycode(U$19)-1)*24* (60 / $B$8),39,24* (60 / $B$8),1))/SUM(OFFSET(Data!$C$5,(Offsets!$F34-1)*(9 * 24 * (60 / $B$8) + 3)+(weekdaycode(U$19)-1)*24* (60 / $B$8),39,24* (60 / $B$8),12)))","v":""},{"$f":"IF(ISBLANK($F50),\"\",SUM(OFFSET(Data!$G$5,(Offsets!$F34-1)*(9 * 24 * (60 / $B$8) + 3)+(weekdaycode(W$19)-1)*24* (60 / $B$8),0,24* (60 / $B$8),1))/SUM(OFFSET(Data!$C$5,(Offsets!$F34-1)*(9 * 24 * (60 / $B$8) + 3)+(weekdaycode(W$19)-1)*24* (60 / $B$8),0,24* (60 / $B$8),12)))","v":""},{"$f":"IF(ISBLANK($F50),\"\",SUM(OFFSET(Data!$G$5,(Offsets!$F34-1)*(9 * 24 * (60 / $B$8) + 3)+(weekdaycode(W$19)-1)*24* (60 / $B$8),39,24* (60 / $B$8),1))/SUM(OFFSET(Data!$C$5,(Offsets!$F34-1)*(9 * 24 * (60 / $B$8) + 3)+(weekdaycode(W$19)-1)*24* (60 / $B$8),39,24* (60 / $B$8),12)))","v":""}]
[null,null,null,null,null,null,null,null,null,null,{"$f":"IF(ISBLANK($F51),\"\",SUM(OFFSET(Data!$G$5,(Offsets!$F35-1)*(9 * 24 * (60 / $B$8) + 3)+(weekdaycode(K$19)-1)*24* (60 / $B$8),0,24* (60 / $B$8),1))/SUM(OFFSET(Data!$C$5,(Offsets!$F35-1)*(9 * 24 * (60 / $B$8) + 3)+(weekdaycode(K$19)-1)*24* (60 / $B$8),0,24* (60 / $B$8),12)))","v":""},{"$f":"IF(ISBLANK($F51),\"\",SUM(OFFSET(Data!$G$5,(Offsets!$F35-1)*(9 * 24 * (60 / $B$8) + 3)+(weekdaycode(K$19)-1)*24* (60 / $B$8),39,24* (60 / $B$8),1))/SUM(OFFSET(Data!$C$5,(Offsets!$F35-1)*(9 * 24 * (60 / $B$8) + 3)+(weekdaycode(K$19)-1)*24* (60 / $B$8),39,24* (60 / $B$8),12)))","v":""},{"$f":"IF(ISBLANK($F51),\"\",SUM(OFFSET(Data!$G$5,(Offsets!$F35-1)*(9 * 24 * (60 / $B$8) + 3)+(weekdaycode(M$19)-1)*24* (60 / $B$8),0,24* (60 / $B$8),1))/SUM(OFFSET(Data!$C$5,(Offsets!$F35-1)*(9 * 24 * (60 / $B$8) + 3)+(weekdaycode(M$19)-1)*24* (60 / $B$8),0,24* (60 / $B$8),12)))","v":""},{"$f":"IF(ISBLANK($F51),\"\",SUM(OFFSET(Data!$G$5,(Offsets!$F35-1)*(9 * 24 * (60 / $B$8) + 3)+(weekdaycode(M$19)-1)*24* (60 / $B$8),39,24* (60 / $B$8),1))/SUM(OFFSET(Data!$C$5,(Offsets!$F35-1)*(9 * 24 * (60 / $B$8) + 3)+(weekdaycode(M$19)-1)*24* (60 / $B$8),39,24* (60 / $B$8),12)))","v":""},{"$f":"IF(ISBLANK($F51),\"\",SUM(OFFSET(Data!$G$5,(Offsets!$F35-1)*(9 * 24 * (60 / $B$8) + 3)+(weekdaycode(O$19)-1)*24* (60 / $B$8),0,24* (60 / $B$8),1))/SUM(OFFSET(Data!$C$5,(Offsets!$F35-1)*(9 * 24 * (60 / $B$8) + 3)+(weekdaycode(O$19)-1)*24* (60 / $B$8),0,24* (60 / $B$8),12)))","v":""},{"$f":"IF(ISBLANK($F51),\"\",SUM(OFFSET(Data!$G$5,(Offsets!$F35-1)*(9 * 24 * (60 / $B$8) + 3)+(weekdaycode(O$19)-1)*24* (60 / $B$8),39,24* (60 / $B$8),1))/SUM(OFFSET(Data!$C$5,(Offsets!$F35-1)*(9 * 24 * (60 / $B$8) + 3)+(weekdaycode(O$19)-1)*24* (60 / $B$8),39,24* (60 / $B$8),12)))","v":""},{"$f":"IF(ISBLANK($F51),\"\",SUM(OFFSET(Data!$G$5,(Offsets!$F35-1)*(9 * 24 * (60 / $B$8) + 3)+(weekdaycode(Q$19)-1)*24* (60 / $B$8),0,24* (60 / $B$8),1))/SUM(OFFSET(Data!$C$5,(Offsets!$F35-1)*(9 * 24 * (60 / $B$8) + 3)+(weekdaycode(Q$19)-1)*24* (60 / $B$8),0,24* (60 / $B$8),12)))","v":""},{"$f":"IF(ISBLANK($F51),\"\",SUM(OFFSET(Data!$G$5,(Offsets!$F35-1)*(9 * 24 * (60 / $B$8) + 3)+(weekdaycode(Q$19)-1)*24* (60 / $B$8),39,24* (60 / $B$8),1))/SUM(OFFSET(Data!$C$5,(Offsets!$F35-1)*(9 * 24 * (60 / $B$8) + 3)+(weekdaycode(Q$19)-1)*24* (60 / $B$8),39,24* (60 / $B$8),12)))","v":""},{"$f":"IF(ISBLANK($F51),\"\",SUM(OFFSET(Data!$G$5,(Offsets!$F35-1)*(9 * 24 * (60 / $B$8) + 3)+(weekdaycode(S$19)-1)*24* (60 / $B$8),0,24* (60 / $B$8),1))/SUM(OFFSET(Data!$C$5,(Offsets!$F35-1)*(9 * 24 * (60 / $B$8) + 3)+(weekdaycode(S$19)-1)*24* (60 / $B$8),0,24* (60 / $B$8),12)))","v":""},{"$f":"IF(ISBLANK($F51),\"\",SUM(OFFSET(Data!$G$5,(Offsets!$F35-1)*(9 * 24 * (60 / $B$8) + 3)+(weekdaycode(S$19)-1)*24* (60 / $B$8),39,24* (60 / $B$8),1))/SUM(OFFSET(Data!$C$5,(Offsets!$F35-1)*(9 * 24 * (60 / $B$8) + 3)+(weekdaycode(S$19)-1)*24* (60 / $B$8),39,24* (60 / $B$8),12)))","v":""},{"$f":"IF(ISBLANK($F51),\"\",SUM(OFFSET(Data!$G$5,(Offsets!$F35-1)*(9 * 24 * (60 / $B$8) + 3)+(weekdaycode(U$19)-1)*24* (60 / $B$8),0,24* (60 / $B$8),1))/SUM(OFFSET(Data!$C$5,(Offsets!$F35-1)*(9 * 24 * (60 / $B$8) + 3)+(weekdaycode(U$19)-1)*24* (60 / $B$8),0,24* (60 / $B$8),12)))","v":""},{"$f":"IF(ISBLANK($F51),\"\",SUM(OFFSET(Data!$G$5,(Offsets!$F35-1)*(9 * 24 * (60 / $B$8) + 3)+(weekdaycode(U$19)-1)*24* (60 / $B$8),39,24* (60 / $B$8),1))/SUM(OFFSET(Data!$C$5,(Offsets!$F35-1)*(9 * 24 * (60 / $B$8) + 3)+(weekdaycode(U$19)-1)*24* (60 / $B$8),39,24* (60 / $B$8),12)))","v":""},{"$f":"IF(ISBLANK($F51),\"\",SUM(OFFSET(Data!$G$5,(Offsets!$F35-1)*(9 * 24 * (60 / $B$8) + 3)+(weekdaycode(W$19)-1)*24* (60 / $B$8),0,24* (60 / $B$8),1))/SUM(OFFSET(Data!$C$5,(Offsets!$F35-1)*(9 * 24 * (60 / $B$8) + 3)+(weekdaycode(W$19)-1)*24* (60 / $B$8),0,24* (60 / $B$8),12)))","v":""},{"$f":"IF(ISBLANK($F51),\"\",SUM(OFFSET(Data!$G$5,(Offsets!$F35-1)*(9 * 24 * (60 / $B$8) + 3)+(weekdaycode(W$19)-1)*24* (60 / $B$8),39,24* (60 / $B$8),1))/SUM(OFFSET(Data!$C$5,(Offsets!$F35-1)*(9 * 24 * (60 / $B$8) + 3)+(weekdaycode(W$19)-1)*24* (60 / $B$8),39,24* (60 / $B$8),12)))","v":""}]
[null,null,null,null,null,null,null,null,null,null,{"$f":"IF(ISBLANK($F52),\"\",SUM(OFFSET(Data!$G$5,(Offsets!$F36-1)*(9 * 24 * (60 / $B$8) + 3)+(weekdaycode(K$19)-1)*24* (60 / $B$8),0,24* (60 / $B$8),1))/SUM(OFFSET(Data!$C$5,(Offsets!$F36-1)*(9 * 24 * (60 / $B$8) + 3)+(weekdaycode(K$19)-1)*24* (60 / $B$8),0,24* (60 / $B$8),12)))","v":""},{"$f":"IF(ISBLANK($F52),\"\",SUM(OFFSET(Data!$G$5,(Offsets!$F36-1)*(9 * 24 * (60 / $B$8) + 3)+(weekdaycode(K$19)-1)*24* (60 / $B$8),39,24* (60 / $B$8),1))/SUM(OFFSET(Data!$C$5,(Offsets!$F36-1)*(9 * 24 * (60 / $B$8) + 3)+(weekdaycode(K$19)-1)*24* (60 / $B$8),39,24* (60 / $B$8),12)))","v":""},{"$f":"IF(ISBLANK($F52),\"\",SUM(OFFSET(Data!$G$5,(Offsets!$F36-1)*(9 * 24 * (60 / $B$8) + 3)+(weekdaycode(M$19)-1)*24* (60 / $B$8),0,24* (60 / $B$8),1))/SUM(OFFSET(Data!$C$5,(Offsets!$F36-1)*(9 * 24 * (60 / $B$8) + 3)+(weekdaycode(M$19)-1)*24* (60 / $B$8),0,24* (60 / $B$8),12)))","v":""},{"$f":"IF(ISBLANK($F52),\"\",SUM(OFFSET(Data!$G$5,(Offsets!$F36-1)*(9 * 24 * (60 / $B$8) + 3)+(weekdaycode(M$19)-1)*24* (60 / $B$8),39,24* (60 / $B$8),1))/SUM(OFFSET(Data!$C$5,(Offsets!$F36-1)*(9 * 24 * (60 / $B$8) + 3)+(weekdaycode(M$19)-1)*24* (60 / $B$8),39,24* (60 / $B$8),12)))","v":""},{"$f":"IF(ISBLANK($F52),\"\",SUM(OFFSET(Data!$G$5,(Offsets!$F36-1)*(9 * 24 * (60 / $B$8) + 3)+(weekdaycode(O$19)-1)*24* (60 / $B$8),0,24* (60 / $B$8),1))/SUM(OFFSET(Data!$C$5,(Offsets!$F36-1)*(9 * 24 * (60 / $B$8) + 3)+(weekdaycode(O$19)-1)*24* (60 / $B$8),0,24* (60 / $B$8),12)))","v":""},{"$f":"IF(ISBLANK($F52),\"\",SUM(OFFSET(Data!$G$5,(Offsets!$F36-1)*(9 * 24 * (60 / $B$8) + 3)+(weekdaycode(O$19)-1)*24* (60 / $B$8),39,24* (60 / $B$8),1))/SUM(OFFSET(Data!$C$5,(Offsets!$F36-1)*(9 * 24 * (60 / $B$8) + 3)+(weekdaycode(O$19)-1)*24* (60 / $B$8),39,24* (60 / $B$8),12)))","v":""},{"$f":"IF(ISBLANK($F52),\"\",SUM(OFFSET(Data!$G$5,(Offsets!$F36-1)*(9 * 24 * (60 / $B$8) + 3)+(weekdaycode(Q$19)-1)*24* (60 / $B$8),0,24* (60 / $B$8),1))/SUM(OFFSET(Data!$C$5,(Offsets!$F36-1)*(9 * 24 * (60 / $B$8) + 3)+(weekdaycode(Q$19)-1)*24* (60 / $B$8),0,24* (60 / $B$8),12)))","v":""},{"$f":"IF(ISBLANK($F52),\"\",SUM(OFFSET(Data!$G$5,(Offsets!$F36-1)*(9 * 24 * (60 / $B$8) + 3)+(weekdaycode(Q$19)-1)*24* (60 / $B$8),39,24* (60 / $B$8),1))/SUM(OFFSET(Data!$C$5,(Offsets!$F36-1)*(9 * 24 * (60 / $B$8) + 3)+(weekdaycode(Q$19)-1)*24* (60 / $B$8),39,24* (60 / $B$8),12)))","v":""},{"$f":"IF(ISBLANK($F52),\"\",SUM(OFFSET(Data!$G$5,(Offsets!$F36-1)*(9 * 24 * (60 / $B$8) + 3)+(weekdaycode(S$19)-1)*24* (60 / $B$8),0,24* (60 / $B$8),1))/SUM(OFFSET(Data!$C$5,(Offsets!$F36-1)*(9 * 24 * (60 / $B$8) + 3)+(weekdaycode(S$19)-1)*24* (60 / $B$8),0,24* (60 / $B$8),12)))","v":""},{"$f":"IF(ISBLANK($F52),\"\",SUM(OFFSET(Data!$G$5,(Offsets!$F36-1)*(9 * 24 * (60 / $B$8) + 3)+(weekdaycode(S$19)-1)*24* (60 / $B$8),39,24* (60 / $B$8),1))/SUM(OFFSET(Data!$C$5,(Offsets!$F36-1)*(9 * 24 * (60 / $B$8) + 3)+(weekdaycode(S$19)-1)*24* (60 / $B$8),39,24* (60 / $B$8),12)))","v":""},{"$f":"IF(ISBLANK($F52),\"\",SUM(OFFSET(Data!$G$5,(Offsets!$F36-1)*(9 * 24 * (60 / $B$8) + 3)+(weekdaycode(U$19)-1)*24* (60 / $B$8),0,24* (60 / $B$8),1))/SUM(OFFSET(Data!$C$5,(Offsets!$F36-1)*(9 * 24 * (60 / $B$8) + 3)+(weekdaycode(U$19)-1)*24* (60 / $B$8),0,24* (60 / $B$8),12)))","v":""},{"$f":"IF(ISBLANK($F52),\"\",SUM(OFFSET(Data!$G$5,(Offsets!$F36-1)*(9 * 24 * (60 / $B$8) + 3)+(weekdaycode(U$19)-1)*24* (60 / $B$8),39,24* (60 / $B$8),1))/SUM(OFFSET(Data!$C$5,(Offsets!$F36-1)*(9 * 24 * (60 / $B$8) + 3)+(weekdaycode(U$19)-1)*24* (60 / $B$8),39,24* (60 / $B$8),12)))","v":""},{"$f":"IF(ISBLANK($F52),\"\",SUM(OFFSET(Data!$G$5,(Offsets!$F36-1)*(9 * 24 * (60 / $B$8) + 3)+(weekdaycode(W$19)-1)*24* (60 / $B$8),0,24* (60 / $B$8),1))/SUM(OFFSET(Data!$C$5,(Offsets!$F36-1)*(9 * 24 * (60 / $B$8) + 3)+(weekdaycode(W$19)-1)*24* (60 / $B$8),0,24* (60 / $B$8),12)))","v":""},{"$f":"IF(ISBLANK($F52),\"\",SUM(OFFSET(Data!$G$5,(Offsets!$F36-1)*(9 * 24 * (60 / $B$8) + 3)+(weekdaycode(W$19)-1)*24* (60 / $B$8),39,24* (60 / $B$8),1))/SUM(OFFSET(Data!$C$5,(Offsets!$F36-1)*(9 * 24 * (60 / $B$8) + 3)+(weekdaycode(W$19)-1)*24* (60 / $B$8),39,24* (60 / $B$8),12)))","v":""}]
[null,null,null,null,null,null,null,null,null,null,{"$f":"IF(ISBLANK($F53),\"\",SUM(OFFSET(Data!$G$5,(Offsets!$F37-1)*(9 * 24 * (60 / $B$8) + 3)+(weekdaycode(K$19)-1)*24* (60 / $B$8),0,24* (60 / $B$8),1))/SUM(OFFSET(Data!$C$5,(Offsets!$F37-1)*(9 * 24 * (60 / $B$8) + 3)+(weekdaycode(K$19)-1)*24* (60 / $B$8),0,24* (60 / $B$8),12)))","v":""},{"$f":"IF(ISBLANK($F53),\"\",SUM(OFFSET(Data!$G$5,(Offsets!$F37-1)*(9 * 24 * (60 / $B$8) + 3)+(weekdaycode(K$19)-1)*24* (60 / $B$8),39,24* (60 / $B$8),1))/SUM(OFFSET(Data!$C$5,(Offsets!$F37-1)*(9 * 24 * (60 / $B$8) + 3)+(weekdaycode(K$19)-1)*24* (60 / $B$8),39,24* (60 / $B$8),12)))","v":""},{"$f":"IF(ISBLANK($F53),\"\",SUM(OFFSET(Data!$G$5,(Offsets!$F37-1)*(9 * 24 * (60 / $B$8) + 3)+(weekdaycode(M$19)-1)*24* (60 / $B$8),0,24* (60 / $B$8),1))/SUM(OFFSET(Data!$C$5,(Offsets!$F37-1)*(9 * 24 * (60 / $B$8) + 3)+(weekdaycode(M$19)-1)*24* (60 / $B$8),0,24* (60 / $B$8),12)))","v":""},{"$f":"IF(ISBLANK($F53),\"\",SUM(OFFSET(Data!$G$5,(Offsets!$F37-1)*(9 * 24 * (60 / $B$8) + 3)+(weekdaycode(M$19)-1)*24* (60 / $B$8),39,24* (60 / $B$8),1))/SUM(OFFSET(Data!$C$5,(Offsets!$F37-1)*(9 * 24 * (60 / $B$8) + 3)+(weekdaycode(M$19)-1)*24* (60 / $B$8),39,24* (60 / $B$8),12)))","v":""},{"$f":"IF(ISBLANK($F53),\"\",SUM(OFFSET(Data!$G$5,(Offsets!$F37-1)*(9 * 24 * (60 / $B$8) + 3)+(weekdaycode(O$19)-1)*24* (60 / $B$8),0,24* (60 / $B$8),1))/SUM(OFFSET(Data!$C$5,(Offsets!$F37-1)*(9 * 24 * (60 / $B$8) + 3)+(weekdaycode(O$19)-1)*24* (60 / $B$8),0,24* (60 / $B$8),12)))","v":""},{"$f":"IF(ISBLANK($F53),\"\",SUM(OFFSET(Data!$G$5,(Offsets!$F37-1)*(9 * 24 * (60 / $B$8) + 3)+(weekdaycode(O$19)-1)*24* (60 / $B$8),39,24* (60 / $B$8),1))/SUM(OFFSET(Data!$C$5,(Offsets!$F37-1)*(9 * 24 * (60 / $B$8) + 3)+(weekdaycode(O$19)-1)*24* (60 / $B$8),39,24* (60 / $B$8),12)))","v":""},{"$f":"IF(ISBLANK($F53),\"\",SUM(OFFSET(Data!$G$5,(Offsets!$F37-1)*(9 * 24 * (60 / $B$8) + 3)+(weekdaycode(Q$19)-1)*24* (60 / $B$8),0,24* (60 / $B$8),1))/SUM(OFFSET(Data!$C$5,(Offsets!$F37-1)*(9 * 24 * (60 / $B$8) + 3)+(weekdaycode(Q$19)-1)*24* (60 / $B$8),0,24* (60 / $B$8),12)))","v":""},{"$f":"IF(ISBLANK($F53),\"\",SUM(OFFSET(Data!$G$5,(Offsets!$F37-1)*(9 * 24 * (60 / $B$8) + 3)+(weekdaycode(Q$19)-1)*24* (60 / $B$8),39,24* (60 / $B$8),1))/SUM(OFFSET(Data!$C$5,(Offsets!$F37-1)*(9 * 24 * (60 / $B$8) + 3)+(weekdaycode(Q$19)-1)*24* (60 / $B$8),39,24* (60 / $B$8),12)))","v":""},{"$f":"IF(ISBLANK($F53),\"\",SUM(OFFSET(Data!$G$5,(Offsets!$F37-1)*(9 * 24 * (60 / $B$8) + 3)+(weekdaycode(S$19)-1)*24* (60 / $B$8),0,24* (60 / $B$8),1))/SUM(OFFSET(Data!$C$5,(Offsets!$F37-1)*(9 * 24 * (60 / $B$8) + 3)+(weekdaycode(S$19)-1)*24* (60 / $B$8),0,24* (60 / $B$8),12)))","v":""},{"$f":"IF(ISBLANK($F53),\"\",SUM(OFFSET(Data!$G$5,(Offsets!$F37-1)*(9 * 24 * (60 / $B$8) + 3)+(weekdaycode(S$19)-1)*24* (60 / $B$8),39,24* (60 / $B$8),1))/SUM(OFFSET(Data!$C$5,(Offsets!$F37-1)*(9 * 24 * (60 / $B$8) + 3)+(weekdaycode(S$19)-1)*24* (60 / $B$8),39,24* (60 / $B$8),12)))","v":""},{"$f":"IF(ISBLANK($F53),\"\",SUM(OFFSET(Data!$G$5,(Offsets!$F37-1)*(9 * 24 * (60 / $B$8) + 3)+(weekdaycode(U$19)-1)*24* (60 / $B$8),0,24* (60 / $B$8),1))/SUM(OFFSET(Data!$C$5,(Offsets!$F37-1)*(9 * 24 * (60 / $B$8) + 3)+(weekdaycode(U$19)-1)*24* (60 / $B$8),0,24* (60 / $B$8),12)))","v":""},{"$f":"IF(ISBLANK($F53),\"\",SUM(OFFSET(Data!$G$5,(Offsets!$F37-1)*(9 * 24 * (60 / $B$8) + 3)+(weekdaycode(U$19)-1)*24* (60 / $B$8),39,24* (60 / $B$8),1))/SUM(OFFSET(Data!$C$5,(Offsets!$F37-1)*(9 * 24 * (60 / $B$8) + 3)+(weekdaycode(U$19)-1)*24* (60 / $B$8),39,24* (60 / $B$8),12)))","v":""},{"$f":"IF(ISBLANK($F53),\"\",SUM(OFFSET(Data!$G$5,(Offsets!$F37-1)*(9 * 24 * (60 / $B$8) + 3)+(weekdaycode(W$19)-1)*24* (60 / $B$8),0,24* (60 / $B$8),1))/SUM(OFFSET(Data!$C$5,(Offsets!$F37-1)*(9 * 24 * (60 / $B$8) + 3)+(weekdaycode(W$19)-1)*24* (60 / $B$8),0,24* (60 / $B$8),12)))","v":""},{"$f":"IF(ISBLANK($F53),\"\",SUM(OFFSET(Data!$G$5,(Offsets!$F37-1)*(9 * 24 * (60 / $B$8) + 3)+(weekdaycode(W$19)-1)*24* (60 / $B$8),39,24* (60 / $B$8),1))/SUM(OFFSET(Data!$C$5,(Offsets!$F37-1)*(9 * 24 * (60 / $B$8) + 3)+(weekdaycode(W$19)-1)*24* (60 / $B$8),39,24* (60 / $B$8),12)))","v":""}]
[null,null,null,null,null,null,null,null,null,null,{"$f":"IF(ISBLANK($F54),\"\",SUM(OFFSET(Data!$G$5,(Offsets!$F38-1)*(9 * 24 * (60 / $B$8) + 3)+(weekdaycode(K$19)-1)*24* (60 / $B$8),0,24* (60 / $B$8),1))/SUM(OFFSET(Data!$C$5,(Offsets!$F38-1)*(9 * 24 * (60 / $B$8) + 3)+(weekdaycode(K$19)-1)*24* (60 / $B$8),0,24* (60 / $B$8),12)))","v":""},{"$f":"IF(ISBLANK($F54),\"\",SUM(OFFSET(Data!$G$5,(Offsets!$F38-1)*(9 * 24 * (60 / $B$8) + 3)+(weekdaycode(K$19)-1)*24* (60 / $B$8),39,24* (60 / $B$8),1))/SUM(OFFSET(Data!$C$5,(Offsets!$F38-1)*(9 * 24 * (60 / $B$8) + 3)+(weekdaycode(K$19)-1)*24* (60 / $B$8),39,24* (60 / $B$8),12)))","v":""},{"$f":"IF(ISBLANK($F54),\"\",SUM(OFFSET(Data!$G$5,(Offsets!$F38-1)*(9 * 24 * (60 / $B$8) + 3)+(weekdaycode(M$19)-1)*24* (60 / $B$8),0,24* (60 / $B$8),1))/SUM(OFFSET(Data!$C$5,(Offsets!$F38-1)*(9 * 24 * (60 / $B$8) + 3)+(weekdaycode(M$19)-1)*24* (60 / $B$8),0,24* (60 / $B$8),12)))","v":""},{"$f":"IF(ISBLANK($F54),\"\",SUM(OFFSET(Data!$G$5,(Offsets!$F38-1)*(9 * 24 * (60 / $B$8) + 3)+(weekdaycode(M$19)-1)*24* (60 / $B$8),39,24* (60 / $B$8),1))/SUM(OFFSET(Data!$C$5,(Offsets!$F38-1)*(9 * 24 * (60 / $B$8) + 3)+(weekdaycode(M$19)-1)*24* (60 / $B$8),39,24* (60 / $B$8),12)))","v":""},{"$f":"IF(ISBLANK($F54),\"\",SUM(OFFSET(Data!$G$5,(Offsets!$F38-1)*(9 * 24 * (60 / $B$8) + 3)+(weekdaycode(O$19)-1)*24* (60 / $B$8),0,24* (60 / $B$8),1))/SUM(OFFSET(Data!$C$5,(Offsets!$F38-1)*(9 * 24 * (60 / $B$8) + 3)+(weekdaycode(O$19)-1)*24* (60 / $B$8),0,24* (60 / $B$8),12)))","v":""},{"$f":"IF(ISBLANK($F54),\"\",SUM(OFFSET(Data!$G$5,(Offsets!$F38-1)*(9 * 24 * (60 / $B$8) + 3)+(weekdaycode(O$19)-1)*24* (60 / $B$8),39,24* (60 / $B$8),1))/SUM(OFFSET(Data!$C$5,(Offsets!$F38-1)*(9 * 24 * (60 / $B$8) + 3)+(weekdaycode(O$19)-1)*24* (60 / $B$8),39,24* (60 / $B$8),12)))","v":""},{"$f":"IF(ISBLANK($F54),\"\",SUM(OFFSET(Data!$G$5,(Offsets!$F38-1)*(9 * 24 * (60 / $B$8) + 3)+(weekdaycode(Q$19)-1)*24* (60 / $B$8),0,24* (60 / $B$8),1))/SUM(OFFSET(Data!$C$5,(Offsets!$F38-1)*(9 * 24 * (60 / $B$8) + 3)+(weekdaycode(Q$19)-1)*24* (60 / $B$8),0,24* (60 / $B$8),12)))","v":""},{"$f":"IF(ISBLANK($F54),\"\",SUM(OFFSET(Data!$G$5,(Offsets!$F38-1)*(9 * 24 * (60 / $B$8) + 3)+(weekdaycode(Q$19)-1)*24* (60 / $B$8),39,24* (60 / $B$8),1))/SUM(OFFSET(Data!$C$5,(Offsets!$F38-1)*(9 * 24 * (60 / $B$8) + 3)+(weekdaycode(Q$19)-1)*24* (60 / $B$8),39,24* (60 / $B$8),12)))","v":""},{"$f":"IF(ISBLANK($F54),\"\",SUM(OFFSET(Data!$G$5,(Offsets!$F38-1)*(9 * 24 * (60 / $B$8) + 3)+(weekdaycode(S$19)-1)*24* (60 / $B$8),0,24* (60 / $B$8),1))/SUM(OFFSET(Data!$C$5,(Offsets!$F38-1)*(9 * 24 * (60 / $B$8) + 3)+(weekdaycode(S$19)-1)*24* (60 / $B$8),0,24* (60 / $B$8),12)))","v":""},{"$f":"IF(ISBLANK($F54),\"\",SUM(OFFSET(Data!$G$5,(Offsets!$F38-1)*(9 * 24 * (60 / $B$8) + 3)+(weekdaycode(S$19)-1)*24* (60 / $B$8),39,24* (60 / $B$8),1))/SUM(OFFSET(Data!$C$5,(Offsets!$F38-1)*(9 * 24 * (60 / $B$8) + 3)+(weekdaycode(S$19)-1)*24* (60 / $B$8),39,24* (60 / $B$8),12)))","v":""},{"$f":"IF(ISBLANK($F54),\"\",SUM(OFFSET(Data!$G$5,(Offsets!$F38-1)*(9 * 24 * (60 / $B$8) + 3)+(weekdaycode(U$19)-1)*24* (60 / $B$8),0,24* (60 / $B$8),1))/SUM(OFFSET(Data!$C$5,(Offsets!$F38-1)*(9 * 24 * (60 / $B$8) + 3)+(weekdaycode(U$19)-1)*24* (60 / $B$8),0,24* (60 / $B$8),12)))","v":""},{"$f":"IF(ISBLANK($F54),\"\",SUM(OFFSET(Data!$G$5,(Offsets!$F38-1)*(9 * 24 * (60 / $B$8) + 3)+(weekdaycode(U$19)-1)*24* (60 / $B$8),39,24* (60 / $B$8),1))/SUM(OFFSET(Data!$C$5,(Offsets!$F38-1)*(9 * 24 * (60 / $B$8) + 3)+(weekdaycode(U$19)-1)*24* (60 / $B$8),39,24* (60 / $B$8),12)))","v":""},{"$f":"IF(ISBLANK($F54),\"\",SUM(OFFSET(Data!$G$5,(Offsets!$F38-1)*(9 * 24 * (60 / $B$8) + 3)+(weekdaycode(W$19)-1)*24* (60 / $B$8),0,24* (60 / $B$8),1))/SUM(OFFSET(Data!$C$5,(Offsets!$F38-1)*(9 * 24 * (60 / $B$8) + 3)+(weekdaycode(W$19)-1)*24* (60 / $B$8),0,24* (60 / $B$8),12)))","v":""},{"$f":"IF(ISBLANK($F54),\"\",SUM(OFFSET(Data!$G$5,(Offsets!$F38-1)*(9 * 24 * (60 / $B$8) + 3)+(weekdaycode(W$19)-1)*24* (60 / $B$8),39,24* (60 / $B$8),1))/SUM(OFFSET(Data!$C$5,(Offsets!$F38-1)*(9 * 24 * (60 / $B$8) + 3)+(weekdaycode(W$19)-1)*24* (60 / $B$8),39,24* (60 / $B$8),12)))","v":""}]
[null,null,null,null,null,null,null,null,null,null,{"$f":"IF(ISBLANK($F55),\"\",SUM(OFFSET(Data!$G$5,(Offsets!$F39-1)*(9 * 24 * (60 / $B$8) + 3)+(weekdaycode(K$19)-1)*24* (60 / $B$8),0,24* (60 / $B$8),1))/SUM(OFFSET(Data!$C$5,(Offsets!$F39-1)*(9 * 24 * (60 / $B$8) + 3)+(weekdaycode(K$19)-1)*24* (60 / $B$8),0,24* (60 / $B$8),12)))","v":""},{"$f":"IF(ISBLANK($F55),\"\",SUM(OFFSET(Data!$G$5,(Offsets!$F39-1)*(9 * 24 * (60 / $B$8) + 3)+(weekdaycode(K$19)-1)*24* (60 / $B$8),39,24* (60 / $B$8),1))/SUM(OFFSET(Data!$C$5,(Offsets!$F39-1)*(9 * 24 * (60 / $B$8) + 3)+(weekdaycode(K$19)-1)*24* (60 / $B$8),39,24* (60 / $B$8),12)))","v":""},{"$f":"IF(ISBLANK($F55),\"\",SUM(OFFSET(Data!$G$5,(Offsets!$F39-1)*(9 * 24 * (60 / $B$8) + 3)+(weekdaycode(M$19)-1)*24* (60 / $B$8),0,24* (60 / $B$8),1))/SUM(OFFSET(Data!$C$5,(Offsets!$F39-1)*(9 * 24 * (60 / $B$8) + 3)+(weekdaycode(M$19)-1)*24* (60 / $B$8),0,24* (60 / $B$8),12)))","v":""},{"$f":"IF(ISBLANK($F55),\"\",SUM(OFFSET(Data!$G$5,(Offsets!$F39-1)*(9 * 24 * (60 / $B$8) + 3)+(weekdaycode(M$19)-1)*24* (60 / $B$8),39,24* (60 / $B$8),1))/SUM(OFFSET(Data!$C$5,(Offsets!$F39-1)*(9 * 24 * (60 / $B$8) + 3)+(weekdaycode(M$19)-1)*24* (60 / $B$8),39,24* (60 / $B$8),12)))","v":""},{"$f":"IF(ISBLANK($F55),\"\",SUM(OFFSET(Data!$G$5,(Offsets!$F39-1)*(9 * 24 * (60 / $B$8) + 3)+(weekdaycode(O$19)-1)*24* (60 / $B$8),0,24* (60 / $B$8),1))/SUM(OFFSET(Data!$C$5,(Offsets!$F39-1)*(9 * 24 * (60 / $B$8) + 3)+(weekdaycode(O$19)-1)*24* (60 / $B$8),0,24* (60 / $B$8),12)))","v":""},{"$f":"IF(ISBLANK($F55),\"\",SUM(OFFSET(Data!$G$5,(Offsets!$F39-1)*(9 * 24 * (60 / $B$8) + 3)+(weekdaycode(O$19)-1)*24* (60 / $B$8),39,24* (60 / $B$8),1))/SUM(OFFSET(Data!$C$5,(Offsets!$F39-1)*(9 * 24 * (60 / $B$8) + 3)+(weekdaycode(O$19)-1)*24* (60 / $B$8),39,24* (60 / $B$8),12)))","v":""},{"$f":"IF(ISBLANK($F55),\"\",SUM(OFFSET(Data!$G$5,(Offsets!$F39-1)*(9 * 24 * (60 / $B$8) + 3)+(weekdaycode(Q$19)-1)*24* (60 / $B$8),0,24* (60 / $B$8),1))/SUM(OFFSET(Data!$C$5,(Offsets!$F39-1)*(9 * 24 * (60 / $B$8) + 3)+(weekdaycode(Q$19)-1)*24* (60 / $B$8),0,24* (60 / $B$8),12)))","v":""},{"$f":"IF(ISBLANK($F55),\"\",SUM(OFFSET(Data!$G$5,(Offsets!$F39-1)*(9 * 24 * (60 / $B$8) + 3)+(weekdaycode(Q$19)-1)*24* (60 / $B$8),39,24* (60 / $B$8),1))/SUM(OFFSET(Data!$C$5,(Offsets!$F39-1)*(9 * 24 * (60 / $B$8) + 3)+(weekdaycode(Q$19)-1)*24* (60 / $B$8),39,24* (60 / $B$8),12)))","v":""},{"$f":"IF(ISBLANK($F55),\"\",SUM(OFFSET(Data!$G$5,(Offsets!$F39-1)*(9 * 24 * (60 / $B$8) + 3)+(weekdaycode(S$19)-1)*24* (60 / $B$8),0,24* (60 / $B$8),1))/SUM(OFFSET(Data!$C$5,(Offsets!$F39-1)*(9 * 24 * (60 / $B$8) + 3)+(weekdaycode(S$19)-1)*24* (60 / $B$8),0,24* (60 / $B$8),12)))","v":""},{"$f":"IF(ISBLANK($F55),\"\",SUM(OFFSET(Data!$G$5,(Offsets!$F39-1)*(9 * 24 * (60 / $B$8) + 3)+(weekdaycode(S$19)-1)*24* (60 / $B$8),39,24* (60 / $B$8),1))/SUM(OFFSET(Data!$C$5,(Offsets!$F39-1)*(9 * 24 * (60 / $B$8) + 3)+(weekdaycode(S$19)-1)*24* (60 / $B$8),39,24* (60 / $B$8),12)))","v":""},{"$f":"IF(ISBLANK($F55),\"\",SUM(OFFSET(Data!$G$5,(Offsets!$F39-1)*(9 * 24 * (60 / $B$8) + 3)+(weekdaycode(U$19)-1)*24* (60 / $B$8),0,24* (60 / $B$8),1))/SUM(OFFSET(Data!$C$5,(Offsets!$F39-1)*(9 * 24 * (60 / $B$8) + 3)+(weekdaycode(U$19)-1)*24* (60 / $B$8),0,24* (60 / $B$8),12)))","v":""},{"$f":"IF(ISBLANK($F55),\"\",SUM(OFFSET(Data!$G$5,(Offsets!$F39-1)*(9 * 24 * (60 / $B$8) + 3)+(weekdaycode(U$19)-1)*24* (60 / $B$8),39,24* (60 / $B$8),1))/SUM(OFFSET(Data!$C$5,(Offsets!$F39-1)*(9 * 24 * (60 / $B$8) + 3)+(weekdaycode(U$19)-1)*24* (60 / $B$8),39,24* (60 / $B$8),12)))","v":""},{"$f":"IF(ISBLANK($F55),\"\",SUM(OFFSET(Data!$G$5,(Offsets!$F39-1)*(9 * 24 * (60 / $B$8) + 3)+(weekdaycode(W$19)-1)*24* (60 / $B$8),0,24* (60 / $B$8),1))/SUM(OFFSET(Data!$C$5,(Offsets!$F39-1)*(9 * 24 * (60 / $B$8) + 3)+(weekdaycode(W$19)-1)*24* (60 / $B$8),0,24* (60 / $B$8),12)))","v":""},{"$f":"IF(ISBLANK($F55),\"\",SUM(OFFSET(Data!$G$5,(Offsets!$F39-1)*(9 * 24 * (60 / $B$8) + 3)+(weekdaycode(W$19)-1)*24* (60 / $B$8),39,24* (60 / $B$8),1))/SUM(OFFSET(Data!$C$5,(Offsets!$F39-1)*(9 * 24 * (60 / $B$8) + 3)+(weekdaycode(W$19)-1)*24* (60 / $B$8),39,24* (60 / $B$8),12)))","v":""}]
[null,null,null,null,null,null,null,null,null,null,{"$f":"IF(ISBLANK($F56),\"\",SUM(OFFSET(Data!$G$5,(Offsets!$F40-1)*(9 * 24 * (60 / $B$8) + 3)+(weekdaycode(K$19)-1)*24* (60 / $B$8),0,24* (60 / $B$8),1))/SUM(OFFSET(Data!$C$5,(Offsets!$F40-1)*(9 * 24 * (60 / $B$8) + 3)+(weekdaycode(K$19)-1)*24* (60 / $B$8),0,24* (60 / $B$8),12)))","v":""},{"$f":"IF(ISBLANK($F56),\"\",SUM(OFFSET(Data!$G$5,(Offsets!$F40-1)*(9 * 24 * (60 / $B$8) + 3)+(weekdaycode(K$19)-1)*24* (60 / $B$8),39,24* (60 / $B$8),1))/SUM(OFFSET(Data!$C$5,(Offsets!$F40-1)*(9 * 24 * (60 / $B$8) + 3)+(weekdaycode(K$19)-1)*24* (60 / $B$8),39,24* (60 / $B$8),12)))","v":""},{"$f":"IF(ISBLANK($F56),\"\",SUM(OFFSET(Data!$G$5,(Offsets!$F40-1)*(9 * 24 * (60 / $B$8) + 3)+(weekdaycode(M$19)-1)*24* (60 / $B$8),0,24* (60 / $B$8),1))/SUM(OFFSET(Data!$C$5,(Offsets!$F40-1)*(9 * 24 * (60 / $B$8) + 3)+(weekdaycode(M$19)-1)*24* (60 / $B$8),0,24* (60 / $B$8),12)))","v":""},{"$f":"IF(ISBLANK($F56),\"\",SUM(OFFSET(Data!$G$5,(Offsets!$F40-1)*(9 * 24 * (60 / $B$8) + 3)+(weekdaycode(M$19)-1)*24* (60 / $B$8),39,24* (60 / $B$8),1))/SUM(OFFSET(Data!$C$5,(Offsets!$F40-1)*(9 * 24 * (60 / $B$8) + 3)+(weekdaycode(M$19)-1)*24* (60 / $B$8),39,24* (60 / $B$8),12)))","v":""},{"$f":"IF(ISBLANK($F56),\"\",SUM(OFFSET(Data!$G$5,(Offsets!$F40-1)*(9 * 24 * (60 / $B$8) + 3)+(weekdaycode(O$19)-1)*24* (60 / $B$8),0,24* (60 / $B$8),1))/SUM(OFFSET(Data!$C$5,(Offsets!$F40-1)*(9 * 24 * (60 / $B$8) + 3)+(weekdaycode(O$19)-1)*24* (60 / $B$8),0,24* (60 / $B$8),12)))","v":""},{"$f":"IF(ISBLANK($F56),\"\",SUM(OFFSET(Data!$G$5,(Offsets!$F40-1)*(9 * 24 * (60 / $B$8) + 3)+(weekdaycode(O$19)-1)*24* (60 / $B$8),39,24* (60 / $B$8),1))/SUM(OFFSET(Data!$C$5,(Offsets!$F40-1)*(9 * 24 * (60 / $B$8) + 3)+(weekdaycode(O$19)-1)*24* (60 / $B$8),39,24* (60 / $B$8),12)))","v":""},{"$f":"IF(ISBLANK($F56),\"\",SUM(OFFSET(Data!$G$5,(Offsets!$F40-1)*(9 * 24 * (60 / $B$8) + 3)+(weekdaycode(Q$19)-1)*24* (60 / $B$8),0,24* (60 / $B$8),1))/SUM(OFFSET(Data!$C$5,(Offsets!$F40-1)*(9 * 24 * (60 / $B$8) + 3)+(weekdaycode(Q$19)-1)*24* (60 / $B$8),0,24* (60 / $B$8),12)))","v":""},{"$f":"IF(ISBLANK($F56),\"\",SUM(OFFSET(Data!$G$5,(Offsets!$F40-1)*(9 * 24 * (60 / $B$8) + 3)+(weekdaycode(Q$19)-1)*24* (60 / $B$8),39,24* (60 / $B$8),1))/SUM(OFFSET(Data!$C$5,(Offsets!$F40-1)*(9 * 24 * (60 / $B$8) + 3)+(weekdaycode(Q$19)-1)*24* (60 / $B$8),39,24* (60 / $B$8),12)))","v":""},{"$f":"IF(ISBLANK($F56),\"\",SUM(OFFSET(Data!$G$5,(Offsets!$F40-1)*(9 * 24 * (60 / $B$8) + 3)+(weekdaycode(S$19)-1)*24* (60 / $B$8),0,24* (60 / $B$8),1))/SUM(OFFSET(Data!$C$5,(Offsets!$F40-1)*(9 * 24 * (60 / $B$8) + 3)+(weekdaycode(S$19)-1)*24* (60 / $B$8),0,24* (60 / $B$8),12)))","v":""},{"$f":"IF(ISBLANK($F56),\"\",SUM(OFFSET(Data!$G$5,(Offsets!$F40-1)*(9 * 24 * (60 / $B$8) + 3)+(weekdaycode(S$19)-1)*24* (60 / $B$8),39,24* (60 / $B$8),1))/SUM(OFFSET(Data!$C$5,(Offsets!$F40-1)*(9 * 24 * (60 / $B$8) + 3)+(weekdaycode(S$19)-1)*24* (60 / $B$8),39,24* (60 / $B$8),12)))","v":""},{"$f":"IF(ISBLANK($F56),\"\",SUM(OFFSET(Data!$G$5,(Offsets!$F40-1)*(9 * 24 * (60 / $B$8) + 3)+(weekdaycode(U$19)-1)*24* (60 / $B$8),0,24* (60 / $B$8),1))/SUM(OFFSET(Data!$C$5,(Offsets!$F40-1)*(9 * 24 * (60 / $B$8) + 3)+(weekdaycode(U$19)-1)*24* (60 / $B$8),0,24* (60 / $B$8),12)))","v":""},{"$f":"IF(ISBLANK($F56),\"\",SUM(OFFSET(Data!$G$5,(Offsets!$F40-1)*(9 * 24 * (60 / $B$8) + 3)+(weekdaycode(U$19)-1)*24* (60 / $B$8),39,24* (60 / $B$8),1))/SUM(OFFSET(Data!$C$5,(Offsets!$F40-1)*(9 * 24 * (60 / $B$8) + 3)+(weekdaycode(U$19)-1)*24* (60 / $B$8),39,24* (60 / $B$8),12)))","v":""},{"$f":"IF(ISBLANK($F56),\"\",SUM(OFFSET(Data!$G$5,(Offsets!$F40-1)*(9 * 24 * (60 / $B$8) + 3)+(weekdaycode(W$19)-1)*24* (60 / $B$8),0,24* (60 / $B$8),1))/SUM(OFFSET(Data!$C$5,(Offsets!$F40-1)*(9 * 24 * (60 / $B$8) + 3)+(weekdaycode(W$19)-1)*24* (60 / $B$8),0,24* (60 / $B$8),12)))","v":""},{"$f":"IF(ISBLANK($F56),\"\",SUM(OFFSET(Data!$G$5,(Offsets!$F40-1)*(9 * 24 * (60 / $B$8) + 3)+(weekdaycode(W$19)-1)*24* (60 / $B$8),39,24* (60 / $B$8),1))/SUM(OFFSET(Data!$C$5,(Offsets!$F40-1)*(9 * 24 * (60 / $B$8) + 3)+(weekdaycode(W$19)-1)*24* (60 / $B$8),39,24* (60 / $B$8),12)))","v":""}]

{"sheet":"RawData_HeadingInfo","index":9,"n_rows":0,"n_cols":0,"rows_kept":0,"cut":false,"hidden":true,"merged":[]}

{"sheet":"RawData","index":10,"n_rows":1,"n_cols":15,"rows_kept":1,"cut":false,"hidden":true,"merged":[]}
["Time","Dir","Speed","WB","Headway","Gap","Ax","Gp","Rho","Class","Nm","Vehicle","Weekday","Direction","Period"]

{"sheet":"Dir1","index":11,"n_rows":219,"n_cols":47,"rows_kept":219,"cut":false,"hidden":true,"merged":[[1,39,2,39],[1,1,2,1],[1,2,1,13],[1,14,1,36],[1,37,2,37],[1,38,2,38]]}
[]
[null,"Time","Vehicle Class",null,null,null,null,null,null,null,null,null,null,null,"Speed Bin",null,null,null,null,null,null,null,null,null,null,null,null,null,null,null,null,null,null,null,null,null,null,"Average",0.85]
[null,null,1,2,3,4,5,6,7,8,9,10,11,12,5,10,15,20,25,30,35,40,45,50,55,60,65,70,75,80,85,90,95,100,105,110,115,null,null,null,null,null,"Headway >=0",null,"Median","Average",0.85]
[0,{"$f":"ImportData!$B$10+MOD(1-ImportData!$E$10,7)","v":"2022-05-16"},{"$f":"COUNTIFS(Data_Table[Direction],ImportData!Direction_1,Data_Table[Class],C$3:N$3,Data_Table[Period], $B4:$B171)","v":0},0,0,0,0,0,0,0,0,0,0,0,{"$f":"COUNTIFS(Data_Table[Direction],ImportData!Direction_1,Data_Table[Speed],\">\" & O$3:AJ$3,Data_Table[Speed],\"<=\" & P$3:AK$3,Data_Table[Period], $B4:$B171)","v":0},0,0,0,0,0,0,0,0,0,0,0,0,0,0,0,0,0,0,0,0,0,{"$f":"COUNTIFS(Data_Table[Direction],ImportData!Direction_1,Data_Table[Speed],\">\" & AK$3,Data_Table[Period], $B4:$B171)","v":0},{"$f":"IFERROR(ROUND(AVERAGEIFS(Data_Table[Speed],Data_Table[Direction],ImportData!Direction_1,Data_Table[Period], $B4:$B171),2),\"-\")","v":"-"},{"$f":"IFERROR(ROUND(PERCENTILE(_xlfn._xlws.FILTER(Data_Table[Speed],(Data_Table[Direction]=ImportData!Direction_1)*(Data_Table[Period]=$B4)*(SUM(C4:N4)>=10)),0.85),2),\"-\")","v":"-"},null,null,0,{"$f":"OFFSET($B$4,AP4*24,0)","v":"2022-05-16"},null,{"$f":"IFERROR(ROUND(PERCENTILE(_xlfn._xlws.FILTER(Data_Table[Speed],(Data_Table[Direction]=ImportData!Direction_1)*(Data_Table[Weekday]=$AP4+1)),0.5),2),\"-\")","v":"-"},{"$f":"IFERROR(ROUND(AVERAGEIFS(Data_Table[Speed],Data_Table[Direction],ImportData!Direction_1,Data_Table[Weekday], $AP4:$AP10+1),2),\"-\")","v":"-"},{"$f":"IFERROR(ROUND(PERCENTILE(_xlfn._xlws.FILTER(Data_Table[Speed],(Data_Table[Direction]=ImportData!Direction_1)*(Data_Table[Weekday]=$AP4+1)),0.85),2),\"-\")","v":"-"}]
[1,{"$f":"ImportData!$B$10+7*QUOTIENT(A5,24*60*7/ImportData!$B$8)+MOD(1+QUOTIENT(A5,24*60/ImportData!$B$8)-ImportData!$E$10,7)+TIME(0,ImportData!$B$8*A5,0)","v":"2022-05-16T01:00:00"},0,0,0,0,0,0,0,0,0,0,0,0,0,0,0,0,0,0,0,0,0,0,0,0,0,0,0,0,0,0,0,0,0,0,0,"-",{"$f":"IFERROR(ROUND(PERCENTILE(_xlfn._xlws.FILTER(Data_Table[Speed],(Data_Table[Direction]=ImportData!Direction_1)*(Data_Table[Period]=$B5)*(SUM(C5:N5)>=10)),0.85),2),\"-\")","v":"-"},null,null,1,{"$f":"OFFSET($B$4,AP5*24,0)","v":"2022-05-17"},null,{"$f":"IFERROR(ROUND(PERCENTILE(_xlfn._xlws.FILTER(Data_Table[Speed],(Data_Table[Direction]=ImportData!Direction_1)*(Data_Table[Weekday]=$AP5+1)),0.5),2),\"-\")","v":"-"},"-",{"$f":"IFERROR(ROUND(PERCENTILE(_xlfn._xlws.FILTER(Data_Table[Speed],(Data_Table[Direction]=ImportData!Direction_1)*(Data_Table[Weekday]=$AP5+1)),0.85),2),\"-\")","v":"-"}]
[2,{"$f":"ImportData!$B$10+7*QUOTIENT(A6,24*60*7/ImportData!$B$8)+MOD(1+QUOTIENT(A6,24*60/ImportData!$B$8)-ImportData!$E$10,7)+TIME(0,ImportData!$B$8*A6,0)","v":"2022-05-16T02:00:00"},0,0,0,0,0,0,0,0,0,0,0,0,0,0,0,0,0,0,0,0,0,0,0,0,0,0,0,0,0,0,0,0,0,0,0,"-",{"$f":"IFERROR(ROUND(PERCENTILE(_xlfn._xlws.FILTER(Data_Table[Speed],(Data_Table[Direction]=ImportData!Direction_1)*(Data_Table[Period]=$B6)*(SUM(C6:N6)>=10)),0.85),2),\"-\")","v":"-"},null,null,2,"2022-05-11",null,{"$f":"IFERROR(ROUND(PERCENTILE(_xlfn._xlws.FILTER(Data_Table[Speed],(Data_Table[Direction]=ImportData!Direction_1)*(Data_Table[Weekday]=$AP6+1)),0.5),2),\"-\")","v":"-"},"-",{"$f":"IFERROR(ROUND(PERCENTILE(_xlfn._xlws.FILTER(Data_Table[Speed],(Data_Table[Direction]=ImportData!Direction_1)*(Data_Table[Weekday]=$AP6+1)),0.85),2),\"-\")","v":"-"}]
[3,{"$f":"ImportData!$B$10+7*QUOTIENT(A7,24*60*7/ImportData!$B$8)+MOD(1+QUOTIENT(A7,24*60/ImportData!$B$8)-ImportData!$E$10,7)+TIME(0,ImportData!$B$8*A7,0)","v":"2022-05-16T03:00:00"},0,0,0,0,0,0,0,0,0,0,0,0,0,0,0,0,0,0,0,0,0,0,0,0,0,0,0,0,0,0,0,0,0,0,0,"-",{"$f":"IFERROR(ROUND(PERCENTILE(_xlfn._xlws.FILTER(Data_Table[Speed],(Data_Table[Direction]=ImportData!Direction_1)*(Data_Table[Period]=$B7)*(SUM(C7:N7)>=10)),0.85),2),\"-\")","v":"-"},null,null,3,"2022-05-12",null,{"$f":"IFERROR(ROUND(PERCENTILE(_xlfn._xlws.FILTER(Data_Table[Speed],(Data_Table[Direction]=ImportData!Direction_1)*(Data_Table[Weekday]=$AP7+1)),0.5),2),\"-\")","v":"-"},"-",{"$f":"IFERROR(ROUND(PERCENTILE(_xlfn._xlws.FILTER(Data_Table[Speed],(Data_Table[Direction]=ImportData!Direction_1)*(Data_Table[Weekday]=$AP7+1)),0.85),2),\"-\")","v":"-"}]
[4,{"$f":"ImportData!$B$10+7*QUOTIENT(A8,24*60*7/ImportData!$B$8)+MOD(1+QUOTIENT(A8,24*60/ImportData!$B$8)-ImportData!$E$10,7)+TIME(0,ImportData!$B$8*A8,0)","v":"2022-05-16T04:00:00"},0,0,0,0,0,0,0,0,0,0,0,0,0,0,0,0,0,0,0,0,0,0,0,0,0,0,0,0,0,0,0,0,0,0,0,"-",{"$f":"IFERROR(ROUND(PERCENTILE(_xlfn._xlws.FILTER(Data_Table[Speed],(Data_Table[Direction]=ImportData!Direction_1)*(Data_Table[Period]=$B8)*(SUM(C8:N8)>=10)),0.85),2),\"-\")","v":"-"},null,null,4,"2022-05-13",null,{"$f":"IFERROR(ROUND(PERCENTILE(_xlfn._xlws.FILTER(Data_Table[Speed],(Data_Table[Direction]=ImportData!Direction_1)*(Data_Table[Weekday]=$AP8+1)),0.5),2),\"-\")","v":"-"},"-",{"$f":"IFERROR(ROUND(PERCENTILE(_xlfn._xlws.FILTER(Data_Table[Speed],(Data_Table[Direction]=ImportData!Direction_1)*(Data_Table[Weekday]=$AP8+1)),0.85),2),\"-\")","v":"-"}]
[5,{"$f":"ImportData!$B$10+7*QUOTIENT(A9,24*60*7/ImportData!$B$8)+MOD(1+QUOTIENT(A9,24*60/ImportData!$B$8)-ImportData!$E$10,7)+TIME(0,ImportData!$B$8*A9,0)","v":"2022-05-16T05:00:00"},0,0,0,0,0,0,0,0,0,0,0,0,0,0,0,0,0,0,0,0,0,0,0,0,0,0,0,0,0,0,0,0,0,0,0,"-",{"$f":"IFERROR(ROUND(PERCENTILE(_xlfn._xlws.FILTER(Data_Table[Speed],(Data_Table[Direction]=ImportData!Direction_1)*(Data_Table[Period]=$B9)*(SUM(C9:N9)>=10)),0.85),2),\"-\")","v":"-"},null,null,5,"2022-05-14",null,{"$f":"IFERROR(ROUND(PERCENTILE(_xlfn._xlws.FILTER(Data_Table[Speed],(Data_Table[Direction]=ImportData!Direction_1)*(Data_Table[Weekday]=$AP9+1)),0.5),2),\"-\")","v":"-"},"-",{"$f":"IFERROR(ROUND(PERCENTILE(_xlfn._xlws.FILTER(Data_Table[Speed],(Data_Table[Direction]=ImportData!Direction_1)*(Data_Table[Weekday]=$AP9+1)),0.85),2),\"-\")","v":"-"}]
[6,{"$f":"ImportData!$B$10+7*QUOTIENT(A10,24*60*7/ImportData!$B$8)+MOD(1+QUOTIENT(A10,24*60/ImportData!$B$8)-ImportData!$E$10,7)+TIME(0,ImportData!$B$8*A10,0)","v":"2022-05-16T06:00:00"},0,0,0,0,0,0,0,0,0,0,0,0,0,0,0,0,0,0,0,0,0,0,0,0,0,0,0,0,0,0,0,0,0,0,0,"-",{"$f":"IFERROR(ROUND(PERCENTILE(_xlfn._xlws.FILTER(Data_Table[Speed],(Data_Table[Direction]=ImportData!Direction_1)*(Data_Table[Period]=$B10)*(SUM(C10:N10)>=10)),0.85),2),\"-\")","v":"-"},null,null,6,"2022-05-15",null,{"$f":"IFERROR(ROUND(PERCENTILE(_xlfn._xlws.FILTER(Data_Table[Speed],(Data_Table[Direction]=ImportData!Direction_1)*(Data_Table[Weekday]=$AP10+1)),0.5),2),\"-\")","v":"-"},"-",{"$f":"IFERROR(ROUND(PERCENTILE(_xlfn._xlws.FILTER(Data_Table[Speed],(Data_Table[Direction]=ImportData!Direction_1)*(Data_Table[Weekday]=$AP10+1)),0.85),2),\"-\")","v":"-"}]
[7,{"$f":"ImportData!$B$10+7*QUOTIENT(A11,24*60*7/ImportData!$B$8)+MOD(1+QUOTIENT(A11,24*60/ImportData!$B$8)-ImportData!$E$10,7)+TIME(0,ImportData!$B$8*A11,0)","v":"2022-05-16T07:00:00"},0,0,0,0,0,0,0,0,0,0,0,0,0,0,0,0,0,0,0,0,0,0,0,0,0,0,0,0,0,0,0,0,0,0,0,"-",{"$f":"IFERROR(ROUND(PERCENTILE(_xlfn._xlws.FILTER(Data_Table[Speed],(Data_Table[Direction]=ImportData!Direction_1)*(Data_Table[Period]=$B11)*(SUM(C11:N11)>=10)),0.85),2),\"-\")","v":"-"},null,null,null,"Weekdays",null,{"$f":"IFERROR(ROUND(PERCENTILE(_xlfn._xlws.FILTER(Data_Table[Speed],(Data_Table[Direction]=ImportData!Direction_1)*(Data_Table[Weekday]< 6)),0.5),2),\"-\")","v":"-"},{"$f":"IFERROR(ROUND(AVERAGEIFS(Data_Table[Speed],Data_Table[Direction],ImportData!Direction_1,Data_Table[Weekday],\"<\" & 6),2),\"-\")","v":"-"},{"$f":"IFERROR(ROUND(PERCENTILE(_xlfn._xlws.FILTER(Data_Table[Speed],(Data_Table[Direction]=ImportData!Direction_1)*(Data_Table[Weekday]< 6)),0.85),2),\"-\")","v":"-"}]
[8,{"$f":"ImportData!$B$10+7*QUOTIENT(A12,24*60*7/ImportData!$B$8)+MOD(1+QUOTIENT(A12,24*60/ImportData!$B$8)-ImportData!$E$10,7)+TIME(0,ImportData!$B$8*A12,0)","v":"2022-05-16T08:00:00"},0,0,0,0,0,0,0,0,0,0,0,0,0,0,0,0,0,0,0,0,0,0,0,0,0,0,0,0,0,0,0,0,0,0,0,"-",{"$f":"IFERROR(ROUND(PERCENTILE(_xlfn._xlws.FILTER(Data_Table[Speed],(Data_Table[Direction]=ImportData!Direction_1)*(Data_Table[Period]=$B12)*(SUM(C12:N12)>=10)),0.85),2),\"-\")","v":"-"},null,null,null,"7 days",null,{"$f":"IFERROR(ROUND(PERCENTILE(_xlfn._xlws.FILTER(Data_Table[Speed],(Data_Table[Direction]=ImportData!Direction_1)),0.5),2),\"-\")","v":"-"},{"$f":"IFERROR(ROUND(AVERAGEIFS(Data_Table[Speed],Data_Table[Direction],ImportData!Direction_1),2),\"-\")","v":"-"},{"$f":"IFERROR(ROUND(PERCENTILE(_xlfn._xlws.FILTER(Data_Table[Speed],(Data_Table[Direction]=ImportData!Direction_1)),0.85),2),\"-\")","v":"-"}]
[9,{"$f":"ImportData!$B$10+7*QUOTIENT(A13,24*60*7/ImportData!$B$8)+MOD(1+QUOTIENT(A13,24*60/ImportData!$B$8)-ImportData!$E$10,7)+TIME(0,ImportData!$B$8*A13,0)","v":"2022-05-16T09:00:00"},0,0,0,0,0,0,0,0,0,0,0,0,0,0,0,0,0,0,0,0,0,0,0,0,0,0,0,0,0,0,0,0,0,0,0,"-",{"$f":"IFERROR(ROUND(PERCENTILE(_xlfn._xlws.FILTER(Data_Table[Speed],(Data_Table[Direction]=ImportData!Direction_1)*(Data_Table[Period]=$B13)*(SUM(C13:N13)>=10)),0.85),2),\"-\")","v":"-"}]
[10,{"$f":"ImportData!$B$10+7*QUOTIENT(A14,24*60*7/ImportData!$B$8)+MOD(1+QUOTIENT(A14,24*60/ImportData!$B$8)-ImportData!$E$10,7)+TIME(0,ImportData!$B$8*A14,0)","v":"2022-05-16T10:00:00"},0,0,0,0,0,0,0,0,0,0,0,0,0,0,0,0,0,0,0,0,0,0,0,0,0,0,0,0,0,0,0,0,0,0,0,"-",{"$f":"IFERROR(ROUND(PERCENTILE(_xlfn._xlws.FILTER(Data_Table[Speed],(Data_Table[Direction]=ImportData!Direction_1)*(Data_Table[Period]=$B14)*(SUM(C14:N14)>=10)),0.85),2),\"-\")","v":"-"}]
[11,{"$f":"ImportData!$B$10+7*QUOTIENT(A15,24*60*7/ImportData!$B$8)+MOD(1+QUOTIENT(A15,24*60/ImportData!$B$8)-ImportData!$E$10,7)+TIME(0,ImportData!$B$8*A15,0)","v":"2022-05-16T11:00:00"},0,0,0,0,0,0,0,0,0,0,0,0,0,0,0,0,0,0,0,0,0,0,0,0,0,0,0,0,0,0,0,0,0,0,0,"-",{"$f":"IFERROR(ROUND(PERCENTILE(_xlfn._xlws.FILTER(Data_Table[Speed],(Data_Table[Direction]=ImportData!Direction_1)*(Data_Table[Period]=$B15)*(SUM(C15:N15)>=10)),0.85),2),\"-\")","v":"-"},null,null,null,"Headway >=4",null,"Median","Average",0.85]
[12,{"$f":"ImportData!$B$10+7*QUOTIENT(A16,24*60*7/ImportData!$B$8)+MOD(1+QUOTIENT(A16,24*60/ImportData!$B$8)-ImportData!$E$10,7)+TIME(0,ImportData!$B$8*A16,0)","v":"2022-05-16T12:00:00"},0,0,0,0,0,0,0,0,0,0,0,0,0,0,0,0,0,0,0,0,0,0,0,0,0,0,0,0,0,0,0,0,0,0,0,"-",{"$f":"IFERROR(ROUND(PERCENTILE(_xlfn._xlws.FILTER(Data_Table[Speed],(Data_Table[Direction]=ImportData!Direction_1)*(Data_Table[Period]=$B16)*(SUM(C16:N16)>=10)),0.85),2),\"-\")","v":"-"},null,null,0,{"$f":"OFFSET($B$4,AP16*24,0)","v":"2022-05-16"},null,{"$f":"IFERROR(ROUND(PERCENTILE(_xlfn._xlws.FILTER(Data_Table[Speed],(Data_Table[Headway]>= 4)*(Data_Table[Direction]=ImportData!Direction_1)*(Data_Table[Weekday]=$AP16+1)),0.5),2),\"-\")","v":"-"},{"$f":"IFERROR(ROUND(AVERAGEIFS(Data_Table[Speed],Data_Table[Headway],\">=\" & 4,Data_Table[Direction],ImportData!Direction_1,Data_Table[Weekday],$AP16:$AP22+1),2),\"-\")","v":"-"},{"$f":"IFERROR(ROUND(PERCENTILE(_xlfn._xlws.FILTER(Data_Table[Speed],(Data_Table[Headway]>= 4)*(Data_Table[Direction]=ImportData!Direction_1)*(Data_Table[Weekday]=$AP16+1)),0.85),2),\"-\")","v":"-"}]
[13,{"$f":"ImportData!$B$10+7*QUOTIENT(A17,24*60*7/ImportData!$B$8)+MOD(1+QUOTIENT(A17,24*60/ImportData!$B$8)-ImportData!$E$10,7)+TIME(0,ImportData!$B$8*A17,0)","v":"2022-05-16T13:00:00"},0,0,0,0,0,0,0,0,0,0,0,0,0,0,0,0,0,0,0,0,0,0,0,0,0,0,0,0,0,0,0,0,0,0,0,"-",{"$f":"IFERROR(ROUND(PERCENTILE(_xlfn._xlws.FILTER(Data_Table[Speed],(Data_Table[Direction]=ImportData!Direction_1)*(Data_Table[Period]=$B17)*(SUM(C17:N17)>=10)),0.85),2),\"-\")","v":"-"},null,null,1,{"$f":"OFFSET($B$4,AP17*24,0)","v":"2022-05-17"},null,{"$f":"IFERROR(ROUND(PERCENTILE(_xlfn._xlws.FILTER(Data_Table[Speed],(Data_Table[Headway]>= 4)*(Data_Table[Direction]=ImportData!Direction_1)*(Data_Table[Weekday]=$AP17+1)),0.5),2),\"-\")","v":"-"},"-",{"$f":"IFERROR(ROUND(PERCENTILE(_xlfn._xlws.FILTER(Data_Table[Speed],(Data_Table[Headway]>= 4)*(Data_Table[Direction]=ImportData!Direction_1)*(Data_Table[Weekday]=$AP17+1)),0.85),2),\"-\")","v":"-"}]
[14,{"$f":"ImportData!$B$10+7*QUOTIENT(A18,24*60*7/ImportData!$B$8)+MOD(1+QUOTIENT(A18,24*60/ImportData!$B$8)-ImportData!$E$10,7)+TIME(0,ImportData!$B$8*A18,0)","v":"2022-05-16T14:00:00"},0,0,0,0,0,0,0,0,0,0,0,0,0,0,0,0,0,0,0,0,0,0,0,0,0,0,0,0,0,0,0,0,0,0,0,"-",{"$f":"IFERROR(ROUND(PERCENTILE(_xlfn._xlws.FILTER(Data_Table[Speed],(Data_Table[Direction]=ImportData!Direction_1)*(Data_Table[Period]=$B18)*(SUM(C18:N18)>=10)),0.85),2),\"-\")","v":"-"},null,null,2,"2022-05-11",null,{"$f":"IFERROR(ROUND(PERCENTILE(_xlfn._xlws.FILTER(Data_Table[Speed],(Data_Table[Headway]>= 4)*(Data_Table[Direction]=ImportData!Direction_1)*(Data_Table[Weekday]=$AP18+1)),0.5),2),\"-\")","v":"-"},"-",{"$f":"IFERROR(ROUND(PERCENTILE(_xlfn._xlws.FILTER(Data_Table[Speed],(Data_Table[Headway]>= 4)*(Data_Table[Direction]=ImportData!Direction_1)*(Data_Table[Weekday]=$AP18+1)),0.85),2),\"-\")","v":"-"}]
[15,{"$f":"ImportData!$B$10+7*QUOTIENT(A19,24*60*7/ImportData!$B$8)+MOD(1+QUOTIENT(A19,24*60/ImportData!$B$8)-ImportData!$E$10,7)+TIME(0,ImportData!$B$8*A19,0)","v":"2022-05-16T15:00:00"},0,0,0,0,0,0,0,0,0,0,0,0,0,0,0,0,0,0,0,0,0,0,0,0,0,0,0,0,0,0,0,0,0,0,0,"-",{"$f":"IFERROR(ROUND(PERCENTILE(_xlfn._xlws.FILTER(Data_Table[Speed],(Data_Table[Direction]=ImportData!Direction_1)*(Data_Table[Period]=$B19)*(SUM(C19:N19)>=10)),0.85),2),\"-\")","v":"-"},null,null,3,"2022-05-12",null,{"$f":"IFERROR(ROUND(PERCENTILE(_xlfn._xlws.FILTER(Data_Table[Speed],(Data_Table[Headway]>= 4)*(Data_Table[Direction]=ImportData!Direction_1)*(Data_Table[Weekday]=$AP19+1)),0.5),2),\"-\")","v":"-"},"-",{"$f":"IFERROR(ROUND(PERCENTILE(_xlfn._xlws.FILTER(Data_Table[Speed],(Data_Table[Headway]>= 4)*(Data_Table[Direction]=ImportData!Direction_1)*(Data_Table[Weekday]=$AP19+1)),0.85),2),\"-\")","v":"-"}]
[16,{"$f":"ImportData!$B$10+7*QUOTIENT(A20,24*60*7/ImportData!$B$8)+MOD(1+QUOTIENT(A20,24*60/ImportData!$B$8)-ImportData!$E$10,7)+TIME(0,ImportData!$B$8*A20,0)","v":"2022-05-16T16:00:00"},0,0,0,0,0,0,0,0,0,0,0,0,0,0,0,0,0,0,0,0,0,0,0,0,0,0,0,0,0,0,0,0,0,0,0,"-",{"$f":"IFERROR(ROUND(PERCENTILE(_xlfn._xlws.FILTER(Data_Table[Speed],(Data_Table[Direction]=ImportData!Direction_1)*(Data_Table[Period]=$B20)*(SUM(C20:N20)>=10)),0.85),2),\"-\")","v":"-"},null,null,4,"2022-05-13",null,{"$f":"IFERROR(ROUND(PERCENTILE(_xlfn._xlws.FILTER(Data_Table[Speed],(Data_Table[Headway]>= 4)*(Data_Table[Direction]=ImportData!Direction_1)*(Data_Table[Weekday]=$AP20+1)),0.5),2),\"-\")","v":"-"},"-",{"$f":"IFERROR(ROUND(PERCENTILE(_xlfn._xlws.FILTER(Data_Table[Speed],(Data_Table[Headway]>= 4)*(Data_Table[Direction]=ImportData!Direction_1)*(Data_Table[Weekday]=$AP20+1)),0.85),2),\"-\")","v":"-"}]
[17,{"$f":"ImportData!$B$10+7*QUOTIENT(A21,24*60*7/ImportData!$B$8)+MOD(1+QUOTIENT(A21,24*60/ImportData!$B$8)-ImportData!$E$10,7)+TIME(0,ImportData!$B$8*A21,0)","v":"2022-05-16T17:00:00"},0,0,0,0,0,0,0,0,0,0,0,0,0,0,0,0,0,0,0,0,0,0,0,0,0,0,0,0,0,0,0,0,0,0,0,"-",{"$f":"IFERROR(ROUND(PERCENTILE(_xlfn._xlws.FILTER(Data_Table[Speed],(Data_Table[Direction]=ImportData!Direction_1)*(Data_Table[Period]=$B21)*(SUM(C21:N21)>=10)),0.85),2),\"-\")","v":"-"},null,null,5,"2022-05-14",null,{"$f":"IFERROR(ROUND(PERCENTILE(_xlfn._xlws.FILTER(Data_Table[Speed],(Data_Table[Headway]>= 4)*(Data_Table[Direction]=ImportData!Direction_1)*(Data_Table[Weekday]=$AP21+1)),0.5),2),\"-\")","v":"-"},"-",{"$f":"IFERROR(ROUND(PERCENTILE(_xlfn._xlws.FILTER(Data_Table[Speed],(Data_Table[Headway]>= 4)*(Data_Table[Direction]=ImportData!Direction_1)*(Data_Table[Weekday]=$AP21+1)),0.85),2),\"-\")","v":"-"}]
[18,{"$f":"ImportData!$B$10+7*QUOTIENT(A22,24*60*7/ImportData!$B$8)+MOD(1+QUOTIENT(A22,24*60/ImportData!$B$8)-ImportData!$E$10,7)+TIME(0,ImportData!$B$8*A22,0)","v":"2022-05-16T18:00:00"},0,0,0,0,0,0,0,0,0,0,0,0,0,0,0,0,0,0,0,0,0,0,0,0,0,0,0,0,0,0,0,0,0,0,0,"-",{"$f":"IFERROR(ROUND(PERCENTILE(_xlfn._xlws.FILTER(Data_Table[Speed],(Data_Table[Direction]=ImportData!Direction_1)*(Data_Table[Period]=$B22)*(SUM(C22:N22)>=10)),0.85),2),\"-\")","v":"-"},null,null,6,"2022-05-15",null,{"$f":"IFERROR(ROUND(PERCENTILE(_xlfn._xlws.FILTER(Data_Table[Speed],(Data_Table[Headway]>= 4)*(Data_Table[Direction]=ImportData!Direction_1)*(Data_Table[Weekday]=$AP22+1)),0.5),2),\"-\")","v":"-"},"-",{"$f":"IFERROR(ROUND(PERCENTILE(_xlfn._xlws.FILTER(Data_Table[Speed],(Data_Table[Headway]>= 4)*(Data_Table[Direction]=ImportData!Direction_1)*(Data_Table[Weekday]=$AP22+1)),0.85),2),\"-\")","v":"-"}]
[19,{"$f":"ImportData!$B$10+7*QUOTIENT(A23,24*60*7/ImportData!$B$8)+MOD(1+QUOTIENT(A23,24*60/ImportData!$B$8)-ImportData!$E$10,7)+TIME(0,ImportData!$B$8*A23,0)","v":"2022-05-16T19:00:00"},0,0,0,0,0,0,0,0,0,0,0,0,0,0,0,0,0,0,0,0,0,0,0,0,0,0,0,0,0,0,0,0,0,0,0,"-",{"$f":"IFERROR(ROUND(PERCENTILE(_xlfn._xlws.FILTER(Data_Table[Speed],(Data_Table[Direction]=ImportData!Direction_1)*(Data_Table[Period]=$B23)*(SUM(C23:N23)>=10)),0.85),2),\"-\")","v":"-"},null,null,null,"Weekdays",null,{"$f":"IFERROR(ROUND(PERCENTILE(_xlfn._xlws.FILTER(Data_Table[Speed],(Data_Table[Headway]>= 4)*(Data_Table[Direction]=ImportData!Direction_1)*(Data_Table[Weekday]< 6)),0.5),2),\"-\")","v":"-"},{"$f":"IFERROR(ROUND(AVERAGEIFS(Data_Table[Speed],Data_Table[Headway],\">=\" & 4,Data_Table[Direction],ImportData!Direction_1,Data_Table[Weekday],\"<\" & 6),2),\"-\")","v":"-"},{"$f":"IFERROR(ROUND(PERCENTILE(_xlfn._xlws.FILTER(Data_Table[Speed],(Data_Table[Headway]>= 4)*(Data_Table[Direction]=ImportData!Direction_1)*(Data_Table[Weekday]< 6)),0.85),2),\"-\")","v":"-"}]
[20,{"$f":"ImportData!$B$10+7*QUOTIENT(A24,24*60*7/ImportData!$B$8)+MOD(1+QUOTIENT(A24,24*60/ImportData!$B$8)-ImportData!$E$10,7)+TIME(0,ImportData!$B$8*A24,0)","v":"2022-05-16T20:00:00"},0,0,0,0,0,0,0,0,0,0,0,0,0,0,0,0,0,0,0,0,0,0,0,0,0,0,0,0,0,0,0,0,0,0,0,"-",{"$f":"IFERROR(ROUND(PERCENTILE(_xlfn._xlws.FILTER(Data_Table[Speed],(Data_Table[Direction]=ImportData!Direction_1)*(Data_Table[Period]=$B24)*(SUM(C24:N24)>=10)),0.85),2),\"-\")","v":"-"},null,null,null,"7 days",null,{"$f":"IFERROR(ROUND(PERCENTILE(_xlfn._xlws.FILTER(Data_Table[Speed],(Data_Table[Headway]>= 4)*(Data_Table[Direction]=ImportData!Direction_1)),0.5),2),\"-\")","v":"-"},{"$f":"IFERROR(ROUND(AVERAGEIFS(Data_Table[Speed],Data_Table[Headway],\">=\" & 4,Data_Table[Direction],ImportData!Direction_1),2),\"-\")","v":"-"},{"$f":"IFERROR(ROUND(PERCENTILE(_xlfn._xlws.FILTER(Data_Table[Speed],(Data_Table[Headway]>= 4)*(Data_Table[Direction]=ImportData!Direction_1)),0.85),2),\"-\")","v":"-"}]
[21,{"$f":"ImportData!$B$10+7*QUOTIENT(A25,24*60*7/ImportData!$B$8)+MOD(1+QUOTIENT(A25,24*60/ImportData!$B$8)-ImportData!$E$10,7)+TIME(0,ImportData!$B$8*A25,0)","v":"2022-05-16T21:00:00"},0,0,0,0,0,0,0,0,0,0,0,0,0,0,0,0,0,0,0,0,0,0,0,0,0,0,0,0,0,0,0,0,0,0,0,"-",{"$f":"IFERROR(ROUND(PERCENTILE(_xlfn._xlws.FILTER(Data_Table[Speed],(Data_Table[Direction]=ImportData!Direction_1)*(Data_Table[Period]=$B25)*(SUM(C25:N25)>=10)),0.85),2),\"-\")","v":"-"}]
[22,{"$f":"ImportData!$B$10+7*QUOTIENT(A26,24*60*7/ImportData!$B$8)+MOD(1+QUOTIENT(A26,24*60/ImportData!$B$8)-ImportData!$E$10,7)+TIME(0,ImportData!$B$8*A26,0)","v":"2022-05-16T22:00:00"},0,0,0,0,0,0,0,0,0,0,0,0,0,0,0,0,0,0,0,0,0,0,0,0,0,0,0,0,0,0,0,0,0,0,0,"-",{"$f":"IFERROR(ROUND(PERCENTILE(_xlfn._xlws.FILTER(Data_Table[Speed],(Data_Table[Direction]=ImportData!Direction_1)*(Data_Table[Period]=$B26)*(SUM(C26:N26)>=10)),0.85),2),\"-\")","v":"-"}]
[23,{"$f":"ImportData!$B$10+7*QUOTIENT(A27,24*60*7/ImportData!$B$8)+MOD(1+QUOTIENT(A27,24*60/ImportData!$B$8)-ImportData!$E$10,7)+TIME(0,ImportData!$B$8*A27,0)","v":"2022-05-16T23:00:00"},0,0,0,0,0,0,0,0,0,0,0,0,0,0,0,0,0,0,0,0,0,0,0,0,0,0,0,0,0,0,0,0,0,0,0,"-",{"$f":"IFERROR(ROUND(PERCENTILE(_xlfn._xlws.FILTER(Data_Table[Speed],(Data_Table[Direction]=ImportData!Direction_1)*(Data_Table[Period]=$B27)*(SUM(C27:N27)>=10)),0.85),2),\"-\")","v":"-"}]
[24,{"$f":"ImportData!$B$10+7*QUOTIENT(A28,24*60*7/ImportData!$B$8)+MOD(1+QUOTIENT(A28,24*60/ImportData!$B$8)-ImportData!$E$10,7)+TIME(0,ImportData!$B$8*A28,0)","v":"2022-05-17"},0,0,0,0,0,0,0,0,0,0,0,0,0,0,0,0,0,0,0,0,0,0,0,0,0,0,0,0,0,0,0,0,0,0,0,"-",{"$f":"IFERROR(ROUND(PERCENTILE(_xlfn._xlws.FILTER(Data_Table[Speed],(Data_Table[Direction]=ImportData!Direction_1)*(Data_Table[Period]=$B28)*(SUM(C28:N28)>=10)),0.85),2),\"-\")","v":"-"}]
[25,{"$f":"ImportData!$B$10+7*QUOTIENT(A29,24*60*7/ImportData!$B$8)+MOD(1+QUOTIENT(A29,24*60/ImportData!$B$8)-ImportData!$E$10,7)+TIME(0,ImportData!$B$8*A29,0)","v":"2022-05-17T01:00:00"},0,0,0,0,0,0,0,0,0,0,0,0,0,0,0,0,0,0,0,0,0,0,0,0,0,0,0,0,0,0,0,0,0,0,0,"-",{"$f":"IFERROR(ROUND(PERCENTILE(_xlfn._xlws.FILTER(Data_Table[Speed],(Data_Table[Direction]=ImportData!Direction_1)*(Data_Table[Period]=$B29)*(SUM(C29:N29)>=10)),0.85),2),\"-\")","v":"-"}]
[26,{"$f":"ImportData!$B$10+7*QUOTIENT(A30,24*60*7/ImportData!$B$8)+MOD(1+QUOTIENT(A30,24*60/ImportData!$B$8)-ImportData!$E$10,7)+TIME(0,ImportData!$B$8*A30,0)","v":"2022-05-17T02:00:00"},0,0,0,0,0,0,0,0,0,0,0,0,0,0,0,0,0,0,0,0,0,0,0,0,0,0,0,0,0,0,0,0,0,0,0,"-",{"$f":"IFERROR(ROUND(PERCENTILE(_xlfn._xlws.FILTER(Data_Table[Speed],(Data_Table[Direction]=ImportData!Direction_1)*(Data_Table[Period]=$B30)*(SUM(C30:N30)>=10)),0.85),2),\"-\")","v":"-"}]
[27,{"$f":"ImportData!$B$10+7*QUOTIENT(A31,24*60*7/ImportData!$B$8)+MOD(1+QUOTIENT(A31,24*60/ImportData!$B$8)-ImportData!$E$10,7)+TIME(0,ImportData!$B$8*A31,0)","v":"2022-05-17T03:00:00"},0,0,0,0,0,0,0,0,0,0,0,0,0,0,0,0,0,0,0,0,0,0,0,0,0,0,0,0,0,0,0,0,0,0,0,"-",{"$f":"IFERROR(ROUND(PERCENTILE(_xlfn._xlws.FILTER(Data_Table[Speed],(Data_Table[Direction]=ImportData!Direction_1)*(Data_Table[Period]=$B31)*(SUM(C31:N31)>=10)),0.85),2),\"-\")","v":"-"}]
[28,{"$f":"ImportData!$B$10+7*QUOTIENT(A32,24*60*7/ImportData!$B$8)+MOD(1+QUOTIENT(A32,24*60/ImportData!$B$8)-ImportData!$E$10,7)+TIME(0,ImportData!$B$8*A32,0)","v":"2022-05-17T04:00:00"},0,0,0,0,0,0,0,0,0,0,0,0,0,0,0,0,0,0,0,0,0,0,0,0,0,0,0,0,0,0,0,0,0,0,0,"-",{"$f":"IFERROR(ROUND(PERCENTILE(_xlfn._xlws.FILTER(Data_Table[Speed],(Data_Table[Direction]=ImportData!Direction_1)*(Data_Table[Period]=$B32)*(SUM(C32:N32)>=10)),0.85),2),\"-\")","v":"-"}]
[29,{"$f":"ImportData!$B$10+7*QUOTIENT(A33,24*60*7/ImportData!$B$8)+MOD(1+QUOTIENT(A33,24*60/ImportData!$B$8)-ImportData!$E$10,7)+TIME(0,ImportData!$B$8*A33,0)","v":"2022-05-17T05:00:00"},0,0,0,0,0,0,0,0,0,0,0,0,0,0,0,0,0,0,0,0,0,0,0,0,0,0,0,0,0,0,0,0,0,0,0,"-",{"$f":"IFERROR(ROUND(PERCENTILE(_xlfn._xlws.FILTER(Data_Table[Speed],(Data_Table[Direction]=ImportData!Direction_1)*(Data_Table[Period]=$B33)*(SUM(C33:N33)>=10)),0.85),2),\"-\")","v":"-"}]
[30,{"$f":"ImportData!$B$10+7*QUOTIENT(A34,24*60*7/ImportData!$B$8)+MOD(1+QUOTIENT(A34,24*60/ImportData!$B$8)-ImportData!$E$10,7)+TIME(0,ImportData!$B$8*A34,0)","v":"2022-05-17T06:00:00"},0,0,0,0,0,0,0,0,0,0,0,0,0,0,0,0,0,0,0,0,0,0,0,0,0,0,0,0,0,0,0,0,0,0,0,"-",{"$f":"IFERROR(ROUND(PERCENTILE(_xlfn._xlws.FILTER(Data_Table[Speed],(Data_Table[Direction]=ImportData!Direction_1)*(Data_Table[Period]=$B34)*(SUM(C34:N34)>=10)),0.85),2),\"-\")","v":"-"}]
[31,{"$f":"ImportData!$B$10+7*QUOTIENT(A35,24*60*7/ImportData!$B$8)+MOD(1+QUOTIENT(A35,24*60/ImportData!$B$8)-ImportData!$E$10,7)+TIME(0,ImportData!$B$8*A35,0)","v":"2022-05-17T07:00:00"},0,0,0,0,0,0,0,0,0,0,0,0,0,0,0,0,0,0,0,0,0,0,0,0,0,0,0,0,0,0,0,0,0,0,0,"-",{"$f":"IFERROR(ROUND(PERCENTILE(_xlfn._xlws.FILTER(Data_Table[Speed],(Data_Table[Direction]=ImportData!Direction_1)*(Data_Table[Period]=$B35)*(SUM(C35:N35)>=10)),0.85),2),\"-\")","v":"-"}]
[32,{"$f":"ImportData!$B$10+7*QUOTIENT(A36,24*60*7/ImportData!$B$8)+MOD(1+QUOTIENT(A36,24*60/ImportData!$B$8)-ImportData!$E$10,7)+TIME(0,ImportData!$B$8*A36,0)","v":"2022-05-17T08:00:00"},0,0,0,0,0,0,0,0,0,0,0,0,0,0,0,0,0,0,0,0,0,0,0,0,0,0,0,0,0,0,0,0,0,0,0,"-",{"$f":"IFERROR(ROUND(PERCENTILE(_xlfn._xlws.FILTER(Data_Table[Speed],(Data_Table[Direction]=ImportData!Direction_1)*(Data_Table[Period]=$B36)*(SUM(C36:N36)>=10)),0.85),2),\"-\")","v":"-"}]
[33,{"$f":"ImportData!$B$10+7*QUOTIENT(A37,24*60*7/ImportData!$B$8)+MOD(1+QUOTIENT(A37,24*60/ImportData!$B$8)-ImportData!$E$10,7)+TIME(0,ImportData!$B$8*A37,0)","v":"2022-05-17T09:00:00"},0,0,0,0,0,0,0,0,0,0,0,0,0,0,0,0,0,0,0,0,0,0,0,0,0,0,0,0,0,0,0,0,0,0,0,"-",{"$f":"IFERROR(ROUND(PERCENTILE(_xlfn._xlws.FILTER(Data_Table[Speed],(Data_Table[Direction]=ImportData!Direction_1)*(Data_Table[Period]=$B37)*(SUM(C37:N37)>=10)),0.85),2),\"-\")","v":"-"}]
[34,{"$f":"ImportData!$B$10+7*QUOTIENT(A38,24*60*7/ImportData!$B$8)+MOD(1+QUOTIENT(A38,24*60/ImportData!$B$8)-ImportData!$E$10,7)+TIME(0,ImportData!$B$8*A38,0)","v":"2022-05-17T10:00:00"},0,0,0,0,0,0,0,0,0,0,0,0,0,0,0,0,0,0,0,0,0,0,0,0,0,0,0,0,0,0,0,0,0,0,0,"-",{"$f":"IFERROR(ROUND(PERCENTILE(_xlfn._xlws.FILTER(Data_Table[Speed],(Data_Table[Direction]=ImportData!Direction_1)*(Data_Table[Period]=$B38)*(SUM(C38:N38)>=10)),0.85),2),\"-\")","v":"-"}]
[35,{"$f":"ImportData!$B$10+7*QUOTIENT(A39,24*60*7/ImportData!$B$8)+MOD(1+QUOTIENT(A39,24*60/ImportData!$B$8)-ImportData!$E$10,7)+TIME(0,ImportData!$B$8*A39,0)","v":"2022-05-17T11:00:00"},0,0,0,0,0,0,0,0,0,0,0,0,0,0,0,0,0,0,0,0,0,0,0,0,0,0,0,0,0,0,0,0,0,0,0,"-",{"$f":"IFERROR(ROUND(PERCENTILE(_xlfn._xlws.FILTER(Data_Table[Speed],(Data_Table[Direction]=ImportData!Direction_1)*(Data_Table[Period]=$B39)*(SUM(C39:N39)>=10)),0.85),2),\"-\")","v":"-"}]
[36,{"$f":"ImportData!$B$10+7*QUOTIENT(A40,24*60*7/ImportData!$B$8)+MOD(1+QUOTIENT(A40,24*60/ImportData!$B$8)-ImportData!$E$10,7)+TIME(0,ImportData!$B$8*A40,0)","v":"2022-05-17T12:00:00"},0,0,0,0,0,0,0,0,0,0,0,0,0,0,0,0,0,0,0,0,0,0,0,0,0,0,0,0,0,0,0,0,0,0,0,"-",{"$f":"IFERROR(ROUND(PERCENTILE(_xlfn._xlws.FILTER(Data_Table[Speed],(Data_Table[Direction]=ImportData!Direction_1)*(Data_Table[Period]=$B40)*(SUM(C40:N40)>=10)),0.85),2),\"-\")","v":"-"}]
[37,{"$f":"ImportData!$B$10+7*QUOTIENT(A41,24*60*7/ImportData!$B$8)+MOD(1+QUOTIENT(A41,24*60/ImportData!$B$8)-ImportData!$E$10,7)+TIME(0,ImportData!$B$8*A41,0)","v":"2022-05-17T13:00:00"},0,0,0,0,0,0,0,0,0,0,0,0,0,0,0,0,0,0,0,0,0,0,0,0,0,0,0,0,0,0,0,0,0,0,0,"-",{"$f":"IFERROR(ROUND(PERCENTILE(_xlfn._xlws.FILTER(Data_Table[Speed],(Data_Table[Direction]=ImportData!Direction_1)*(Data_Table[Period]=$B41)*(SUM(C41:N41)>=10)),0.85),2),\"-\")","v":"-"}]
[38,{"$f":"ImportData!$B$10+7*QUOTIENT(A42,24*60*7/ImportData!$B$8)+MOD(1+QUOTIENT(A42,24*60/ImportData!$B$8)-ImportData!$E$10,7)+TIME(0,ImportData!$B$8*A42,0)","v":"2022-05-17T14:00:00"},0,0,0,0,0,0,0,0,0,0,0,0,0,0,0,0,0,0,0,0,0,0,0,0,0,0,0,0,0,0,0,0,0,0,0,"-",{"$f":"IFERROR(ROUND(PERCENTILE(_xlfn._xlws.FILTER(Data_Table[Speed],(Data_Table[Direction]=ImportData!Direction_1)*(Data_Table[Period]=$B42)*(SUM(C42:N42)>=10)),0.85),2),\"-\")","v":"-"}]
[39,{"$f":"ImportData!$B$10+7*QUOTIENT(A43,24*60*7/ImportData!$B$8)+MOD(1+QUOTIENT(A43,24*60/ImportData!$B$8)-ImportData!$E$10,7)+TIME(0,ImportData!$B$8*A43,0)","v":"2022-05-17T15:00:00"},0,0,0,0,0,0,0,0,0,0,0,0,0,0,0,0,0,0,0,0,0,0,0,0,0,0,0,0,0,0,0,0,0,0,0,"-",{"$f":"IFERROR(ROUND(PERCENTILE(_xlfn._xlws.FILTER(Data_Table[Speed],(Data_Table[Direction]=ImportData!Direction_1)*(Data_Table[Period]=$B43)*(SUM(C43:N43)>=10)),0.85),2),\"-\")","v":"-"}]
[40,{"$f":"ImportData!$B$10+7*QUOTIENT(A44,24*60*7/ImportData!$B$8)+MOD(1+QUOTIENT(A44,24*60/ImportData!$B$8)-ImportData!$E$10,7)+TIME(0,ImportData!$B$8*A44,0)","v":"2022-05-17T16:00:00"},0,0,0,0,0,0,0,0,0,0,0,0,0,0,0,0,0,0,0,0,0,0,0,0,0,0,0,0,0,0,0,0,0,0,0,"-",{"$f":"IFERROR(ROUND(PERCENTILE(_xlfn._xlws.FILTER(Data_Table[Speed],(Data_Table[Direction]=ImportData!Direction_1)*(Data_Table[Period]=$B44)*(SUM(C44:N44)>=10)),0.85),2),\"-\")","v":"-"}]
[41,{"$f":"ImportData!$B$10+7*QUOTIENT(A45,24*60*7/ImportData!$B$8)+MOD(1+QUOTIENT(A45,24*60/ImportData!$B$8)-ImportData!$E$10,7)+TIME(0,ImportData!$B$8*A45,0)","v":"2022-05-17T17:00:00"},0,0,0,0,0,0,0,0,0,0,0,0,0,0,0,0,0,0,0,0,0,0,0,0,0,0,0,0,0,0,0,0,0,0,0,"-",{"$f":"IFERROR(ROUND(PERCENTILE(_xlfn._xlws.FILTER(Data_Table[Speed],(Data_Table[Direction]=ImportData!Direction_1)*(Data_Table[Period]=$B45)*(SUM(C45:N45)>=10)),0.85),2),\"-\")","v":"-"}]
[42,{"$f":"ImportData!$B$10+7*QUOTIENT(A46,24*60*7/ImportData!$B$8)+MOD(1+QUOTIENT(A46,24*60/ImportData!$B$8)-ImportData!$E$10,7)+TIME(0,ImportData!$B$8*A46,0)","v":"2022-05-17T18:00:00"},0,0,0,0,0,0,0,0,0,0,0,0,0,0,0,0,0,0,0,0,0,0,0,0,0,0,0,0,0,0,0,0,0,0,0,"-",{"$f":"IFERROR(ROUND(PERCENTILE(_xlfn._xlws.FILTER(Data_Table[Speed],(Data_Table[Direction]=ImportData!Direction_1)*(Data_Table[Period]=$B46)*(SUM(C46:N46)>=10)),0.85),2),\"-\")","v":"-"}]
[43,{"$f":"ImportData!$B$10+7*QUOTIENT(A47,24*60*7/ImportData!$B$8)+MOD(1+QUOTIENT(A47,24*60/ImportData!$B$8)-ImportData!$E$10,7)+TIME(0,ImportData!$B$8*A47,0)","v":"2022-05-17T19:00:00"},0,0,0,0,0,0,0,0,0,0,0,0,0,0,0,0,0,0,0,0,0,0,0,0,0,0,0,0,0,0,0,0,0,0,0,"-",{"$f":"IFERROR(ROUND(PERCENTILE(_xlfn._xlws.FILTER(Data_Table[Speed],(Data_Table[Direction]=ImportData!Direction_1)*(Data_Table[Period]=$B47)*(SUM(C47:N47)>=10)),0.85),2),\"-\")","v":"-"}]
[44,{"$f":"ImportData!$B$10+7*QUOTIENT(A48,24*60*7/ImportData!$B$8)+MOD(1+QUOTIENT(A48,24*60/ImportData!$B$8)-ImportData!$E$10,7)+TIME(0,ImportData!$B$8*A48,0)","v":"2022-05-17T20:00:00"},0,0,0,0,0,0,0,0,0,0,0,0,0,0,0,0,0,0,0,0,0,0,0,0,0,0,0,0,0,0,0,0,0,0,0,"-",{"$f":"IFERROR(ROUND(PERCENTILE(_xlfn._xlws.FILTER(Data_Table[Speed],(Data_Table[Direction]=ImportData!Direction_1)*(Data_Table[Period]=$B48)*(SUM(C48:N48)>=10)),0.85),2),\"-\")","v":"-"}]
[45,{"$f":"ImportData!$B$10+7*QUOTIENT(A49,24*60*7/ImportData!$B$8)+MOD(1+QUOTIENT(A49,24*60/ImportData!$B$8)-ImportData!$E$10,7)+TIME(0,ImportData!$B$8*A49,0)","v":"2022-05-17T21:00:00"},0,0,0,0,0,0,0,0,0,0,0,0,0,0,0,0,0,0,0,0,0,0,0,0,0,0,0,0,0,0,0,0,0,0,0,"-",{"$f":"IFERROR(ROUND(PERCENTILE(_xlfn._xlws.FILTER(Data_Table[Speed],(Data_Table[Direction]=ImportData!Direction_1)*(Data_Table[Period]=$B49)*(SUM(C49:N49)>=10)),0.85),2),\"-\")","v":"-"}]
[46,{"$f":"ImportData!$B$10+7*QUOTIENT(A50,24*60*7/ImportData!$B$8)+MOD(1+QUOTIENT(A50,24*60/ImportData!$B$8)-ImportData!$E$10,7)+TIME(0,ImportData!$B$8*A50,0)","v":"2022-05-17T22:00:00"},0,0,0,0,0,0,0,0,0,0,0,0,0,0,0,0,0,0,0,0,0,0,0,0,0,0,0,0,0,0,0,0,0,0,0,"-",{"$f":"IFERROR(ROUND(PERCENTILE(_xlfn._xlws.FILTER(Data_Table[Speed],(Data_Table[Direction]=ImportData!Direction_1)*(Data_Table[Period]=$B50)*(SUM(C50:N50)>=10)),0.85),2),\"-\")","v":"-"}]
[47,{"$f":"ImportData!$B$10+7*QUOTIENT(A51,24*60*7/ImportData!$B$8)+MOD(1+QUOTIENT(A51,24*60/ImportData!$B$8)-ImportData!$E$10,7)+TIME(0,ImportData!$B$8*A51,0)","v":"2022-05-17T23:00:00"},0,0,0,0,0,0,0,0,0,0,0,0,0,0,0,0,0,0,0,0,0,0,0,0,0,0,0,0,0,0,0,0,0,0,0,"-",{"$f":"IFERROR(ROUND(PERCENTILE(_xlfn._xlws.FILTER(Data_Table[Speed],(Data_Table[Direction]=ImportData!Direction_1)*(Data_Table[Period]=$B51)*(SUM(C51:N51)>=10)),0.85),2),\"-\")","v":"-"}]
[48,{"$f":"ImportData!$B$10+7*QUOTIENT(A52,24*60*7/ImportData!$B$8)+MOD(1+QUOTIENT(A52,24*60/ImportData!$B$8)-ImportData!$E$10,7)+TIME(0,ImportData!$B$8*A52,0)","v":"2022-05-11"},0,0,0,0,0,0,0,0,0,0,0,0,0,0,0,0,0,0,0,0,0,0,0,0,0,0,0,0,0,0,0,0,0,0,0,"-",{"$f":"IFERROR(ROUND(PERCENTILE(_xlfn._xlws.FILTER(Data_Table[Speed],(Data_Table[Direction]=ImportData!Direction_1)*(Data_Table[Period]=$B52)*(SUM(C52:N52)>=10)),0.85),2),\"-\")","v":"-"}]
[49,{"$f":"ImportData!$B$10+7*QUOTIENT(A53,24*60*7/ImportData!$B$8)+MOD(1+QUOTIENT(A53,24*60/ImportData!$B$8)-ImportData!$E$10,7)+TIME(0,ImportData!$B$8*A53,0)","v":"2022-05-11T01:00:00"},0,0,0,0,0,0,0,0,0,0,0,0,0,0,0,0,0,0,0,0,0,0,0,0,0,0,0,0,0,0,0,0,0,0,0,"-",{"$f":"IFERROR(ROUND(PERCENTILE(_xlfn._xlws.FILTER(Data_Table[Speed],(Data_Table[Direction]=ImportData!Direction_1)*(Data_Table[Period]=$B53)*(SUM(C53:N53)>=10)),0.85),2),\"-\")","v":"-"}]
[50,{"$f":"ImportData!$B$10+7*QUOTIENT(A54,24*60*7/ImportData!$B$8)+MOD(1+QUOTIENT(A54,24*60/ImportData!$B$8)-ImportData!$E$10,7)+TIME(0,ImportData!$B$8*A54,0)","v":"2022-05-11T02:00:00"},0,0,0,0,0,0,0,0,0,0,0,0,0,0,0,0,0,0,0,0,0,0,0,0,0,0,0,0,0,0,0,0,0,0,0,"-",{"$f":"IFERROR(ROUND(PERCENTILE(_xlfn._xlws.FILTER(Data_Table[Speed],(Data_Table[Direction]=ImportData!Direction_1)*(Data_Table[Period]=$B54)*(SUM(C54:N54)>=10)),0.85),2),\"-\")","v":"-"}]
[51,{"$f":"ImportData!$B$10+7*QUOTIENT(A55,24*60*7/ImportData!$B$8)+MOD(1+QUOTIENT(A55,24*60/ImportData!$B$8)-ImportData!$E$10,7)+TIME(0,ImportData!$B$8*A55,0)","v":"2022-05-11T03:00:00"},0,0,0,0,0,0,0,0,0,0,0,0,0,0,0,0,0,0,0,0,0,0,0,0,0,0,0,0,0,0,0,0,0,0,0,"-",{"$f":"IFERROR(ROUND(PERCENTILE(_xlfn._xlws.FILTER(Data_Table[Speed],(Data_Table[Direction]=ImportData!Direction_1)*(Data_Table[Period]=$B55)*(SUM(C55:N55)>=10)),0.85),2),\"-\")","v":"-"}]
[52,{"$f":"ImportData!$B$10+7*QUOTIENT(A56,24*60*7/ImportData!$B$8)+MOD(1+QUOTIENT(A56,24*60/ImportData!$B$8)-ImportData!$E$10,7)+TIME(0,ImportData!$B$8*A56,0)","v":"2022-05-11T04:00:00"},0,0,0,0,0,0,0,0,0,0,0,0,0,0,0,0,0,0,0,0,0,0,0,0,0,0,0,0,0,0,0,0,0,0,0,"-",{"$f":"IFERROR(ROUND(PERCENTILE(_xlfn._xlws.FILTER(Data_Table[Speed],(Data_Table[Direction]=ImportData!Direction_1)*(Data_Table[Period]=$B56)*(SUM(C56:N56)>=10)),0.85),2),\"-\")","v":"-"}]
[53,{"$f":"ImportData!$B$10+7*QUOTIENT(A57,24*60*7/ImportData!$B$8)+MOD(1+QUOTIENT(A57,24*60/ImportData!$B$8)-ImportData!$E$10,7)+TIME(0,ImportData!$B$8*A57,0)","v":"2022-05-11T05:00:00"},0,0,0,0,0,0,0,0,0,0,0,0,0,0,0,0,0,0,0,0,0,0,0,0,0,0,0,0,0,0,0,0,0,0,0,"-",{"$f":"IFERROR(ROUND(PERCENTILE(_xlfn._xlws.FILTER(Data_Table[Speed],(Data_Table[Direction]=ImportData!Direction_1)*(Data_Table[Period]=$B57)*(SUM(C57:N57)>=10)),0.85),2),\"-\")","v":"-"}]
[54,{"$f":"ImportData!$B$10+7*QUOTIENT(A58,24*60*7/ImportData!$B$8)+MOD(1+QUOTIENT(A58,24*60/ImportData!$B$8)-ImportData!$E$10,7)+TIME(0,ImportData!$B$8*A58,0)","v":"2022-05-11T06:00:00"},0,0,0,0,0,0,0,0,0,0,0,0,0,0,0,0,0,0,0,0,0,0,0,0,0,0,0,0,0,0,0,0,0,0,0,"-",{"$f":"IFERROR(ROUND(PERCENTILE(_xlfn._xlws.FILTER(Data_Table[Speed],(Data_Table[Direction]=ImportData!Direction_1)*(Data_Table[Period]=$B58)*(SUM(C58:N58)>=10)),0.85),2),\"-\")","v":"-"}]
[55,{"$f":"ImportData!$B$10+7*QUOTIENT(A59,24*60*7/ImportData!$B$8)+MOD(1+QUOTIENT(A59,24*60/ImportData!$B$8)-ImportData!$E$10,7)+TIME(0,ImportData!$B$8*A59,0)","v":"2022-05-11T07:00:00"},0,0,0,0,0,0,0,0,0,0,0,0,0,0,0,0,0,0,0,0,0,0,0,0,0,0,0,0,0,0,0,0,0,0,0,"-",{"$f":"IFERROR(ROUND(PERCENTILE(_xlfn._xlws.FILTER(Data_Table[Speed],(Data_Table[Direction]=ImportData!Direction_1)*(Data_Table[Period]=$B59)*(SUM(C59:N59)>=10)),0.85),2),\"-\")","v":"-"}]
[56,{"$f":"ImportData!$B$10+7*QUOTIENT(A60,24*60*7/ImportData!$B$8)+MOD(1+QUOTIENT(A60,24*60/ImportData!$B$8)-ImportData!$E$10,7)+TIME(0,ImportData!$B$8*A60,0)","v":"2022-05-11T08:00:00"},0,0,0,0,0,0,0,0,0,0,0,0,0,0,0,0,0,0,0,0,0,0,0,0,0,0,0,0,0,0,0,0,0,0,0,"-",{"$f":"IFERROR(ROUND(PERCENTILE(_xlfn._xlws.FILTER(Data_Table[Speed],(Data_Table[Direction]=ImportData!Direction_1)*(Data_Table[Period]=$B60)*(SUM(C60:N60)>=10)),0.85),2),\"-\")","v":"-"}]
[57,{"$f":"ImportData!$B$10+7*QUOTIENT(A61,24*60*7/ImportData!$B$8)+MOD(1+QUOTIENT(A61,24*60/ImportData!$B$8)-ImportData!$E$10,7)+TIME(0,ImportData!$B$8*A61,0)","v":"2022-05-11T09:00:00"},0,0,0,0,0,0,0,0,0,0,0,0,0,0,0,0,0,0,0,0,0,0,0,0,0,0,0,0,0,0,0,0,0,0,0,"-",{"$f":"IFERROR(ROUND(PERCENTILE(_xlfn._xlws.FILTER(Data_Table[Speed],(Data_Table[Direction]=ImportData!Direction_1)*(Data_Table[Period]=$B61)*(SUM(C61:N61)>=10)),0.85),2),\"-\")","v":"-"}]
[58,{"$f":"ImportData!$B$10+7*QUOTIENT(A62,24*60*7/ImportData!$B$8)+MOD(1+QUOTIENT(A62,24*60/ImportData!$B$8)-ImportData!$E$10,7)+TIME(0,ImportData!$B$8*A62,0)","v":"2022-05-11T10:00:00"},0,0,0,0,0,0,0,0,0,0,0,0,0,0,0,0,0,0,0,0,0,0,0,0,0,0,0,0,0,0,0,0,0,0,0,"-",{"$f":"IFERROR(ROUND(PERCENTILE(_xlfn._xlws.FILTER(Data_Table[Speed],(Data_Table[Direction]=ImportData!Direction_1)*(Data_Table[Period]=$B62)*(SUM(C62:N62)>=10)),0.85),2),\"-\")","v":"-"}]
[59,{"$f":"ImportData!$B$10+7*QUOTIENT(A63,24*60*7/ImportData!$B$8)+MOD(1+QUOTIENT(A63,24*60/ImportData!$B$8)-ImportData!$E$10,7)+TIME(0,ImportData!$B$8*A63,0)","v":"2022-05-11T11:00:00"},0,0,0,0,0,0,0,0,0,0,0,0,0,0,0,0,0,0,0,0,0,0,0,0,0,0,0,0,0,0,0,0,0,0,0,"-",{"$f":"IFERROR(ROUND(PERCENTILE(_xlfn._xlws.FILTER(Data_Table[Speed],(Data_Table[Direction]=ImportData!Direction_1)*(Data_Table[Period]=$B63)*(SUM(C63:N63)>=10)),0.85),2),\"-\")","v":"-"}]
[60,{"$f":"ImportData!$B$10+7*QUOTIENT(A64,24*60*7/ImportData!$B$8)+MOD(1+QUOTIENT(A64,24*60/ImportData!$B$8)-ImportData!$E$10,7)+TIME(0,ImportData!$B$8*A64,0)","v":"2022-05-11T12:00:00"},0,0,0,0,0,0,0,0,0,0,0,0,0,0,0,0,0,0,0,0,0,0,0,0,0,0,0,0,0,0,0,0,0,0,0,"-",{"$f":"IFERROR(ROUND(PERCENTILE(_xlfn._xlws.FILTER(Data_Table[Speed],(Data_Table[Direction]=ImportData!Direction_1)*(Data_Table[Period]=$B64)*(SUM(C64:N64)>=10)),0.85),2),\"-\")","v":"-"}]
[61,{"$f":"ImportData!$B$10+7*QUOTIENT(A65,24*60*7/ImportData!$B$8)+MOD(1+QUOTIENT(A65,24*60/ImportData!$B$8)-ImportData!$E$10,7)+TIME(0,ImportData!$B$8*A65,0)","v":"2022-05-11T13:00:00"},0,0,0,0,0,0,0,0,0,0,0,0,0,0,0,0,0,0,0,0,0,0,0,0,0,0,0,0,0,0,0,0,0,0,0,"-",{"$f":"IFERROR(ROUND(PERCENTILE(_xlfn._xlws.FILTER(Data_Table[Speed],(Data_Table[Direction]=ImportData!Direction_1)*(Data_Table[Period]=$B65)*(SUM(C65:N65)>=10)),0.85),2),\"-\")","v":"-"}]
[62,{"$f":"ImportData!$B$10+7*QUOTIENT(A66,24*60*7/ImportData!$B$8)+MOD(1+QUOTIENT(A66,24*60/ImportData!$B$8)-ImportData!$E$10,7)+TIME(0,ImportData!$B$8*A66,0)","v":"2022-05-11T14:00:00"},0,0,0,0,0,0,0,0,0,0,0,0,0,0,0,0,0,0,0,0,0,0,0,0,0,0,0,0,0,0,0,0,0,0,0,"-",{"$f":"IFERROR(ROUND(PERCENTILE(_xlfn._xlws.FILTER(Data_Table[Speed],(Data_Table[Direction]=ImportData!Direction_1)*(Data_Table[Period]=$B66)*(SUM(C66:N66)>=10)),0.85),2),\"-\")","v":"-"}]
[63,{"$f":"ImportData!$B$10+7*QUOTIENT(A67,24*60*7/ImportData!$B$8)+MOD(1+QUOTIENT(A67,24*60/ImportData!$B$8)-ImportData!$E$10,7)+TIME(0,ImportData!$B$8*A67,0)","v":"2022-05-11T15:00:00"},0,0,0,0,0,0,0,0,0,0,0,0,0,0,0,0,0,0,0,0,0,0,0,0,0,0,0,0,0,0,0,0,0,0,0,"-",{"$f":"IFERROR(ROUND(PERCENTILE(_xlfn._xlws.FILTER(Data_Table[Speed],(Data_Table[Direction]=ImportData!Direction_1)*(Data_Table[Period]=$B67)*(SUM(C67:N67)>=10)),0.85),2),\"-\")","v":"-"}]
[64,{"$f":"ImportData!$B$10+7*QUOTIENT(A68,24*60*7/ImportData!$B$8)+MOD(1+QUOTIENT(A68,24*60/ImportData!$B$8)-ImportData!$E$10,7)+TIME(0,ImportData!$B$8*A68,0)","v":"2022-05-11T16:00:00"},0,0,0,0,0,0,0,0,0,0,0,0,0,0,0,0,0,0,0,0,0,0,0,0,0,0,0,0,0,0,0,0,0,0,0,"-",{"$f":"IFERROR(ROUND(PERCENTILE(_xlfn._xlws.FILTER(Data_Table[Speed],(Data_Table[Direction]=ImportData!Direction_1)*(Data_Table[Period]=$B68)*(SUM(C68:N68)>=10)),0.85),2),\"-\")","v":"-"}]
[65,{"$f":"ImportData!$B$10+7*QUOTIENT(A69,24*60*7/ImportData!$B$8)+MOD(1+QUOTIENT(A69,24*60/ImportData!$B$8)-ImportData!$E$10,7)+TIME(0,ImportData!$B$8*A69,0)","v":"2022-05-11T17:00:00"},0,0,0,0,0,0,0,0,0,0,0,0,0,0,0,0,0,0,0,0,0,0,0,0,0,0,0,0,0,0,0,0,0,0,0,"-",{"$f":"IFERROR(ROUND(PERCENTILE(_xlfn._xlws.FILTER(Data_Table[Speed],(Data_Table[Direction]=ImportData!Direction_1)*(Data_Table[Period]=$B69)*(SUM(C69:N69)>=10)),0.85),2),\"-\")","v":"-"}]
[66,{"$f":"ImportData!$B$10+7*QUOTIENT(A70,24*60*7/ImportData!$B$8)+MOD(1+QUOTIENT(A70,24*60/ImportData!$B$8)-ImportData!$E$10,7)+TIME(0,ImportData!$B$8*A70,0)","v":"2022-05-11T18:00:00"},0,0,0,0,0,0,0,0,0,0,0,0,0,0,0,0,0,0,0,0,0,0,0,0,0,0,0,0,0,0,0,0,0,0,0,"-",{"$f":"IFERROR(ROUND(PERCENTILE(_xlfn._xlws.FILTER(Data_Table[Speed],(Data_Table[Direction]=ImportData!Direction_1)*(Data_Table[Period]=$B70)*(SUM(C70:N70)>=10)),0.85),2),\"-\")","v":"-"}]
[67,{"$f":"ImportData!$B$10+7*QUOTIENT(A71,24*60*7/ImportData!$B$8)+MOD(1+QUOTIENT(A71,24*60/ImportData!$B$8)-ImportData!$E$10,7)+TIME(0,ImportData!$B$8*A71,0)","v":"2022-05-11T19:00:00"},0,0,0,0,0,0,0,0,0,0,0,0,0,0,0,0,0,0,0,0,0,0,0,0,0,0,0,0,0,0,0,0,0,0,0,"-",{"$f":"IFERROR(ROUND(PERCENTILE(_xlfn._xlws.FILTER(Data_Table[Speed],(Data_Table[Direction]=ImportData!Direction_1)*(Data_Table[Period]=$B71)*(SUM(C71:N71)>=10)),0.85),2),\"-\")","v":"-"}]
[68,{"$f":"ImportData!$B$10+7*QUOTIENT(A72,24*60*7/ImportData!$B$8)+MOD(1+QUOTIENT(A72,24*60/ImportData!$B$8)-ImportData!$E$10,7)+TIME(0,ImportData!$B$8*A72,0)","v":"2022-05-11T20:00:00"},0,0,0,0,0,0,0,0,0,0,0,0,0,0,0,0,0,0,0,0,0,0,0,0,0,0,0,0,0,0,0,0,0,0,0,"-",{"$f":"IFERROR(ROUND(PERCENTILE(_xlfn._xlws.FILTER(Data_Table[Speed],(Data_Table[Direction]=ImportData!Direction_1)*(Data_Table[Period]=$B72)*(SUM(C72:N72)>=10)),0.85),2),\"-\")","v":"-"}]
[69,{"$f":"ImportData!$B$10+7*QUOTIENT(A73,24*60*7/ImportData!$B$8)+MOD(1+QUOTIENT(A73,24*60/ImportData!$B$8)-ImportData!$E$10,7)+TIME(0,ImportData!$B$8*A73,0)","v":"2022-05-11T21:00:00"},0,0,0,0,0,0,0,0,0,0,0,0,0,0,0,0,0,0,0,0,0,0,0,0,0,0,0,0,0,0,0,0,0,0,0,"-",{"$f":"IFERROR(ROUND(PERCENTILE(_xlfn._xlws.FILTER(Data_Table[Speed],(Data_Table[Direction]=ImportData!Direction_1)*(Data_Table[Period]=$B73)*(SUM(C73:N73)>=10)),0.85),2),\"-\")","v":"-"}]
[70,{"$f":"ImportData!$B$10+7*QUOTIENT(A74,24*60*7/ImportData!$B$8)+MOD(1+QUOTIENT(A74,24*60/ImportData!$B$8)-ImportData!$E$10,7)+TIME(0,ImportData!$B$8*A74,0)","v":"2022-05-11T22:00:00"},0,0,0,0,0,0,0,0,0,0,0,0,0,0,0,0,0,0,0,0,0,0,0,0,0,0,0,0,0,0,0,0,0,0,0,"-",{"$f":"IFERROR(ROUND(PERCENTILE(_xlfn._xlws.FILTER(Data_Table[Speed],(Data_Table[Direction]=ImportData!Direction_1)*(Data_Table[Period]=$B74)*(SUM(C74:N74)>=10)),0.85),2),\"-\")","v":"-"}]
[71,{"$f":"ImportData!$B$10+7*QUOTIENT(A75,24*60*7/ImportData!$B$8)+MOD(1+QUOTIENT(A75,24*60/ImportData!$B$8)-ImportData!$E$10,7)+TIME(0,ImportData!$B$8*A75,0)","v":"2022-05-11T23:00:00"},0,0,0,0,0,0,0,0,0,0,0,0,0,0,0,0,0,0,0,0,0,0,0,0,0,0,0,0,0,0,0,0,0,0,0,"-",{"$f":"IFERROR(ROUND(PERCENTILE(_xlfn._xlws.FILTER(Data_Table[Speed],(Data_Table[Direction]=ImportData!Direction_1)*(Data_Table[Period]=$B75)*(SUM(C75:N75)>=10)),0.85),2),\"-\")","v":"-"}]
[72,{"$f":"ImportData!$B$10+7*QUOTIENT(A76,24*60*7/ImportData!$B$8)+MOD(1+QUOTIENT(A76,24*60/ImportData!$B$8)-ImportData!$E$10,7)+TIME(0,ImportData!$B$8*A76,0)","v":"2022-05-12"},0,0,0,0,0,0,0,0,0,0,0,0,0,0,0,0,0,0,0,0,0,0,0,0,0,0,0,0,0,0,0,0,0,0,0,"-",{"$f":"IFERROR(ROUND(PERCENTILE(_xlfn._xlws.FILTER(Data_Table[Speed],(Data_Table[Direction]=ImportData!Direction_1)*(Data_Table[Period]=$B76)*(SUM(C76:N76)>=10)),0.85),2),\"-\")","v":"-"}]
[73,{"$f":"ImportData!$B$10+7*QUOTIENT(A77,24*60*7/ImportData!$B$8)+MOD(1+QUOTIENT(A77,24*60/ImportData!$B$8)-ImportData!$E$10,7)+TIME(0,ImportData!$B$8*A77,0)","v":"2022-05-12T01:00:00"},0,0,0,0,0,0,0,0,0,0,0,0,0,0,0,0,0,0,0,0,0,0,0,0,0,0,0,0,0,0,0,0,0,0,0,"-",{"$f":"IFERROR(ROUND(PERCENTILE(_xlfn._xlws.FILTER(Data_Table[Speed],(Data_Table[Direction]=ImportData!Direction_1)*(Data_Table[Period]=$B77)*(SUM(C77:N77)>=10)),0.85),2),\"-\")","v":"-"}]
[74,{"$f":"ImportData!$B$10+7*QUOTIENT(A78,24*60*7/ImportData!$B$8)+MOD(1+QUOTIENT(A78,24*60/ImportData!$B$8)-ImportData!$E$10,7)+TIME(0,ImportData!$B$8*A78,0)","v":"2022-05-12T02:00:00"},0,0,0,0,0,0,0,0,0,0,0,0,0,0,0,0,0,0,0,0,0,0,0,0,0,0,0,0,0,0,0,0,0,0,0,"-",{"$f":"IFERROR(ROUND(PERCENTILE(_xlfn._xlws.FILTER(Data_Table[Speed],(Data_Table[Direction]=ImportData!Direction_1)*(Data_Table[Period]=$B78)*(SUM(C78:N78)>=10)),0.85),2),\"-\")","v":"-"}]
[75,{"$f":"ImportData!$B$10+7*QUOTIENT(A79,24*60*7/ImportData!$B$8)+MOD(1+QUOTIENT(A79,24*60/ImportData!$B$8)-ImportData!$E$10,7)+TIME(0,ImportData!$B$8*A79,0)","v":"2022-05-12T03:00:00"},0,0,0,0,0,0,0,0,0,0,0,0,0,0,0,0,0,0,0,0,0,0,0,0,0,0,0,0,0,0,0,0,0,0,0,"-",{"$f":"IFERROR(ROUND(PERCENTILE(_xlfn._xlws.FILTER(Data_Table[Speed],(Data_Table[Direction]=ImportData!Direction_1)*(Data_Table[Period]=$B79)*(SUM(C79:N79)>=10)),0.85),2),\"-\")","v":"-"}]
[76,{"$f":"ImportData!$B$10+7*QUOTIENT(A80,24*60*7/ImportData!$B$8)+MOD(1+QUOTIENT(A80,24*60/ImportData!$B$8)-ImportData!$E$10,7)+TIME(0,ImportData!$B$8*A80,0)","v":"2022-05-12T04:00:00"},0,0,0,0,0,0,0,0,0,0,0,0,0,0,0,0,0,0,0,0,0,0,0,0,0,0,0,0,0,0,0,0,0,0,0,"-",{"$f":"IFERROR(ROUND(PERCENTILE(_xlfn._xlws.FILTER(Data_Table[Speed],(Data_Table[Direction]=ImportData!Direction_1)*(Data_Table[Period]=$B80)*(SUM(C80:N80)>=10)),0.85),2),\"-\")","v":"-"}]
[77,{"$f":"ImportData!$B$10+7*QUOTIENT(A81,24*60*7/ImportData!$B$8)+MOD(1+QUOTIENT(A81,24*60/ImportData!$B$8)-ImportData!$E$10,7)+TIME(0,ImportData!$B$8*A81,0)","v":"2022-05-12T05:00:00"},0,0,0,0,0,0,0,0,0,0,0,0,0,0,0,0,0,0,0,0,0,0,0,0,0,0,0,0,0,0,0,0,0,0,0,"-",{"$f":"IFERROR(ROUND(PERCENTILE(_xlfn._xlws.FILTER(Data_Table[Speed],(Data_Table[Direction]=ImportData!Direction_1)*(Data_Table[Period]=$B81)*(SUM(C81:N81)>=10)),0.85),2),\"-\")","v":"-"}]
[78,{"$f":"ImportData!$B$10+7*QUOTIENT(A82,24*60*7/ImportData!$B$8)+MOD(1+QUOTIENT(A82,24*60/ImportData!$B$8)-ImportData!$E$10,7)+TIME(0,ImportData!$B$8*A82,0)","v":"2022-05-12T06:00:00"},0,0,0,0,0,0,0,0,0,0,0,0,0,0,0,0,0,0,0,0,0,0,0,0,0,0,0,0,0,0,0,0,0,0,0,"-",{"$f":"IFERROR(ROUND(PERCENTILE(_xlfn._xlws.FILTER(Data_Table[Speed],(Data_Table[Direction]=ImportData!Direction_1)*(Data_Table[Period]=$B82)*(SUM(C82:N82)>=10)),0.85),2),\"-\")","v":"-"}]
[79,{"$f":"ImportData!$B$10+7*QUOTIENT(A83,24*60*7/ImportData!$B$8)+MOD(1+QUOTIENT(A83,24*60/ImportData!$B$8)-ImportData!$E$10,7)+TIME(0,ImportData!$B$8*A83,0)","v":"2022-05-12T07:00:00"},0,0,0,0,0,0,0,0,0,0,0,0,0,0,0,0,0,0,0,0,0,0,0,0,0,0,0,0,0,0,0,0,0,0,0,"-",{"$f":"IFERROR(ROUND(PERCENTILE(_xlfn._xlws.FILTER(Data_Table[Speed],(Data_Table[Direction]=ImportData!Direction_1)*(Data_Table[Period]=$B83)*(SUM(C83:N83)>=10)),0.85),2),\"-\")","v":"-"}]
[80,{"$f":"ImportData!$B$10+7*QUOTIENT(A84,24*60*7/ImportData!$B$8)+MOD(1+QUOTIENT(A84,24*60/ImportData!$B$8)-ImportData!$E$10,7)+TIME(0,ImportData!$B$8*A84,0)","v":"2022-05-12T08:00:00"},0,0,0,0,0,0,0,0,0,0,0,0,0,0,0,0,0,0,0,0,0,0,0,0,0,0,0,0,0,0,0,0,0,0,0,"-",{"$f":"IFERROR(ROUND(PERCENTILE(_xlfn._xlws.FILTER(Data_Table[Speed],(Data_Table[Direction]=ImportData!Direction_1)*(Data_Table[Period]=$B84)*(SUM(C84:N84)>=10)),0.85),2),\"-\")","v":"-"}]
[81,{"$f":"ImportData!$B$10+7*QUOTIENT(A85,24*60*7/ImportData!$B$8)+MOD(1+QUOTIENT(A85,24*60/ImportData!$B$8)-ImportData!$E$10,7)+TIME(0,ImportData!$B$8*A85,0)","v":"2022-05-12T09:00:00"},0,0,0,0,0,0,0,0,0,0,0,0,0,0,0,0,0,0,0,0,0,0,0,0,0,0,0,0,0,0,0,0,0,0,0,"-",{"$f":"IFERROR(ROUND(PERCENTILE(_xlfn._xlws.FILTER(Data_Table[Speed],(Data_Table[Direction]=ImportData!Direction_1)*(Data_Table[Period]=$B85)*(SUM(C85:N85)>=10)),0.85),2),\"-\")","v":"-"}]
[82,{"$f":"ImportData!$B$10+7*QUOTIENT(A86,24*60*7/ImportData!$B$8)+MOD(1+QUOTIENT(A86,24*60/ImportData!$B$8)-ImportData!$E$10,7)+TIME(0,ImportData!$B$8*A86,0)","v":"2022-05-12T10:00:00"},0,0,0,0,0,0,0,0,0,0,0,0,0,0,0,0,0,0,0,0,0,0,0,0,0,0,0,0,0,0,0,0,0,0,0,"-",{"$f":"IFERROR(ROUND(PERCENTILE(_xlfn._xlws.FILTER(Data_Table[Speed],(Data_Table[Direction]=ImportData!Direction_1)*(Data_Table[Period]=$B86)*(SUM(C86:N86)>=10)),0.85),2),\"-\")","v":"-"}]
[83,{"$f":"ImportData!$B$10+7*QUOTIENT(A87,24*60*7/ImportData!$B$8)+MOD(1+QUOTIENT(A87,24*60/ImportData!$B$8)-ImportData!$E$10,7)+TIME(0,ImportData!$B$8*A87,0)","v":"2022-05-12T11:00:00"},0,0,0,0,0,0,0,0,0,0,0,0,0,0,0,0,0,0,0,0,0,0,0,0,0,0,0,0,0,0,0,0,0,0,0,"-",{"$f":"IFERROR(ROUND(PERCENTILE(_xlfn._xlws.FILTER(Data_Table[Speed],(Data_Table[Direction]=ImportData!Direction_1)*(Data_Table[Period]=$B87)*(SUM(C87:N87)>=10)),0.85),2),\"-\")","v":"-"}]
[84,{"$f":"ImportData!$B$10+7*QUOTIENT(A88,24*60*7/ImportData!$B$8)+MOD(1+QUOTIENT(A88,24*60/ImportData!$B$8)-ImportData!$E$10,7)+TIME(0,ImportData!$B$8*A88,0)","v":"2022-05-12T12:00:00"},0,0,0,0,0,0,0,0,0,0,0,0,0,0,0,0,0,0,0,0,0,0,0,0,0,0,0,0,0,0,0,0,0,0,0,"-",{"$f":"IFERROR(ROUND(PERCENTILE(_xlfn._xlws.FILTER(Data_Table[Speed],(Data_Table[Direction]=ImportData!Direction_1)*(Data_Table[Period]=$B88)*(SUM(C88:N88)>=10)),0.85),2),\"-\")","v":"-"}]
[85,{"$f":"ImportData!$B$10+7*QUOTIENT(A89,24*60*7/ImportData!$B$8)+MOD(1+QUOTIENT(A89,24*60/ImportData!$B$8)-ImportData!$E$10,7)+TIME(0,ImportData!$B$8*A89,0)","v":"2022-05-12T13:00:00"},0,0,0,0,0,0,0,0,0,0,0,0,0,0,0,0,0,0,0,0,0,0,0,0,0,0,0,0,0,0,0,0,0,0,0,"-",{"$f":"IFERROR(ROUND(PERCENTILE(_xlfn._xlws.FILTER(Data_Table[Speed],(Data_Table[Direction]=ImportData!Direction_1)*(Data_Table[Period]=$B89)*(SUM(C89:N89)>=10)),0.85),2),\"-\")","v":"-"}]
[86,{"$f":"ImportData!$B$10+7*QUOTIENT(A90,24*60*7/ImportData!$B$8)+MOD(1+QUOTIENT(A90,24*60/ImportData!$B$8)-ImportData!$E$10,7)+TIME(0,ImportData!$B$8*A90,0)","v":"2022-05-12T14:00:00"},0,0,0,0,0,0,0,0,0,0,0,0,0,0,0,0,0,0,0,0,0,0,0,0,0,0,0,0,0,0,0,0,0,0,0,"-",{"$f":"IFERROR(ROUND(PERCENTILE(_xlfn._xlws.FILTER(Data_Table[Speed],(Data_Table[Direction]=ImportData!Direction_1)*(Data_Table[Period]=$B90)*(SUM(C90:N90)>=10)),0.85),2),\"-\")","v":"-"}]
[87,{"$f":"ImportData!$B$10+7*QUOTIENT(A91,24*60*7/ImportData!$B$8)+MOD(1+QUOTIENT(A91,24*60/ImportData!$B$8)-ImportData!$E$10,7)+TIME(0,ImportData!$B$8*A91,0)","v":"2022-05-12T15:00:00"},0,0,0,0,0,0,0,0,0,0,0,0,0,0,0,0,0,0,0,0,0,0,0,0,0,0,0,0,0,0,0,0,0,0,0,"-",{"$f":"IFERROR(ROUND(PERCENTILE(_xlfn._xlws.FILTER(Data_Table[Speed],(Data_Table[Direction]=ImportData!Direction_1)*(Data_Table[Period]=$B91)*(SUM(C91:N91)>=10)),0.85),2),\"-\")","v":"-"}]
[88,{"$f":"ImportData!$B$10+7*QUOTIENT(A92,24*60*7/ImportData!$B$8)+MOD(1+QUOTIENT(A92,24*60/ImportData!$B$8)-ImportData!$E$10,7)+TIME(0,ImportData!$B$8*A92,0)","v":"2022-05-12T16:00:00"},0,0,0,0,0,0,0,0,0,0,0,0,0,0,0,0,0,0,0,0,0,0,0,0,0,0,0,0,0,0,0,0,0,0,0,"-",{"$f":"IFERROR(ROUND(PERCENTILE(_xlfn._xlws.FILTER(Data_Table[Speed],(Data_Table[Direction]=ImportData!Direction_1)*(Data_Table[Period]=$B92)*(SUM(C92:N92)>=10)),0.85),2),\"-\")","v":"-"}]
[89,{"$f":"ImportData!$B$10+7*QUOTIENT(A93,24*60*7/ImportData!$B$8)+MOD(1+QUOTIENT(A93,24*60/ImportData!$B$8)-ImportData!$E$10,7)+TIME(0,ImportData!$B$8*A93,0)","v":"2022-05-12T17:00:00"},0,0,0,0,0,0,0,0,0,0,0,0,0,0,0,0,0,0,0,0,0,0,0,0,0,0,0,0,0,0,0,0,0,0,0,"-",{"$f":"IFERROR(ROUND(PERCENTILE(_xlfn._xlws.FILTER(Data_Table[Speed],(Data_Table[Direction]=ImportData!Direction_1)*(Data_Table[Period]=$B93)*(SUM(C93:N93)>=10)),0.85),2),\"-\")","v":"-"}]
[90,{"$f":"ImportData!$B$10+7*QUOTIENT(A94,24*60*7/ImportData!$B$8)+MOD(1+QUOTIENT(A94,24*60/ImportData!$B$8)-ImportData!$E$10,7)+TIME(0,ImportData!$B$8*A94,0)","v":"2022-05-12T18:00:00"},0,0,0,0,0,0,0,0,0,0,0,0,0,0,0,0,0,0,0,0,0,0,0,0,0,0,0,0,0,0,0,0,0,0,0,"-",{"$f":"IFERROR(ROUND(PERCENTILE(_xlfn._xlws.FILTER(Data_Table[Speed],(Data_Table[Direction]=ImportData!Direction_1)*(Data_Table[Period]=$B94)*(SUM(C94:N94)>=10)),0.85),2),\"-\")","v":"-"}]
[91,{"$f":"ImportData!$B$10+7*QUOTIENT(A95,24*60*7/ImportData!$B$8)+MOD(1+QUOTIENT(A95,24*60/ImportData!$B$8)-ImportData!$E$10,7)+TIME(0,ImportData!$B$8*A95,0)","v":"2022-05-12T19:00:00"},0,0,0,0,0,0,0,0,0,0,0,0,0,0,0,0,0,0,0,0,0,0,0,0,0,0,0,0,0,0,0,0,0,0,0,"-",{"$f":"IFERROR(ROUND(PERCENTILE(_xlfn._xlws.FILTER(Data_Table[Speed],(Data_Table[Direction]=ImportData!Direction_1)*(Data_Table[Period]=$B95)*(SUM(C95:N95)>=10)),0.85),2),\"-\")","v":"-"}]
[92,{"$f":"ImportData!$B$10+7*QUOTIENT(A96,24*60*7/ImportData!$B$8)+MOD(1+QUOTIENT(A96,24*60/ImportData!$B$8)-ImportData!$E$10,7)+TIME(0,ImportData!$B$8*A96,0)","v":"2022-05-12T20:00:00"},0,0,0,0,0,0,0,0,0,0,0,0,0,0,0,0,0,0,0,0,0,0,0,0,0,0,0,0,0,0,0,0,0,0,0,"-",{"$f":"IFERROR(ROUND(PERCENTILE(_xlfn._xlws.FILTER(Data_Table[Speed],(Data_Table[Direction]=ImportData!Direction_1)*(Data_Table[Period]=$B96)*(SUM(C96:N96)>=10)),0.85),2),\"-\")","v":"-"}]
[93,{"$f":"ImportData!$B$10+7*QUOTIENT(A97,24*60*7/ImportData!$B$8)+MOD(1+QUOTIENT(A97,24*60/ImportData!$B$8)-ImportData!$E$10,7)+TIME(0,ImportData!$B$8*A97,0)","v":"2022-05-12T21:00:00"},0,0,0,0,0,0,0,0,0,0,0,0,0,0,0,0,0,0,0,0,0,0,0,0,0,0,0,0,0,0,0,0,0,0,0,"-",{"$f":"IFERROR(ROUND(PERCENTILE(_xlfn._xlws.FILTER(Data_Table[Speed],(Data_Table[Direction]=ImportData!Direction_1)*(Data_Table[Period]=$B97)*(SUM(C97:N97)>=10)),0.85),2),\"-\")","v":"-"}]
[94,{"$f":"ImportData!$B$10+7*QUOTIENT(A98,24*60*7/ImportData!$B$8)+MOD(1+QUOTIENT(A98,24*60/ImportData!$B$8)-ImportData!$E$10,7)+TIME(0,ImportData!$B$8*A98,0)","v":"2022-05-12T22:00:00"},0,0,0,0,0,0,0,0,0,0,0,0,0,0,0,0,0,0,0,0,0,0,0,0,0,0,0,0,0,0,0,0,0,0,0,"-",{"$f":"IFERROR(ROUND(PERCENTILE(_xlfn._xlws.FILTER(Data_Table[Speed],(Data_Table[Direction]=ImportData!Direction_1)*(Data_Table[Period]=$B98)*(SUM(C98:N98)>=10)),0.85),2),\"-\")","v":"-"}]
[95,{"$f":"ImportData!$B$10+7*QUOTIENT(A99,24*60*7/ImportData!$B$8)+MOD(1+QUOTIENT(A99,24*60/ImportData!$B$8)-ImportData!$E$10,7)+TIME(0,ImportData!$B$8*A99,0)","v":"2022-05-12T23:00:00"},0,0,0,0,0,0,0,0,0,0,0,0,0,0,0,0,0,0,0,0,0,0,0,0,0,0,0,0,0,0,0,0,0,0,0,"-",{"$f":"IFERROR(ROUND(PERCENTILE(_xlfn._xlws.FILTER(Data_Table[Speed],(Data_Table[Direction]=ImportData!Direction_1)*(Data_Table[Period]=$B99)*(SUM(C99:N99)>=10)),0.85),2),\"-\")","v":"-"}]
[96,{"$f":"ImportData!$B$10+7*QUOTIENT(A100,24*60*7/ImportData!$B$8)+MOD(1+QUOTIENT(A100,24*60/ImportData!$B$8)-ImportData!$E$10,7)+TIME(0,ImportData!$B$8*A100,0)","v":"2022-05-13"},0,0,0,0,0,0,0,0,0,0,0,0,0,0,0,0,0,0,0,0,0,0,0,0,0,0,0,0,0,0,0,0,0,0,0,"-",{"$f":"IFERROR(ROUND(PERCENTILE(_xlfn._xlws.FILTER(Data_Table[Speed],(Data_Table[Direction]=ImportData!Direction_1)*(Data_Table[Period]=$B100)*(SUM(C100:N100)>=10)),0.85),2),\"-\")","v":"-"}]
[97,{"$f":"ImportData!$B$10+7*QUOTIENT(A101,24*60*7/ImportData!$B$8)+MOD(1+QUOTIENT(A101,24*60/ImportData!$B$8)-ImportData!$E$10,7)+TIME(0,ImportData!$B$8*A101,0)","v":"2022-05-13T01:00:00"},0,0,0,0,0,0,0,0,0,0,0,0,0,0,0,0,0,0,0,0,0,0,0,0,0,0,0,0,0,0,0,0,0,0,0,"-",{"$f":"IFERROR(ROUND(PERCENTILE(_xlfn._xlws.FILTER(Data_Table[Speed],(Data_Table[Direction]=ImportData!Direction_1)*(Data_Table[Period]=$B101)*(SUM(C101:N101)>=10)),0.85),2),\"-\")","v":"-"}]
[98,{"$f":"ImportData!$B$10+7*QUOTIENT(A102,24*60*7/ImportData!$B$8)+MOD(1+QUOTIENT(A102,24*60/ImportData!$B$8)-ImportData!$E$10,7)+TIME(0,ImportData!$B$8*A102,0)","v":"2022-05-13T02:00:00"},0,0,0,0,0,0,0,0,0,0,0,0,0,0,0,0,0,0,0,0,0,0,0,0,0,0,0,0,0,0,0,0,0,0,0,"-",{"$f":"IFERROR(ROUND(PERCENTILE(_xlfn._xlws.FILTER(Data_Table[Speed],(Data_Table[Direction]=ImportData!Direction_1)*(Data_Table[Period]=$B102)*(SUM(C102:N102)>=10)),0.85),2),\"-\")","v":"-"}]
[99,{"$f":"ImportData!$B$10+7*QUOTIENT(A103,24*60*7/ImportData!$B$8)+MOD(1+QUOTIENT(A103,24*60/ImportData!$B$8)-ImportData!$E$10,7)+TIME(0,ImportData!$B$8*A103,0)","v":"2022-05-13T03:00:00"},0,0,0,0,0,0,0,0,0,0,0,0,0,0,0,0,0,0,0,0,0,0,0,0,0,0,0,0,0,0,0,0,0,0,0,"-",{"$f":"IFERROR(ROUND(PERCENTILE(_xlfn._xlws.FILTER(Data_Table[Speed],(Data_Table[Direction]=ImportData!Direction_1)*(Data_Table[Period]=$B103)*(SUM(C103:N103)>=10)),0.85),2),\"-\")","v":"-"}]
[100,{"$f":"ImportData!$B$10+7*QUOTIENT(A104,24*60*7/ImportData!$B$8)+MOD(1+QUOTIENT(A104,24*60/ImportData!$B$8)-ImportData!$E$10,7)+TIME(0,ImportData!$B$8*A104,0)","v":"2022-05-13T04:00:00"},0,0,0,0,0,0,0,0,0,0,0,0,0,0,0,0,0,0,0,0,0,0,0,0,0,0,0,0,0,0,0,0,0,0,0,"-",{"$f":"IFERROR(ROUND(PERCENTILE(_xlfn._xlws.FILTER(Data_Table[Speed],(Data_Table[Direction]=ImportData!Direction_1)*(Data_Table[Period]=$B104)*(SUM(C104:N104)>=10)),0.85),2),\"-\")","v":"-"}]
[101,{"$f":"ImportData!$B$10+7*QUOTIENT(A105,24*60*7/ImportData!$B$8)+MOD(1+QUOTIENT(A105,24*60/ImportData!$B$8)-ImportData!$E$10,7)+TIME(0,ImportData!$B$8*A105,0)","v":"2022-05-13T05:00:00"},0,0,0,0,0,0,0,0,0,0,0,0,0,0,0,0,0,0,0,0,0,0,0,0,0,0,0,0,0,0,0,0,0,0,0,"-",{"$f":"IFERROR(ROUND(PERCENTILE(_xlfn._xlws.FILTER(Data_Table[Speed],(Data_Table[Direction]=ImportData!Direction_1)*(Data_Table[Period]=$B105)*(SUM(C105:N105)>=10)),0.85),2),\"-\")","v":"-"}]
[102,{"$f":"ImportData!$B$10+7*QUOTIENT(A106,24*60*7/ImportData!$B$8)+MOD(1+QUOTIENT(A106,24*60/ImportData!$B$8)-ImportData!$E$10,7)+TIME(0,ImportData!$B$8*A106,0)","v":"2022-05-13T06:00:00"},0,0,0,0,0,0,0,0,0,0,0,0,0,0,0,0,0,0,0,0,0,0,0,0,0,0,0,0,0,0,0,0,0,0,0,"-",{"$f":"IFERROR(ROUND(PERCENTILE(_xlfn._xlws.FILTER(Data_Table[Speed],(Data_Table[Direction]=ImportData!Direction_1)*(Data_Table[Period]=$B106)*(SUM(C106:N106)>=10)),0.85),2),\"-\")","v":"-"}]
[103,{"$f":"ImportData!$B$10+7*QUOTIENT(A107,24*60*7/ImportData!$B$8)+MOD(1+QUOTIENT(A107,24*60/ImportData!$B$8)-ImportData!$E$10,7)+TIME(0,ImportData!$B$8*A107,0)","v":"2022-05-13T07:00:00"},0,0,0,0,0,0,0,0,0,0,0,0,0,0,0,0,0,0,0,0,0,0,0,0,0,0,0,0,0,0,0,0,0,0,0,"-",{"$f":"IFERROR(ROUND(PERCENTILE(_xlfn._xlws.FILTER(Data_Table[Speed],(Data_Table[Direction]=ImportData!Direction_1)*(Data_Table[Period]=$B107)*(SUM(C107:N107)>=10)),0.85),2),\"-\")","v":"-"}]
[104,{"$f":"ImportData!$B$10+7*QUOTIENT(A108,24*60*7/ImportData!$B$8)+MOD(1+QUOTIENT(A108,24*60/ImportData!$B$8)-ImportData!$E$10,7)+TIME(0,ImportData!$B$8*A108,0)","v":"2022-05-13T08:00:00"},0,0,0,0,0,0,0,0,0,0,0,0,0,0,0,0,0,0,0,0,0,0,0,0,0,0,0,0,0,0,0,0,0,0,0,"-",{"$f":"IFERROR(ROUND(PERCENTILE(_xlfn._xlws.FILTER(Data_Table[Speed],(Data_Table[Direction]=ImportData!Direction_1)*(Data_Table[Period]=$B108)*(SUM(C108:N108)>=10)),0.85),2),\"-\")","v":"-"}]
[105,{"$f":"ImportData!$B$10+7*QUOTIENT(A109,24*60*7/ImportData!$B$8)+MOD(1+QUOTIENT(A109,24*60/ImportData!$B$8)-ImportData!$E$10,7)+TIME(0,ImportData!$B$8*A109,0)","v":"2022-05-13T09:00:00"},0,0,0,0,0,0,0,0,0,0,0,0,0,0,0,0,0,0,0,0,0,0,0,0,0,0,0,0,0,0,0,0,0,0,0,"-",{"$f":"IFERROR(ROUND(PERCENTILE(_xlfn._xlws.FILTER(Data_Table[Speed],(Data_Table[Direction]=ImportData!Direction_1)*(Data_Table[Period]=$B109)*(SUM(C109:N109)>=10)),0.85),2),\"-\")","v":"-"}]
[106,{"$f":"ImportData!$B$10+7*QUOTIENT(A110,24*60*7/ImportData!$B$8)+MOD(1+QUOTIENT(A110,24*60/ImportData!$B$8)-ImportData!$E$10,7)+TIME(0,ImportData!$B$8*A110,0)","v":"2022-05-13T10:00:00"},0,0,0,0,0,0,0,0,0,0,0,0,0,0,0,0,0,0,0,0,0,0,0,0,0,0,0,0,0,0,0,0,0,0,0,"-",{"$f":"IFERROR(ROUND(PERCENTILE(_xlfn._xlws.FILTER(Data_Table[Speed],(Data_Table[Direction]=ImportData!Direction_1)*(Data_Table[Period]=$B110)*(SUM(C110:N110)>=10)),0.85),2),\"-\")","v":"-"}]
[107,{"$f":"ImportData!$B$10+7*QUOTIENT(A111,24*60*7/ImportData!$B$8)+MOD(1+QUOTIENT(A111,24*60/ImportData!$B$8)-ImportData!$E$10,7)+TIME(0,ImportData!$B$8*A111,0)","v":"2022-05-13T11:00:00"},0,0,0,0,0,0,0,0,0,0,0,0,0,0,0,0,0,0,0,0,0,0,0,0,0,0,0,0,0,0,0,0,0,0,0,"-",{"$f":"IFERROR(ROUND(PERCENTILE(_xlfn._xlws.FILTER(Data_Table[Speed],(Data_Table[Direction]=ImportData!Direction_1)*(Data_Table[Period]=$B111)*(SUM(C111:N111)>=10)),0.85),2),\"-\")","v":"-"}]
[108,{"$f":"ImportData!$B$10+7*QUOTIENT(A112,24*60*7/ImportData!$B$8)+MOD(1+QUOTIENT(A112,24*60/ImportData!$B$8)-ImportData!$E$10,7)+TIME(0,ImportData!$B$8*A112,0)","v":"2022-05-13T12:00:00"},0,0,0,0,0,0,0,0,0,0,0,0,0,0,0,0,0,0,0,0,0,0,0,0,0,0,0,0,0,0,0,0,0,0,0,"-",{"$f":"IFERROR(ROUND(PERCENTILE(_xlfn._xlws.FILTER(Data_Table[Speed],(Data_Table[Direction]=ImportData!Direction_1)*(Data_Table[Period]=$B112)*(SUM(C112:N112)>=10)),0.85),2),\"-\")","v":"-"}]
[109,{"$f":"ImportData!$B$10+7*QUOTIENT(A113,24*60*7/ImportData!$B$8)+MOD(1+QUOTIENT(A113,24*60/ImportData!$B$8)-ImportData!$E$10,7)+TIME(0,ImportData!$B$8*A113,0)","v":"2022-05-13T13:00:00"},0,0,0,0,0,0,0,0,0,0,0,0,0,0,0,0,0,0,0,0,0,0,0,0,0,0,0,0,0,0,0,0,0,0,0,"-",{"$f":"IFERROR(ROUND(PERCENTILE(_xlfn._xlws.FILTER(Data_Table[Speed],(Data_Table[Direction]=ImportData!Direction_1)*(Data_Table[Period]=$B113)*(SUM(C113:N113)>=10)),0.85),2),\"-\")","v":"-"}]
[110,{"$f":"ImportData!$B$10+7*QUOTIENT(A114,24*60*7/ImportData!$B$8)+MOD(1+QUOTIENT(A114,24*60/ImportData!$B$8)-ImportData!$E$10,7)+TIME(0,ImportData!$B$8*A114,0)","v":"2022-05-13T14:00:00"},0,0,0,0,0,0,0,0,0,0,0,0,0,0,0,0,0,0,0,0,0,0,0,0,0,0,0,0,0,0,0,0,0,0,0,"-",{"$f":"IFERROR(ROUND(PERCENTILE(_xlfn._xlws.FILTER(Data_Table[Speed],(Data_Table[Direction]=ImportData!Direction_1)*(Data_Table[Period]=$B114)*(SUM(C114:N114)>=10)),0.85),2),\"-\")","v":"-"}]
[111,{"$f":"ImportData!$B$10+7*QUOTIENT(A115,24*60*7/ImportData!$B$8)+MOD(1+QUOTIENT(A115,24*60/ImportData!$B$8)-ImportData!$E$10,7)+TIME(0,ImportData!$B$8*A115,0)","v":"2022-05-13T15:00:00"},0,0,0,0,0,0,0,0,0,0,0,0,0,0,0,0,0,0,0,0,0,0,0,0,0,0,0,0,0,0,0,0,0,0,0,"-",{"$f":"IFERROR(ROUND(PERCENTILE(_xlfn._xlws.FILTER(Data_Table[Speed],(Data_Table[Direction]=ImportData!Direction_1)*(Data_Table[Period]=$B115)*(SUM(C115:N115)>=10)),0.85),2),\"-\")","v":"-"}]
[112,{"$f":"ImportData!$B$10+7*QUOTIENT(A116,24*60*7/ImportData!$B$8)+MOD(1+QUOTIENT(A116,24*60/ImportData!$B$8)-ImportData!$E$10,7)+TIME(0,ImportData!$B$8*A116,0)","v":"2022-05-13T16:00:00"},0,0,0,0,0,0,0,0,0,0,0,0,0,0,0,0,0,0,0,0,0,0,0,0,0,0,0,0,0,0,0,0,0,0,0,"-",{"$f":"IFERROR(ROUND(PERCENTILE(_xlfn._xlws.FILTER(Data_Table[Speed],(Data_Table[Direction]=ImportData!Direction_1)*(Data_Table[Period]=$B116)*(SUM(C116:N116)>=10)),0.85),2),\"-\")","v":"-"}]
[113,{"$f":"ImportData!$B$10+7*QUOTIENT(A117,24*60*7/ImportData!$B$8)+MOD(1+QUOTIENT(A117,24*60/ImportData!$B$8)-ImportData!$E$10,7)+TIME(0,ImportData!$B$8*A117,0)","v":"2022-05-13T17:00:00"},0,0,0,0,0,0,0,0,0,0,0,0,0,0,0,0,0,0,0,0,0,0,0,0,0,0,0,0,0,0,0,0,0,0,0,"-",{"$f":"IFERROR(ROUND(PERCENTILE(_xlfn._xlws.FILTER(Data_Table[Speed],(Data_Table[Direction]=ImportData!Direction_1)*(Data_Table[Period]=$B117)*(SUM(C117:N117)>=10)),0.85),2),\"-\")","v":"-"}]
[114,{"$f":"ImportData!$B$10+7*QUOTIENT(A118,24*60*7/ImportData!$B$8)+MOD(1+QUOTIENT(A118,24*60/ImportData!$B$8)-ImportData!$E$10,7)+TIME(0,ImportData!$B$8*A118,0)","v":"2022-05-13T18:00:00"},0,0,0,0,0,0,0,0,0,0,0,0,0,0,0,0,0,0,0,0,0,0,0,0,0,0,0,0,0,0,0,0,0,0,0,"-",{"$f":"IFERROR(ROUND(PERCENTILE(_xlfn._xlws.FILTER(Data_Table[Speed],(Data_Table[Direction]=ImportData!Direction_1)*(Data_Table[Period]=$B118)*(SUM(C118:N118)>=10)),0.85),2),\"-\")","v":"-"}]
[115,{"$f":"ImportData!$B$10+7*QUOTIENT(A119,24*60*7/ImportData!$B$8)+MOD(1+QUOTIENT(A119,24*60/ImportData!$B$8)-ImportData!$E$10,7)+TIME(0,ImportData!$B$8*A119,0)","v":"2022-05-13T19:00:00"},0,0,0,0,0,0,0,0,0,0,0,0,0,0,0,0,0,0,0,0,0,0,0,0,0,0,0,0,0,0,0,0,0,0,0,"-",{"$f":"IFERROR(ROUND(PERCENTILE(_xlfn._xlws.FILTER(Data_Table[Speed],(Data_Table[Direction]=ImportData!Direction_1)*(Data_Table[Period]=$B119)*(SUM(C119:N119)>=10)),0.85),2),\"-\")","v":"-"}]
[116,{"$f":"ImportData!$B$10+7*QUOTIENT(A120,24*60*7/ImportData!$B$8)+MOD(1+QUOTIENT(A120,24*60/ImportData!$B$8)-ImportData!$E$10,7)+TIME(0,ImportData!$B$8*A120,0)","v":"2022-05-13T20:00:00"},0,0,0,0,0,0,0,0,0,0,0,0,0,0,0,0,0,0,0,0,0,0,0,0,0,0,0,0,0,0,0,0,0,0,0,"-",{"$f":"IFERROR(ROUND(PERCENTILE(_xlfn._xlws.FILTER(Data_Table[Speed],(Data_Table[Direction]=ImportData!Direction_1)*(Data_Table[Period]=$B120)*(SUM(C120:N120)>=10)),0.85),2),\"-\")","v":"-"}]
[117,{"$f":"ImportData!$B$10+7*QUOTIENT(A121,24*60*7/ImportData!$B$8)+MOD(1+QUOTIENT(A121,24*60/ImportData!$B$8)-ImportData!$E$10,7)+TIME(0,ImportData!$B$8*A121,0)","v":"2022-05-13T21:00:00"},0,0,0,0,0,0,0,0,0,0,0,0,0,0,0,0,0,0,0,0,0,0,0,0,0,0,0,0,0,0,0,0,0,0,0,"-",{"$f":"IFERROR(ROUND(PERCENTILE(_xlfn._xlws.FILTER(Data_Table[Speed],(Data_Table[Direction]=ImportData!Direction_1)*(Data_Table[Period]=$B121)*(SUM(C121:N121)>=10)),0.85),2),\"-\")","v":"-"}]
[118,{"$f":"ImportData!$B$10+7*QUOTIENT(A122,24*60*7/ImportData!$B$8)+MOD(1+QUOTIENT(A122,24*60/ImportData!$B$8)-ImportData!$E$10,7)+TIME(0,ImportData!$B$8*A122,0)","v":"2022-05-13T22:00:00"},0,0,0,0,0,0,0,0,0,0,0,0,0,0,0,0,0,0,0,0,0,0,0,0,0,0,0,0,0,0,0,0,0,0,0,"-",{"$f":"IFERROR(ROUND(PERCENTILE(_xlfn._xlws.FILTER(Data_Table[Speed],(Data_Table[Direction]=ImportData!Direction_1)*(Data_Table[Period]=$B122)*(SUM(C122:N122)>=10)),0.85),2),\"-\")","v":"-"}]
[119,{"$f":"ImportData!$B$10+7*QUOTIENT(A123,24*60*7/ImportData!$B$8)+MOD(1+QUOTIENT(A123,24*60/ImportData!$B$8)-ImportData!$E$10,7)+TIME(0,ImportData!$B$8*A123,0)","v":"2022-05-13T23:00:00"},0,0,0,0,0,0,0,0,0,0,0,0,0,0,0,0,0,0,0,0,0,0,0,0,0,0,0,0,0,0,0,0,0,0,0,"-",{"$f":"IFERROR(ROUND(PERCENTILE(_xlfn._xlws.FILTER(Data_Table[Speed],(Data_Table[Direction]=ImportData!Direction_1)*(Data_Table[Period]=$B123)*(SUM(C123:N123)>=10)),0.85),2),\"-\")","v":"-"}]
[120,{"$f":"ImportData!$B$10+7*QUOTIENT(A124,24*60*7/ImportData!$B$8)+MOD(1+QUOTIENT(A124,24*60/ImportData!$B$8)-ImportData!$E$10,7)+TIME(0,ImportData!$B$8*A124,0)","v":"2022-05-14"},0,0,0,0,0,0,0,0,0,0,0,0,0,0,0,0,0,0,0,0,0,0,0,0,0,0,0,0,0,0,0,0,0,0,0,"-",{"$f":"IFERROR(ROUND(PERCENTILE(_xlfn._xlws.FILTER(Data_Table[Speed],(Data_Table[Direction]=ImportData!Direction_1)*(Data_Table[Period]=$B124)*(SUM(C124:N124)>=10)),0.85),2),\"-\")","v":"-"}]
[121,{"$f":"ImportData!$B$10+7*QUOTIENT(A125,24*60*7/ImportData!$B$8)+MOD(1+QUOTIENT(A125,24*60/ImportData!$B$8)-ImportData!$E$10,7)+TIME(0,ImportData!$B$8*A125,0)","v":"2022-05-14T01:00:00"},0,0,0,0,0,0,0,0,0,0,0,0,0,0,0,0,0,0,0,0,0,0,0,0,0,0,0,0,0,0,0,0,0,0,0,"-",{"$f":"IFERROR(ROUND(PERCENTILE(_xlfn._xlws.FILTER(Data_Table[Speed],(Data_Table[Direction]=ImportData!Direction_1)*(Data_Table[Period]=$B125)*(SUM(C125:N125)>=10)),0.85),2),\"-\")","v":"-"}]
[122,{"$f":"ImportData!$B$10+7*QUOTIENT(A126,24*60*7/ImportData!$B$8)+MOD(1+QUOTIENT(A126,24*60/ImportData!$B$8)-ImportData!$E$10,7)+TIME(0,ImportData!$B$8*A126,0)","v":"2022-05-14T02:00:00"},0,0,0,0,0,0,0,0,0,0,0,0,0,0,0,0,0,0,0,0,0,0,0,0,0,0,0,0,0,0,0,0,0,0,0,"-",{"$f":"IFERROR(ROUND(PERCENTILE(_xlfn._xlws.FILTER(Data_Table[Speed],(Data_Table[Direction]=ImportData!Direction_1)*(Data_Table[Period]=$B126)*(SUM(C126:N126)>=10)),0.85),2),\"-\")","v":"-"}]
[123,{"$f":"ImportData!$B$10+7*QUOTIENT(A127,24*60*7/ImportData!$B$8)+MOD(1+QUOTIENT(A127,24*60/ImportData!$B$8)-ImportData!$E$10,7)+TIME(0,ImportData!$B$8*A127,0)","v":"2022-05-14T03:00:00"},0,0,0,0,0,0,0,0,0,0,0,0,0,0,0,0,0,0,0,0,0,0,0,0,0,0,0,0,0,0,0,0,0,0,0,"-",{"$f":"IFERROR(ROUND(PERCENTILE(_xlfn._xlws.FILTER(Data_Table[Speed],(Data_Table[Direction]=ImportData!Direction_1)*(Data_Table[Period]=$B127)*(SUM(C127:N127)>=10)),0.85),2),\"-\")","v":"-"}]
[124,{"$f":"ImportData!$B$10+7*QUOTIENT(A128,24*60*7/ImportData!$B$8)+MOD(1+QUOTIENT(A128,24*60/ImportData!$B$8)-ImportData!$E$10,7)+TIME(0,ImportData!$B$8*A128,0)","v":"2022-05-14T04:00:00"},0,0,0,0,0,0,0,0,0,0,0,0,0,0,0,0,0,0,0,0,0,0,0,0,0,0,0,0,0,0,0,0,0,0,0,"-",{"$f":"IFERROR(ROUND(PERCENTILE(_xlfn._xlws.FILTER(Data_Table[Speed],(Data_Table[Direction]=ImportData!Direction_1)*(Data_Table[Period]=$B128)*(SUM(C128:N128)>=10)),0.85),2),\"-\")","v":"-"}]
[125,{"$f":"ImportData!$B$10+7*QUOTIENT(A129,24*60*7/ImportData!$B$8)+MOD(1+QUOTIENT(A129,24*60/ImportData!$B$8)-ImportData!$E$10,7)+TIME(0,ImportData!$B$8*A129,0)","v":"2022-05-14T05:00:00"},0,0,0,0,0,0,0,0,0,0,0,0,0,0,0,0,0,0,0,0,0,0,0,0,0,0,0,0,0,0,0,0,0,0,0,"-",{"$f":"IFERROR(ROUND(PERCENTILE(_xlfn._xlws.FILTER(Data_Table[Speed],(Data_Table[Direction]=ImportData!Direction_1)*(Data_Table[Period]=$B129)*(SUM(C129:N129)>=10)),0.85),2),\"-\")","v":"-"}]
[126,{"$f":"ImportData!$B$10+7*QUOTIENT(A130,24*60*7/ImportData!$B$8)+MOD(1+QUOTIENT(A130,24*60/ImportData!$B$8)-ImportData!$E$10,7)+TIME(0,ImportData!$B$8*A130,0)","v":"2022-05-14T06:00:00"},0,0,0,0,0,0,0,0,0,0,0,0,0,0,0,0,0,0,0,0,0,0,0,0,0,0,0,0,0,0,0,0,0,0,0,"-",{"$f":"IFERROR(ROUND(PERCENTILE(_xlfn._xlws.FILTER(Data_Table[Speed],(Data_Table[Direction]=ImportData!Direction_1)*(Data_Table[Period]=$B130)*(SUM(C130:N130)>=10)),0.85),2),\"-\")","v":"-"}]
[127,{"$f":"ImportData!$B$10+7*QUOTIENT(A131,24*60*7/ImportData!$B$8)+MOD(1+QUOTIENT(A131,24*60/ImportData!$B$8)-ImportData!$E$10,7)+TIME(0,ImportData!$B$8*A131,0)","v":"2022-05-14T07:00:00"},0,0,0,0,0,0,0,0,0,0,0,0,0,0,0,0,0,0,0,0,0,0,0,0,0,0,0,0,0,0,0,0,0,0,0,"-",{"$f":"IFERROR(ROUND(PERCENTILE(_xlfn._xlws.FILTER(Data_Table[Speed],(Data_Table[Direction]=ImportData!Direction_1)*(Data_Table[Period]=$B131)*(SUM(C131:N131)>=10)),0.85),2),\"-\")","v":"-"}]
[128,{"$f":"ImportData!$B$10+7*QUOTIENT(A132,24*60*7/ImportData!$B$8)+MOD(1+QUOTIENT(A132,24*60/ImportData!$B$8)-ImportData!$E$10,7)+TIME(0,ImportData!$B$8*A132,0)","v":"2022-05-14T08:00:00"},0,0,0,0,0,0,0,0,0,0,0,0,0,0,0,0,0,0,0,0,0,0,0,0,0,0,0,0,0,0,0,0,0,0,0,"-",{"$f":"IFERROR(ROUND(PERCENTILE(_xlfn._xlws.FILTER(Data_Table[Speed],(Data_Table[Direction]=ImportData!Direction_1)*(Data_Table[Period]=$B132)*(SUM(C132:N132)>=10)),0.85),2),\"-\")","v":"-"}]
[129,{"$f":"ImportData!$B$10+7*QUOTIENT(A133,24*60*7/ImportData!$B$8)+MOD(1+QUOTIENT(A133,24*60/ImportData!$B$8)-ImportData!$E$10,7)+TIME(0,ImportData!$B$8*A133,0)","v":"2022-05-14T09:00:00"},0,0,0,0,0,0,0,0,0,0,0,0,0,0,0,0,0,0,0,0,0,0,0,0,0,0,0,0,0,0,0,0,0,0,0,"-",{"$f":"IFERROR(ROUND(PERCENTILE(_xlfn._xlws.FILTER(Data_Table[Speed],(Data_Table[Direction]=ImportData!Direction_1)*(Data_Table[Period]=$B133)*(SUM(C133:N133)>=10)),0.85),2),\"-\")","v":"-"}]
[130,{"$f":"ImportData!$B$10+7*QUOTIENT(A134,24*60*7/ImportData!$B$8)+MOD(1+QUOTIENT(A134,24*60/ImportData!$B$8)-ImportData!$E$10,7)+TIME(0,ImportData!$B$8*A134,0)","v":"2022-05-14T10:00:00"},0,0,0,0,0,0,0,0,0,0,0,0,0,0,0,0,0,0,0,0,0,0,0,0,0,0,0,0,0,0,0,0,0,0,0,"-",{"$f":"IFERROR(ROUND(PERCENTILE(_xlfn._xlws.FILTER(Data_Table[Speed],(Data_Table[Direction]=ImportData!Direction_1)*(Data_Table[Period]=$B134)*(SUM(C134:N134)>=10)),0.85),2),\"-\")","v":"-"}]
[131,{"$f":"ImportData!$B$10+7*QUOTIENT(A135,24*60*7/ImportData!$B$8)+MOD(1+QUOTIENT(A135,24*60/ImportData!$B$8)-ImportData!$E$10,7)+TIME(0,ImportData!$B$8*A135,0)","v":"2022-05-14T11:00:00"},0,0,0,0,0,0,0,0,0,0,0,0,0,0,0,0,0,0,0,0,0,0,0,0,0,0,0,0,0,0,0,0,0,0,0,"-",{"$f":"IFERROR(ROUND(PERCENTILE(_xlfn._xlws.FILTER(Data_Table[Speed],(Data_Table[Direction]=ImportData!Direction_1)*(Data_Table[Period]=$B135)*(SUM(C135:N135)>=10)),0.85),2),\"-\")","v":"-"}]
[132,{"$f":"ImportData!$B$10+7*QUOTIENT(A136,24*60*7/ImportData!$B$8)+MOD(1+QUOTIENT(A136,24*60/ImportData!$B$8)-ImportData!$E$10,7)+TIME(0,ImportData!$B$8*A136,0)","v":"2022-05-14T12:00:00"},0,0,0,0,0,0,0,0,0,0,0,0,0,0,0,0,0,0,0,0,0,0,0,0,0,0,0,0,0,0,0,0,0,0,0,"-",{"$f":"IFERROR(ROUND(PERCENTILE(_xlfn._xlws.FILTER(Data_Table[Speed],(Data_Table[Direction]=ImportData!Direction_1)*(Data_Table[Period]=$B136)*(SUM(C136:N136)>=10)),0.85),2),\"-\")","v":"-"}]
[133,{"$f":"ImportData!$B$10+7*QUOTIENT(A137,24*60*7/ImportData!$B$8)+MOD(1+QUOTIENT(A137,24*60/ImportData!$B$8)-ImportData!$E$10,7)+TIME(0,ImportData!$B$8*A137,0)","v":"2022-05-14T13:00:00"},0,0,0,0,0,0,0,0,0,0,0,0,0,0,0,0,0,0,0,0,0,0,0,0,0,0,0,0,0,0,0,0,0,0,0,"-",{"$f":"IFERROR(ROUND(PERCENTILE(_xlfn._xlws.FILTER(Data_Table[Speed],(Data_Table[Direction]=ImportData!Direction_1)*(Data_Table[Period]=$B137)*(SUM(C137:N137)>=10)),0.85),2),\"-\")","v":"-"}]
[134,{"$f":"ImportData!$B$10+7*QUOTIENT(A138,24*60*7/ImportData!$B$8)+MOD(1+QUOTIENT(A138,24*60/ImportData!$B$8)-ImportData!$E$10,7)+TIME(0,ImportData!$B$8*A138,0)","v":"2022-05-14T14:00:00"},0,0,0,0,0,0,0,0,0,0,0,0,0,0,0,0,0,0,0,0,0,0,0,0,0,0,0,0,0,0,0,0,0,0,0,"-",{"$f":"IFERROR(ROUND(PERCENTILE(_xlfn._xlws.FILTER(Data_Table[Speed],(Data_Table[Direction]=ImportData!Direction_1)*(Data_Table[Period]=$B138)*(SUM(C138:N138)>=10)),0.85),2),\"-\")","v":"-"}]
[135,{"$f":"ImportData!$B$10+7*QUOTIENT(A139,24*60*7/ImportData!$B$8)+MOD(1+QUOTIENT(A139,24*60/ImportData!$B$8)-ImportData!$E$10,7)+TIME(0,ImportData!$B$8*A139,0)","v":"2022-05-14T15:00:00"},0,0,0,0,0,0,0,0,0,0,0,0,0,0,0,0,0,0,0,0,0,0,0,0,0,0,0,0,0,0,0,0,0,0,0,"-",{"$f":"IFERROR(ROUND(PERCENTILE(_xlfn._xlws.FILTER(Data_Table[Speed],(Data_Table[Direction]=ImportData!Direction_1)*(Data_Table[Period]=$B139)*(SUM(C139:N139)>=10)),0.85),2),\"-\")","v":"-"}]
[136,{"$f":"ImportData!$B$10+7*QUOTIENT(A140,24*60*7/ImportData!$B$8)+MOD(1+QUOTIENT(A140,24*60/ImportData!$B$8)-ImportData!$E$10,7)+TIME(0,ImportData!$B$8*A140,0)","v":"2022-05-14T16:00:00"},0,0,0,0,0,0,0,0,0,0,0,0,0,0,0,0,0,0,0,0,0,0,0,0,0,0,0,0,0,0,0,0,0,0,0,"-",{"$f":"IFERROR(ROUND(PERCENTILE(_xlfn._xlws.FILTER(Data_Table[Speed],(Data_Table[Direction]=ImportData!Direction_1)*(Data_Table[Period]=$B140)*(SUM(C140:N140)>=10)),0.85),2),\"-\")","v":"-"}]
[137,{"$f":"ImportData!$B$10+7*QUOTIENT(A141,24*60*7/ImportData!$B$8)+MOD(1+QUOTIENT(A141,24*60/ImportData!$B$8)-ImportData!$E$10,7)+TIME(0,ImportData!$B$8*A141,0)","v":"2022-05-14T17:00:00"},0,0,0,0,0,0,0,0,0,0,0,0,0,0,0,0,0,0,0,0,0,0,0,0,0,0,0,0,0,0,0,0,0,0,0,"-",{"$f":"IFERROR(ROUND(PERCENTILE(_xlfn._xlws.FILTER(Data_Table[Speed],(Data_Table[Direction]=ImportData!Direction_1)*(Data_Table[Period]=$B141)*(SUM(C141:N141)>=10)),0.85),2),\"-\")","v":"-"}]
[138,{"$f":"ImportData!$B$10+7*QUOTIENT(A142,24*60*7/ImportData!$B$8)+MOD(1+QUOTIENT(A142,24*60/ImportData!$B$8)-ImportData!$E$10,7)+TIME(0,ImportData!$B$8*A142,0)","v":"2022-05-14T18:00:00"},0,0,0,0,0,0,0,0,0,0,0,0,0,0,0,0,0,0,0,0,0,0,0,0,0,0,0,0,0,0,0,0,0,0,0,"-",{"$f":"IFERROR(ROUND(PERCENTILE(_xlfn._xlws.FILTER(Data_Table[Speed],(Data_Table[Direction]=ImportData!Direction_1)*(Data_Table[Period]=$B142)*(SUM(C142:N142)>=10)),0.85),2),\"-\")","v":"-"}]
[139,{"$f":"ImportData!$B$10+7*QUOTIENT(A143,24*60*7/ImportData!$B$8)+MOD(1+QUOTIENT(A143,24*60/ImportData!$B$8)-ImportData!$E$10,7)+TIME(0,ImportData!$B$8*A143,0)","v":"2022-05-14T19:00:00"},0,0,0,0,0,0,0,0,0,0,0,0,0,0,0,0,0,0,0,0,0,0,0,0,0,0,0,0,0,0,0,0,0,0,0,"-",{"$f":"IFERROR(ROUND(PERCENTILE(_xlfn._xlws.FILTER(Data_Table[Speed],(Data_Table[Direction]=ImportData!Direction_1)*(Data_Table[Period]=$B143)*(SUM(C143:N143)>=10)),0.85),2),\"-\")","v":"-"}]
[140,{"$f":"ImportData!$B$10+7*QUOTIENT(A144,24*60*7/ImportData!$B$8)+MOD(1+QUOTIENT(A144,24*60/ImportData!$B$8)-ImportData!$E$10,7)+TIME(0,ImportData!$B$8*A144,0)","v":"2022-05-14T20:00:00"},0,0,0,0,0,0,0,0,0,0,0,0,0,0,0,0,0,0,0,0,0,0,0,0,0,0,0,0,0,0,0,0,0,0,0,"-",{"$f":"IFERROR(ROUND(PERCENTILE(_xlfn._xlws.FILTER(Data_Table[Speed],(Data_Table[Direction]=ImportData!Direction_1)*(Data_Table[Period]=$B144)*(SUM(C144:N144)>=10)),0.85),2),\"-\")","v":"-"}]
[141,{"$f":"ImportData!$B$10+7*QUOTIENT(A145,24*60*7/ImportData!$B$8)+MOD(1+QUOTIENT(A145,24*60/ImportData!$B$8)-ImportData!$E$10,7)+TIME(0,ImportData!$B$8*A145,0)","v":"2022-05-14T21:00:00"},0,0,0,0,0,0,0,0,0,0,0,0,0,0,0,0,0,0,0,0,0,0,0,0,0,0,0,0,0,0,0,0,0,0,0,"-",{"$f":"IFERROR(ROUND(PERCENTILE(_xlfn._xlws.FILTER(Data_Table[Speed],(Data_Table[Direction]=ImportData!Direction_1)*(Data_Table[Period]=$B145)*(SUM(C145:N145)>=10)),0.85),2),\"-\")","v":"-"}]
[142,{"$f":"ImportData!$B$10+7*QUOTIENT(A146,24*60*7/ImportData!$B$8)+MOD(1+QUOTIENT(A146,24*60/ImportData!$B$8)-ImportData!$E$10,7)+TIME(0,ImportData!$B$8*A146,0)","v":"2022-05-14T22:00:00"},0,0,0,0,0,0,0,0,0,0,0,0,0,0,0,0,0,0,0,0,0,0,0,0,0,0,0,0,0,0,0,0,0,0,0,"-",{"$f":"IFERROR(ROUND(PERCENTILE(_xlfn._xlws.FILTER(Data_Table[Speed],(Data_Table[Direction]=ImportData!Direction_1)*(Data_Table[Period]=$B146)*(SUM(C146:N146)>=10)),0.85),2),\"-\")","v":"-"}]
[143,{"$f":"ImportData!$B$10+7*QUOTIENT(A147,24*60*7/ImportData!$B$8)+MOD(1+QUOTIENT(A147,24*60/ImportData!$B$8)-ImportData!$E$10,7)+TIME(0,ImportData!$B$8*A147,0)","v":"2022-05-14T23:00:00"},0,0,0,0,0,0,0,0,0,0,0,0,0,0,0,0,0,0,0,0,0,0,0,0,0,0,0,0,0,0,0,0,0,0,0,"-",{"$f":"IFERROR(ROUND(PERCENTILE(_xlfn._xlws.FILTER(Data_Table[Speed],(Data_Table[Direction]=ImportData!Direction_1)*(Data_Table[Period]=$B147)*(SUM(C147:N147)>=10)),0.85),2),\"-\")","v":"-"}]
[144,{"$f":"ImportData!$B$10+7*QUOTIENT(A148,24*60*7/ImportData!$B$8)+MOD(1+QUOTIENT(A148,24*60/ImportData!$B$8)-ImportData!$E$10,7)+TIME(0,ImportData!$B$8*A148,0)","v":"2022-05-15"},0,0,0,0,0,0,0,0,0,0,0,0,0,0,0,0,0,0,0,0,0,0,0,0,0,0,0,0,0,0,0,0,0,0,0,"-",{"$f":"IFERROR(ROUND(PERCENTILE(_xlfn._xlws.FILTER(Data_Table[Speed],(Data_Table[Direction]=ImportData!Direction_1)*(Data_Table[Period]=$B148)*(SUM(C148:N148)>=10)),0.85),2),\"-\")","v":"-"}]
[145,{"$f":"ImportData!$B$10+7*QUOTIENT(A149,24*60*7/ImportData!$B$8)+MOD(1+QUOTIENT(A149,24*60/ImportData!$B$8)-ImportData!$E$10,7)+TIME(0,ImportData!$B$8*A149,0)","v":"2022-05-15T01:00:00"},0,0,0,0,0,0,0,0,0,0,0,0,0,0,0,0,0,0,0,0,0,0,0,0,0,0,0,0,0,0,0,0,0,0,0,"-",{"$f":"IFERROR(ROUND(PERCENTILE(_xlfn._xlws.FILTER(Data_Table[Speed],(Data_Table[Direction]=ImportData!Direction_1)*(Data_Table[Period]=$B149)*(SUM(C149:N149)>=10)),0.85),2),\"-\")","v":"-"}]
[146,{"$f":"ImportData!$B$10+7*QUOTIENT(A150,24*60*7/ImportData!$B$8)+MOD(1+QUOTIENT(A150,24*60/ImportData!$B$8)-ImportData!$E$10,7)+TIME(0,ImportData!$B$8*A150,0)","v":"2022-05-15T02:00:00"},0,0,0,0,0,0,0,0,0,0,0,0,0,0,0,0,0,0,0,0,0,0,0,0,0,0,0,0,0,0,0,0,0,0,0,"-",{"$f":"IFERROR(ROUND(PERCENTILE(_xlfn._xlws.FILTER(Data_Table[Speed],(Data_Table[Direction]=ImportData!Direction_1)*(Data_Table[Period]=$B150)*(SUM(C150:N150)>=10)),0.85),2),\"-\")","v":"-"}]
[147,{"$f":"ImportData!$B$10+7*QUOTIENT(A151,24*60*7/ImportData!$B$8)+MOD(1+QUOTIENT(A151,24*60/ImportData!$B$8)-ImportData!$E$10,7)+TIME(0,ImportData!$B$8*A151,0)","v":"2022-05-15T03:00:00"},0,0,0,0,0,0,0,0,0,0,0,0,0,0,0,0,0,0,0,0,0,0,0,0,0,0,0,0,0,0,0,0,0,0,0,"-",{"$f":"IFERROR(ROUND(PERCENTILE(_xlfn._xlws.FILTER(Data_Table[Speed],(Data_Table[Direction]=ImportData!Direction_1)*(Data_Table[Period]=$B151)*(SUM(C151:N151)>=10)),0.85),2),\"-\")","v":"-"}]
[148,{"$f":"ImportData!$B$10+7*QUOTIENT(A152,24*60*7/ImportData!$B$8)+MOD(1+QUOTIENT(A152,24*60/ImportData!$B$8)-ImportData!$E$10,7)+TIME(0,ImportData!$B$8*A152,0)","v":"2022-05-15T04:00:00"},0,0,0,0,0,0,0,0,0,0,0,0,0,0,0,0,0,0,0,0,0,0,0,0,0,0,0,0,0,0,0,0,0,0,0,"-",{"$f":"IFERROR(ROUND(PERCENTILE(_xlfn._xlws.FILTER(Data_Table[Speed],(Data_Table[Direction]=ImportData!Direction_1)*(Data_Table[Period]=$B152)*(SUM(C152:N152)>=10)),0.85),2),\"-\")","v":"-"}]
[149,{"$f":"ImportData!$B$10+7*QUOTIENT(A153,24*60*7/ImportData!$B$8)+MOD(1+QUOTIENT(A153,24*60/ImportData!$B$8)-ImportData!$E$10,7)+TIME(0,ImportData!$B$8*A153,0)","v":"2022-05-15T05:00:00"},0,0,0,0,0,0,0,0,0,0,0,0,0,0,0,0,0,0,0,0,0,0,0,0,0,0,0,0,0,0,0,0,0,0,0,"-",{"$f":"IFERROR(ROUND(PERCENTILE(_xlfn._xlws.FILTER(Data_Table[Speed],(Data_Table[Direction]=ImportData!Direction_1)*(Data_Table[Period]=$B153)*(SUM(C153:N153)>=10)),0.85),2),\"-\")","v":"-"}]
[150,{"$f":"ImportData!$B$10+7*QUOTIENT(A154,24*60*7/ImportData!$B$8)+MOD(1+QUOTIENT(A154,24*60/ImportData!$B$8)-ImportData!$E$10,7)+TIME(0,ImportData!$B$8*A154,0)","v":"2022-05-15T06:00:00"},0,0,0,0,0,0,0,0,0,0,0,0,0,0,0,0,0,0,0,0,0,0,0,0,0,0,0,0,0,0,0,0,0,0,0,"-",{"$f":"IFERROR(ROUND(PERCENTILE(_xlfn._xlws.FILTER(Data_Table[Speed],(Data_Table[Direction]=ImportData!Direction_1)*(Data_Table[Period]=$B154)*(SUM(C154:N154)>=10)),0.85),2),\"-\")","v":"-"}]
[151,{"$f":"ImportData!$B$10+7*QUOTIENT(A155,24*60*7/ImportData!$B$8)+MOD(1+QUOTIENT(A155,24*60/ImportData!$B$8)-ImportData!$E$10,7)+TIME(0,ImportData!$B$8*A155,0)","v":"2022-05-15T07:00:00"},0,0,0,0,0,0,0,0,0,0,0,0,0,0,0,0,0,0,0,0,0,0,0,0,0,0,0,0,0,0,0,0,0,0,0,"-",{"$f":"IFERROR(ROUND(PERCENTILE(_xlfn._xlws.FILTER(Data_Table[Speed],(Data_Table[Direction]=ImportData!Direction_1)*(Data_Table[Period]=$B155)*(SUM(C155:N155)>=10)),0.85),2),\"-\")","v":"-"}]
[152,{"$f":"ImportData!$B$10+7*QUOTIENT(A156,24*60*7/ImportData!$B$8)+MOD(1+QUOTIENT(A156,24*60/ImportData!$B$8)-ImportData!$E$10,7)+TIME(0,ImportData!$B$8*A156,0)","v":"2022-05-15T08:00:00"},0,0,0,0,0,0,0,0,0,0,0,0,0,0,0,0,0,0,0,0,0,0,0,0,0,0,0,0,0,0,0,0,0,0,0,"-",{"$f":"IFERROR(ROUND(PERCENTILE(_xlfn._xlws.FILTER(Data_Table[Speed],(Data_Table[Direction]=ImportData!Direction_1)*(Data_Table[Period]=$B156)*(SUM(C156:N156)>=10)),0.85),2),\"-\")","v":"-"}]
[153,{"$f":"ImportData!$B$10+7*QUOTIENT(A157,24*60*7/ImportData!$B$8)+MOD(1+QUOTIENT(A157,24*60/ImportData!$B$8)-ImportData!$E$10,7)+TIME(0,ImportData!$B$8*A157,0)","v":"2022-05-15T09:00:00"},0,0,0,0,0,0,0,0,0,0,0,0,0,0,0,0,0,0,0,0,0,0,0,0,0,0,0,0,0,0,0,0,0,0,0,"-",{"$f":"IFERROR(ROUND(PERCENTILE(_xlfn._xlws.FILTER(Data_Table[Speed],(Data_Table[Direction]=ImportData!Direction_1)*(Data_Table[Period]=$B157)*(SUM(C157:N157)>=10)),0.85),2),\"-\")","v":"-"}]
[154,{"$f":"ImportData!$B$10+7*QUOTIENT(A158,24*60*7/ImportData!$B$8)+MOD(1+QUOTIENT(A158,24*60/ImportData!$B$8)-ImportData!$E$10,7)+TIME(0,ImportData!$B$8*A158,0)","v":"2022-05-15T10:00:00"},0,0,0,0,0,0,0,0,0,0,0,0,0,0,0,0,0,0,0,0,0,0,0,0,0,0,0,0,0,0,0,0,0,0,0,"-",{"$f":"IFERROR(ROUND(PERCENTILE(_xlfn._xlws.FILTER(Data_Table[Speed],(Data_Table[Direction]=ImportData!Direction_1)*(Data_Table[Period]=$B158)*(SUM(C158:N158)>=10)),0.85),2),\"-\")","v":"-"}]
[155,{"$f":"ImportData!$B$10+7*QUOTIENT(A159,24*60*7/ImportData!$B$8)+MOD(1+QUOTIENT(A159,24*60/ImportData!$B$8)-ImportData!$E$10,7)+TIME(0,ImportData!$B$8*A159,0)","v":"2022-05-15T11:00:00"},0,0,0,0,0,0,0,0,0,0,0,0,0,0,0,0,0,0,0,0,0,0,0,0,0,0,0,0,0,0,0,0,0,0,0,"-",{"$f":"IFERROR(ROUND(PERCENTILE(_xlfn._xlws.FILTER(Data_Table[Speed],(Data_Table[Direction]=ImportData!Direction_1)*(Data_Table[Period]=$B159)*(SUM(C159:N159)>=10)),0.85),2),\"-\")","v":"-"}]
[156,{"$f":"ImportData!$B$10+7*QUOTIENT(A160,24*60*7/ImportData!$B$8)+MOD(1+QUOTIENT(A160,24*60/ImportData!$B$8)-ImportData!$E$10,7)+TIME(0,ImportData!$B$8*A160,0)","v":"2022-05-15T12:00:00"},0,0,0,0,0,0,0,0,0,0,0,0,0,0,0,0,0,0,0,0,0,0,0,0,0,0,0,0,0,0,0,0,0,0,0,"-",{"$f":"IFERROR(ROUND(PERCENTILE(_xlfn._xlws.FILTER(Data_Table[Speed],(Data_Table[Direction]=ImportData!Direction_1)*(Data_Table[Period]=$B160)*(SUM(C160:N160)>=10)),0.85),2),\"-\")","v":"-"}]
[157,{"$f":"ImportData!$B$10+7*QUOTIENT(A161,24*60*7/ImportData!$B$8)+MOD(1+QUOTIENT(A161,24*60/ImportData!$B$8)-ImportData!$E$10,7)+TIME(0,ImportData!$B$8*A161,0)","v":"2022-05-15T13:00:00"},0,0,0,0,0,0,0,0,0,0,0,0,0,0,0,0,0,0,0,0,0,0,0,0,0,0,0,0,0,0,0,0,0,0,0,"-",{"$f":"IFERROR(ROUND(PERCENTILE(_xlfn._xlws.FILTER(Data_Table[Speed],(Data_Table[Direction]=ImportData!Direction_1)*(Data_Table[Period]=$B161)*(SUM(C161:N161)>=10)),0.85),2),\"-\")","v":"-"}]
[158,{"$f":"ImportData!$B$10+7*QUOTIENT(A162,24*60*7/ImportData!$B$8)+MOD(1+QUOTIENT(A162,24*60/ImportData!$B$8)-ImportData!$E$10,7)+TIME(0,ImportData!$B$8*A162,0)","v":"2022-05-15T14:00:00"},0,0,0,0,0,0,0,0,0,0,0,0,0,0,0,0,0,0,0,0,0,0,0,0,0,0,0,0,0,0,0,0,0,0,0,"-",{"$f":"IFERROR(ROUND(PERCENTILE(_xlfn._xlws.FILTER(Data_Table[Speed],(Data_Table[Direction]=ImportData!Direction_1)*(Data_Table[Period]=$B162)*(SUM(C162:N162)>=10)),0.85),2),\"-\")","v":"-"}]
[159,{"$f":"ImportData!$B$10+7*QUOTIENT(A163,24*60*7/ImportData!$B$8)+MOD(1+QUOTIENT(A163,24*60/ImportData!$B$8)-ImportData!$E$10,7)+TIME(0,ImportData!$B$8*A163,0)","v":"2022-05-15T15:00:00"},0,0,0,0,0,0,0,0,0,0,0,0,0,0,0,0,0,0,0,0,0,0,0,0,0,0,0,0,0,0,0,0,0,0,0,"-",{"$f":"IFERROR(ROUND(PERCENTILE(_xlfn._xlws.FILTER(Data_Table[Speed],(Data_Table[Direction]=ImportData!Direction_1)*(Data_Table[Period]=$B163)*(SUM(C163:N163)>=10)),0.85),2),\"-\")","v":"-"}]
[160,{"$f":"ImportData!$B$10+7*QUOTIENT(A164,24*60*7/ImportData!$B$8)+MOD(1+QUOTIENT(A164,24*60/ImportData!$B$8)-ImportData!$E$10,7)+TIME(0,ImportData!$B$8*A164,0)","v":"2022-05-15T16:00:00"},0,0,0,0,0,0,0,0,0,0,0,0,0,0,0,0,0,0,0,0,0,0,0,0,0,0,0,0,0,0,0,0,0,0,0,"-",{"$f":"IFERROR(ROUND(PERCENTILE(_xlfn._xlws.FILTER(Data_Table[Speed],(Data_Table[Direction]=ImportData!Direction_1)*(Data_Table[Period]=$B164)*(SUM(C164:N164)>=10)),0.85),2),\"-\")","v":"-"}]
[161,{"$f":"ImportData!$B$10+7*QUOTIENT(A165,24*60*7/ImportData!$B$8)+MOD(1+QUOTIENT(A165,24*60/ImportData!$B$8)-ImportData!$E$10,7)+TIME(0,ImportData!$B$8*A165,0)","v":"2022-05-15T17:00:00"},0,0,0,0,0,0,0,0,0,0,0,0,0,0,0,0,0,0,0,0,0,0,0,0,0,0,0,0,0,0,0,0,0,0,0,"-",{"$f":"IFERROR(ROUND(PERCENTILE(_xlfn._xlws.FILTER(Data_Table[Speed],(Data_Table[Direction]=ImportData!Direction_1)*(Data_Table[Period]=$B165)*(SUM(C165:N165)>=10)),0.85),2),\"-\")","v":"-"}]
[162,{"$f":"ImportData!$B$10+7*QUOTIENT(A166,24*60*7/ImportData!$B$8)+MOD(1+QUOTIENT(A166,24*60/ImportData!$B$8)-ImportData!$E$10,7)+TIME(0,ImportData!$B$8*A166,0)","v":"2022-05-15T18:00:00"},0,0,0,0,0,0,0,0,0,0,0,0,0,0,0,0,0,0,0,0,0,0,0,0,0,0,0,0,0,0,0,0,0,0,0,"-",{"$f":"IFERROR(ROUND(PERCENTILE(_xlfn._xlws.FILTER(Data_Table[Speed],(Data_Table[Direction]=ImportData!Direction_1)*(Data_Table[Period]=$B166)*(SUM(C166:N166)>=10)),0.85),2),\"-\")","v":"-"}]
[163,{"$f":"ImportData!$B$10+7*QUOTIENT(A167,24*60*7/ImportData!$B$8)+MOD(1+QUOTIENT(A167,24*60/ImportData!$B$8)-ImportData!$E$10,7)+TIME(0,ImportData!$B$8*A167,0)","v":"2022-05-15T19:00:00"},0,0,0,0,0,0,0,0,0,0,0,0,0,0,0,0,0,0,0,0,0,0,0,0,0,0,0,0,0,0,0,0,0,0,0,"-",{"$f":"IFERROR(ROUND(PERCENTILE(_xlfn._xlws.FILTER(Data_Table[Speed],(Data_Table[Direction]=ImportData!Direction_1)*(Data_Table[Period]=$B167)*(SUM(C167:N167)>=10)),0.85),2),\"-\")","v":"-"}]
[164,{"$f":"ImportData!$B$10+7*QUOTIENT(A168,24*60*7/ImportData!$B$8)+MOD(1+QUOTIENT(A168,24*60/ImportData!$B$8)-ImportData!$E$10,7)+TIME(0,ImportData!$B$8*A168,0)","v":"2022-05-15T20:00:00"},0,0,0,0,0,0,0,0,0,0,0,0,0,0,0,0,0,0,0,0,0,0,0,0,0,0,0,0,0,0,0,0,0,0,0,"-",{"$f":"IFERROR(ROUND(PERCENTILE(_xlfn._xlws.FILTER(Data_Table[Speed],(Data_Table[Direction]=ImportData!Direction_1)*(Data_Table[Period]=$B168)*(SUM(C168:N168)>=10)),0.85),2),\"-\")","v":"-"}]
[165,{"$f":"ImportData!$B$10+7*QUOTIENT(A169,24*60*7/ImportData!$B$8)+MOD(1+QUOTIENT(A169,24*60/ImportData!$B$8)-ImportData!$E$10,7)+TIME(0,ImportData!$B$8*A169,0)","v":"2022-05-15T21:00:00"},0,0,0,0,0,0,0,0,0,0,0,0,0,0,0,0,0,0,0,0,0,0,0,0,0,0,0,0,0,0,0,0,0,0,0,"-",{"$f":"IFERROR(ROUND(PERCENTILE(_xlfn._xlws.FILTER(Data_Table[Speed],(Data_Table[Direction]=ImportData!Direction_1)*(Data_Table[Period]=$B169)*(SUM(C169:N169)>=10)),0.85),2),\"-\")","v":"-"}]
[166,{"$f":"ImportData!$B$10+7*QUOTIENT(A170,24*60*7/ImportData!$B$8)+MOD(1+QUOTIENT(A170,24*60/ImportData!$B$8)-ImportData!$E$10,7)+TIME(0,ImportData!$B$8*A170,0)","v":"2022-05-15T22:00:00"},0,0,0,0,0,0,0,0,0,0,0,0,0,0,0,0,0,0,0,0,0,0,0,0,0,0,0,0,0,0,0,0,0,0,0,"-",{"$f":"IFERROR(ROUND(PERCENTILE(_xlfn._xlws.FILTER(Data_Table[Speed],(Data_Table[Direction]=ImportData!Direction_1)*(Data_Table[Period]=$B170)*(SUM(C170:N170)>=10)),0.85),2),\"-\")","v":"-"}]
[167,{"$f":"ImportData!$B$10+7*QUOTIENT(A171,24*60*7/ImportData!$B$8)+MOD(1+QUOTIENT(A171,24*60/ImportData!$B$8)-ImportData!$E$10,7)+TIME(0,ImportData!$B$8*A171,0)","v":"2022-05-15T23:00:00"},0,0,0,0,0,0,0,0,0,0,0,0,0,0,0,0,0,0,0,0,0,0,0,0,0,0,0,0,0,0,0,0,0,0,0,"-",{"$f":"IFERROR(ROUND(PERCENTILE(_xlfn._xlws.FILTER(Data_Table[Speed],(Data_Table[Direction]=ImportData!Direction_1)*(Data_Table[Period]=$B171)*(SUM(C171:N171)>=10)),0.85),2),\"-\")","v":"-"}]
[null,"00:00:00",{"$f":"SUM(C4,C28,C52,C76,C100)","v":0},{"$f":"SUM(D4,D28,D52,D76,D100)","v":0},0,0,0,0,0,0,0,0,0,0,0,0,{"$f":"SUM(Q4,Q28,Q52,Q76,Q100)","v":0},0,0,0,0,0,0,0,0,0,0,0,0,0,0,0,0,0,0,0,0,{"$f":"IFERROR(ROUND(AVERAGE(_xlfn._xlws.FILTER(Data_Table[Speed],(Data_Table[Direction]=ImportData!Direction_1)*(Data_Table[Period]-INT(Data_Table[Period])=B172)*(Data_Table[Weekday]<6))),2),\"-\")","v":"-"},{"$f":"IFERROR(ROUND(PERCENTILE(_xlfn._xlws.FILTER(Data_Table[Speed],(Data_Table[Direction]=ImportData!Direction_1)*(Data_Table[Period]-INT(Data_Table[Period])=B172)*(Data_Table[Weekday]<6)*(SUM(C172:N172)>=10)),0.85),2),\"-\")","v":"-"}]
[null,"01:00:00",{"$f":"SUM(C5,C29,C53,C77,C101)","v":0},0,0,0,0,0,0,0,0,0,0,0,0,0,{"$f":"SUM(Q5,Q29,Q53,Q77,Q101)","v":0},0,0,0,0,0,0,0,0,0,0,0,0,0,0,0,0,0,0,0,0,{"$f":"IFERROR(ROUND(AVERAGE(_xlfn._xlws.FILTER(Data_Table[Speed],(Data_Table[Direction]=ImportData!Direction_1)*(Data_Table[Period]-INT(Data_Table[Period])=B173)*(Data_Table[Weekday]<6))),2),\"-\")","v":"-"},{"$f":"IFERROR(ROUND(PERCENTILE(_xlfn._xlws.FILTER(Data_Table[Speed],(Data_Table[Direction]=ImportData!Direction_1)*(Data_Table[Period]-INT(Data_Table[Period])=B173)*(Data_Table[Weekday]<6)*(SUM(C173:N173)>=10)),0.85),2),\"-\")","v":"-"}]
[null,"02:00:00",{"$f":"SUM(C6,C30,C54,C78,C102)","v":0},0,0,0,0,0,0,0,0,0,0,0,0,0,{"$f":"SUM(Q6,Q30,Q54,Q78,Q102)","v":0},0,0,0,0,0,0,0,0,0,0,0,0,0,0,0,0,0,0,0,0,{"$f":"IFERROR(ROUND(AVERAGE(_xlfn._xlws.FILTER(Data_Table[Speed],(Data_Table[Direction]=ImportData!Direction_1)*(Data_Table[Period]-INT(Data_Table[Period])=B174)*(Data_Table[Weekday]<6))),2),\"-\")","v":"-"},{"$f":"IFERROR(ROUND(PERCENTILE(_xlfn._xlws.FILTER(Data_Table[Speed],(Data_Table[Direction]=ImportData!Direction_1)*(Data_Table[Period]-INT(Data_Table[Period])=B174)*(Data_Table[Weekday]<6)*(SUM(C174:N174)>=10)),0.85),2),\"-\")","v":"-"}]
[null,"03:00:00",{"$f":"SUM(C7,C31,C55,C79,C103)","v":0},0,0,0,0,0,0,0,0,0,0,0,0,0,{"$f":"SUM(Q7,Q31,Q55,Q79,Q103)","v":0},0,0,0,0,0,0,0,0,0,0,0,0,0,0,0,0,0,0,0,0,{"$f":"IFERROR(ROUND(AVERAGE(_xlfn._xlws.FILTER(Data_Table[Speed],(Data_Table[Direction]=ImportData!Direction_1)*(Data_Table[Period]-INT(Data_Table[Period])=B175)*(Data_Table[Weekday]<6))),2),\"-\")","v":"-"},{"$f":"IFERROR(ROUND(PERCENTILE(_xlfn._xlws.FILTER(Data_Table[Speed],(Data_Table[Direction]=ImportData!Direction_1)*(Data_Table[Period]-INT(Data_Table[Period])=B175)*(Data_Table[Weekday]<6)*(SUM(C175:N175)>=10)),0.85),2),\"-\")","v":"-"}]
[null,"04:00:00",{"$f":"SUM(C8,C32,C56,C80,C104)","v":0},0,0,0,0,0,0,0,0,0,0,0,0,0,{"$f":"SUM(Q8,Q32,Q56,Q80,Q104)","v":0},0,0,0,0,0,0,0,0,0,0,0,0,0,0,0,0,0,0,0,0,{"$f":"IFERROR(ROUND(AVERAGE(_xlfn._xlws.FILTER(Data_Table[Speed],(Data_Table[Direction]=ImportData!Direction_1)*(Data_Table[Period]-INT(Data_Table[Period])=B176)*(Data_Table[Weekday]<6))),2),\"-\")","v":"-"},{"$f":"IFERROR(ROUND(PERCENTILE(_xlfn._xlws.FILTER(Data_Table[Speed],(Data_Table[Direction]=ImportData!Direction_1)*(Data_Table[Period]-INT(Data_Table[Period])=B176)*(Data_Table[Weekday]<6)*(SUM(C176:N176)>=10)),0.85),2),\"-\")","v":"-"}]
[null,"05:00:00",{"$f":"SUM(C9,C33,C57,C81,C105)","v":0},0,0,0,0,0,0,0,0,0,0,0,0,0,{"$f":"SUM(Q9,Q33,Q57,Q81,Q105)","v":0},0,0,0,0,0,0,0,0,0,0,0,0,0,0,0,0,0,0,0,0,{"$f":"IFERROR(ROUND(AVERAGE(_xlfn._xlws.FILTER(Data_Table[Speed],(Data_Table[Direction]=ImportData!Direction_1)*(Data_Table[Period]-INT(Data_Table[Period])=B177)*(Data_Table[Weekday]<6))),2),\"-\")","v":"-"},{"$f":"IFERROR(ROUND(PERCENTILE(_xlfn._xlws.FILTER(Data_Table[Speed],(Data_Table[Direction]=ImportData!Direction_1)*(Data_Table[Period]-INT(Data_Table[Period])=B177)*(Data_Table[Weekday]<6)*(SUM(C177:N177)>=10)),0.85),2),\"-\")","v":"-"}]
[null,"06:00:00",{"$f":"SUM(C10,C34,C58,C82,C106)","v":0},0,0,0,0,0,0,0,0,0,0,0,0,0,{"$f":"SUM(Q10,Q34,Q58,Q82,Q106)","v":0},0,0,0,0,0,0,0,0,0,0,0,0,0,0,0,0,0,0,0,0,{"$f":"IFERROR(ROUND(AVERAGE(_xlfn._xlws.FILTER(Data_Table[Speed],(Data_Table[Direction]=ImportData!Direction_1)*(Data_Table[Period]-INT(Data_Table[Period])=B178)*(Data_Table[Weekday]<6))),2),\"-\")","v":"-"},{"$f":"IFERROR(ROUND(PERCENTILE(_xlfn._xlws.FILTER(Data_Table[Speed],(Data_Table[Direction]=ImportData!Direction_1)*(Data_Table[Period]-INT(Data_Table[Period])=B178)*(Data_Table[Weekday]<6)*(SUM(C178:N178)>=10)),0.85),2),\"-\")","v":"-"}]
[null,"07:00:00",{"$f":"SUM(C11,C35,C59,C83,C107)","v":0},0,0,0,0,0,0,0,0,0,0,0,0,0,{"$f":"SUM(Q11,Q35,Q59,Q83,Q107)","v":0},0,0,0,0,0,0,0,0,0,0,0,0,0,0,0,0,0,0,0,0,{"$f":"IFERROR(ROUND(AVERAGE(_xlfn._xlws.FILTER(Data_Table[Speed],(Data_Table[Direction]=ImportData!Direction_1)*(Data_Table[Period]-INT(Data_Table[Period])=B179)*(Data_Table[Weekday]<6))),2),\"-\")","v":"-"},{"$f":"IFERROR(ROUND(PERCENTILE(_xlfn._xlws.FILTER(Data_Table[Speed],(Data_Table[Direction]=ImportData!Direction_1)*(Data_Table[Period]-INT(Data_Table[Period])=B179)*(Data_Table[Weekday]<6)*(SUM(C179:N179)>=10)),0.85),2),\"-\")","v":"-"}]
[null,"08:00:00",{"$f":"SUM(C12,C36,C60,C84,C108)","v":0},0,0,0,0,0,0,0,0,0,0,0,0,0,{"$f":"SUM(Q12,Q36,Q60,Q84,Q108)","v":0},0,0,0,0,0,0,0,0,0,0,0,0,0,0,0,0,0,0,0,0,{"$f":"IFERROR(ROUND(AVERAGE(_xlfn._xlws.FILTER(Data_Table[Speed],(Data_Table[Direction]=ImportData!Direction_1)*(Data_Table[Period]-INT(Data_Table[Period])=B180)*(Data_Table[Weekday]<6))),2),\"-\")","v":"-"},{"$f":"IFERROR(ROUND(PERCENTILE(_xlfn._xlws.FILTER(Data_Table[Speed],(Data_Table[Direction]=ImportData!Direction_1)*(Data_Table[Period]-INT(Data_Table[Period])=B180)*(Data_Table[Weekday]<6)*(SUM(C180:N180)>=10)),0.85),2),\"-\")","v":"-"}]
[null,"09:00:00",{"$f":"SUM(C13,C37,C61,C85,C109)","v":0},0,0,0,0,0,0,0,0,0,0,0,0,0,{"$f":"SUM(Q13,Q37,Q61,Q85,Q109)","v":0},0,0,0,0,0,0,0,0,0,0,0,0,0,0,0,0,0,0,0,0,{"$f":"IFERROR(ROUND(AVERAGE(_xlfn._xlws.FILTER(Data_Table[Speed],(Data_Table[Direction]=ImportData!Direction_1)*(Data_Table[Period]-INT(Data_Table[Period])=B181)*(Data_Table[Weekday]<6))),2),\"-\")","v":"-"},{"$f":"IFERROR(ROUND(PERCENTILE(_xlfn._xlws.FILTER(Data_Table[Speed],(Data_Table[Direction]=ImportData!Direction_1)*(Data_Table[Period]-INT(Data_Table[Period])=B181)*(Data_Table[Weekday]<6)*(SUM(C181:N181)>=10)),0.85),2),\"-\")","v":"-"}]
[null,"10:00:00",{"$f":"SUM(C14,C38,C62,C86,C110)","v":0},0,0,0,0,0,0,0,0,0,0,0,0,0,{"$f":"SUM(Q14,Q38,Q62,Q86,Q110)","v":0},0,0,0,0,0,0,0,0,0,0,0,0,0,0,0,0,0,0,0,0,{"$f":"IFERROR(ROUND(AVERAGE(_xlfn._xlws.FILTER(Data_Table[Speed],(Data_Table[Direction]=ImportData!Direction_1)*(Data_Table[Period]-INT(Data_Table[Period])=B182)*(Data_Table[Weekday]<6))),2),\"-\")","v":"-"},{"$f":"IFERROR(ROUND(PERCENTILE(_xlfn._xlws.FILTER(Data_Table[Speed],(Data_Table[Direction]=ImportData!Direction_1)*(Data_Table[Period]-INT(Data_Table[Period])=B182)*(Data_Table[Weekday]<6)*(SUM(C182:N182)>=10)),0.85),2),\"-\")","v":"-"}]
[null,"11:00:00",{"$f":"SUM(C15,C39,C63,C87,C111)","v":0},0,0,0,0,0,0,0,0,0,0,0,0,0,{"$f":"SUM(Q15,Q39,Q63,Q87,Q111)","v":0},0,0,0,0,0,0,0,0,0,0,0,0,0,0,0,0,0,0,0,0,{"$f":"IFERROR(ROUND(AVERAGE(_xlfn._xlws.FILTER(Data_Table[Speed],(Data_Table[Direction]=ImportData!Direction_1)*(Data_Table[Period]-INT(Data_Table[Period])=B183)*(Data_Table[Weekday]<6))),2),\"-\")","v":"-"},{"$f":"IFERROR(ROUND(PERCENTILE(_xlfn._xlws.FILTER(Data_Table[Speed],(Data_Table[Direction]=ImportData!Direction_1)*(Data_Table[Period]-INT(Data_Table[Period])=B183)*(Data_Table[Weekday]<6)*(SUM(C183:N183)>=10)),0.85),2),\"-\")","v":"-"}]
[null,"12:00:00",{"$f":"SUM(C16,C40,C64,C88,C112)","v":0},0,0,0,0,0,0,0,0,0,0,0,0,0,{"$f":"SUM(Q16,Q40,Q64,Q88,Q112)","v":0},0,0,0,0,0,0,0,0,0,0,0,0,0,0,0,0,0,0,0,0,{"$f":"IFERROR(ROUND(AVERAGE(_xlfn._xlws.FILTER(Data_Table[Speed],(Data_Table[Direction]=ImportData!Direction_1)*(Data_Table[Period]-INT(Data_Table[Period])=B184)*(Data_Table[Weekday]<6))),2),\"-\")","v":"-"},{"$f":"IFERROR(ROUND(PERCENTILE(_xlfn._xlws.FILTER(Data_Table[Speed],(Data_Table[Direction]=ImportData!Direction_1)*(Data_Table[Period]-INT(Data_Table[Period])=B184)*(Data_Table[Weekday]<6)*(SUM(C184:N184)>=10)),0.85),2),\"-\")","v":"-"}]
[null,"13:00:00",{"$f":"SUM(C17,C41,C65,C89,C113)","v":0},0,0,0,0,0,0,0,0,0,0,0,0,0,{"$f":"SUM(Q17,Q41,Q65,Q89,Q113)","v":0},0,0,0,0,0,0,0,0,0,0,0,0,0,0,0,0,0,0,0,0,{"$f":"IFERROR(ROUND(AVERAGE(_xlfn._xlws.FILTER(Data_Table[Speed],(Data_Table[Direction]=ImportData!Direction_1)*(Data_Table[Period]-INT(Data_Table[Period])=B185)*(Data_Table[Weekday]<6))),2),\"-\")","v":"-"},{"$f":"IFERROR(ROUND(PERCENTILE(_xlfn._xlws.FILTER(Data_Table[Speed],(Data_Table[Direction]=ImportData!Direction_1)*(Data_Table[Period]-INT(Data_Table[Period])=B185)*(Data_Table[Weekday]<6)*(SUM(C185:N185)>=10)),0.85),2),\"-\")","v":"-"}]
[null,"14:00:00",{"$f":"SUM(C18,C42,C66,C90,C114)","v":0},0,0,0,0,0,0,0,0,0,0,0,0,0,{"$f":"SUM(Q18,Q42,Q66,Q90,Q114)","v":0},0,0,0,0,0,0,0,0,0,0,0,0,0,0,0,0,0,0,0,0,{"$f":"IFERROR(ROUND(AVERAGE(_xlfn._xlws.FILTER(Data_Table[Speed],(Data_Table[Direction]=ImportData!Direction_1)*(Data_Table[Period]-INT(Data_Table[Period])=B186)*(Data_Table[Weekday]<6))),2),\"-\")","v":"-"},{"$f":"IFERROR(ROUND(PERCENTILE(_xlfn._xlws.FILTER(Data_Table[Speed],(Data_Table[Direction]=ImportData!Direction_1)*(Data_Table[Period]-INT(Data_Table[Period])=B186)*(Data_Table[Weekday]<6)*(SUM(C186:N186)>=10)),0.85),2),\"-\")","v":"-"}]
[null,"15:00:00",{"$f":"SUM(C19,C43,C67,C91,C115)","v":0},0,0,0,0,0,0,0,0,0,0,0,0,0,{"$f":"SUM(Q19,Q43,Q67,Q91,Q115)","v":0},0,0,0,0,0,0,0,0,0,0,0,0,0,0,0,0,0,0,0,0,{"$f":"IFERROR(ROUND(AVERAGE(_xlfn._xlws.FILTER(Data_Table[Speed],(Data_Table[Direction]=ImportData!Direction_1)*(Data_Table[Period]-INT(Data_Table[Period])=B187)*(Data_Table[Weekday]<6))),2),\"-\")","v":"-"},{"$f":"IFERROR(ROUND(PERCENTILE(_xlfn._xlws.FILTER(Data_Table[Speed],(Data_Table[Direction]=ImportData!Direction_1)*(Data_Table[Period]-INT(Data_Table[Period])=B187)*(Data_Table[Weekday]<6)*(SUM(C187:N187)>=10)),0.85),2),\"-\")","v":"-"}]
[null,"16:00:00",{"$f":"SUM(C20,C44,C68,C92,C116)","v":0},0,0,0,0,0,0,0,0,0,0,0,0,0,{"$f":"SUM(Q20,Q44,Q68,Q92,Q116)","v":0},0,0,0,0,0,0,0,0,0,0,0,0,0,0,0,0,0,0,0,0,{"$f":"IFERROR(ROUND(AVERAGE(_xlfn._xlws.FILTER(Data_Table[Speed],(Data_Table[Direction]=ImportData!Direction_1)*(Data_Table[Period]-INT(Data_Table[Period])=B188)*(Data_Table[Weekday]<6))),2),\"-\")","v":"-"},{"$f":"IFERROR(ROUND(PERCENTILE(_xlfn._xlws.FILTER(Data_Table[Speed],(Data_Table[Direction]=ImportData!Direction_1)*(Data_Table[Period]-INT(Data_Table[Period])=B188)*(Data_Table[Weekday]<6)*(SUM(C188:N188)>=10)),0.85),2),\"-\")","v":"-"}]
[null,"17:00:00",{"$f":"SUM(C21,C45,C69,C93,C117)","v":0},0,0,0,0,0,0,0,0,0,0,0,0,0,{"$f":"SUM(Q21,Q45,Q69,Q93,Q117)","v":0},0,0,0,0,0,0,0,0,0,0,0,0,0,0,0,0,0,0,0,0,{"$f":"IFERROR(ROUND(AVERAGE(_xlfn._xlws.FILTER(Data_Table[Speed],(Data_Table[Direction]=ImportData!Direction_1)*(Data_Table[Period]-INT(Data_Table[Period])=B189)*(Data_Table[Weekday]<6))),2),\"-\")","v":"-"},{"$f":"IFERROR(ROUND(PERCENTILE(_xlfn._xlws.FILTER(Data_Table[Speed],(Data_Table[Direction]=ImportData!Direction_1)*(Data_Table[Period]-INT(Data_Table[Period])=B189)*(Data_Table[Weekday]<6)*(SUM(C189:N189)>=10)),0.85),2),\"-\")","v":"-"}]
[null,"18:00:00",{"$f":"SUM(C22,C46,C70,C94,C118)","v":0},0,0,0,0,0,0,0,0,0,0,0,0,0,{"$f":"SUM(Q22,Q46,Q70,Q94,Q118)","v":0},0,0,0,0,0,0,0,0,0,0,0,0,0,0,0,0,0,0,0,0,{"$f":"IFERROR(ROUND(AVERAGE(_xlfn._xlws.FILTER(Data_Table[Speed],(Data_Table[Direction]=ImportData!Direction_1)*(Data_Table[Period]-INT(Data_Table[Period])=B190)*(Data_Table[Weekday]<6))),2),\"-\")","v":"-"},{"$f":"IFERROR(ROUND(PERCENTILE(_xlfn._xlws.FILTER(Data_Table[Speed],(Data_Table[Direction]=ImportData!Direction_1)*(Data_Table[Period]-INT(Data_Table[Period])=B190)*(Data_Table[Weekday]<6)*(SUM(C190:N190)>=10)),0.85),2),\"-\")","v":"-"}]
[null,"19:00:00",{"$f":"SUM(C23,C47,C71,C95,C119)","v":0},0,0,0,0,0,0,0,0,0,0,0,0,0,{"$f":"SUM(Q23,Q47,Q71,Q95,Q119)","v":0},0,0,0,0,0,0,0,0,0,0,0,0,0,0,0,0,0,0,0,0,{"$f":"IFERROR(ROUND(AVERAGE(_xlfn._xlws.FILTER(Data_Table[Speed],(Data_Table[Direction]=ImportData!Direction_1)*(Data_Table[Period]-INT(Data_Table[Period])=B191)*(Data_Table[Weekday]<6))),2),\"-\")","v":"-"},{"$f":"IFERROR(ROUND(PERCENTILE(_xlfn._xlws.FILTER(Data_Table[Speed],(Data_Table[Direction]=ImportData!Direction_1)*(Data_Table[Period]-INT(Data_Table[Period])=B191)*(Data_Table[Weekday]<6)*(SUM(C191:N191)>=10)),0.85),2),\"-\")","v":"-"}]
[null,"20:00:00",{"$f":"SUM(C24,C48,C72,C96,C120)","v":0},0,0,0,0,0,0,0,0,0,0,0,0,0,{"$f":"SUM(Q24,Q48,Q72,Q96,Q120)","v":0},0,0,0,0,0,0,0,0,0,0,0,0,0,0,0,0,0,0,0,0,{"$f":"IFERROR(ROUND(AVERAGE(_xlfn._xlws.FILTER(Data_Table[Speed],(Data_Table[Direction]=ImportData!Direction_1)*(Data_Table[Period]-INT(Data_Table[Period])=B192)*(Data_Table[Weekday]<6))),2),\"-\")","v":"-"},{"$f":"IFERROR(ROUND(PERCENTILE(_xlfn._xlws.FILTER(Data_Table[Speed],(Data_Table[Direction]=ImportData!Direction_1)*(Data_Table[Period]-INT(Data_Table[Period])=B192)*(Data_Table[Weekday]<6)*(SUM(C192:N192)>=10)),0.85),2),\"-\")","v":"-"}]
[null,"21:00:00",{"$f":"SUM(C25,C49,C73,C97,C121)","v":0},0,0,0,0,0,0,0,0,0,0,0,0,0,{"$f":"SUM(Q25,Q49,Q73,Q97,Q121)","v":0},0,0,0,0,0,0,0,0,0,0,0,0,0,0,0,0,0,0,0,0,{"$f":"IFERROR(ROUND(AVERAGE(_xlfn._xlws.FILTER(Data_Table[Speed],(Data_Table[Direction]=ImportData!Direction_1)*(Data_Table[Period]-INT(Data_Table[Period])=B193)*(Data_Table[Weekday]<6))),2),\"-\")","v":"-"},{"$f":"IFERROR(ROUND(PERCENTILE(_xlfn._xlws.FILTER(Data_Table[Speed],(Data_Table[Direction]=ImportData!Direction_1)*(Data_Table[Period]-INT(Data_Table[Period])=B193)*(Data_Table[Weekday]<6)*(SUM(C193:N193)>=10)),0.85),2),\"-\")","v":"-"}]
[null,"22:00:00",{"$f":"SUM(C26,C50,C74,C98,C122)","v":0},0,0,0,0,0,0,0,0,0,0,0,0,0,{"$f":"SUM(Q26,Q50,Q74,Q98,Q122)","v":0},0,0,0,0,0,0,0,0,0,0,0,0,0,0,0,0,0,0,0,0,{"$f":"IFERROR(ROUND(AVERAGE(_xlfn._xlws.FILTER(Data_Table[Speed],(Data_Table[Direction]=ImportData!Direction_1)*(Data_Table[Period]-INT(Data_Table[Period])=B194)*(Data_Table[Weekday]<6))),2),\"-\")","v":"-"},{"$f":"IFERROR(ROUND(PERCENTILE(_xlfn._xlws.FILTER(Data_Table[Speed],(Data_Table[Direction]=ImportData!Direction_1)*(Data_Table[Period]-INT(Data_Table[Period])=B194)*(Data_Table[Weekday]<6)*(SUM(C194:N194)>=10)),0.85),2),\"-\")","v":"-"}]
[null,"23:00:00",{"$f":"SUM(C27,C51,C75,C99,C123)","v":0},0,0,0,0,0,0,0,0,0,0,0,0,0,{"$f":"SUM(Q27,Q51,Q75,Q99,Q123)","v":0},0,0,0,0,0,0,0,0,0,0,0,0,0,0,0,0,0,0,0,0,{"$f":"IFERROR(ROUND(AVERAGE(_xlfn._xlws.FILTER(Data_Table[Speed],(Data_Table[Direction]=ImportData!Direction_1)*(Data_Table[Period]-INT(Data_Table[Period])=B195)*(Data_Table[Weekday]<6))),2),\"-\")","v":"-"},{"$f":"IFERROR(ROUND(PERCENTILE(_xlfn._xlws.FILTER(Data_Table[Speed],(Data_Table[Direction]=ImportData!Direction_1)*(Data_Table[Period]-INT(Data_Table[Period])=B195)*(Data_Table[Weekday]<6)*(SUM(C195:N195)>=10)),0.85),2),\"-\")","v":"-"}]
[null,"00:00:00",{"$f":"SUM(C4,C28,C52,C76,C100,C124,C148)","v":0},{"$f":"SUM(D4,D28,D52,D76,D100,D124,D148)","v":0},0,0,0,0,0,0,0,0,0,0,0,0,{"$f":"SUM(Q4,Q28,Q52,Q76,Q100,Q124,Q148)","v":0},0,0,0,0,0,0,0,0,0,0,0,0,0,0,0,0,0,0,0,0,{"$f":"IFERROR(ROUND(AVERAGE(_xlfn._xlws.FILTER(Data_Table[Speed],(Data_Table[Direction]=ImportData!Direction_1)*(Data_Table[Period]-INT(Data_Table[Period])=B196))),2),\"-\")","v":"-"},{"$f":"IFERROR(ROUND(PERCENTILE(_xlfn._xlws.FILTER(Data_Table[Speed],(Data_Table[Direction]=ImportData!Direction_1)*(Data_Table[Period]-INT(Data_Table[Period])=B196)*(SUM(C196:N196)>=10)),0.85),2),\"-\")","v":"-"}]
[null,"01:00:00",{"$f":"SUM(C5,C29,C53,C77,C101,C125,C149)","v":0},0,0,0,0,0,0,0,0,0,0,0,0,0,{"$f":"SUM(Q5,Q29,Q53,Q77,Q101,Q125,Q149)","v":0},0,0,0,0,0,0,0,0,0,0,0,0,0,0,0,0,0,0,0,0,{"$f":"IFERROR(ROUND(AVERAGE(_xlfn._xlws.FILTER(Data_Table[Speed],(Data_Table[Direction]=ImportData!Direction_1)*(Data_Table[Period]-INT(Data_Table[Period])=B197))),2),\"-\")","v":"-"},{"$f":"IFERROR(ROUND(PERCENTILE(_xlfn._xlws.FILTER(Data_Table[Speed],(Data_Table[Direction]=ImportData!Direction_1)*(Data_Table[Period]-INT(Data_Table[Period])=B197)*(SUM(C197:N197)>=10)),0.85),2),\"-\")","v":"-"}]
[null,"02:00:00",{"$f":"SUM(C6,C30,C54,C78,C102,C126,C150)","v":0},0,0,0,0,0,0,0,0,0,0,0,0,0,{"$f":"SUM(Q6,Q30,Q54,Q78,Q102,Q126,Q150)","v":0},0,0,0,0,0,0,0,0,0,0,0,0,0,0,0,0,0,0,0,0,{"$f":"IFERROR(ROUND(AVERAGE(_xlfn._xlws.FILTER(Data_Table[Speed],(Data_Table[Direction]=ImportData!Direction_1)*(Data_Table[Period]-INT(Data_Table[Period])=B198))),2),\"-\")","v":"-"},{"$f":"IFERROR(ROUND(PERCENTILE(_xlfn._xlws.FILTER(Data_Table[Speed],(Data_Table[Direction]=ImportData!Direction_1)*(Data_Table[Period]-INT(Data_Table[Period])=B198)*(SUM(C198:N198)>=10)),0.85),2),\"-\")","v":"-"}]
[null,"03:00:00",{"$f":"SUM(C7,C31,C55,C79,C103,C127,C151)","v":0},0,0,0,0,0,0,0,0,0,0,0,0,0,{"$f":"SUM(Q7,Q31,Q55,Q79,Q103,Q127,Q151)","v":0},0,0,0,0,0,0,0,0,0,0,0,0,0,0,0,0,0,0,0,0,{"$f":"IFERROR(ROUND(AVERAGE(_xlfn._xlws.FILTER(Data_Table[Speed],(Data_Table[Direction]=ImportData!Direction_1)*(Data_Table[Period]-INT(Data_Table[Period])=B199))),2),\"-\")","v":"-"},{"$f":"IFERROR(ROUND(PERCENTILE(_xlfn._xlws.FILTER(Data_Table[Speed],(Data_Table[Direction]=ImportData!Direction_1)*(Data_Table[Period]-INT(Data_Table[Period])=B199)*(SUM(C199:N199)>=10)),0.85),2),\"-\")","v":"-"}]
[null,"04:00:00",{"$f":"SUM(C8,C32,C56,C80,C104,C128,C152)","v":0},0,0,0,0,0,0,0,0,0,0,0,0,0,{"$f":"SUM(Q8,Q32,Q56,Q80,Q104,Q128,Q152)","v":0},0,0,0,0,0,0,0,0,0,0,0,0,0,0,0,0,0,0,0,0,{"$f":"IFERROR(ROUND(AVERAGE(_xlfn._xlws.FILTER(Data_Table[Speed],(Data_Table[Direction]=ImportData!Direction_1)*(Data_Table[Period]-INT(Data_Table[Period])=B200))),2),\"-\")","v":"-"},{"$f":"IFERROR(ROUND(PERCENTILE(_xlfn._xlws.FILTER(Data_Table[Speed],(Data_Table[Direction]=ImportData!Direction_1)*(Data_Table[Period]-INT(Data_Table[Period])=B200)*(SUM(C200:N200)>=10)),0.85),2),\"-\")","v":"-"}]
[null,"05:00:00",{"$f":"SUM(C9,C33,C57,C81,C105,C129,C153)","v":0},0,0,0,0,0,0,0,0,0,0,0,0,0,{"$f":"SUM(Q9,Q33,Q57,Q81,Q105,Q129,Q153)","v":0},0,0,0,0,0,0,0,0,0,0,0,0,0,0,0,0,0,0,0,0,{"$f":"IFERROR(ROUND(AVERAGE(_xlfn._xlws.FILTER(Data_Table[Speed],(Data_Table[Direction]=ImportData!Direction_1)*(Data_Table[Period]-INT(Data_Table[Period])=B201))),2),\"-\")","v":"-"},{"$f":"IFERROR(ROUND(PERCENTILE(_xlfn._xlws.FILTER(Data_Table[Speed],(Data_Table[Direction]=ImportData!Direction_1)*(Data_Table[Period]-INT(Data_Table[Period])=B201)*(SUM(C201:N201)>=10)),0.85),2),\"-\")","v":"-"}]
[null,"06:00:00",{"$f":"SUM(C10,C34,C58,C82,C106,C130,C154)","v":0},0,0,0,0,0,0,0,0,0,0,0,0,0,{"$f":"SUM(Q10,Q34,Q58,Q82,Q106,Q130,Q154)","v":0},0,0,0,0,0,0,0,0,0,0,0,0,0,0,0,0,0,0,0,0,{"$f":"IFERROR(ROUND(AVERAGE(_xlfn._xlws.FILTER(Data_Table[Speed],(Data_Table[Direction]=ImportData!Direction_1)*(Data_Table[Period]-INT(Data_Table[Period])=B202))),2),\"-\")","v":"-"},{"$f":"IFERROR(ROUND(PERCENTILE(_xlfn._xlws.FILTER(Data_Table[Speed],(Data_Table[Direction]=ImportData!Direction_1)*(Data_Table[Period]-INT(Data_Table[Period])=B202)*(SUM(C202:N202)>=10)),0.85),2),\"-\")","v":"-"}]
[null,"07:00:00",{"$f":"SUM(C11,C35,C59,C83,C107,C131,C155)","v":0},0,0,0,0,0,0,0,0,0,0,0,0,0,{"$f":"SUM(Q11,Q35,Q59,Q83,Q107,Q131,Q155)","v":0},0,0,0,0,0,0,0,0,0,0,0,0,0,0,0,0,0,0,0,0,{"$f":"IFERROR(ROUND(AVERAGE(_xlfn._xlws.FILTER(Data_Table[Speed],(Data_Table[Direction]=ImportData!Direction_1)*(Data_Table[Period]-INT(Data_Table[Period])=B203))),2),\"-\")","v":"-"},{"$f":"IFERROR(ROUND(PERCENTILE(_xlfn._xlws.FILTER(Data_Table[Speed],(Data_Table[Direction]=ImportData!Direction_1)*(Data_Table[Period]-INT(Data_Table[Period])=B203)*(SUM(C203:N203)>=10)),0.85),2),\"-\")","v":"-"}]
[null,"08:00:00",{"$f":"SUM(C12,C36,C60,C84,C108,C132,C156)","v":0},0,0,0,0,0,0,0,0,0,0,0,0,0,{"$f":"SUM(Q12,Q36,Q60,Q84,Q108,Q132,Q156)","v":0},0,0,0,0,0,0,0,0,0,0,0,0,0,0,0,0,0,0,0,0,{"$f":"IFERROR(ROUND(AVERAGE(_xlfn._xlws.FILTER(Data_Table[Speed],(Data_Table[Direction]=ImportData!Direction_1)*(Data_Table[Period]-INT(Data_Table[Period])=B204))),2),\"-\")","v":"-"},{"$f":"IFERROR(ROUND(PERCENTILE(_xlfn._xlws.FILTER(Data_Table[Speed],(Data_Table[Direction]=ImportData!Direction_1)*(Data_Table[Period]-INT(Data_Table[Period])=B204)*(SUM(C204:N204)>=10)),0.85),2),\"-\")","v":"-"}]
[null,"09:00:00",{"$f":"SUM(C13,C37,C61,C85,C109,C133,C157)","v":0},0,0,0,0,0,0,0,0,0,0,0,0,0,{"$f":"SUM(Q13,Q37,Q61,Q85,Q109,Q133,Q157)","v":0},0,0,0,0,0,0,0,0,0,0,0,0,0,0,0,0,0,0,0,0,{"$f":"IFERROR(ROUND(AVERAGE(_xlfn._xlws.FILTER(Data_Table[Speed],(Data_Table[Direction]=ImportData!Direction_1)*(Data_Table[Period]-INT(Data_Table[Period])=B205))),2),\"-\")","v":"-"},{"$f":"IFERROR(ROUND(PERCENTILE(_xlfn._xlws.FILTER(Data_Table[Speed],(Data_Table[Direction]=ImportData!Direction_1)*(Data_Table[Period]-INT(Data_Table[Period])=B205)*(SUM(C205:N205)>=10)),0.85),2),\"-\")","v":"-"}]
[null,"10:00:00",{"$f":"SUM(C14,C38,C62,C86,C110,C134,C158)","v":0},0,0,0,0,0,0,0,0,0,0,0,0,0,{"$f":"SUM(Q14,Q38,Q62,Q86,Q110,Q134,Q158)","v":0},0,0,0,0,0,0,0,0,0,0,0,0,0,0,0,0,0,0,0,0,{"$f":"IFERROR(ROUND(AVERAGE(_xlfn._xlws.FILTER(Data_Table[Speed],(Data_Table[Direction]=ImportData!Direction_1)*(Data_Table[Period]-INT(Data_Table[Period])=B206))),2),\"-\")","v":"-"},{"$f":"IFERROR(ROUND(PERCENTILE(_xlfn._xlws.FILTER(Data_Table[Speed],(Data_Table[Direction]=ImportData!Direction_1)*(Data_Table[Period]-INT(Data_Table[Period])=B206)*(SUM(C206:N206)>=10)),0.85),2),\"-\")","v":"-"}]
[null,"11:00:00",{"$f":"SUM(C15,C39,C63,C87,C111,C135,C159)","v":0},0,0,0,0,0,0,0,0,0,0,0,0,0,{"$f":"SUM(Q15,Q39,Q63,Q87,Q111,Q135,Q159)","v":0},0,0,0,0,0,0,0,0,0,0,0,0,0,0,0,0,0,0,0,0,{"$f":"IFERROR(ROUND(AVERAGE(_xlfn._xlws.FILTER(Data_Table[Speed],(Data_Table[Direction]=ImportData!Direction_1)*(Data_Table[Period]-INT(Data_Table[Period])=B207))),2),\"-\")","v":"-"},{"$f":"IFERROR(ROUND(PERCENTILE(_xlfn._xlws.FILTER(Data_Table[Speed],(Data_Table[Direction]=ImportData!Direction_1)*(Data_Table[Period]-INT(Data_Table[Period])=B207)*(SUM(C207:N207)>=10)),0.85),2),\"-\")","v":"-"}]
[null,"12:00:00",{"$f":"SUM(C16,C40,C64,C88,C112,C136,C160)","v":0},0,0,0,0,0,0,0,0,0,0,0,0,0,{"$f":"SUM(Q16,Q40,Q64,Q88,Q112,Q136,Q160)","v":0},0,0,0,0,0,0,0,0,0,0,0,0,0,0,0,0,0,0,0,0,{"$f":"IFERROR(ROUND(AVERAGE(_xlfn._xlws.FILTER(Data_Table[Speed],(Data_Table[Direction]=ImportData!Direction_1)*(Data_Table[Period]-INT(Data_Table[Period])=B208))),2),\"-\")","v":"-"},{"$f":"IFERROR(ROUND(PERCENTILE(_xlfn._xlws.FILTER(Data_Table[Speed],(Data_Table[Direction]=ImportData!Direction_1)*(Data_Table[Period]-INT(Data_Table[Period])=B208)*(SUM(C208:N208)>=10)),0.85),2),\"-\")","v":"-"}]
[null,"13:00:00",{"$f":"SUM(C17,C41,C65,C89,C113,C137,C161)","v":0},0,0,0,0,0,0,0,0,0,0,0,0,0,{"$f":"SUM(Q17,Q41,Q65,Q89,Q113,Q137,Q161)","v":0},0,0,0,0,0,0,0,0,0,0,0,0,0,0,0,0,0,0,0,0,{"$f":"IFERROR(ROUND(AVERAGE(_xlfn._xlws.FILTER(Data_Table[Speed],(Data_Table[Direction]=ImportData!Direction_1)*(Data_Table[Period]-INT(Data_Table[Period])=B209))),2),\"-\")","v":"-"},{"$f":"IFERROR(ROUND(PERCENTILE(_xlfn._xlws.FILTER(Data_Table[Speed],(Data_Table[Direction]=ImportData!Direction_1)*(Data_Table[Period]-INT(Data_Table[Period])=B209)*(SUM(C209:N209)>=10)),0.85),2),\"-\")","v":"-"}]
[null,"14:00:00",{"$f":"SUM(C18,C42,C66,C90,C114,C138,C162)","v":0},0,0,0,0,0,0,0,0,0,0,0,0,0,{"$f":"SUM(Q18,Q42,Q66,Q90,Q114,Q138,Q162)","v":0},0,0,0,0,0,0,0,0,0,0,0,0,0,0,0,0,0,0,0,0,{"$f":"IFERROR(ROUND(AVERAGE(_xlfn._xlws.FILTER(Data_Table[Speed],(Data_Table[Direction]=ImportData!Direction_1)*(Data_Table[Period]-INT(Data_Table[Period])=B210))),2),\"-\")","v":"-"},{"$f":"IFERROR(ROUND(PERCENTILE(_xlfn._xlws.FILTER(Data_Table[Speed],(Data_Table[Direction]=ImportData!Direction_1)*(Data_Table[Period]-INT(Data_Table[Period])=B210)*(SUM(C210:N210)>=10)),0.85),2),\"-\")","v":"-"}]
[null,"15:00:00",{"$f":"SUM(C19,C43,C67,C91,C115,C139,C163)","v":0},0,0,0,0,0,0,0,0,0,0,0,0,0,{"$f":"SUM(Q19,Q43,Q67,Q91,Q115,Q139,Q163)","v":0},0,0,0,0,0,0,0,0,0,0,0,0,0,0,0,0,0,0,0,0,{"$f":"IFERROR(ROUND(AVERAGE(_xlfn._xlws.FILTER(Data_Table[Speed],(Data_Table[Direction]=ImportData!Direction_1)*(Data_Table[Period]-INT(Data_Table[Period])=B211))),2),\"-\")","v":"-"},{"$f":"IFERROR(ROUND(PERCENTILE(_xlfn._xlws.FILTER(Data_Table[Speed],(Data_Table[Direction]=ImportData!Direction_1)*(Data_Table[Period]-INT(Data_Table[Period])=B211)*(SUM(C211:N211)>=10)),0.85),2),\"-\")","v":"-"}]
[null,"16:00:00",{"$f":"SUM(C20,C44,C68,C92,C116,C140,C164)","v":0},0,0,0,0,0,0,0,0,0,0,0,0,0,{"$f":"SUM(Q20,Q44,Q68,Q92,Q116,Q140,Q164)","v":0},0,0,0,0,0,0,0,0,0,0,0,0,0,0,0,0,0,0,0,0,{"$f":"IFERROR(ROUND(AVERAGE(_xlfn._xlws.FILTER(Data_Table[Speed],(Data_Table[Direction]=ImportData!Direction_1)*(Data_Table[Period]-INT(Data_Table[Period])=B212))),2),\"-\")","v":"-"},{"$f":"IFERROR(ROUND(PERCENTILE(_xlfn._xlws.FILTER(Data_Table[Speed],(Data_Table[Direction]=ImportData!Direction_1)*(Data_Table[Period]-INT(Data_Table[Period])=B212)*(SUM(C212:N212)>=10)),0.85),2),\"-\")","v":"-"}]
[null,"17:00:00",{"$f":"SUM(C21,C45,C69,C93,C117,C141,C165)","v":0},0,0,0,0,0,0,0,0,0,0,0,0,0,{"$f":"SUM(Q21,Q45,Q69,Q93,Q117,Q141,Q165)","v":0},0,0,0,0,0,0,0,0,0,0,0,0,0,0,0,0,0,0,0,0,{"$f":"IFERROR(ROUND(AVERAGE(_xlfn._xlws.FILTER(Data_Table[Speed],(Data_Table[Direction]=ImportData!Direction_1)*(Data_Table[Period]-INT(Data_Table[Period])=B213))),2),\"-\")","v":"-"},{"$f":"IFERROR(ROUND(PERCENTILE(_xlfn._xlws.FILTER(Data_Table[Speed],(Data_Table[Direction]=ImportData!Direction_1)*(Data_Table[Period]-INT(Data_Table[Period])=B213)*(SUM(C213:N213)>=10)),0.85),2),\"-\")","v":"-"}]
[null,"18:00:00",{"$f":"SUM(C22,C46,C70,C94,C118,C142,C166)","v":0},0,0,0,0,0,0,0,0,0,0,0,0,0,{"$f":"SUM(Q22,Q46,Q70,Q94,Q118,Q142,Q166)","v":0},0,0,0,0,0,0,0,0,0,0,0,0,0,0,0,0,0,0,0,0,{"$f":"IFERROR(ROUND(AVERAGE(_xlfn._xlws.FILTER(Data_Table[Speed],(Data_Table[Direction]=ImportData!Direction_1)*(Data_Table[Period]-INT(Data_Table[Period])=B214))),2),\"-\")","v":"-"},{"$f":"IFERROR(ROUND(PERCENTILE(_xlfn._xlws.FILTER(Data_Table[Speed],(Data_Table[Direction]=ImportData!Direction_1)*(Data_Table[Period]-INT(Data_Table[Period])=B214)*(SUM(C214:N214)>=10)),0.85),2),\"-\")","v":"-"}]
[null,"19:00:00",{"$f":"SUM(C23,C47,C71,C95,C119,C143,C167)","v":0},0,0,0,0,0,0,0,0,0,0,0,0,0,{"$f":"SUM(Q23,Q47,Q71,Q95,Q119,Q143,Q167)","v":0},0,0,0,0,0,0,0,0,0,0,0,0,0,0,0,0,0,0,0,0,{"$f":"IFERROR(ROUND(AVERAGE(_xlfn._xlws.FILTER(Data_Table[Speed],(Data_Table[Direction]=ImportData!Direction_1)*(Data_Table[Period]-INT(Data_Table[Period])=B215))),2),\"-\")","v":"-"},{"$f":"IFERROR(ROUND(PERCENTILE(_xlfn._xlws.FILTER(Data_Table[Speed],(Data_Table[Direction]=ImportData!Direction_1)*(Data_Table[Period]-INT(Data_Table[Period])=B215)*(SUM(C215:N215)>=10)),0.85),2),\"-\")","v":"-"}]
[null,"20:00:00",{"$f":"SUM(C24,C48,C72,C96,C120,C144,C168)","v":0},0,0,0,0,0,0,0,0,0,0,0,0,0,{"$f":"SUM(Q24,Q48,Q72,Q96,Q120,Q144,Q168)","v":0},0,0,0,0,0,0,0,0,0,0,0,0,0,0,0,0,0,0,0,0,{"$f":"IFERROR(ROUND(AVERAGE(_xlfn._xlws.FILTER(Data_Table[Speed],(Data_Table[Direction]=ImportData!Direction_1)*(Data_Table[Period]-INT(Data_Table[Period])=B216))),2),\"-\")","v":"-"},{"$f":"IFERROR(ROUND(PERCENTILE(_xlfn._xlws.FILTER(Data_Table[Speed],(Data_Table[Direction]=ImportData!Direction_1)*(Data_Table[Period]-INT(Data_Table[Period])=B216)*(SUM(C216:N216)>=10)),0.85),2),\"-\")","v":"-"}]
[null,"21:00:00",{"$f":"SUM(C25,C49,C73,C97,C121,C145,C169)","v":0},0,0,0,0,0,0,0,0,0,0,0,0,0,{"$f":"SUM(Q25,Q49,Q73,Q97,Q121,Q145,Q169)","v":0},0,0,0,0,0,0,0,0,0,0,0,0,0,0,0,0,0,0,0,0,{"$f":"IFERROR(ROUND(AVERAGE(_xlfn._xlws.FILTER(Data_Table[Speed],(Data_Table[Direction]=ImportData!Direction_1)*(Data_Table[Period]-INT(Data_Table[Period])=B217))),2),\"-\")","v":"-"},{"$f":"IFERROR(ROUND(PERCENTILE(_xlfn._xlws.FILTER(Data_Table[Speed],(Data_Table[Direction]=ImportData!Direction_1)*(Data_Table[Period]-INT(Data_Table[Period])=B217)*(SUM(C217:N217)>=10)),0.85),2),\"-\")","v":"-"}]
[null,"22:00:00",{"$f":"SUM(C26,C50,C74,C98,C122,C146,C170)","v":0},0,0,0,0,0,0,0,0,0,0,0,0,0,{"$f":"SUM(Q26,Q50,Q74,Q98,Q122,Q146,Q170)","v":0},0,0,0,0,0,0,0,0,0,0,0,0,0,0,0,0,0,0,0,0,{"$f":"IFERROR(ROUND(AVERAGE(_xlfn._xlws.FILTER(Data_Table[Speed],(Data_Table[Direction]=ImportData!Direction_1)*(Data_Table[Period]-INT(Data_Table[Period])=B218))),2),\"-\")","v":"-"},{"$f":"IFERROR(ROUND(PERCENTILE(_xlfn._xlws.FILTER(Data_Table[Speed],(Data_Table[Direction]=ImportData!Direction_1)*(Data_Table[Period]-INT(Data_Table[Period])=B218)*(SUM(C218:N218)>=10)),0.85),2),\"-\")","v":"-"}]
[null,"23:00:00",{"$f":"SUM(C27,C51,C75,C99,C123,C147,C171)","v":0},0,0,0,0,0,0,0,0,0,0,0,0,0,{"$f":"SUM(Q27,Q51,Q75,Q99,Q123,Q147,Q171)","v":0},0,0,0,0,0,0,0,0,0,0,0,0,0,0,0,0,0,0,0,0,{"$f":"IFERROR(ROUND(AVERAGE(_xlfn._xlws.FILTER(Data_Table[Speed],(Data_Table[Direction]=ImportData!Direction_1)*(Data_Table[Period]-INT(Data_Table[Period])=B219))),2),\"-\")","v":"-"},{"$f":"IFERROR(ROUND(PERCENTILE(_xlfn._xlws.FILTER(Data_Table[Speed],(Data_Table[Direction]=ImportData!Direction_1)*(Data_Table[Period]-INT(Data_Table[Period])=B219)*(SUM(C219:N219)>=10)),0.85),2),\"-\")","v":"-"}]

{"sheet":"Dir2","index":12,"n_rows":219,"n_cols":47,"rows_kept":219,"cut":false,"hidden":true,"merged":[[1,39,2,39],[1,1,2,1],[1,2,1,13],[1,14,1,36],[1,37,2,37],[1,38,2,38]]}
[]
[null,"Time","Vehicle Class",null,null,null,null,null,null,null,null,null,null,null,"Speed Bin",null,null,null,null,null,null,null,null,null,null,null,null,null,null,null,null,null,null,null,null,null,null,"Average",0.85]
[null,null,1,2,3,4,5,6,7,8,9,10,11,12,5,10,15,20,25,30,35,40,45,50,55,60,65,70,75,80,85,90,95,100,105,110,115,null,null,null,null,null,"Headway >=0",null,"Median","Average",0.85]
[0,{"$f":"ImportData!$B$10+MOD(1-ImportData!$E$10,7)","v":"2022-05-16"},{"$f":"COUNTIFS(Data_Table[Direction],ImportData!Direction_2,Data_Table[Class],C$3:N$3,Data_Table[Period], $B4:$B171)","v":0},0,0,0,0,0,0,0,0,0,0,0,{"$f":"COUNTIFS(Data_Table[Direction],ImportData!Direction_2,Data_Table[Speed],\">\" & O$3:AJ$3,Data_Table[Speed],\"<=\" & P$3:AK$3,Data_Table[Period], $B4:$B171)","v":0},0,0,0,0,0,0,0,0,0,0,0,0,0,0,0,0,0,0,0,0,0,{"$f":"COUNTIFS(Data_Table[Direction],ImportData!Direction_2,Data_Table[Speed],\">\" & AK$3,Data_Table[Period], $B4:$B171)","v":0},{"$f":"IFERROR(ROUND(AVERAGEIFS(Data_Table[Speed],Data_Table[Direction],ImportData!Direction_2,Data_Table[Period], $B4:$B171),2),\"-\")","v":"-"},{"$f":"IFERROR(ROUND(PERCENTILE(_xlfn._xlws.FILTER(Data_Table[Speed],(Data_Table[Direction]=ImportData!Direction_2)*(Data_Table[Period]=$B4)*(SUM(C4:N4)>=10)),0.85),2),\"-\")","v":"-"},null,null,0,{"$f":"OFFSET($B$4,AP4*24,0)","v":"2022-05-16"},null,{"$f":"IFERROR(ROUND(PERCENTILE(_xlfn._xlws.FILTER(Data_Table[Speed],(Data_Table[Direction]=ImportData!Direction_2)*(Data_Table[Weekday]=$AP4+1)),0.5),2),\"-\")","v":"-"},{"$f":"IFERROR(ROUND(AVERAGEIFS(Data_Table[Speed],Data_Table[Direction],ImportData!Direction_2,Data_Table[Weekday], $AP4:$AP10+1),2),\"-\")","v":"-"},{"$f":"IFERROR(ROUND(PERCENTILE(_xlfn._xlws.FILTER(Data_Table[Speed],(Data_Table[Direction]=ImportData!Direction_2)*(Data_Table[Weekday]=$AP4+1)),0.85),2),\"-\")","v":"-"}]
[1,{"$f":"ImportData!$B$10+7*QUOTIENT(A5,24*60*7/ImportData!$B$8)+MOD(1+QUOTIENT(A5,24*60/ImportData!$B$8)-ImportData!$E$10,7)+TIME(0,ImportData!$B$8*A5,0)","v":"2022-05-16T01:00:00"},0,0,0,0,0,0,0,0,0,0,0,0,0,0,0,0,0,0,0,0,0,0,0,0,0,0,0,0,0,0,0,0,0,0,0,"-",{"$f":"IFERROR(ROUND(PERCENTILE(_xlfn._xlws.FILTER(Data_Table[Speed],(Data_Table[Direction]=ImportData!Direction_2)*(Data_Table[Period]=$B5)*(SUM(C5:N5)>=10)),0.85),2),\"-\")","v":"-"},null,null,1,{"$f":"OFFSET($B$4,AP5*24,0)","v":"2022-05-17"},null,{"$f":"IFERROR(ROUND(PERCENTILE(_xlfn._xlws.FILTER(Data_Table[Speed],(Data_Table[Direction]=ImportData!Direction_2)*(Data_Table[Weekday]=$AP5+1)),0.5),2),\"-\")","v":"-"},"-",{"$f":"IFERROR(ROUND(PERCENTILE(_xlfn._xlws.FILTER(Data_Table[Speed],(Data_Table[Direction]=ImportData!Direction_2)*(Data_Table[Weekday]=$AP5+1)),0.85),2),\"-\")","v":"-"}]
[2,{"$f":"ImportData!$B$10+7*QUOTIENT(A6,24*60*7/ImportData!$B$8)+MOD(1+QUOTIENT(A6,24*60/ImportData!$B$8)-ImportData!$E$10,7)+TIME(0,ImportData!$B$8*A6,0)","v":"2022-05-16T02:00:00"},0,0,0,0,0,0,0,0,0,0,0,0,0,0,0,0,0,0,0,0,0,0,0,0,0,0,0,0,0,0,0,0,0,0,0,"-",{"$f":"IFERROR(ROUND(PERCENTILE(_xlfn._xlws.FILTER(Data_Table[Speed],(Data_Table[Direction]=ImportData!Direction_2)*(Data_Table[Period]=$B6)*(SUM(C6:N6)>=10)),0.85),2),\"-\")","v":"-"},null,null,2,"2022-05-11",null,{"$f":"IFERROR(ROUND(PERCENTILE(_xlfn._xlws.FILTER(Data_Table[Speed],(Data_Table[Direction]=ImportData!Direction_2)*(Data_Table[Weekday]=$AP6+1)),0.5),2),\"-\")","v":"-"},"-",{"$f":"IFERROR(ROUND(PERCENTILE(_xlfn._xlws.FILTER(Data_Table[Speed],(Data_Table[Direction]=ImportData!Direction_2)*(Data_Table[Weekday]=$AP6+1)),0.85),2),\"-\")","v":"-"}]
[3,{"$f":"ImportData!$B$10+7*QUOTIENT(A7,24*60*7/ImportData!$B$8)+MOD(1+QUOTIENT(A7,24*60/ImportData!$B$8)-ImportData!$E$10,7)+TIME(0,ImportData!$B$8*A7,0)","v":"2022-05-16T03:00:00"},0,0,0,0,0,0,0,0,0,0,0,0,0,0,0,0,0,0,0,0,0,0,0,0,0,0,0,0,0,0,0,0,0,0,0,"-",{"$f":"IFERROR(ROUND(PERCENTILE(_xlfn._xlws.FILTER(Data_Table[Speed],(Data_Table[Direction]=ImportData!Direction_2)*(Data_Table[Period]=$B7)*(SUM(C7:N7)>=10)),0.85),2),\"-\")","v":"-"},null,null,3,"2022-05-12",null,{"$f":"IFERROR(ROUND(PERCENTILE(_xlfn._xlws.FILTER(Data_Table[Speed],(Data_Table[Direction]=ImportData!Direction_2)*(Data_Table[Weekday]=$AP7+1)),0.5),2),\"-\")","v":"-"},"-",{"$f":"IFERROR(ROUND(PERCENTILE(_xlfn._xlws.FILTER(Data_Table[Speed],(Data_Table[Direction]=ImportData!Direction_2)*(Data_Table[Weekday]=$AP7+1)),0.85),2),\"-\")","v":"-"}]
[4,{"$f":"ImportData!$B$10+7*QUOTIENT(A8,24*60*7/ImportData!$B$8)+MOD(1+QUOTIENT(A8,24*60/ImportData!$B$8)-ImportData!$E$10,7)+TIME(0,ImportData!$B$8*A8,0)","v":"2022-05-16T04:00:00"},0,0,0,0,0,0,0,0,0,0,0,0,0,0,0,0,0,0,0,0,0,0,0,0,0,0,0,0,0,0,0,0,0,0,0,"-",{"$f":"IFERROR(ROUND(PERCENTILE(_xlfn._xlws.FILTER(Data_Table[Speed],(Data_Table[Direction]=ImportData!Direction_2)*(Data_Table[Period]=$B8)*(SUM(C8:N8)>=10)),0.85),2),\"-\")","v":"-"},null,null,4,"2022-05-13",null,{"$f":"IFERROR(ROUND(PERCENTILE(_xlfn._xlws.FILTER(Data_Table[Speed],(Data_Table[Direction]=ImportData!Direction_2)*(Data_Table[Weekday]=$AP8+1)),0.5),2),\"-\")","v":"-"},"-",{"$f":"IFERROR(ROUND(PERCENTILE(_xlfn._xlws.FILTER(Data_Table[Speed],(Data_Table[Direction]=ImportData!Direction_2)*(Data_Table[Weekday]=$AP8+1)),0.85),2),\"-\")","v":"-"}]
[5,{"$f":"ImportData!$B$10+7*QUOTIENT(A9,24*60*7/ImportData!$B$8)+MOD(1+QUOTIENT(A9,24*60/ImportData!$B$8)-ImportData!$E$10,7)+TIME(0,ImportData!$B$8*A9,0)","v":"2022-05-16T05:00:00"},0,0,0,0,0,0,0,0,0,0,0,0,0,0,0,0,0,0,0,0,0,0,0,0,0,0,0,0,0,0,0,0,0,0,0,"-",{"$f":"IFERROR(ROUND(PERCENTILE(_xlfn._xlws.FILTER(Data_Table[Speed],(Data_Table[Direction]=ImportData!Direction_2)*(Data_Table[Period]=$B9)*(SUM(C9:N9)>=10)),0.85),2),\"-\")","v":"-"},null,null,5,"2022-05-14",null,{"$f":"IFERROR(ROUND(PERCENTILE(_xlfn._xlws.FILTER(Data_Table[Speed],(Data_Table[Direction]=ImportData!Direction_2)*(Data_Table[Weekday]=$AP9+1)),0.5),2),\"-\")","v":"-"},"-",{"$f":"IFERROR(ROUND(PERCENTILE(_xlfn._xlws.FILTER(Data_Table[Speed],(Data_Table[Direction]=ImportData!Direction_2)*(Data_Table[Weekday]=$AP9+1)),0.85),2),\"-\")","v":"-"}]
[6,{"$f":"ImportData!$B$10+7*QUOTIENT(A10,24*60*7/ImportData!$B$8)+MOD(1+QUOTIENT(A10,24*60/ImportData!$B$8)-ImportData!$E$10,7)+TIME(0,ImportData!$B$8*A10,0)","v":"2022-05-16T06:00:00"},0,0,0,0,0,0,0,0,0,0,0,0,0,0,0,0,0,0,0,0,0,0,0,0,0,0,0,0,0,0,0,0,0,0,0,"-",{"$f":"IFERROR(ROUND(PERCENTILE(_xlfn._xlws.FILTER(Data_Table[Speed],(Data_Table[Direction]=ImportData!Direction_2)*(Data_Table[Period]=$B10)*(SUM(C10:N10)>=10)),0.85),2),\"-\")","v":"-"},null,null,6,"2022-05-15",null,{"$f":"IFERROR(ROUND(PERCENTILE(_xlfn._xlws.FILTER(Data_Table[Speed],(Data_Table[Direction]=ImportData!Direction_2)*(Data_Table[Weekday]=$AP10+1)),0.5),2),\"-\")","v":"-"},"-",{"$f":"IFERROR(ROUND(PERCENTILE(_xlfn._xlws.FILTER(Data_Table[Speed],(Data_Table[Direction]=ImportData!Direction_2)*(Data_Table[Weekday]=$AP10+1)),0.85),2),\"-\")","v":"-"}]
[7,{"$f":"ImportData!$B$10+7*QUOTIENT(A11,24*60*7/ImportData!$B$8)+MOD(1+QUOTIENT(A11,24*60/ImportData!$B$8)-ImportData!$E$10,7)+TIME(0,ImportData!$B$8*A11,0)","v":"2022-05-16T07:00:00"},0,0,0,0,0,0,0,0,0,0,0,0,0,0,0,0,0,0,0,0,0,0,0,0,0,0,0,0,0,0,0,0,0,0,0,"-",{"$f":"IFERROR(ROUND(PERCENTILE(_xlfn._xlws.FILTER(Data_Table[Speed],(Data_Table[Direction]=ImportData!Direction_2)*(Data_Table[Period]=$B11)*(SUM(C11:N11)>=10)),0.85),2),\"-\")","v":"-"},null,null,null,"Weekdays",null,{"$f":"IFERROR(ROUND(PERCENTILE(_xlfn._xlws.FILTER(Data_Table[Speed],(Data_Table[Direction]=ImportData!Direction_2)*(Data_Table[Weekday]< 6)),0.5),2),\"-\")","v":"-"},{"$f":"IFERROR(ROUND(AVERAGEIFS(Data_Table[Speed],Data_Table[Direction],ImportData!Direction_2,Data_Table[Weekday],\"<\" & 6),2),\"-\")","v":"-"},{"$f":"IFERROR(ROUND(PERCENTILE(_xlfn._xlws.FILTER(Data_Table[Speed],(Data_Table[Direction]=ImportData!Direction_2)*(Data_Table[Weekday]< 6)),0.85),2),\"-\")","v":"-"}]
[8,{"$f":"ImportData!$B$10+7*QUOTIENT(A12,24*60*7/ImportData!$B$8)+MOD(1+QUOTIENT(A12,24*60/ImportData!$B$8)-ImportData!$E$10,7)+TIME(0,ImportData!$B$8*A12,0)","v":"2022-05-16T08:00:00"},0,0,0,0,0,0,0,0,0,0,0,0,0,0,0,0,0,0,0,0,0,0,0,0,0,0,0,0,0,0,0,0,0,0,0,"-",{"$f":"IFERROR(ROUND(PERCENTILE(_xlfn._xlws.FILTER(Data_Table[Speed],(Data_Table[Direction]=ImportData!Direction_2)*(Data_Table[Period]=$B12)*(SUM(C12:N12)>=10)),0.85),2),\"-\")","v":"-"},null,null,null,"7 days",null,{"$f":"IFERROR(ROUND(PERCENTILE(_xlfn._xlws.FILTER(Data_Table[Speed],(Data_Table[Direction]=ImportData!Direction_2)),0.5),2),\"-\")","v":"-"},{"$f":"IFERROR(ROUND(AVERAGEIFS(Data_Table[Speed],Data_Table[Direction],ImportData!Direction_2),2),\"-\")","v":"-"},{"$f":"IFERROR(ROUND(PERCENTILE(_xlfn._xlws.FILTER(Data_Table[Speed],(Data_Table[Direction]=ImportData!Direction_2)),0.85),2),\"-\")","v":"-"}]
[9,{"$f":"ImportData!$B$10+7*QUOTIENT(A13,24*60*7/ImportData!$B$8)+MOD(1+QUOTIENT(A13,24*60/ImportData!$B$8)-ImportData!$E$10,7)+TIME(0,ImportData!$B$8*A13,0)","v":"2022-05-16T09:00:00"},0,0,0,0,0,0,0,0,0,0,0,0,0,0,0,0,0,0,0,0,0,0,0,0,0,0,0,0,0,0,0,0,0,0,0,"-",{"$f":"IFERROR(ROUND(PERCENTILE(_xlfn._xlws.FILTER(Data_Table[Speed],(Data_Table[Direction]=ImportData!Direction_2)*(Data_Table[Period]=$B13)*(SUM(C13:N13)>=10)),0.85),2),\"-\")","v":"-"}]
[10,{"$f":"ImportData!$B$10+7*QUOTIENT(A14,24*60*7/ImportData!$B$8)+MOD(1+QUOTIENT(A14,24*60/ImportData!$B$8)-ImportData!$E$10,7)+TIME(0,ImportData!$B$8*A14,0)","v":"2022-05-16T10:00:00"},0,0,0,0,0,0,0,0,0,0,0,0,0,0,0,0,0,0,0,0,0,0,0,0,0,0,0,0,0,0,0,0,0,0,0,"-",{"$f":"IFERROR(ROUND(PERCENTILE(_xlfn._xlws.FILTER(Data_Table[Speed],(Data_Table[Direction]=ImportData!Direction_2)*(Data_Table[Period]=$B14)*(SUM(C14:N14)>=10)),0.85),2),\"-\")","v":"-"}]
[11,{"$f":"ImportData!$B$10+7*QUOTIENT(A15,24*60*7/ImportData!$B$8)+MOD(1+QUOTIENT(A15,24*60/ImportData!$B$8)-ImportData!$E$10,7)+TIME(0,ImportData!$B$8*A15,0)","v":"2022-05-16T11:00:00"},0,0,0,0,0,0,0,0,0,0,0,0,0,0,0,0,0,0,0,0,0,0,0,0,0,0,0,0,0,0,0,0,0,0,0,"-",{"$f":"IFERROR(ROUND(PERCENTILE(_xlfn._xlws.FILTER(Data_Table[Speed],(Data_Table[Direction]=ImportData!Direction_2)*(Data_Table[Period]=$B15)*(SUM(C15:N15)>=10)),0.85),2),\"-\")","v":"-"},null,null,null,"Headway >=4",null,"Median","Average",0.85]
[12,{"$f":"ImportData!$B$10+7*QUOTIENT(A16,24*60*7/ImportData!$B$8)+MOD(1+QUOTIENT(A16,24*60/ImportData!$B$8)-ImportData!$E$10,7)+TIME(0,ImportData!$B$8*A16,0)","v":"2022-05-16T12:00:00"},0,0,0,0,0,0,0,0,0,0,0,0,0,0,0,0,0,0,0,0,0,0,0,0,0,0,0,0,0,0,0,0,0,0,0,"-",{"$f":"IFERROR(ROUND(PERCENTILE(_xlfn._xlws.FILTER(Data_Table[Speed],(Data_Table[Direction]=ImportData!Direction_2)*(Data_Table[Period]=$B16)*(SUM(C16:N16)>=10)),0.85),2),\"-\")","v":"-"},null,null,0,{"$f":"OFFSET($B$4,AP16*24,0)","v":"2022-05-16"},null,{"$f":"IFERROR(ROUND(PERCENTILE(_xlfn._xlws.FILTER(Data_Table[Speed],(Data_Table[Headway]>= 4)*(Data_Table[Direction]=ImportData!Direction_2)*(Data_Table[Weekday]=$AP16+1)),0.5),2),\"-\")","v":"-"},{"$f":"IFERROR(ROUND(AVERAGEIFS(Data_Table[Speed],Data_Table[Headway],\">=\" & 4,Data_Table[Direction],ImportData!Direction_2,Data_Table[Weekday],$AP16:$AP22+1),2),\"-\")","v":"-"},{"$f":"IFERROR(ROUND(PERCENTILE(_xlfn._xlws.FILTER(Data_Table[Speed],(Data_Table[Headway]>= 4)*(Data_Table[Direction]=ImportData!Direction_2)*(Data_Table[Weekday]=$AP16+1)),0.85),2),\"-\")","v":"-"}]
[13,{"$f":"ImportData!$B$10+7*QUOTIENT(A17,24*60*7/ImportData!$B$8)+MOD(1+QUOTIENT(A17,24*60/ImportData!$B$8)-ImportData!$E$10,7)+TIME(0,ImportData!$B$8*A17,0)","v":"2022-05-16T13:00:00"},0,0,0,0,0,0,0,0,0,0,0,0,0,0,0,0,0,0,0,0,0,0,0,0,0,0,0,0,0,0,0,0,0,0,0,"-",{"$f":"IFERROR(ROUND(PERCENTILE(_xlfn._xlws.FILTER(Data_Table[Speed],(Data_Table[Direction]=ImportData!Direction_2)*(Data_Table[Period]=$B17)*(SUM(C17:N17)>=10)),0.85),2),\"-\")","v":"-"},null,null,1,{"$f":"OFFSET($B$4,AP17*24,0)","v":"2022-05-17"},null,{"$f":"IFERROR(ROUND(PERCENTILE(_xlfn._xlws.FILTER(Data_Table[Speed],(Data_Table[Headway]>= 4)*(Data_Table[Direction]=ImportData!Direction_2)*(Data_Table[Weekday]=$AP17+1)),0.5),2),\"-\")","v":"-"},"-",{"$f":"IFERROR(ROUND(PERCENTILE(_xlfn._xlws.FILTER(Data_Table[Speed],(Data_Table[Headway]>= 4)*(Data_Table[Direction]=ImportData!Direction_2)*(Data_Table[Weekday]=$AP17+1)),0.85),2),\"-\")","v":"-"}]
[14,{"$f":"ImportData!$B$10+7*QUOTIENT(A18,24*60*7/ImportData!$B$8)+MOD(1+QUOTIENT(A18,24*60/ImportData!$B$8)-ImportData!$E$10,7)+TIME(0,ImportData!$B$8*A18,0)","v":"2022-05-16T14:00:00"},0,0,0,0,0,0,0,0,0,0,0,0,0,0,0,0,0,0,0,0,0,0,0,0,0,0,0,0,0,0,0,0,0,0,0,"-",{"$f":"IFERROR(ROUND(PERCENTILE(_xlfn._xlws.FILTER(Data_Table[Speed],(Data_Table[Direction]=ImportData!Direction_2)*(Data_Table[Period]=$B18)*(SUM(C18:N18)>=10)),0.85),2),\"-\")","v":"-"},null,null,2,"2022-05-11",null,{"$f":"IFERROR(ROUND(PERCENTILE(_xlfn._xlws.FILTER(Data_Table[Speed],(Data_Table[Headway]>= 4)*(Data_Table[Direction]=ImportData!Direction_2)*(Data_Table[Weekday]=$AP18+1)),0.5),2),\"-\")","v":"-"},"-",{"$f":"IFERROR(ROUND(PERCENTILE(_xlfn._xlws.FILTER(Data_Table[Speed],(Data_Table[Headway]>= 4)*(Data_Table[Direction]=ImportData!Direction_2)*(Data_Table[Weekday]=$AP18+1)),0.85),2),\"-\")","v":"-"}]
[15,{"$f":"ImportData!$B$10+7*QUOTIENT(A19,24*60*7/ImportData!$B$8)+MOD(1+QUOTIENT(A19,24*60/ImportData!$B$8)-ImportData!$E$10,7)+TIME(0,ImportData!$B$8*A19,0)","v":"2022-05-16T15:00:00"},0,0,0,0,0,0,0,0,0,0,0,0,0,0,0,0,0,0,0,0,0,0,0,0,0,0,0,0,0,0,0,0,0,0,0,"-",{"$f":"IFERROR(ROUND(PERCENTILE(_xlfn._xlws.FILTER(Data_Table[Speed],(Data_Table[Direction]=ImportData!Direction_2)*(Data_Table[Period]=$B19)*(SUM(C19:N19)>=10)),0.85),2),\"-\")","v":"-"},null,null,3,"2022-05-12",null,{"$f":"IFERROR(ROUND(PERCENTILE(_xlfn._xlws.FILTER(Data_Table[Speed],(Data_Table[Headway]>= 4)*(Data_Table[Direction]=ImportData!Direction_2)*(Data_Table[Weekday]=$AP19+1)),0.5),2),\"-\")","v":"-"},"-",{"$f":"IFERROR(ROUND(PERCENTILE(_xlfn._xlws.FILTER(Data_Table[Speed],(Data_Table[Headway]>= 4)*(Data_Table[Direction]=ImportData!Direction_2)*(Data_Table[Weekday]=$AP19+1)),0.85),2),\"-\")","v":"-"}]
[16,{"$f":"ImportData!$B$10+7*QUOTIENT(A20,24*60*7/ImportData!$B$8)+MOD(1+QUOTIENT(A20,24*60/ImportData!$B$8)-ImportData!$E$10,7)+TIME(0,ImportData!$B$8*A20,0)","v":"2022-05-16T16:00:00"},0,0,0,0,0,0,0,0,0,0,0,0,0,0,0,0,0,0,0,0,0,0,0,0,0,0,0,0,0,0,0,0,0,0,0,"-",{"$f":"IFERROR(ROUND(PERCENTILE(_xlfn._xlws.FILTER(Data_Table[Speed],(Data_Table[Direction]=ImportData!Direction_2)*(Data_Table[Period]=$B20)*(SUM(C20:N20)>=10)),0.85),2),\"-\")","v":"-"},null,null,4,"2022-05-13",null,{"$f":"IFERROR(ROUND(PERCENTILE(_xlfn._xlws.FILTER(Data_Table[Speed],(Data_Table[Headway]>= 4)*(Data_Table[Direction]=ImportData!Direction_2)*(Data_Table[Weekday]=$AP20+1)),0.5),2),\"-\")","v":"-"},"-",{"$f":"IFERROR(ROUND(PERCENTILE(_xlfn._xlws.FILTER(Data_Table[Speed],(Data_Table[Headway]>= 4)*(Data_Table[Direction]=ImportData!Direction_2)*(Data_Table[Weekday]=$AP20+1)),0.85),2),\"-\")","v":"-"}]
[17,{"$f":"ImportData!$B$10+7*QUOTIENT(A21,24*60*7/ImportData!$B$8)+MOD(1+QUOTIENT(A21,24*60/ImportData!$B$8)-ImportData!$E$10,7)+TIME(0,ImportData!$B$8*A21,0)","v":"2022-05-16T17:00:00"},0,0,0,0,0,0,0,0,0,0,0,0,0,0,0,0,0,0,0,0,0,0,0,0,0,0,0,0,0,0,0,0,0,0,0,"-",{"$f":"IFERROR(ROUND(PERCENTILE(_xlfn._xlws.FILTER(Data_Table[Speed],(Data_Table[Direction]=ImportData!Direction_2)*(Data_Table[Period]=$B21)*(SUM(C21:N21)>=10)),0.85),2),\"-\")","v":"-"},null,null,5,"2022-05-14",null,{"$f":"IFERROR(ROUND(PERCENTILE(_xlfn._xlws.FILTER(Data_Table[Speed],(Data_Table[Headway]>= 4)*(Data_Table[Direction]=ImportData!Direction_2)*(Data_Table[Weekday]=$AP21+1)),0.5),2),\"-\")","v":"-"},"-",{"$f":"IFERROR(ROUND(PERCENTILE(_xlfn._xlws.FILTER(Data_Table[Speed],(Data_Table[Headway]>= 4)*(Data_Table[Direction]=ImportData!Direction_2)*(Data_Table[Weekday]=$AP21+1)),0.85),2),\"-\")","v":"-"}]
[18,{"$f":"ImportData!$B$10+7*QUOTIENT(A22,24*60*7/ImportData!$B$8)+MOD(1+QUOTIENT(A22,24*60/ImportData!$B$8)-ImportData!$E$10,7)+TIME(0,ImportData!$B$8*A22,0)","v":"2022-05-16T18:00:00"},0,0,0,0,0,0,0,0,0,0,0,0,0,0,0,0,0,0,0,0,0,0,0,0,0,0,0,0,0,0,0,0,0,0,0,"-",{"$f":"IFERROR(ROUND(PERCENTILE(_xlfn._xlws.FILTER(Data_Table[Speed],(Data_Table[Direction]=ImportData!Direction_2)*(Data_Table[Period]=$B22)*(SUM(C22:N22)>=10)),0.85),2),\"-\")","v":"-"},null,null,6,"2022-05-15",null,{"$f":"IFERROR(ROUND(PERCENTILE(_xlfn._xlws.FILTER(Data_Table[Speed],(Data_Table[Headway]>= 4)*(Data_Table[Direction]=ImportData!Direction_2)*(Data_Table[Weekday]=$AP22+1)),0.5),2),\"-\")","v":"-"},"-",{"$f":"IFERROR(ROUND(PERCENTILE(_xlfn._xlws.FILTER(Data_Table[Speed],(Data_Table[Headway]>= 4)*(Data_Table[Direction]=ImportData!Direction_2)*(Data_Table[Weekday]=$AP22+1)),0.85),2),\"-\")","v":"-"}]
[19,{"$f":"ImportData!$B$10+7*QUOTIENT(A23,24*60*7/ImportData!$B$8)+MOD(1+QUOTIENT(A23,24*60/ImportData!$B$8)-ImportData!$E$10,7)+TIME(0,ImportData!$B$8*A23,0)","v":"2022-05-16T19:00:00"},0,0,0,0,0,0,0,0,0,0,0,0,0,0,0,0,0,0,0,0,0,0,0,0,0,0,0,0,0,0,0,0,0,0,0,"-",{"$f":"IFERROR(ROUND(PERCENTILE(_xlfn._xlws.FILTER(Data_Table[Speed],(Data_Table[Direction]=ImportData!Direction_2)*(Data_Table[Period]=$B23)*(SUM(C23:N23)>=10)),0.85),2),\"-\")","v":"-"},null,null,null,"Weekdays",null,{"$f":"IFERROR(ROUND(PERCENTILE(_xlfn._xlws.FILTER(Data_Table[Speed],(Data_Table[Headway]>= 4)*(Data_Table[Direction]=ImportData!Direction_2)*(Data_Table[Weekday]< 6)),0.5),2),\"-\")","v":"-"},{"$f":"IFERROR(ROUND(AVERAGEIFS(Data_Table[Speed],Data_Table[Headway],\">=\" & 4,Data_Table[Direction],ImportData!Direction_2,Data_Table[Weekday],\"<\" & 6),2),\"-\")","v":"-"},{"$f":"IFERROR(ROUND(PERCENTILE(_xlfn._xlws.FILTER(Data_Table[Speed],(Data_Table[Headway]>= 4)*(Data_Table[Direction]=ImportData!Direction_2)*(Data_Table[Weekday]< 6)),0.85),2),\"-\")","v":"-"}]
[20,{"$f":"ImportData!$B$10+7*QUOTIENT(A24,24*60*7/ImportData!$B$8)+MOD(1+QUOTIENT(A24,24*60/ImportData!$B$8)-ImportData!$E$10,7)+TIME(0,ImportData!$B$8*A24,0)","v":"2022-05-16T20:00:00"},0,0,0,0,0,0,0,0,0,0,0,0,0,0,0,0,0,0,0,0,0,0,0,0,0,0,0,0,0,0,0,0,0,0,0,"-",{"$f":"IFERROR(ROUND(PERCENTILE(_xlfn._xlws.FILTER(Data_Table[Speed],(Data_Table[Direction]=ImportData!Direction_2)*(Data_Table[Period]=$B24)*(SUM(C24:N24)>=10)),0.85),2),\"-\")","v":"-"},null,null,null,"7 days",null,{"$f":"IFERROR(ROUND(PERCENTILE(_xlfn._xlws.FILTER(Data_Table[Speed],(Data_Table[Headway]>= 4)*(Data_Table[Direction]=ImportData!Direction_2)),0.5),2),\"-\")","v":"-"},{"$f":"IFERROR(ROUND(AVERAGEIFS(Data_Table[Speed],Data_Table[Headway],\">=\" & 4,Data_Table[Direction],ImportData!Direction_2),2),\"-\")","v":"-"},{"$f":"IFERROR(ROUND(PERCENTILE(_xlfn._xlws.FILTER(Data_Table[Speed],(Data_Table[Headway]>= 4)*(Data_Table[Direction]=ImportData!Direction_2)),0.85),2),\"-\")","v":"-"}]
[21,{"$f":"ImportData!$B$10+7*QUOTIENT(A25,24*60*7/ImportData!$B$8)+MOD(1+QUOTIENT(A25,24*60/ImportData!$B$8)-ImportData!$E$10,7)+TIME(0,ImportData!$B$8*A25,0)","v":"2022-05-16T21:00:00"},0,0,0,0,0,0,0,0,0,0,0,0,0,0,0,0,0,0,0,0,0,0,0,0,0,0,0,0,0,0,0,0,0,0,0,"-",{"$f":"IFERROR(ROUND(PERCENTILE(_xlfn._xlws.FILTER(Data_Table[Speed],(Data_Table[Direction]=ImportData!Direction_2)*(Data_Table[Period]=$B25)*(SUM(C25:N25)>=10)),0.85),2),\"-\")","v":"-"}]
[22,{"$f":"ImportData!$B$10+7*QUOTIENT(A26,24*60*7/ImportData!$B$8)+MOD(1+QUOTIENT(A26,24*60/ImportData!$B$8)-ImportData!$E$10,7)+TIME(0,ImportData!$B$8*A26,0)","v":"2022-05-16T22:00:00"},0,0,0,0,0,0,0,0,0,0,0,0,0,0,0,0,0,0,0,0,0,0,0,0,0,0,0,0,0,0,0,0,0,0,0,"-",{"$f":"IFERROR(ROUND(PERCENTILE(_xlfn._xlws.FILTER(Data_Table[Speed],(Data_Table[Direction]=ImportData!Direction_2)*(Data_Table[Period]=$B26)*(SUM(C26:N26)>=10)),0.85),2),\"-\")","v":"-"}]
[23,{"$f":"ImportData!$B$10+7*QUOTIENT(A27,24*60*7/ImportData!$B$8)+MOD(1+QUOTIENT(A27,24*60/ImportData!$B$8)-ImportData!$E$10,7)+TIME(0,ImportData!$B$8*A27,0)","v":"2022-05-16T23:00:00"},0,0,0,0,0,0,0,0,0,0,0,0,0,0,0,0,0,0,0,0,0,0,0,0,0,0,0,0,0,0,0,0,0,0,0,"-",{"$f":"IFERROR(ROUND(PERCENTILE(_xlfn._xlws.FILTER(Data_Table[Speed],(Data_Table[Direction]=ImportData!Direction_2)*(Data_Table[Period]=$B27)*(SUM(C27:N27)>=10)),0.85),2),\"-\")","v":"-"}]
[24,{"$f":"ImportData!$B$10+7*QUOTIENT(A28,24*60*7/ImportData!$B$8)+MOD(1+QUOTIENT(A28,24*60/ImportData!$B$8)-ImportData!$E$10,7)+TIME(0,ImportData!$B$8*A28,0)","v":"2022-05-17"},0,0,0,0,0,0,0,0,0,0,0,0,0,0,0,0,0,0,0,0,0,0,0,0,0,0,0,0,0,0,0,0,0,0,0,"-",{"$f":"IFERROR(ROUND(PERCENTILE(_xlfn._xlws.FILTER(Data_Table[Speed],(Data_Table[Direction]=ImportData!Direction_2)*(Data_Table[Period]=$B28)*(SUM(C28:N28)>=10)),0.85),2),\"-\")","v":"-"}]
[25,{"$f":"ImportData!$B$10+7*QUOTIENT(A29,24*60*7/ImportData!$B$8)+MOD(1+QUOTIENT(A29,24*60/ImportData!$B$8)-ImportData!$E$10,7)+TIME(0,ImportData!$B$8*A29,0)","v":"2022-05-17T01:00:00"},0,0,0,0,0,0,0,0,0,0,0,0,0,0,0,0,0,0,0,0,0,0,0,0,0,0,0,0,0,0,0,0,0,0,0,"-",{"$f":"IFERROR(ROUND(PERCENTILE(_xlfn._xlws.FILTER(Data_Table[Speed],(Data_Table[Direction]=ImportData!Direction_2)*(Data_Table[Period]=$B29)*(SUM(C29:N29)>=10)),0.85),2),\"-\")","v":"-"}]
[26,{"$f":"ImportData!$B$10+7*QUOTIENT(A30,24*60*7/ImportData!$B$8)+MOD(1+QUOTIENT(A30,24*60/ImportData!$B$8)-ImportData!$E$10,7)+TIME(0,ImportData!$B$8*A30,0)","v":"2022-05-17T02:00:00"},0,0,0,0,0,0,0,0,0,0,0,0,0,0,0,0,0,0,0,0,0,0,0,0,0,0,0,0,0,0,0,0,0,0,0,"-",{"$f":"IFERROR(ROUND(PERCENTILE(_xlfn._xlws.FILTER(Data_Table[Speed],(Data_Table[Direction]=ImportData!Direction_2)*(Data_Table[Period]=$B30)*(SUM(C30:N30)>=10)),0.85),2),\"-\")","v":"-"}]
[27,{"$f":"ImportData!$B$10+7*QUOTIENT(A31,24*60*7/ImportData!$B$8)+MOD(1+QUOTIENT(A31,24*60/ImportData!$B$8)-ImportData!$E$10,7)+TIME(0,ImportData!$B$8*A31,0)","v":"2022-05-17T03:00:00"},0,0,0,0,0,0,0,0,0,0,0,0,0,0,0,0,0,0,0,0,0,0,0,0,0,0,0,0,0,0,0,0,0,0,0,"-",{"$f":"IFERROR(ROUND(PERCENTILE(_xlfn._xlws.FILTER(Data_Table[Speed],(Data_Table[Direction]=ImportData!Direction_2)*(Data_Table[Period]=$B31)*(SUM(C31:N31)>=10)),0.85),2),\"-\")","v":"-"}]
[28,{"$f":"ImportData!$B$10+7*QUOTIENT(A32,24*60*7/ImportData!$B$8)+MOD(1+QUOTIENT(A32,24*60/ImportData!$B$8)-ImportData!$E$10,7)+TIME(0,ImportData!$B$8*A32,0)","v":"2022-05-17T04:00:00"},0,0,0,0,0,0,0,0,0,0,0,0,0,0,0,0,0,0,0,0,0,0,0,0,0,0,0,0,0,0,0,0,0,0,0,"-",{"$f":"IFERROR(ROUND(PERCENTILE(_xlfn._xlws.FILTER(Data_Table[Speed],(Data_Table[Direction]=ImportData!Direction_2)*(Data_Table[Period]=$B32)*(SUM(C32:N32)>=10)),0.85),2),\"-\")","v":"-"}]
[29,{"$f":"ImportData!$B$10+7*QUOTIENT(A33,24*60*7/ImportData!$B$8)+MOD(1+QUOTIENT(A33,24*60/ImportData!$B$8)-ImportData!$E$10,7)+TIME(0,ImportData!$B$8*A33,0)","v":"2022-05-17T05:00:00"},0,0,0,0,0,0,0,0,0,0,0,0,0,0,0,0,0,0,0,0,0,0,0,0,0,0,0,0,0,0,0,0,0,0,0,"-",{"$f":"IFERROR(ROUND(PERCENTILE(_xlfn._xlws.FILTER(Data_Table[Speed],(Data_Table[Direction]=ImportData!Direction_2)*(Data_Table[Period]=$B33)*(SUM(C33:N33)>=10)),0.85),2),\"-\")","v":"-"}]
[30,{"$f":"ImportData!$B$10+7*QUOTIENT(A34,24*60*7/ImportData!$B$8)+MOD(1+QUOTIENT(A34,24*60/ImportData!$B$8)-ImportData!$E$10,7)+TIME(0,ImportData!$B$8*A34,0)","v":"2022-05-17T06:00:00"},0,0,0,0,0,0,0,0,0,0,0,0,0,0,0,0,0,0,0,0,0,0,0,0,0,0,0,0,0,0,0,0,0,0,0,"-",{"$f":"IFERROR(ROUND(PERCENTILE(_xlfn._xlws.FILTER(Data_Table[Speed],(Data_Table[Direction]=ImportData!Direction_2)*(Data_Table[Period]=$B34)*(SUM(C34:N34)>=10)),0.85),2),\"-\")","v":"-"}]
[31,{"$f":"ImportData!$B$10+7*QUOTIENT(A35,24*60*7/ImportData!$B$8)+MOD(1+QUOTIENT(A35,24*60/ImportData!$B$8)-ImportData!$E$10,7)+TIME(0,ImportData!$B$8*A35,0)","v":"2022-05-17T07:00:00"},0,0,0,0,0,0,0,0,0,0,0,0,0,0,0,0,0,0,0,0,0,0,0,0,0,0,0,0,0,0,0,0,0,0,0,"-",{"$f":"IFERROR(ROUND(PERCENTILE(_xlfn._xlws.FILTER(Data_Table[Speed],(Data_Table[Direction]=ImportData!Direction_2)*(Data_Table[Period]=$B35)*(SUM(C35:N35)>=10)),0.85),2),\"-\")","v":"-"}]
[32,{"$f":"ImportData!$B$10+7*QUOTIENT(A36,24*60*7/ImportData!$B$8)+MOD(1+QUOTIENT(A36,24*60/ImportData!$B$8)-ImportData!$E$10,7)+TIME(0,ImportData!$B$8*A36,0)","v":"2022-05-17T08:00:00"},0,0,0,0,0,0,0,0,0,0,0,0,0,0,0,0,0,0,0,0,0,0,0,0,0,0,0,0,0,0,0,0,0,0,0,"-",{"$f":"IFERROR(ROUND(PERCENTILE(_xlfn._xlws.FILTER(Data_Table[Speed],(Data_Table[Direction]=ImportData!Direction_2)*(Data_Table[Period]=$B36)*(SUM(C36:N36)>=10)),0.85),2),\"-\")","v":"-"}]
[33,{"$f":"ImportData!$B$10+7*QUOTIENT(A37,24*60*7/ImportData!$B$8)+MOD(1+QUOTIENT(A37,24*60/ImportData!$B$8)-ImportData!$E$10,7)+TIME(0,ImportData!$B$8*A37,0)","v":"2022-05-17T09:00:00"},0,0,0,0,0,0,0,0,0,0,0,0,0,0,0,0,0,0,0,0,0,0,0,0,0,0,0,0,0,0,0,0,0,0,0,"-",{"$f":"IFERROR(ROUND(PERCENTILE(_xlfn._xlws.FILTER(Data_Table[Speed],(Data_Table[Direction]=ImportData!Direction_2)*(Data_Table[Period]=$B37)*(SUM(C37:N37)>=10)),0.85),2),\"-\")","v":"-"}]
[34,{"$f":"ImportData!$B$10+7*QUOTIENT(A38,24*60*7/ImportData!$B$8)+MOD(1+QUOTIENT(A38,24*60/ImportData!$B$8)-ImportData!$E$10,7)+TIME(0,ImportData!$B$8*A38,0)","v":"2022-05-17T10:00:00"},0,0,0,0,0,0,0,0,0,0,0,0,0,0,0,0,0,0,0,0,0,0,0,0,0,0,0,0,0,0,0,0,0,0,0,"-",{"$f":"IFERROR(ROUND(PERCENTILE(_xlfn._xlws.FILTER(Data_Table[Speed],(Data_Table[Direction]=ImportData!Direction_2)*(Data_Table[Period]=$B38)*(SUM(C38:N38)>=10)),0.85),2),\"-\")","v":"-"}]
[35,{"$f":"ImportData!$B$10+7*QUOTIENT(A39,24*60*7/ImportData!$B$8)+MOD(1+QUOTIENT(A39,24*60/ImportData!$B$8)-ImportData!$E$10,7)+TIME(0,ImportData!$B$8*A39,0)","v":"2022-05-17T11:00:00"},0,0,0,0,0,0,0,0,0,0,0,0,0,0,0,0,0,0,0,0,0,0,0,0,0,0,0,0,0,0,0,0,0,0,0,"-",{"$f":"IFERROR(ROUND(PERCENTILE(_xlfn._xlws.FILTER(Data_Table[Speed],(Data_Table[Direction]=ImportData!Direction_2)*(Data_Table[Period]=$B39)*(SUM(C39:N39)>=10)),0.85),2),\"-\")","v":"-"}]
[36,{"$f":"ImportData!$B$10+7*QUOTIENT(A40,24*60*7/ImportData!$B$8)+MOD(1+QUOTIENT(A40,24*60/ImportData!$B$8)-ImportData!$E$10,7)+TIME(0,ImportData!$B$8*A40,0)","v":"2022-05-17T12:00:00"},0,0,0,0,0,0,0,0,0,0,0,0,0,0,0,0,0,0,0,0,0,0,0,0,0,0,0,0,0,0,0,0,0,0,0,"-",{"$f":"IFERROR(ROUND(PERCENTILE(_xlfn._xlws.FILTER(Data_Table[Speed],(Data_Table[Direction]=ImportData!Direction_2)*(Data_Table[Period]=$B40)*(SUM(C40:N40)>=10)),0.85),2),\"-\")","v":"-"}]
[37,{"$f":"ImportData!$B$10+7*QUOTIENT(A41,24*60*7/ImportData!$B$8)+MOD(1+QUOTIENT(A41,24*60/ImportData!$B$8)-ImportData!$E$10,7)+TIME(0,ImportData!$B$8*A41,0)","v":"2022-05-17T13:00:00"},0,0,0,0,0,0,0,0,0,0,0,0,0,0,0,0,0,0,0,0,0,0,0,0,0,0,0,0,0,0,0,0,0,0,0,"-",{"$f":"IFERROR(ROUND(PERCENTILE(_xlfn._xlws.FILTER(Data_Table[Speed],(Data_Table[Direction]=ImportData!Direction_2)*(Data_Table[Period]=$B41)*(SUM(C41:N41)>=10)),0.85),2),\"-\")","v":"-"}]
[38,{"$f":"ImportData!$B$10+7*QUOTIENT(A42,24*60*7/ImportData!$B$8)+MOD(1+QUOTIENT(A42,24*60/ImportData!$B$8)-ImportData!$E$10,7)+TIME(0,ImportData!$B$8*A42,0)","v":"2022-05-17T14:00:00"},0,0,0,0,0,0,0,0,0,0,0,0,0,0,0,0,0,0,0,0,0,0,0,0,0,0,0,0,0,0,0,0,0,0,0,"-",{"$f":"IFERROR(ROUND(PERCENTILE(_xlfn._xlws.FILTER(Data_Table[Speed],(Data_Table[Direction]=ImportData!Direction_2)*(Data_Table[Period]=$B42)*(SUM(C42:N42)>=10)),0.85),2),\"-\")","v":"-"}]
[39,{"$f":"ImportData!$B$10+7*QUOTIENT(A43,24*60*7/ImportData!$B$8)+MOD(1+QUOTIENT(A43,24*60/ImportData!$B$8)-ImportData!$E$10,7)+TIME(0,ImportData!$B$8*A43,0)","v":"2022-05-17T15:00:00"},0,0,0,0,0,0,0,0,0,0,0,0,0,0,0,0,0,0,0,0,0,0,0,0,0,0,0,0,0,0,0,0,0,0,0,"-",{"$f":"IFERROR(ROUND(PERCENTILE(_xlfn._xlws.FILTER(Data_Table[Speed],(Data_Table[Direction]=ImportData!Direction_2)*(Data_Table[Period]=$B43)*(SUM(C43:N43)>=10)),0.85),2),\"-\")","v":"-"}]
[40,{"$f":"ImportData!$B$10+7*QUOTIENT(A44,24*60*7/ImportData!$B$8)+MOD(1+QUOTIENT(A44,24*60/ImportData!$B$8)-ImportData!$E$10,7)+TIME(0,ImportData!$B$8*A44,0)","v":"2022-05-17T16:00:00"},0,0,0,0,0,0,0,0,0,0,0,0,0,0,0,0,0,0,0,0,0,0,0,0,0,0,0,0,0,0,0,0,0,0,0,"-",{"$f":"IFERROR(ROUND(PERCENTILE(_xlfn._xlws.FILTER(Data_Table[Speed],(Data_Table[Direction]=ImportData!Direction_2)*(Data_Table[Period]=$B44)*(SUM(C44:N44)>=10)),0.85),2),\"-\")","v":"-"}]
[41,{"$f":"ImportData!$B$10+7*QUOTIENT(A45,24*60*7/ImportData!$B$8)+MOD(1+QUOTIENT(A45,24*60/ImportData!$B$8)-ImportData!$E$10,7)+TIME(0,ImportData!$B$8*A45,0)","v":"2022-05-17T17:00:00"},0,0,0,0,0,0,0,0,0,0,0,0,0,0,0,0,0,0,0,0,0,0,0,0,0,0,0,0,0,0,0,0,0,0,0,"-",{"$f":"IFERROR(ROUND(PERCENTILE(_xlfn._xlws.FILTER(Data_Table[Speed],(Data_Table[Direction]=ImportData!Direction_2)*(Data_Table[Period]=$B45)*(SUM(C45:N45)>=10)),0.85),2),\"-\")","v":"-"}]
[42,{"$f":"ImportData!$B$10+7*QUOTIENT(A46,24*60*7/ImportData!$B$8)+MOD(1+QUOTIENT(A46,24*60/ImportData!$B$8)-ImportData!$E$10,7)+TIME(0,ImportData!$B$8*A46,0)","v":"2022-05-17T18:00:00"},0,0,0,0,0,0,0,0,0,0,0,0,0,0,0,0,0,0,0,0,0,0,0,0,0,0,0,0,0,0,0,0,0,0,0,"-",{"$f":"IFERROR(ROUND(PERCENTILE(_xlfn._xlws.FILTER(Data_Table[Speed],(Data_Table[Direction]=ImportData!Direction_2)*(Data_Table[Period]=$B46)*(SUM(C46:N46)>=10)),0.85),2),\"-\")","v":"-"}]
[43,{"$f":"ImportData!$B$10+7*QUOTIENT(A47,24*60*7/ImportData!$B$8)+MOD(1+QUOTIENT(A47,24*60/ImportData!$B$8)-ImportData!$E$10,7)+TIME(0,ImportData!$B$8*A47,0)","v":"2022-05-17T19:00:00"},0,0,0,0,0,0,0,0,0,0,0,0,0,0,0,0,0,0,0,0,0,0,0,0,0,0,0,0,0,0,0,0,0,0,0,"-",{"$f":"IFERROR(ROUND(PERCENTILE(_xlfn._xlws.FILTER(Data_Table[Speed],(Data_Table[Direction]=ImportData!Direction_2)*(Data_Table[Period]=$B47)*(SUM(C47:N47)>=10)),0.85),2),\"-\")","v":"-"}]
[44,{"$f":"ImportData!$B$10+7*QUOTIENT(A48,24*60*7/ImportData!$B$8)+MOD(1+QUOTIENT(A48,24*60/ImportData!$B$8)-ImportData!$E$10,7)+TIME(0,ImportData!$B$8*A48,0)","v":"2022-05-17T20:00:00"},0,0,0,0,0,0,0,0,0,0,0,0,0,0,0,0,0,0,0,0,0,0,0,0,0,0,0,0,0,0,0,0,0,0,0,"-",{"$f":"IFERROR(ROUND(PERCENTILE(_xlfn._xlws.FILTER(Data_Table[Speed],(Data_Table[Direction]=ImportData!Direction_2)*(Data_Table[Period]=$B48)*(SUM(C48:N48)>=10)),0.85),2),\"-\")","v":"-"}]
[45,{"$f":"ImportData!$B$10+7*QUOTIENT(A49,24*60*7/ImportData!$B$8)+MOD(1+QUOTIENT(A49,24*60/ImportData!$B$8)-ImportData!$E$10,7)+TIME(0,ImportData!$B$8*A49,0)","v":"2022-05-17T21:00:00"},0,0,0,0,0,0,0,0,0,0,0,0,0,0,0,0,0,0,0,0,0,0,0,0,0,0,0,0,0,0,0,0,0,0,0,"-",{"$f":"IFERROR(ROUND(PERCENTILE(_xlfn._xlws.FILTER(Data_Table[Speed],(Data_Table[Direction]=ImportData!Direction_2)*(Data_Table[Period]=$B49)*(SUM(C49:N49)>=10)),0.85),2),\"-\")","v":"-"}]
[46,{"$f":"ImportData!$B$10+7*QUOTIENT(A50,24*60*7/ImportData!$B$8)+MOD(1+QUOTIENT(A50,24*60/ImportData!$B$8)-ImportData!$E$10,7)+TIME(0,ImportData!$B$8*A50,0)","v":"2022-05-17T22:00:00"},0,0,0,0,0,0,0,0,0,0,0,0,0,0,0,0,0,0,0,0,0,0,0,0,0,0,0,0,0,0,0,0,0,0,0,"-",{"$f":"IFERROR(ROUND(PERCENTILE(_xlfn._xlws.FILTER(Data_Table[Speed],(Data_Table[Direction]=ImportData!Direction_2)*(Data_Table[Period]=$B50)*(SUM(C50:N50)>=10)),0.85),2),\"-\")","v":"-"}]
[47,{"$f":"ImportData!$B$10+7*QUOTIENT(A51,24*60*7/ImportData!$B$8)+MOD(1+QUOTIENT(A51,24*60/ImportData!$B$8)-ImportData!$E$10,7)+TIME(0,ImportData!$B$8*A51,0)","v":"2022-05-17T23:00:00"},0,0,0,0,0,0,0,0,0,0,0,0,0,0,0,0,0,0,0,0,0,0,0,0,0,0,0,0,0,0,0,0,0,0,0,"-",{"$f":"IFERROR(ROUND(PERCENTILE(_xlfn._xlws.FILTER(Data_Table[Speed],(Data_Table[Direction]=ImportData!Direction_2)*(Data_Table[Period]=$B51)*(SUM(C51:N51)>=10)),0.85),2),\"-\")","v":"-"}]
[48,{"$f":"ImportData!$B$10+7*QUOTIENT(A52,24*60*7/ImportData!$B$8)+MOD(1+QUOTIENT(A52,24*60/ImportData!$B$8)-ImportData!$E$10,7)+TIME(0,ImportData!$B$8*A52,0)","v":"2022-05-11"},0,0,0,0,0,0,0,0,0,0,0,0,0,0,0,0,0,0,0,0,0,0,0,0,0,0,0,0,0,0,0,0,0,0,0,"-",{"$f":"IFERROR(ROUND(PERCENTILE(_xlfn._xlws.FILTER(Data_Table[Speed],(Data_Table[Direction]=ImportData!Direction_2)*(Data_Table[Period]=$B52)*(SUM(C52:N52)>=10)),0.85),2),\"-\")","v":"-"}]
[49,{"$f":"ImportData!$B$10+7*QUOTIENT(A53,24*60*7/ImportData!$B$8)+MOD(1+QUOTIENT(A53,24*60/ImportData!$B$8)-ImportData!$E$10,7)+TIME(0,ImportData!$B$8*A53,0)","v":"2022-05-11T01:00:00"},0,0,0,0,0,0,0,0,0,0,0,0,0,0,0,0,0,0,0,0,0,0,0,0,0,0,0,0,0,0,0,0,0,0,0,"-",{"$f":"IFERROR(ROUND(PERCENTILE(_xlfn._xlws.FILTER(Data_Table[Speed],(Data_Table[Direction]=ImportData!Direction_2)*(Data_Table[Period]=$B53)*(SUM(C53:N53)>=10)),0.85),2),\"-\")","v":"-"}]
[50,{"$f":"ImportData!$B$10+7*QUOTIENT(A54,24*60*7/ImportData!$B$8)+MOD(1+QUOTIENT(A54,24*60/ImportData!$B$8)-ImportData!$E$10,7)+TIME(0,ImportData!$B$8*A54,0)","v":"2022-05-11T02:00:00"},0,0,0,0,0,0,0,0,0,0,0,0,0,0,0,0,0,0,0,0,0,0,0,0,0,0,0,0,0,0,0,0,0,0,0,"-",{"$f":"IFERROR(ROUND(PERCENTILE(_xlfn._xlws.FILTER(Data_Table[Speed],(Data_Table[Direction]=ImportData!Direction_2)*(Data_Table[Period]=$B54)*(SUM(C54:N54)>=10)),0.85),2),\"-\")","v":"-"}]
[51,{"$f":"ImportData!$B$10+7*QUOTIENT(A55,24*60*7/ImportData!$B$8)+MOD(1+QUOTIENT(A55,24*60/ImportData!$B$8)-ImportData!$E$10,7)+TIME(0,ImportData!$B$8*A55,0)","v":"2022-05-11T03:00:00"},0,0,0,0,0,0,0,0,0,0,0,0,0,0,0,0,0,0,0,0,0,0,0,0,0,0,0,0,0,0,0,0,0,0,0,"-",{"$f":"IFERROR(ROUND(PERCENTILE(_xlfn._xlws.FILTER(Data_Table[Speed],(Data_Table[Direction]=ImportData!Direction_2)*(Data_Table[Period]=$B55)*(SUM(C55:N55)>=10)),0.85),2),\"-\")","v":"-"}]
[52,{"$f":"ImportData!$B$10+7*QUOTIENT(A56,24*60*7/ImportData!$B$8)+MOD(1+QUOTIENT(A56,24*60/ImportData!$B$8)-ImportData!$E$10,7)+TIME(0,ImportData!$B$8*A56,0)","v":"2022-05-11T04:00:00"},0,0,0,0,0,0,0,0,0,0,0,0,0,0,0,0,0,0,0,0,0,0,0,0,0,0,0,0,0,0,0,0,0,0,0,"-",{"$f":"IFERROR(ROUND(PERCENTILE(_xlfn._xlws.FILTER(Data_Table[Speed],(Data_Table[Direction]=ImportData!Direction_2)*(Data_Table[Period]=$B56)*(SUM(C56:N56)>=10)),0.85),2),\"-\")","v":"-"}]
[53,{"$f":"ImportData!$B$10+7*QUOTIENT(A57,24*60*7/ImportData!$B$8)+MOD(1+QUOTIENT(A57,24*60/ImportData!$B$8)-ImportData!$E$10,7)+TIME(0,ImportData!$B$8*A57,0)","v":"2022-05-11T05:00:00"},0,0,0,0,0,0,0,0,0,0,0,0,0,0,0,0,0,0,0,0,0,0,0,0,0,0,0,0,0,0,0,0,0,0,0,"-",{"$f":"IFERROR(ROUND(PERCENTILE(_xlfn._xlws.FILTER(Data_Table[Speed],(Data_Table[Direction]=ImportData!Direction_2)*(Data_Table[Period]=$B57)*(SUM(C57:N57)>=10)),0.85),2),\"-\")","v":"-"}]
[54,{"$f":"ImportData!$B$10+7*QUOTIENT(A58,24*60*7/ImportData!$B$8)+MOD(1+QUOTIENT(A58,24*60/ImportData!$B$8)-ImportData!$E$10,7)+TIME(0,ImportData!$B$8*A58,0)","v":"2022-05-11T06:00:00"},0,0,0,0,0,0,0,0,0,0,0,0,0,0,0,0,0,0,0,0,0,0,0,0,0,0,0,0,0,0,0,0,0,0,0,"-",{"$f":"IFERROR(ROUND(PERCENTILE(_xlfn._xlws.FILTER(Data_Table[Speed],(Data_Table[Direction]=ImportData!Direction_2)*(Data_Table[Period]=$B58)*(SUM(C58:N58)>=10)),0.85),2),\"-\")","v":"-"}]
[55,{"$f":"ImportData!$B$10+7*QUOTIENT(A59,24*60*7/ImportData!$B$8)+MOD(1+QUOTIENT(A59,24*60/ImportData!$B$8)-ImportData!$E$10,7)+TIME(0,ImportData!$B$8*A59,0)","v":"2022-05-11T07:00:00"},0,0,0,0,0,0,0,0,0,0,0,0,0,0,0,0,0,0,0,0,0,0,0,0,0,0,0,0,0,0,0,0,0,0,0,"-",{"$f":"IFERROR(ROUND(PERCENTILE(_xlfn._xlws.FILTER(Data_Table[Speed],(Data_Table[Direction]=ImportData!Direction_2)*(Data_Table[Period]=$B59)*(SUM(C59:N59)>=10)),0.85),2),\"-\")","v":"-"}]
[56,{"$f":"ImportData!$B$10+7*QUOTIENT(A60,24*60*7/ImportData!$B$8)+MOD(1+QUOTIENT(A60,24*60/ImportData!$B$8)-ImportData!$E$10,7)+TIME(0,ImportData!$B$8*A60,0)","v":"2022-05-11T08:00:00"},0,0,0,0,0,0,0,0,0,0,0,0,0,0,0,0,0,0,0,0,0,0,0,0,0,0,0,0,0,0,0,0,0,0,0,"-",{"$f":"IFERROR(ROUND(PERCENTILE(_xlfn._xlws.FILTER(Data_Table[Speed],(Data_Table[Direction]=ImportData!Direction_2)*(Data_Table[Period]=$B60)*(SUM(C60:N60)>=10)),0.85),2),\"-\")","v":"-"}]
[57,{"$f":"ImportData!$B$10+7*QUOTIENT(A61,24*60*7/ImportData!$B$8)+MOD(1+QUOTIENT(A61,24*60/ImportData!$B$8)-ImportData!$E$10,7)+TIME(0,ImportData!$B$8*A61,0)","v":"2022-05-11T09:00:00"},0,0,0,0,0,0,0,0,0,0,0,0,0,0,0,0,0,0,0,0,0,0,0,0,0,0,0,0,0,0,0,0,0,0,0,"-",{"$f":"IFERROR(ROUND(PERCENTILE(_xlfn._xlws.FILTER(Data_Table[Speed],(Data_Table[Direction]=ImportData!Direction_2)*(Data_Table[Period]=$B61)*(SUM(C61:N61)>=10)),0.85),2),\"-\")","v":"-"}]
[58,{"$f":"ImportData!$B$10+7*QUOTIENT(A62,24*60*7/ImportData!$B$8)+MOD(1+QUOTIENT(A62,24*60/ImportData!$B$8)-ImportData!$E$10,7)+TIME(0,ImportData!$B$8*A62,0)","v":"2022-05-11T10:00:00"},0,0,0,0,0,0,0,0,0,0,0,0,0,0,0,0,0,0,0,0,0,0,0,0,0,0,0,0,0,0,0,0,0,0,0,"-",{"$f":"IFERROR(ROUND(PERCENTILE(_xlfn._xlws.FILTER(Data_Table[Speed],(Data_Table[Direction]=ImportData!Direction_2)*(Data_Table[Period]=$B62)*(SUM(C62:N62)>=10)),0.85),2),\"-\")","v":"-"}]
[59,{"$f":"ImportData!$B$10+7*QUOTIENT(A63,24*60*7/ImportData!$B$8)+MOD(1+QUOTIENT(A63,24*60/ImportData!$B$8)-ImportData!$E$10,7)+TIME(0,ImportData!$B$8*A63,0)","v":"2022-05-11T11:00:00"},0,0,0,0,0,0,0,0,0,0,0,0,0,0,0,0,0,0,0,0,0,0,0,0,0,0,0,0,0,0,0,0,0,0,0,"-",{"$f":"IFERROR(ROUND(PERCENTILE(_xlfn._xlws.FILTER(Data_Table[Speed],(Data_Table[Direction]=ImportData!Direction_2)*(Data_Table[Period]=$B63)*(SUM(C63:N63)>=10)),0.85),2),\"-\")","v":"-"}]
[60,{"$f":"ImportData!$B$10+7*QUOTIENT(A64,24*60*7/ImportData!$B$8)+MOD(1+QUOTIENT(A64,24*60/ImportData!$B$8)-ImportData!$E$10,7)+TIME(0,ImportData!$B$8*A64,0)","v":"2022-05-11T12:00:00"},0,0,0,0,0,0,0,0,0,0,0,0,0,0,0,0,0,0,0,0,0,0,0,0,0,0,0,0,0,0,0,0,0,0,0,"-",{"$f":"IFERROR(ROUND(PERCENTILE(_xlfn._xlws.FILTER(Data_Table[Speed],(Data_Table[Direction]=ImportData!Direction_2)*(Data_Table[Period]=$B64)*(SUM(C64:N64)>=10)),0.85),2),\"-\")","v":"-"}]
[61,{"$f":"ImportData!$B$10+7*QUOTIENT(A65,24*60*7/ImportData!$B$8)+MOD(1+QUOTIENT(A65,24*60/ImportData!$B$8)-ImportData!$E$10,7)+TIME(0,ImportData!$B$8*A65,0)","v":"2022-05-11T13:00:00"},0,0,0,0,0,0,0,0,0,0,0,0,0,0,0,0,0,0,0,0,0,0,0,0,0,0,0,0,0,0,0,0,0,0,0,"-",{"$f":"IFERROR(ROUND(PERCENTILE(_xlfn._xlws.FILTER(Data_Table[Speed],(Data_Table[Direction]=ImportData!Direction_2)*(Data_Table[Period]=$B65)*(SUM(C65:N65)>=10)),0.85),2),\"-\")","v":"-"}]
[62,{"$f":"ImportData!$B$10+7*QUOTIENT(A66,24*60*7/ImportData!$B$8)+MOD(1+QUOTIENT(A66,24*60/ImportData!$B$8)-ImportData!$E$10,7)+TIME(0,ImportData!$B$8*A66,0)","v":"2022-05-11T14:00:00"},0,0,0,0,0,0,0,0,0,0,0,0,0,0,0,0,0,0,0,0,0,0,0,0,0,0,0,0,0,0,0,0,0,0,0,"-",{"$f":"IFERROR(ROUND(PERCENTILE(_xlfn._xlws.FILTER(Data_Table[Speed],(Data_Table[Direction]=ImportData!Direction_2)*(Data_Table[Period]=$B66)*(SUM(C66:N66)>=10)),0.85),2),\"-\")","v":"-"}]
[63,{"$f":"ImportData!$B$10+7*QUOTIENT(A67,24*60*7/ImportData!$B$8)+MOD(1+QUOTIENT(A67,24*60/ImportData!$B$8)-ImportData!$E$10,7)+TIME(0,ImportData!$B$8*A67,0)","v":"2022-05-11T15:00:00"},0,0,0,0,0,0,0,0,0,0,0,0,0,0,0,0,0,0,0,0,0,0,0,0,0,0,0,0,0,0,0,0,0,0,0,"-",{"$f":"IFERROR(ROUND(PERCENTILE(_xlfn._xlws.FILTER(Data_Table[Speed],(Data_Table[Direction]=ImportData!Direction_2)*(Data_Table[Period]=$B67)*(SUM(C67:N67)>=10)),0.85),2),\"-\")","v":"-"}]
[64,{"$f":"ImportData!$B$10+7*QUOTIENT(A68,24*60*7/ImportData!$B$8)+MOD(1+QUOTIENT(A68,24*60/ImportData!$B$8)-ImportData!$E$10,7)+TIME(0,ImportData!$B$8*A68,0)","v":"2022-05-11T16:00:00"},0,0,0,0,0,0,0,0,0,0,0,0,0,0,0,0,0,0,0,0,0,0,0,0,0,0,0,0,0,0,0,0,0,0,0,"-",{"$f":"IFERROR(ROUND(PERCENTILE(_xlfn._xlws.FILTER(Data_Table[Speed],(Data_Table[Direction]=ImportData!Direction_2)*(Data_Table[Period]=$B68)*(SUM(C68:N68)>=10)),0.85),2),\"-\")","v":"-"}]
[65,{"$f":"ImportData!$B$10+7*QUOTIENT(A69,24*60*7/ImportData!$B$8)+MOD(1+QUOTIENT(A69,24*60/ImportData!$B$8)-ImportData!$E$10,7)+TIME(0,ImportData!$B$8*A69,0)","v":"2022-05-11T17:00:00"},0,0,0,0,0,0,0,0,0,0,0,0,0,0,0,0,0,0,0,0,0,0,0,0,0,0,0,0,0,0,0,0,0,0,0,"-",{"$f":"IFERROR(ROUND(PERCENTILE(_xlfn._xlws.FILTER(Data_Table[Speed],(Data_Table[Direction]=ImportData!Direction_2)*(Data_Table[Period]=$B69)*(SUM(C69:N69)>=10)),0.85),2),\"-\")","v":"-"}]
[66,{"$f":"ImportData!$B$10+7*QUOTIENT(A70,24*60*7/ImportData!$B$8)+MOD(1+QUOTIENT(A70,24*60/ImportData!$B$8)-ImportData!$E$10,7)+TIME(0,ImportData!$B$8*A70,0)","v":"2022-05-11T18:00:00"},0,0,0,0,0,0,0,0,0,0,0,0,0,0,0,0,0,0,0,0,0,0,0,0,0,0,0,0,0,0,0,0,0,0,0,"-",{"$f":"IFERROR(ROUND(PERCENTILE(_xlfn._xlws.FILTER(Data_Table[Speed],(Data_Table[Direction]=ImportData!Direction_2)*(Data_Table[Period]=$B70)*(SUM(C70:N70)>=10)),0.85),2),\"-\")","v":"-"}]
[67,{"$f":"ImportData!$B$10+7*QUOTIENT(A71,24*60*7/ImportData!$B$8)+MOD(1+QUOTIENT(A71,24*60/ImportData!$B$8)-ImportData!$E$10,7)+TIME(0,ImportData!$B$8*A71,0)","v":"2022-05-11T19:00:00"},0,0,0,0,0,0,0,0,0,0,0,0,0,0,0,0,0,0,0,0,0,0,0,0,0,0,0,0,0,0,0,0,0,0,0,"-",{"$f":"IFERROR(ROUND(PERCENTILE(_xlfn._xlws.FILTER(Data_Table[Speed],(Data_Table[Direction]=ImportData!Direction_2)*(Data_Table[Period]=$B71)*(SUM(C71:N71)>=10)),0.85),2),\"-\")","v":"-"}]
[68,{"$f":"ImportData!$B$10+7*QUOTIENT(A72,24*60*7/ImportData!$B$8)+MOD(1+QUOTIENT(A72,24*60/ImportData!$B$8)-ImportData!$E$10,7)+TIME(0,ImportData!$B$8*A72,0)","v":"2022-05-11T20:00:00"},0,0,0,0,0,0,0,0,0,0,0,0,0,0,0,0,0,0,0,0,0,0,0,0,0,0,0,0,0,0,0,0,0,0,0,"-",{"$f":"IFERROR(ROUND(PERCENTILE(_xlfn._xlws.FILTER(Data_Table[Speed],(Data_Table[Direction]=ImportData!Direction_2)*(Data_Table[Period]=$B72)*(SUM(C72:N72)>=10)),0.85),2),\"-\")","v":"-"}]
[69,{"$f":"ImportData!$B$10+7*QUOTIENT(A73,24*60*7/ImportData!$B$8)+MOD(1+QUOTIENT(A73,24*60/ImportData!$B$8)-ImportData!$E$10,7)+TIME(0,ImportData!$B$8*A73,0)","v":"2022-05-11T21:00:00"},0,0,0,0,0,0,0,0,0,0,0,0,0,0,0,0,0,0,0,0,0,0,0,0,0,0,0,0,0,0,0,0,0,0,0,"-",{"$f":"IFERROR(ROUND(PERCENTILE(_xlfn._xlws.FILTER(Data_Table[Speed],(Data_Table[Direction]=ImportData!Direction_2)*(Data_Table[Period]=$B73)*(SUM(C73:N73)>=10)),0.85),2),\"-\")","v":"-"}]
[70,{"$f":"ImportData!$B$10+7*QUOTIENT(A74,24*60*7/ImportData!$B$8)+MOD(1+QUOTIENT(A74,24*60/ImportData!$B$8)-ImportData!$E$10,7)+TIME(0,ImportData!$B$8*A74,0)","v":"2022-05-11T22:00:00"},0,0,0,0,0,0,0,0,0,0,0,0,0,0,0,0,0,0,0,0,0,0,0,0,0,0,0,0,0,0,0,0,0,0,0,"-",{"$f":"IFERROR(ROUND(PERCENTILE(_xlfn._xlws.FILTER(Data_Table[Speed],(Data_Table[Direction]=ImportData!Direction_2)*(Data_Table[Period]=$B74)*(SUM(C74:N74)>=10)),0.85),2),\"-\")","v":"-"}]
[71,{"$f":"ImportData!$B$10+7*QUOTIENT(A75,24*60*7/ImportData!$B$8)+MOD(1+QUOTIENT(A75,24*60/ImportData!$B$8)-ImportData!$E$10,7)+TIME(0,ImportData!$B$8*A75,0)","v":"2022-05-11T23:00:00"},0,0,0,0,0,0,0,0,0,0,0,0,0,0,0,0,0,0,0,0,0,0,0,0,0,0,0,0,0,0,0,0,0,0,0,"-",{"$f":"IFERROR(ROUND(PERCENTILE(_xlfn._xlws.FILTER(Data_Table[Speed],(Data_Table[Direction]=ImportData!Direction_2)*(Data_Table[Period]=$B75)*(SUM(C75:N75)>=10)),0.85),2),\"-\")","v":"-"}]
[72,{"$f":"ImportData!$B$10+7*QUOTIENT(A76,24*60*7/ImportData!$B$8)+MOD(1+QUOTIENT(A76,24*60/ImportData!$B$8)-ImportData!$E$10,7)+TIME(0,ImportData!$B$8*A76,0)","v":"2022-05-12"},0,0,0,0,0,0,0,0,0,0,0,0,0,0,0,0,0,0,0,0,0,0,0,0,0,0,0,0,0,0,0,0,0,0,0,"-",{"$f":"IFERROR(ROUND(PERCENTILE(_xlfn._xlws.FILTER(Data_Table[Speed],(Data_Table[Direction]=ImportData!Direction_2)*(Data_Table[Period]=$B76)*(SUM(C76:N76)>=10)),0.85),2),\"-\")","v":"-"}]
[73,{"$f":"ImportData!$B$10+7*QUOTIENT(A77,24*60*7/ImportData!$B$8)+MOD(1+QUOTIENT(A77,24*60/ImportData!$B$8)-ImportData!$E$10,7)+TIME(0,ImportData!$B$8*A77,0)","v":"2022-05-12T01:00:00"},0,0,0,0,0,0,0,0,0,0,0,0,0,0,0,0,0,0,0,0,0,0,0,0,0,0,0,0,0,0,0,0,0,0,0,"-",{"$f":"IFERROR(ROUND(PERCENTILE(_xlfn._xlws.FILTER(Data_Table[Speed],(Data_Table[Direction]=ImportData!Direction_2)*(Data_Table[Period]=$B77)*(SUM(C77:N77)>=10)),0.85),2),\"-\")","v":"-"}]
[74,{"$f":"ImportData!$B$10+7*QUOTIENT(A78,24*60*7/ImportData!$B$8)+MOD(1+QUOTIENT(A78,24*60/ImportData!$B$8)-ImportData!$E$10,7)+TIME(0,ImportData!$B$8*A78,0)","v":"2022-05-12T02:00:00"},0,0,0,0,0,0,0,0,0,0,0,0,0,0,0,0,0,0,0,0,0,0,0,0,0,0,0,0,0,0,0,0,0,0,0,"-",{"$f":"IFERROR(ROUND(PERCENTILE(_xlfn._xlws.FILTER(Data_Table[Speed],(Data_Table[Direction]=ImportData!Direction_2)*(Data_Table[Period]=$B78)*(SUM(C78:N78)>=10)),0.85),2),\"-\")","v":"-"}]
[75,{"$f":"ImportData!$B$10+7*QUOTIENT(A79,24*60*7/ImportData!$B$8)+MOD(1+QUOTIENT(A79,24*60/ImportData!$B$8)-ImportData!$E$10,7)+TIME(0,ImportData!$B$8*A79,0)","v":"2022-05-12T03:00:00"},0,0,0,0,0,0,0,0,0,0,0,0,0,0,0,0,0,0,0,0,0,0,0,0,0,0,0,0,0,0,0,0,0,0,0,"-",{"$f":"IFERROR(ROUND(PERCENTILE(_xlfn._xlws.FILTER(Data_Table[Speed],(Data_Table[Direction]=ImportData!Direction_2)*(Data_Table[Period]=$B79)*(SUM(C79:N79)>=10)),0.85),2),\"-\")","v":"-"}]
[76,{"$f":"ImportData!$B$10+7*QUOTIENT(A80,24*60*7/ImportData!$B$8)+MOD(1+QUOTIENT(A80,24*60/ImportData!$B$8)-ImportData!$E$10,7)+TIME(0,ImportData!$B$8*A80,0)","v":"2022-05-12T04:00:00"},0,0,0,0,0,0,0,0,0,0,0,0,0,0,0,0,0,0,0,0,0,0,0,0,0,0,0,0,0,0,0,0,0,0,0,"-",{"$f":"IFERROR(ROUND(PERCENTILE(_xlfn._xlws.FILTER(Data_Table[Speed],(Data_Table[Direction]=ImportData!Direction_2)*(Data_Table[Period]=$B80)*(SUM(C80:N80)>=10)),0.85),2),\"-\")","v":"-"}]
[77,{"$f":"ImportData!$B$10+7*QUOTIENT(A81,24*60*7/ImportData!$B$8)+MOD(1+QUOTIENT(A81,24*60/ImportData!$B$8)-ImportData!$E$10,7)+TIME(0,ImportData!$B$8*A81,0)","v":"2022-05-12T05:00:00"},0,0,0,0,0,0,0,0,0,0,0,0,0,0,0,0,0,0,0,0,0,0,0,0,0,0,0,0,0,0,0,0,0,0,0,"-",{"$f":"IFERROR(ROUND(PERCENTILE(_xlfn._xlws.FILTER(Data_Table[Speed],(Data_Table[Direction]=ImportData!Direction_2)*(Data_Table[Period]=$B81)*(SUM(C81:N81)>=10)),0.85),2),\"-\")","v":"-"}]
[78,{"$f":"ImportData!$B$10+7*QUOTIENT(A82,24*60*7/ImportData!$B$8)+MOD(1+QUOTIENT(A82,24*60/ImportData!$B$8)-ImportData!$E$10,7)+TIME(0,ImportData!$B$8*A82,0)","v":"2022-05-12T06:00:00"},0,0,0,0,0,0,0,0,0,0,0,0,0,0,0,0,0,0,0,0,0,0,0,0,0,0,0,0,0,0,0,0,0,0,0,"-",{"$f":"IFERROR(ROUND(PERCENTILE(_xlfn._xlws.FILTER(Data_Table[Speed],(Data_Table[Direction]=ImportData!Direction_2)*(Data_Table[Period]=$B82)*(SUM(C82:N82)>=10)),0.85),2),\"-\")","v":"-"}]
[79,{"$f":"ImportData!$B$10+7*QUOTIENT(A83,24*60*7/ImportData!$B$8)+MOD(1+QUOTIENT(A83,24*60/ImportData!$B$8)-ImportData!$E$10,7)+TIME(0,ImportData!$B$8*A83,0)","v":"2022-05-12T07:00:00"},0,0,0,0,0,0,0,0,0,0,0,0,0,0,0,0,0,0,0,0,0,0,0,0,0,0,0,0,0,0,0,0,0,0,0,"-",{"$f":"IFERROR(ROUND(PERCENTILE(_xlfn._xlws.FILTER(Data_Table[Speed],(Data_Table[Direction]=ImportData!Direction_2)*(Data_Table[Period]=$B83)*(SUM(C83:N83)>=10)),0.85),2),\"-\")","v":"-"}]
[80,{"$f":"ImportData!$B$10+7*QUOTIENT(A84,24*60*7/ImportData!$B$8)+MOD(1+QUOTIENT(A84,24*60/ImportData!$B$8)-ImportData!$E$10,7)+TIME(0,ImportData!$B$8*A84,0)","v":"2022-05-12T08:00:00"},0,0,0,0,0,0,0,0,0,0,0,0,0,0,0,0,0,0,0,0,0,0,0,0,0,0,0,0,0,0,0,0,0,0,0,"-",{"$f":"IFERROR(ROUND(PERCENTILE(_xlfn._xlws.FILTER(Data_Table[Speed],(Data_Table[Direction]=ImportData!Direction_2)*(Data_Table[Period]=$B84)*(SUM(C84:N84)>=10)),0.85),2),\"-\")","v":"-"}]
[81,{"$f":"ImportData!$B$10+7*QUOTIENT(A85,24*60*7/ImportData!$B$8)+MOD(1+QUOTIENT(A85,24*60/ImportData!$B$8)-ImportData!$E$10,7)+TIME(0,ImportData!$B$8*A85,0)","v":"2022-05-12T09:00:00"},0,0,0,0,0,0,0,0,0,0,0,0,0,0,0,0,0,0,0,0,0,0,0,0,0,0,0,0,0,0,0,0,0,0,0,"-",{"$f":"IFERROR(ROUND(PERCENTILE(_xlfn._xlws.FILTER(Data_Table[Speed],(Data_Table[Direction]=ImportData!Direction_2)*(Data_Table[Period]=$B85)*(SUM(C85:N85)>=10)),0.85),2),\"-\")","v":"-"}]
[82,{"$f":"ImportData!$B$10+7*QUOTIENT(A86,24*60*7/ImportData!$B$8)+MOD(1+QUOTIENT(A86,24*60/ImportData!$B$8)-ImportData!$E$10,7)+TIME(0,ImportData!$B$8*A86,0)","v":"2022-05-12T10:00:00"},0,0,0,0,0,0,0,0,0,0,0,0,0,0,0,0,0,0,0,0,0,0,0,0,0,0,0,0,0,0,0,0,0,0,0,"-",{"$f":"IFERROR(ROUND(PERCENTILE(_xlfn._xlws.FILTER(Data_Table[Speed],(Data_Table[Direction]=ImportData!Direction_2)*(Data_Table[Period]=$B86)*(SUM(C86:N86)>=10)),0.85),2),\"-\")","v":"-"}]
[83,{"$f":"ImportData!$B$10+7*QUOTIENT(A87,24*60*7/ImportData!$B$8)+MOD(1+QUOTIENT(A87,24*60/ImportData!$B$8)-ImportData!$E$10,7)+TIME(0,ImportData!$B$8*A87,0)","v":"2022-05-12T11:00:00"},0,0,0,0,0,0,0,0,0,0,0,0,0,0,0,0,0,0,0,0,0,0,0,0,0,0,0,0,0,0,0,0,0,0,0,"-",{"$f":"IFERROR(ROUND(PERCENTILE(_xlfn._xlws.FILTER(Data_Table[Speed],(Data_Table[Direction]=ImportData!Direction_2)*(Data_Table[Period]=$B87)*(SUM(C87:N87)>=10)),0.85),2),\"-\")","v":"-"}]
[84,{"$f":"ImportData!$B$10+7*QUOTIENT(A88,24*60*7/ImportData!$B$8)+MOD(1+QUOTIENT(A88,24*60/ImportData!$B$8)-ImportData!$E$10,7)+TIME(0,ImportData!$B$8*A88,0)","v":"2022-05-12T12:00:00"},0,0,0,0,0,0,0,0,0,0,0,0,0,0,0,0,0,0,0,0,0,0,0,0,0,0,0,0,0,0,0,0,0,0,0,"-",{"$f":"IFERROR(ROUND(PERCENTILE(_xlfn._xlws.FILTER(Data_Table[Speed],(Data_Table[Direction]=ImportData!Direction_2)*(Data_Table[Period]=$B88)*(SUM(C88:N88)>=10)),0.85),2),\"-\")","v":"-"}]
[85,{"$f":"ImportData!$B$10+7*QUOTIENT(A89,24*60*7/ImportData!$B$8)+MOD(1+QUOTIENT(A89,24*60/ImportData!$B$8)-ImportData!$E$10,7)+TIME(0,ImportData!$B$8*A89,0)","v":"2022-05-12T13:00:00"},0,0,0,0,0,0,0,0,0,0,0,0,0,0,0,0,0,0,0,0,0,0,0,0,0,0,0,0,0,0,0,0,0,0,0,"-",{"$f":"IFERROR(ROUND(PERCENTILE(_xlfn._xlws.FILTER(Data_Table[Speed],(Data_Table[Direction]=ImportData!Direction_2)*(Data_Table[Period]=$B89)*(SUM(C89:N89)>=10)),0.85),2),\"-\")","v":"-"}]
[86,{"$f":"ImportData!$B$10+7*QUOTIENT(A90,24*60*7/ImportData!$B$8)+MOD(1+QUOTIENT(A90,24*60/ImportData!$B$8)-ImportData!$E$10,7)+TIME(0,ImportData!$B$8*A90,0)","v":"2022-05-12T14:00:00"},0,0,0,0,0,0,0,0,0,0,0,0,0,0,0,0,0,0,0,0,0,0,0,0,0,0,0,0,0,0,0,0,0,0,0,"-",{"$f":"IFERROR(ROUND(PERCENTILE(_xlfn._xlws.FILTER(Data_Table[Speed],(Data_Table[Direction]=ImportData!Direction_2)*(Data_Table[Period]=$B90)*(SUM(C90:N90)>=10)),0.85),2),\"-\")","v":"-"}]
[87,{"$f":"ImportData!$B$10+7*QUOTIENT(A91,24*60*7/ImportData!$B$8)+MOD(1+QUOTIENT(A91,24*60/ImportData!$B$8)-ImportData!$E$10,7)+TIME(0,ImportData!$B$8*A91,0)","v":"2022-05-12T15:00:00"},0,0,0,0,0,0,0,0,0,0,0,0,0,0,0,0,0,0,0,0,0,0,0,0,0,0,0,0,0,0,0,0,0,0,0,"-",{"$f":"IFERROR(ROUND(PERCENTILE(_xlfn._xlws.FILTER(Data_Table[Speed],(Data_Table[Direction]=ImportData!Direction_2)*(Data_Table[Period]=$B91)*(SUM(C91:N91)>=10)),0.85),2),\"-\")","v":"-"}]
[88,{"$f":"ImportData!$B$10+7*QUOTIENT(A92,24*60*7/ImportData!$B$8)+MOD(1+QUOTIENT(A92,24*60/ImportData!$B$8)-ImportData!$E$10,7)+TIME(0,ImportData!$B$8*A92,0)","v":"2022-05-12T16:00:00"},0,0,0,0,0,0,0,0,0,0,0,0,0,0,0,0,0,0,0,0,0,0,0,0,0,0,0,0,0,0,0,0,0,0,0,"-",{"$f":"IFERROR(ROUND(PERCENTILE(_xlfn._xlws.FILTER(Data_Table[Speed],(Data_Table[Direction]=ImportData!Direction_2)*(Data_Table[Period]=$B92)*(SUM(C92:N92)>=10)),0.85),2),\"-\")","v":"-"}]
[89,{"$f":"ImportData!$B$10+7*QUOTIENT(A93,24*60*7/ImportData!$B$8)+MOD(1+QUOTIENT(A93,24*60/ImportData!$B$8)-ImportData!$E$10,7)+TIME(0,ImportData!$B$8*A93,0)","v":"2022-05-12T17:00:00"},0,0,0,0,0,0,0,0,0,0,0,0,0,0,0,0,0,0,0,0,0,0,0,0,0,0,0,0,0,0,0,0,0,0,0,"-",{"$f":"IFERROR(ROUND(PERCENTILE(_xlfn._xlws.FILTER(Data_Table[Speed],(Data_Table[Direction]=ImportData!Direction_2)*(Data_Table[Period]=$B93)*(SUM(C93:N93)>=10)),0.85),2),\"-\")","v":"-"}]
[90,{"$f":"ImportData!$B$10+7*QUOTIENT(A94,24*60*7/ImportData!$B$8)+MOD(1+QUOTIENT(A94,24*60/ImportData!$B$8)-ImportData!$E$10,7)+TIME(0,ImportData!$B$8*A94,0)","v":"2022-05-12T18:00:00"},0,0,0,0,0,0,0,0,0,0,0,0,0,0,0,0,0,0,0,0,0,0,0,0,0,0,0,0,0,0,0,0,0,0,0,"-",{"$f":"IFERROR(ROUND(PERCENTILE(_xlfn._xlws.FILTER(Data_Table[Speed],(Data_Table[Direction]=ImportData!Direction_2)*(Data_Table[Period]=$B94)*(SUM(C94:N94)>=10)),0.85),2),\"-\")","v":"-"}]
[91,{"$f":"ImportData!$B$10+7*QUOTIENT(A95,24*60*7/ImportData!$B$8)+MOD(1+QUOTIENT(A95,24*60/ImportData!$B$8)-ImportData!$E$10,7)+TIME(0,ImportData!$B$8*A95,0)","v":"2022-05-12T19:00:00"},0,0,0,0,0,0,0,0,0,0,0,0,0,0,0,0,0,0,0,0,0,0,0,0,0,0,0,0,0,0,0,0,0,0,0,"-",{"$f":"IFERROR(ROUND(PERCENTILE(_xlfn._xlws.FILTER(Data_Table[Speed],(Data_Table[Direction]=ImportData!Direction_2)*(Data_Table[Period]=$B95)*(SUM(C95:N95)>=10)),0.85),2),\"-\")","v":"-"}]
[92,{"$f":"ImportData!$B$10+7*QUOTIENT(A96,24*60*7/ImportData!$B$8)+MOD(1+QUOTIENT(A96,24*60/ImportData!$B$8)-ImportData!$E$10,7)+TIME(0,ImportData!$B$8*A96,0)","v":"2022-05-12T20:00:00"},0,0,0,0,0,0,0,0,0,0,0,0,0,0,0,0,0,0,0,0,0,0,0,0,0,0,0,0,0,0,0,0,0,0,0,"-",{"$f":"IFERROR(ROUND(PERCENTILE(_xlfn._xlws.FILTER(Data_Table[Speed],(Data_Table[Direction]=ImportData!Direction_2)*(Data_Table[Period]=$B96)*(SUM(C96:N96)>=10)),0.85),2),\"-\")","v":"-"}]
[93,{"$f":"ImportData!$B$10+7*QUOTIENT(A97,24*60*7/ImportData!$B$8)+MOD(1+QUOTIENT(A97,24*60/ImportData!$B$8)-ImportData!$E$10,7)+TIME(0,ImportData!$B$8*A97,0)","v":"2022-05-12T21:00:00"},0,0,0,0,0,0,0,0,0,0,0,0,0,0,0,0,0,0,0,0,0,0,0,0,0,0,0,0,0,0,0,0,0,0,0,"-",{"$f":"IFERROR(ROUND(PERCENTILE(_xlfn._xlws.FILTER(Data_Table[Speed],(Data_Table[Direction]=ImportData!Direction_2)*(Data_Table[Period]=$B97)*(SUM(C97:N97)>=10)),0.85),2),\"-\")","v":"-"}]
[94,{"$f":"ImportData!$B$10+7*QUOTIENT(A98,24*60*7/ImportData!$B$8)+MOD(1+QUOTIENT(A98,24*60/ImportData!$B$8)-ImportData!$E$10,7)+TIME(0,ImportData!$B$8*A98,0)","v":"2022-05-12T22:00:00"},0,0,0,0,0,0,0,0,0,0,0,0,0,0,0,0,0,0,0,0,0,0,0,0,0,0,0,0,0,0,0,0,0,0,0,"-",{"$f":"IFERROR(ROUND(PERCENTILE(_xlfn._xlws.FILTER(Data_Table[Speed],(Data_Table[Direction]=ImportData!Direction_2)*(Data_Table[Period]=$B98)*(SUM(C98:N98)>=10)),0.85),2),\"-\")","v":"-"}]
[95,{"$f":"ImportData!$B$10+7*QUOTIENT(A99,24*60*7/ImportData!$B$8)+MOD(1+QUOTIENT(A99,24*60/ImportData!$B$8)-ImportData!$E$10,7)+TIME(0,ImportData!$B$8*A99,0)","v":"2022-05-12T23:00:00"},0,0,0,0,0,0,0,0,0,0,0,0,0,0,0,0,0,0,0,0,0,0,0,0,0,0,0,0,0,0,0,0,0,0,0,"-",{"$f":"IFERROR(ROUND(PERCENTILE(_xlfn._xlws.FILTER(Data_Table[Speed],(Data_Table[Direction]=ImportData!Direction_2)*(Data_Table[Period]=$B99)*(SUM(C99:N99)>=10)),0.85),2),\"-\")","v":"-"}]
[96,{"$f":"ImportData!$B$10+7*QUOTIENT(A100,24*60*7/ImportData!$B$8)+MOD(1+QUOTIENT(A100,24*60/ImportData!$B$8)-ImportData!$E$10,7)+TIME(0,ImportData!$B$8*A100,0)","v":"2022-05-13"},0,0,0,0,0,0,0,0,0,0,0,0,0,0,0,0,0,0,0,0,0,0,0,0,0,0,0,0,0,0,0,0,0,0,0,"-",{"$f":"IFERROR(ROUND(PERCENTILE(_xlfn._xlws.FILTER(Data_Table[Speed],(Data_Table[Direction]=ImportData!Direction_2)*(Data_Table[Period]=$B100)*(SUM(C100:N100)>=10)),0.85),2),\"-\")","v":"-"}]
[97,{"$f":"ImportData!$B$10+7*QUOTIENT(A101,24*60*7/ImportData!$B$8)+MOD(1+QUOTIENT(A101,24*60/ImportData!$B$8)-ImportData!$E$10,7)+TIME(0,ImportData!$B$8*A101,0)","v":"2022-05-13T01:00:00"},0,0,0,0,0,0,0,0,0,0,0,0,0,0,0,0,0,0,0,0,0,0,0,0,0,0,0,0,0,0,0,0,0,0,0,"-",{"$f":"IFERROR(ROUND(PERCENTILE(_xlfn._xlws.FILTER(Data_Table[Speed],(Data_Table[Direction]=ImportData!Direction_2)*(Data_Table[Period]=$B101)*(SUM(C101:N101)>=10)),0.85),2),\"-\")","v":"-"}]
[98,{"$f":"ImportData!$B$10+7*QUOTIENT(A102,24*60*7/ImportData!$B$8)+MOD(1+QUOTIENT(A102,24*60/ImportData!$B$8)-ImportData!$E$10,7)+TIME(0,ImportData!$B$8*A102,0)","v":"2022-05-13T02:00:00"},0,0,0,0,0,0,0,0,0,0,0,0,0,0,0,0,0,0,0,0,0,0,0,0,0,0,0,0,0,0,0,0,0,0,0,"-",{"$f":"IFERROR(ROUND(PERCENTILE(_xlfn._xlws.FILTER(Data_Table[Speed],(Data_Table[Direction]=ImportData!Direction_2)*(Data_Table[Period]=$B102)*(SUM(C102:N102)>=10)),0.85),2),\"-\")","v":"-"}]
[99,{"$f":"ImportData!$B$10+7*QUOTIENT(A103,24*60*7/ImportData!$B$8)+MOD(1+QUOTIENT(A103,24*60/ImportData!$B$8)-ImportData!$E$10,7)+TIME(0,ImportData!$B$8*A103,0)","v":"2022-05-13T03:00:00"},0,0,0,0,0,0,0,0,0,0,0,0,0,0,0,0,0,0,0,0,0,0,0,0,0,0,0,0,0,0,0,0,0,0,0,"-",{"$f":"IFERROR(ROUND(PERCENTILE(_xlfn._xlws.FILTER(Data_Table[Speed],(Data_Table[Direction]=ImportData!Direction_2)*(Data_Table[Period]=$B103)*(SUM(C103:N103)>=10)),0.85),2),\"-\")","v":"-"}]
[100,{"$f":"ImportData!$B$10+7*QUOTIENT(A104,24*60*7/ImportData!$B$8)+MOD(1+QUOTIENT(A104,24*60/ImportData!$B$8)-ImportData!$E$10,7)+TIME(0,ImportData!$B$8*A104,0)","v":"2022-05-13T04:00:00"},0,0,0,0,0,0,0,0,0,0,0,0,0,0,0,0,0,0,0,0,0,0,0,0,0,0,0,0,0,0,0,0,0,0,0,"-",{"$f":"IFERROR(ROUND(PERCENTILE(_xlfn._xlws.FILTER(Data_Table[Speed],(Data_Table[Direction]=ImportData!Direction_2)*(Data_Table[Period]=$B104)*(SUM(C104:N104)>=10)),0.85),2),\"-\")","v":"-"}]
[101,{"$f":"ImportData!$B$10+7*QUOTIENT(A105,24*60*7/ImportData!$B$8)+MOD(1+QUOTIENT(A105,24*60/ImportData!$B$8)-ImportData!$E$10,7)+TIME(0,ImportData!$B$8*A105,0)","v":"2022-05-13T05:00:00"},0,0,0,0,0,0,0,0,0,0,0,0,0,0,0,0,0,0,0,0,0,0,0,0,0,0,0,0,0,0,0,0,0,0,0,"-",{"$f":"IFERROR(ROUND(PERCENTILE(_xlfn._xlws.FILTER(Data_Table[Speed],(Data_Table[Direction]=ImportData!Direction_2)*(Data_Table[Period]=$B105)*(SUM(C105:N105)>=10)),0.85),2),\"-\")","v":"-"}]
[102,{"$f":"ImportData!$B$10+7*QUOTIENT(A106,24*60*7/ImportData!$B$8)+MOD(1+QUOTIENT(A106,24*60/ImportData!$B$8)-ImportData!$E$10,7)+TIME(0,ImportData!$B$8*A106,0)","v":"2022-05-13T06:00:00"},0,0,0,0,0,0,0,0,0,0,0,0,0,0,0,0,0,0,0,0,0,0,0,0,0,0,0,0,0,0,0,0,0,0,0,"-",{"$f":"IFERROR(ROUND(PERCENTILE(_xlfn._xlws.FILTER(Data_Table[Speed],(Data_Table[Direction]=ImportData!Direction_2)*(Data_Table[Period]=$B106)*(SUM(C106:N106)>=10)),0.85),2),\"-\")","v":"-"}]
[103,{"$f":"ImportData!$B$10+7*QUOTIENT(A107,24*60*7/ImportData!$B$8)+MOD(1+QUOTIENT(A107,24*60/ImportData!$B$8)-ImportData!$E$10,7)+TIME(0,ImportData!$B$8*A107,0)","v":"2022-05-13T07:00:00"},0,0,0,0,0,0,0,0,0,0,0,0,0,0,0,0,0,0,0,0,0,0,0,0,0,0,0,0,0,0,0,0,0,0,0,"-",{"$f":"IFERROR(ROUND(PERCENTILE(_xlfn._xlws.FILTER(Data_Table[Speed],(Data_Table[Direction]=ImportData!Direction_2)*(Data_Table[Period]=$B107)*(SUM(C107:N107)>=10)),0.85),2),\"-\")","v":"-"}]
[104,{"$f":"ImportData!$B$10+7*QUOTIENT(A108,24*60*7/ImportData!$B$8)+MOD(1+QUOTIENT(A108,24*60/ImportData!$B$8)-ImportData!$E$10,7)+TIME(0,ImportData!$B$8*A108,0)","v":"2022-05-13T08:00:00"},0,0,0,0,0,0,0,0,0,0,0,0,0,0,0,0,0,0,0,0,0,0,0,0,0,0,0,0,0,0,0,0,0,0,0,"-",{"$f":"IFERROR(ROUND(PERCENTILE(_xlfn._xlws.FILTER(Data_Table[Speed],(Data_Table[Direction]=ImportData!Direction_2)*(Data_Table[Period]=$B108)*(SUM(C108:N108)>=10)),0.85),2),\"-\")","v":"-"}]
[105,{"$f":"ImportData!$B$10+7*QUOTIENT(A109,24*60*7/ImportData!$B$8)+MOD(1+QUOTIENT(A109,24*60/ImportData!$B$8)-ImportData!$E$10,7)+TIME(0,ImportData!$B$8*A109,0)","v":"2022-05-13T09:00:00"},0,0,0,0,0,0,0,0,0,0,0,0,0,0,0,0,0,0,0,0,0,0,0,0,0,0,0,0,0,0,0,0,0,0,0,"-",{"$f":"IFERROR(ROUND(PERCENTILE(_xlfn._xlws.FILTER(Data_Table[Speed],(Data_Table[Direction]=ImportData!Direction_2)*(Data_Table[Period]=$B109)*(SUM(C109:N109)>=10)),0.85),2),\"-\")","v":"-"}]
[106,{"$f":"ImportData!$B$10+7*QUOTIENT(A110,24*60*7/ImportData!$B$8)+MOD(1+QUOTIENT(A110,24*60/ImportData!$B$8)-ImportData!$E$10,7)+TIME(0,ImportData!$B$8*A110,0)","v":"2022-05-13T10:00:00"},0,0,0,0,0,0,0,0,0,0,0,0,0,0,0,0,0,0,0,0,0,0,0,0,0,0,0,0,0,0,0,0,0,0,0,"-",{"$f":"IFERROR(ROUND(PERCENTILE(_xlfn._xlws.FILTER(Data_Table[Speed],(Data_Table[Direction]=ImportData!Direction_2)*(Data_Table[Period]=$B110)*(SUM(C110:N110)>=10)),0.85),2),\"-\")","v":"-"}]
[107,{"$f":"ImportData!$B$10+7*QUOTIENT(A111,24*60*7/ImportData!$B$8)+MOD(1+QUOTIENT(A111,24*60/ImportData!$B$8)-ImportData!$E$10,7)+TIME(0,ImportData!$B$8*A111,0)","v":"2022-05-13T11:00:00"},0,0,0,0,0,0,0,0,0,0,0,0,0,0,0,0,0,0,0,0,0,0,0,0,0,0,0,0,0,0,0,0,0,0,0,"-",{"$f":"IFERROR(ROUND(PERCENTILE(_xlfn._xlws.FILTER(Data_Table[Speed],(Data_Table[Direction]=ImportData!Direction_2)*(Data_Table[Period]=$B111)*(SUM(C111:N111)>=10)),0.85),2),\"-\")","v":"-"}]
[108,{"$f":"ImportData!$B$10+7*QUOTIENT(A112,24*60*7/ImportData!$B$8)+MOD(1+QUOTIENT(A112,24*60/ImportData!$B$8)-ImportData!$E$10,7)+TIME(0,ImportData!$B$8*A112,0)","v":"2022-05-13T12:00:00"},0,0,0,0,0,0,0,0,0,0,0,0,0,0,0,0,0,0,0,0,0,0,0,0,0,0,0,0,0,0,0,0,0,0,0,"-",{"$f":"IFERROR(ROUND(PERCENTILE(_xlfn._xlws.FILTER(Data_Table[Speed],(Data_Table[Direction]=ImportData!Direction_2)*(Data_Table[Period]=$B112)*(SUM(C112:N112)>=10)),0.85),2),\"-\")","v":"-"}]
[109,{"$f":"ImportData!$B$10+7*QUOTIENT(A113,24*60*7/ImportData!$B$8)+MOD(1+QUOTIENT(A113,24*60/ImportData!$B$8)-ImportData!$E$10,7)+TIME(0,ImportData!$B$8*A113,0)","v":"2022-05-13T13:00:00"},0,0,0,0,0,0,0,0,0,0,0,0,0,0,0,0,0,0,0,0,0,0,0,0,0,0,0,0,0,0,0,0,0,0,0,"-",{"$f":"IFERROR(ROUND(PERCENTILE(_xlfn._xlws.FILTER(Data_Table[Speed],(Data_Table[Direction]=ImportData!Direction_2)*(Data_Table[Period]=$B113)*(SUM(C113:N113)>=10)),0.85),2),\"-\")","v":"-"}]
[110,{"$f":"ImportData!$B$10+7*QUOTIENT(A114,24*60*7/ImportData!$B$8)+MOD(1+QUOTIENT(A114,24*60/ImportData!$B$8)-ImportData!$E$10,7)+TIME(0,ImportData!$B$8*A114,0)","v":"2022-05-13T14:00:00"},0,0,0,0,0,0,0,0,0,0,0,0,0,0,0,0,0,0,0,0,0,0,0,0,0,0,0,0,0,0,0,0,0,0,0,"-",{"$f":"IFERROR(ROUND(PERCENTILE(_xlfn._xlws.FILTER(Data_Table[Speed],(Data_Table[Direction]=ImportData!Direction_2)*(Data_Table[Period]=$B114)*(SUM(C114:N114)>=10)),0.85),2),\"-\")","v":"-"}]
[111,{"$f":"ImportData!$B$10+7*QUOTIENT(A115,24*60*7/ImportData!$B$8)+MOD(1+QUOTIENT(A115,24*60/ImportData!$B$8)-ImportData!$E$10,7)+TIME(0,ImportData!$B$8*A115,0)","v":"2022-05-13T15:00:00"},0,0,0,0,0,0,0,0,0,0,0,0,0,0,0,0,0,0,0,0,0,0,0,0,0,0,0,0,0,0,0,0,0,0,0,"-",{"$f":"IFERROR(ROUND(PERCENTILE(_xlfn._xlws.FILTER(Data_Table[Speed],(Data_Table[Direction]=ImportData!Direction_2)*(Data_Table[Period]=$B115)*(SUM(C115:N115)>=10)),0.85),2),\"-\")","v":"-"}]
[112,{"$f":"ImportData!$B$10+7*QUOTIENT(A116,24*60*7/ImportData!$B$8)+MOD(1+QUOTIENT(A116,24*60/ImportData!$B$8)-ImportData!$E$10,7)+TIME(0,ImportData!$B$8*A116,0)","v":"2022-05-13T16:00:00"},0,0,0,0,0,0,0,0,0,0,0,0,0,0,0,0,0,0,0,0,0,0,0,0,0,0,0,0,0,0,0,0,0,0,0,"-",{"$f":"IFERROR(ROUND(PERCENTILE(_xlfn._xlws.FILTER(Data_Table[Speed],(Data_Table[Direction]=ImportData!Direction_2)*(Data_Table[Period]=$B116)*(SUM(C116:N116)>=10)),0.85),2),\"-\")","v":"-"}]
[113,{"$f":"ImportData!$B$10+7*QUOTIENT(A117,24*60*7/ImportData!$B$8)+MOD(1+QUOTIENT(A117,24*60/ImportData!$B$8)-ImportData!$E$10,7)+TIME(0,ImportData!$B$8*A117,0)","v":"2022-05-13T17:00:00"},0,0,0,0,0,0,0,0,0,0,0,0,0,0,0,0,0,0,0,0,0,0,0,0,0,0,0,0,0,0,0,0,0,0,0,"-",{"$f":"IFERROR(ROUND(PERCENTILE(_xlfn._xlws.FILTER(Data_Table[Speed],(Data_Table[Direction]=ImportData!Direction_2)*(Data_Table[Period]=$B117)*(SUM(C117:N117)>=10)),0.85),2),\"-\")","v":"-"}]
[114,{"$f":"ImportData!$B$10+7*QUOTIENT(A118,24*60*7/ImportData!$B$8)+MOD(1+QUOTIENT(A118,24*60/ImportData!$B$8)-ImportData!$E$10,7)+TIME(0,ImportData!$B$8*A118,0)","v":"2022-05-13T18:00:00"},0,0,0,0,0,0,0,0,0,0,0,0,0,0,0,0,0,0,0,0,0,0,0,0,0,0,0,0,0,0,0,0,0,0,0,"-",{"$f":"IFERROR(ROUND(PERCENTILE(_xlfn._xlws.FILTER(Data_Table[Speed],(Data_Table[Direction]=ImportData!Direction_2)*(Data_Table[Period]=$B118)*(SUM(C118:N118)>=10)),0.85),2),\"-\")","v":"-"}]
[115,{"$f":"ImportData!$B$10+7*QUOTIENT(A119,24*60*7/ImportData!$B$8)+MOD(1+QUOTIENT(A119,24*60/ImportData!$B$8)-ImportData!$E$10,7)+TIME(0,ImportData!$B$8*A119,0)","v":"2022-05-13T19:00:00"},0,0,0,0,0,0,0,0,0,0,0,0,0,0,0,0,0,0,0,0,0,0,0,0,0,0,0,0,0,0,0,0,0,0,0,"-",{"$f":"IFERROR(ROUND(PERCENTILE(_xlfn._xlws.FILTER(Data_Table[Speed],(Data_Table[Direction]=ImportData!Direction_2)*(Data_Table[Period]=$B119)*(SUM(C119:N119)>=10)),0.85),2),\"-\")","v":"-"}]
[116,{"$f":"ImportData!$B$10+7*QUOTIENT(A120,24*60*7/ImportData!$B$8)+MOD(1+QUOTIENT(A120,24*60/ImportData!$B$8)-ImportData!$E$10,7)+TIME(0,ImportData!$B$8*A120,0)","v":"2022-05-13T20:00:00"},0,0,0,0,0,0,0,0,0,0,0,0,0,0,0,0,0,0,0,0,0,0,0,0,0,0,0,0,0,0,0,0,0,0,0,"-",{"$f":"IFERROR(ROUND(PERCENTILE(_xlfn._xlws.FILTER(Data_Table[Speed],(Data_Table[Direction]=ImportData!Direction_2)*(Data_Table[Period]=$B120)*(SUM(C120:N120)>=10)),0.85),2),\"-\")","v":"-"}]
[117,{"$f":"ImportData!$B$10+7*QUOTIENT(A121,24*60*7/ImportData!$B$8)+MOD(1+QUOTIENT(A121,24*60/ImportData!$B$8)-ImportData!$E$10,7)+TIME(0,ImportData!$B$8*A121,0)","v":"2022-05-13T21:00:00"},0,0,0,0,0,0,0,0,0,0,0,0,0,0,0,0,0,0,0,0,0,0,0,0,0,0,0,0,0,0,0,0,0,0,0,"-",{"$f":"IFERROR(ROUND(PERCENTILE(_xlfn._xlws.FILTER(Data_Table[Speed],(Data_Table[Direction]=ImportData!Direction_2)*(Data_Table[Period]=$B121)*(SUM(C121:N121)>=10)),0.85),2),\"-\")","v":"-"}]
[118,{"$f":"ImportData!$B$10+7*QUOTIENT(A122,24*60*7/ImportData!$B$8)+MOD(1+QUOTIENT(A122,24*60/ImportData!$B$8)-ImportData!$E$10,7)+TIME(0,ImportData!$B$8*A122,0)","v":"2022-05-13T22:00:00"},0,0,0,0,0,0,0,0,0,0,0,0,0,0,0,0,0,0,0,0,0,0,0,0,0,0,0,0,0,0,0,0,0,0,0,"-",{"$f":"IFERROR(ROUND(PERCENTILE(_xlfn._xlws.FILTER(Data_Table[Speed],(Data_Table[Direction]=ImportData!Direction_2)*(Data_Table[Period]=$B122)*(SUM(C122:N122)>=10)),0.85),2),\"-\")","v":"-"}]
[119,{"$f":"ImportData!$B$10+7*QUOTIENT(A123,24*60*7/ImportData!$B$8)+MOD(1+QUOTIENT(A123,24*60/ImportData!$B$8)-ImportData!$E$10,7)+TIME(0,ImportData!$B$8*A123,0)","v":"2022-05-13T23:00:00"},0,0,0,0,0,0,0,0,0,0,0,0,0,0,0,0,0,0,0,0,0,0,0,0,0,0,0,0,0,0,0,0,0,0,0,"-",{"$f":"IFERROR(ROUND(PERCENTILE(_xlfn._xlws.FILTER(Data_Table[Speed],(Data_Table[Direction]=ImportData!Direction_2)*(Data_Table[Period]=$B123)*(SUM(C123:N123)>=10)),0.85),2),\"-\")","v":"-"}]
[120,{"$f":"ImportData!$B$10+7*QUOTIENT(A124,24*60*7/ImportData!$B$8)+MOD(1+QUOTIENT(A124,24*60/ImportData!$B$8)-ImportData!$E$10,7)+TIME(0,ImportData!$B$8*A124,0)","v":"2022-05-14"},0,0,0,0,0,0,0,0,0,0,0,0,0,0,0,0,0,0,0,0,0,0,0,0,0,0,0,0,0,0,0,0,0,0,0,"-",{"$f":"IFERROR(ROUND(PERCENTILE(_xlfn._xlws.FILTER(Data_Table[Speed],(Data_Table[Direction]=ImportData!Direction_2)*(Data_Table[Period]=$B124)*(SUM(C124:N124)>=10)),0.85),2),\"-\")","v":"-"}]
[121,{"$f":"ImportData!$B$10+7*QUOTIENT(A125,24*60*7/ImportData!$B$8)+MOD(1+QUOTIENT(A125,24*60/ImportData!$B$8)-ImportData!$E$10,7)+TIME(0,ImportData!$B$8*A125,0)","v":"2022-05-14T01:00:00"},0,0,0,0,0,0,0,0,0,0,0,0,0,0,0,0,0,0,0,0,0,0,0,0,0,0,0,0,0,0,0,0,0,0,0,"-",{"$f":"IFERROR(ROUND(PERCENTILE(_xlfn._xlws.FILTER(Data_Table[Speed],(Data_Table[Direction]=ImportData!Direction_2)*(Data_Table[Period]=$B125)*(SUM(C125:N125)>=10)),0.85),2),\"-\")","v":"-"}]
[122,{"$f":"ImportData!$B$10+7*QUOTIENT(A126,24*60*7/ImportData!$B$8)+MOD(1+QUOTIENT(A126,24*60/ImportData!$B$8)-ImportData!$E$10,7)+TIME(0,ImportData!$B$8*A126,0)","v":"2022-05-14T02:00:00"},0,0,0,0,0,0,0,0,0,0,0,0,0,0,0,0,0,0,0,0,0,0,0,0,0,0,0,0,0,0,0,0,0,0,0,"-",{"$f":"IFERROR(ROUND(PERCENTILE(_xlfn._xlws.FILTER(Data_Table[Speed],(Data_Table[Direction]=ImportData!Direction_2)*(Data_Table[Period]=$B126)*(SUM(C126:N126)>=10)),0.85),2),\"-\")","v":"-"}]
[123,{"$f":"ImportData!$B$10+7*QUOTIENT(A127,24*60*7/ImportData!$B$8)+MOD(1+QUOTIENT(A127,24*60/ImportData!$B$8)-ImportData!$E$10,7)+TIME(0,ImportData!$B$8*A127,0)","v":"2022-05-14T03:00:00"},0,0,0,0,0,0,0,0,0,0,0,0,0,0,0,0,0,0,0,0,0,0,0,0,0,0,0,0,0,0,0,0,0,0,0,"-",{"$f":"IFERROR(ROUND(PERCENTILE(_xlfn._xlws.FILTER(Data_Table[Speed],(Data_Table[Direction]=ImportData!Direction_2)*(Data_Table[Period]=$B127)*(SUM(C127:N127)>=10)),0.85),2),\"-\")","v":"-"}]
[124,{"$f":"ImportData!$B$10+7*QUOTIENT(A128,24*60*7/ImportData!$B$8)+MOD(1+QUOTIENT(A128,24*60/ImportData!$B$8)-ImportData!$E$10,7)+TIME(0,ImportData!$B$8*A128,0)","v":"2022-05-14T04:00:00"},0,0,0,0,0,0,0,0,0,0,0,0,0,0,0,0,0,0,0,0,0,0,0,0,0,0,0,0,0,0,0,0,0,0,0,"-",{"$f":"IFERROR(ROUND(PERCENTILE(_xlfn._xlws.FILTER(Data_Table[Speed],(Data_Table[Direction]=ImportData!Direction_2)*(Data_Table[Period]=$B128)*(SUM(C128:N128)>=10)),0.85),2),\"-\")","v":"-"}]
[125,{"$f":"ImportData!$B$10+7*QUOTIENT(A129,24*60*7/ImportData!$B$8)+MOD(1+QUOTIENT(A129,24*60/ImportData!$B$8)-ImportData!$E$10,7)+TIME(0,ImportData!$B$8*A129,0)","v":"2022-05-14T05:00:00"},0,0,0,0,0,0,0,0,0,0,0,0,0,0,0,0,0,0,0,0,0,0,0,0,0,0,0,0,0,0,0,0,0,0,0,"-",{"$f":"IFERROR(ROUND(PERCENTILE(_xlfn._xlws.FILTER(Data_Table[Speed],(Data_Table[Direction]=ImportData!Direction_2)*(Data_Table[Period]=$B129)*(SUM(C129:N129)>=10)),0.85),2),\"-\")","v":"-"}]
[126,{"$f":"ImportData!$B$10+7*QUOTIENT(A130,24*60*7/ImportData!$B$8)+MOD(1+QUOTIENT(A130,24*60/ImportData!$B$8)-ImportData!$E$10,7)+TIME(0,ImportData!$B$8*A130,0)","v":"2022-05-14T06:00:00"},0,0,0,0,0,0,0,0,0,0,0,0,0,0,0,0,0,0,0,0,0,0,0,0,0,0,0,0,0,0,0,0,0,0,0,"-",{"$f":"IFERROR(ROUND(PERCENTILE(_xlfn._xlws.FILTER(Data_Table[Speed],(Data_Table[Direction]=ImportData!Direction_2)*(Data_Table[Period]=$B130)*(SUM(C130:N130)>=10)),0.85),2),\"-\")","v":"-"}]
[127,{"$f":"ImportData!$B$10+7*QUOTIENT(A131,24*60*7/ImportData!$B$8)+MOD(1+QUOTIENT(A131,24*60/ImportData!$B$8)-ImportData!$E$10,7)+TIME(0,ImportData!$B$8*A131,0)","v":"2022-05-14T07:00:00"},0,0,0,0,0,0,0,0,0,0,0,0,0,0,0,0,0,0,0,0,0,0,0,0,0,0,0,0,0,0,0,0,0,0,0,"-",{"$f":"IFERROR(ROUND(PERCENTILE(_xlfn._xlws.FILTER(Data_Table[Speed],(Data_Table[Direction]=ImportData!Direction_2)*(Data_Table[Period]=$B131)*(SUM(C131:N131)>=10)),0.85),2),\"-\")","v":"-"}]
[128,{"$f":"ImportData!$B$10+7*QUOTIENT(A132,24*60*7/ImportData!$B$8)+MOD(1+QUOTIENT(A132,24*60/ImportData!$B$8)-ImportData!$E$10,7)+TIME(0,ImportData!$B$8*A132,0)","v":"2022-05-14T08:00:00"},0,0,0,0,0,0,0,0,0,0,0,0,0,0,0,0,0,0,0,0,0,0,0,0,0,0,0,0,0,0,0,0,0,0,0,"-",{"$f":"IFERROR(ROUND(PERCENTILE(_xlfn._xlws.FILTER(Data_Table[Speed],(Data_Table[Direction]=ImportData!Direction_2)*(Data_Table[Period]=$B132)*(SUM(C132:N132)>=10)),0.85),2),\"-\")","v":"-"}]
[129,{"$f":"ImportData!$B$10+7*QUOTIENT(A133,24*60*7/ImportData!$B$8)+MOD(1+QUOTIENT(A133,24*60/ImportData!$B$8)-ImportData!$E$10,7)+TIME(0,ImportData!$B$8*A133,0)","v":"2022-05-14T09:00:00"},0,0,0,0,0,0,0,0,0,0,0,0,0,0,0,0,0,0,0,0,0,0,0,0,0,0,0,0,0,0,0,0,0,0,0,"-",{"$f":"IFERROR(ROUND(PERCENTILE(_xlfn._xlws.FILTER(Data_Table[Speed],(Data_Table[Direction]=ImportData!Direction_2)*(Data_Table[Period]=$B133)*(SUM(C133:N133)>=10)),0.85),2),\"-\")","v":"-"}]
[130,{"$f":"ImportData!$B$10+7*QUOTIENT(A134,24*60*7/ImportData!$B$8)+MOD(1+QUOTIENT(A134,24*60/ImportData!$B$8)-ImportData!$E$10,7)+TIME(0,ImportData!$B$8*A134,0)","v":"2022-05-14T10:00:00"},0,0,0,0,0,0,0,0,0,0,0,0,0,0,0,0,0,0,0,0,0,0,0,0,0,0,0,0,0,0,0,0,0,0,0,"-",{"$f":"IFERROR(ROUND(PERCENTILE(_xlfn._xlws.FILTER(Data_Table[Speed],(Data_Table[Direction]=ImportData!Direction_2)*(Data_Table[Period]=$B134)*(SUM(C134:N134)>=10)),0.85),2),\"-\")","v":"-"}]
[131,{"$f":"ImportData!$B$10+7*QUOTIENT(A135,24*60*7/ImportData!$B$8)+MOD(1+QUOTIENT(A135,24*60/ImportData!$B$8)-ImportData!$E$10,7)+TIME(0,ImportData!$B$8*A135,0)","v":"2022-05-14T11:00:00"},0,0,0,0,0,0,0,0,0,0,0,0,0,0,0,0,0,0,0,0,0,0,0,0,0,0,0,0,0,0,0,0,0,0,0,"-",{"$f":"IFERROR(ROUND(PERCENTILE(_xlfn._xlws.FILTER(Data_Table[Speed],(Data_Table[Direction]=ImportData!Direction_2)*(Data_Table[Period]=$B135)*(SUM(C135:N135)>=10)),0.85),2),\"-\")","v":"-"}]
[132,{"$f":"ImportData!$B$10+7*QUOTIENT(A136,24*60*7/ImportData!$B$8)+MOD(1+QUOTIENT(A136,24*60/ImportData!$B$8)-ImportData!$E$10,7)+TIME(0,ImportData!$B$8*A136,0)","v":"2022-05-14T12:00:00"},0,0,0,0,0,0,0,0,0,0,0,0,0,0,0,0,0,0,0,0,0,0,0,0,0,0,0,0,0,0,0,0,0,0,0,"-",{"$f":"IFERROR(ROUND(PERCENTILE(_xlfn._xlws.FILTER(Data_Table[Speed],(Data_Table[Direction]=ImportData!Direction_2)*(Data_Table[Period]=$B136)*(SUM(C136:N136)>=10)),0.85),2),\"-\")","v":"-"}]
[133,{"$f":"ImportData!$B$10+7*QUOTIENT(A137,24*60*7/ImportData!$B$8)+MOD(1+QUOTIENT(A137,24*60/ImportData!$B$8)-ImportData!$E$10,7)+TIME(0,ImportData!$B$8*A137,0)","v":"2022-05-14T13:00:00"},0,0,0,0,0,0,0,0,0,0,0,0,0,0,0,0,0,0,0,0,0,0,0,0,0,0,0,0,0,0,0,0,0,0,0,"-",{"$f":"IFERROR(ROUND(PERCENTILE(_xlfn._xlws.FILTER(Data_Table[Speed],(Data_Table[Direction]=ImportData!Direction_2)*(Data_Table[Period]=$B137)*(SUM(C137:N137)>=10)),0.85),2),\"-\")","v":"-"}]
[134,{"$f":"ImportData!$B$10+7*QUOTIENT(A138,24*60*7/ImportData!$B$8)+MOD(1+QUOTIENT(A138,24*60/ImportData!$B$8)-ImportData!$E$10,7)+TIME(0,ImportData!$B$8*A138,0)","v":"2022-05-14T14:00:00"},0,0,0,0,0,0,0,0,0,0,0,0,0,0,0,0,0,0,0,0,0,0,0,0,0,0,0,0,0,0,0,0,0,0,0,"-",{"$f":"IFERROR(ROUND(PERCENTILE(_xlfn._xlws.FILTER(Data_Table[Speed],(Data_Table[Direction]=ImportData!Direction_2)*(Data_Table[Period]=$B138)*(SUM(C138:N138)>=10)),0.85),2),\"-\")","v":"-"}]
[135,{"$f":"ImportData!$B$10+7*QUOTIENT(A139,24*60*7/ImportData!$B$8)+MOD(1+QUOTIENT(A139,24*60/ImportData!$B$8)-ImportData!$E$10,7)+TIME(0,ImportData!$B$8*A139,0)","v":"2022-05-14T15:00:00"},0,0,0,0,0,0,0,0,0,0,0,0,0,0,0,0,0,0,0,0,0,0,0,0,0,0,0,0,0,0,0,0,0,0,0,"-",{"$f":"IFERROR(ROUND(PERCENTILE(_xlfn._xlws.FILTER(Data_Table[Speed],(Data_Table[Direction]=ImportData!Direction_2)*(Data_Table[Period]=$B139)*(SUM(C139:N139)>=10)),0.85),2),\"-\")","v":"-"}]
[136,{"$f":"ImportData!$B$10+7*QUOTIENT(A140,24*60*7/ImportData!$B$8)+MOD(1+QUOTIENT(A140,24*60/ImportData!$B$8)-ImportData!$E$10,7)+TIME(0,ImportData!$B$8*A140,0)","v":"2022-05-14T16:00:00"},0,0,0,0,0,0,0,0,0,0,0,0,0,0,0,0,0,0,0,0,0,0,0,0,0,0,0,0,0,0,0,0,0,0,0,"-",{"$f":"IFERROR(ROUND(PERCENTILE(_xlfn._xlws.FILTER(Data_Table[Speed],(Data_Table[Direction]=ImportData!Direction_2)*(Data_Table[Period]=$B140)*(SUM(C140:N140)>=10)),0.85),2),\"-\")","v":"-"}]
[137,{"$f":"ImportData!$B$10+7*QUOTIENT(A141,24*60*7/ImportData!$B$8)+MOD(1+QUOTIENT(A141,24*60/ImportData!$B$8)-ImportData!$E$10,7)+TIME(0,ImportData!$B$8*A141,0)","v":"2022-05-14T17:00:00"},0,0,0,0,0,0,0,0,0,0,0,0,0,0,0,0,0,0,0,0,0,0,0,0,0,0,0,0,0,0,0,0,0,0,0,"-",{"$f":"IFERROR(ROUND(PERCENTILE(_xlfn._xlws.FILTER(Data_Table[Speed],(Data_Table[Direction]=ImportData!Direction_2)*(Data_Table[Period]=$B141)*(SUM(C141:N141)>=10)),0.85),2),\"-\")","v":"-"}]
[138,{"$f":"ImportData!$B$10+7*QUOTIENT(A142,24*60*7/ImportData!$B$8)+MOD(1+QUOTIENT(A142,24*60/ImportData!$B$8)-ImportData!$E$10,7)+TIME(0,ImportData!$B$8*A142,0)","v":"2022-05-14T18:00:00"},0,0,0,0,0,0,0,0,0,0,0,0,0,0,0,0,0,0,0,0,0,0,0,0,0,0,0,0,0,0,0,0,0,0,0,"-",{"$f":"IFERROR(ROUND(PERCENTILE(_xlfn._xlws.FILTER(Data_Table[Speed],(Data_Table[Direction]=ImportData!Direction_2)*(Data_Table[Period]=$B142)*(SUM(C142:N142)>=10)),0.85),2),\"-\")","v":"-"}]
[139,{"$f":"ImportData!$B$10+7*QUOTIENT(A143,24*60*7/ImportData!$B$8)+MOD(1+QUOTIENT(A143,24*60/ImportData!$B$8)-ImportData!$E$10,7)+TIME(0,ImportData!$B$8*A143,0)","v":"2022-05-14T19:00:00"},0,0,0,0,0,0,0,0,0,0,0,0,0,0,0,0,0,0,0,0,0,0,0,0,0,0,0,0,0,0,0,0,0,0,0,"-",{"$f":"IFERROR(ROUND(PERCENTILE(_xlfn._xlws.FILTER(Data_Table[Speed],(Data_Table[Direction]=ImportData!Direction_2)*(Data_Table[Period]=$B143)*(SUM(C143:N143)>=10)),0.85),2),\"-\")","v":"-"}]
[140,{"$f":"ImportData!$B$10+7*QUOTIENT(A144,24*60*7/ImportData!$B$8)+MOD(1+QUOTIENT(A144,24*60/ImportData!$B$8)-ImportData!$E$10,7)+TIME(0,ImportData!$B$8*A144,0)","v":"2022-05-14T20:00:00"},0,0,0,0,0,0,0,0,0,0,0,0,0,0,0,0,0,0,0,0,0,0,0,0,0,0,0,0,0,0,0,0,0,0,0,"-",{"$f":"IFERROR(ROUND(PERCENTILE(_xlfn._xlws.FILTER(Data_Table[Speed],(Data_Table[Direction]=ImportData!Direction_2)*(Data_Table[Period]=$B144)*(SUM(C144:N144)>=10)),0.85),2),\"-\")","v":"-"}]
[141,{"$f":"ImportData!$B$10+7*QUOTIENT(A145,24*60*7/ImportData!$B$8)+MOD(1+QUOTIENT(A145,24*60/ImportData!$B$8)-ImportData!$E$10,7)+TIME(0,ImportData!$B$8*A145,0)","v":"2022-05-14T21:00:00"},0,0,0,0,0,0,0,0,0,0,0,0,0,0,0,0,0,0,0,0,0,0,0,0,0,0,0,0,0,0,0,0,0,0,0,"-",{"$f":"IFERROR(ROUND(PERCENTILE(_xlfn._xlws.FILTER(Data_Table[Speed],(Data_Table[Direction]=ImportData!Direction_2)*(Data_Table[Period]=$B145)*(SUM(C145:N145)>=10)),0.85),2),\"-\")","v":"-"}]
[142,{"$f":"ImportData!$B$10+7*QUOTIENT(A146,24*60*7/ImportData!$B$8)+MOD(1+QUOTIENT(A146,24*60/ImportData!$B$8)-ImportData!$E$10,7)+TIME(0,ImportData!$B$8*A146,0)","v":"2022-05-14T22:00:00"},0,0,0,0,0,0,0,0,0,0,0,0,0,0,0,0,0,0,0,0,0,0,0,0,0,0,0,0,0,0,0,0,0,0,0,"-",{"$f":"IFERROR(ROUND(PERCENTILE(_xlfn._xlws.FILTER(Data_Table[Speed],(Data_Table[Direction]=ImportData!Direction_2)*(Data_Table[Period]=$B146)*(SUM(C146:N146)>=10)),0.85),2),\"-\")","v":"-"}]
[143,{"$f":"ImportData!$B$10+7*QUOTIENT(A147,24*60*7/ImportData!$B$8)+MOD(1+QUOTIENT(A147,24*60/ImportData!$B$8)-ImportData!$E$10,7)+TIME(0,ImportData!$B$8*A147,0)","v":"2022-05-14T23:00:00"},0,0,0,0,0,0,0,0,0,0,0,0,0,0,0,0,0,0,0,0,0,0,0,0,0,0,0,0,0,0,0,0,0,0,0,"-",{"$f":"IFERROR(ROUND(PERCENTILE(_xlfn._xlws.FILTER(Data_Table[Speed],(Data_Table[Direction]=ImportData!Direction_2)*(Data_Table[Period]=$B147)*(SUM(C147:N147)>=10)),0.85),2),\"-\")","v":"-"}]
[144,{"$f":"ImportData!$B$10+7*QUOTIENT(A148,24*60*7/ImportData!$B$8)+MOD(1+QUOTIENT(A148,24*60/ImportData!$B$8)-ImportData!$E$10,7)+TIME(0,ImportData!$B$8*A148,0)","v":"2022-05-15"},0,0,0,0,0,0,0,0,0,0,0,0,0,0,0,0,0,0,0,0,0,0,0,0,0,0,0,0,0,0,0,0,0,0,0,"-",{"$f":"IFERROR(ROUND(PERCENTILE(_xlfn._xlws.FILTER(Data_Table[Speed],(Data_Table[Direction]=ImportData!Direction_2)*(Data_Table[Period]=$B148)*(SUM(C148:N148)>=10)),0.85),2),\"-\")","v":"-"}]
[145,{"$f":"ImportData!$B$10+7*QUOTIENT(A149,24*60*7/ImportData!$B$8)+MOD(1+QUOTIENT(A149,24*60/ImportData!$B$8)-ImportData!$E$10,7)+TIME(0,ImportData!$B$8*A149,0)","v":"2022-05-15T01:00:00"},0,0,0,0,0,0,0,0,0,0,0,0,0,0,0,0,0,0,0,0,0,0,0,0,0,0,0,0,0,0,0,0,0,0,0,"-",{"$f":"IFERROR(ROUND(PERCENTILE(_xlfn._xlws.FILTER(Data_Table[Speed],(Data_Table[Direction]=ImportData!Direction_2)*(Data_Table[Period]=$B149)*(SUM(C149:N149)>=10)),0.85),2),\"-\")","v":"-"}]
[146,{"$f":"ImportData!$B$10+7*QUOTIENT(A150,24*60*7/ImportData!$B$8)+MOD(1+QUOTIENT(A150,24*60/ImportData!$B$8)-ImportData!$E$10,7)+TIME(0,ImportData!$B$8*A150,0)","v":"2022-05-15T02:00:00"},0,0,0,0,0,0,0,0,0,0,0,0,0,0,0,0,0,0,0,0,0,0,0,0,0,0,0,0,0,0,0,0,0,0,0,"-",{"$f":"IFERROR(ROUND(PERCENTILE(_xlfn._xlws.FILTER(Data_Table[Speed],(Data_Table[Direction]=ImportData!Direction_2)*(Data_Table[Period]=$B150)*(SUM(C150:N150)>=10)),0.85),2),\"-\")","v":"-"}]
[147,{"$f":"ImportData!$B$10+7*QUOTIENT(A151,24*60*7/ImportData!$B$8)+MOD(1+QUOTIENT(A151,24*60/ImportData!$B$8)-ImportData!$E$10,7)+TIME(0,ImportData!$B$8*A151,0)","v":"2022-05-15T03:00:00"},0,0,0,0,0,0,0,0,0,0,0,0,0,0,0,0,0,0,0,0,0,0,0,0,0,0,0,0,0,0,0,0,0,0,0,"-",{"$f":"IFERROR(ROUND(PERCENTILE(_xlfn._xlws.FILTER(Data_Table[Speed],(Data_Table[Direction]=ImportData!Direction_2)*(Data_Table[Period]=$B151)*(SUM(C151:N151)>=10)),0.85),2),\"-\")","v":"-"}]
[148,{"$f":"ImportData!$B$10+7*QUOTIENT(A152,24*60*7/ImportData!$B$8)+MOD(1+QUOTIENT(A152,24*60/ImportData!$B$8)-ImportData!$E$10,7)+TIME(0,ImportData!$B$8*A152,0)","v":"2022-05-15T04:00:00"},0,0,0,0,0,0,0,0,0,0,0,0,0,0,0,0,0,0,0,0,0,0,0,0,0,0,0,0,0,0,0,0,0,0,0,"-",{"$f":"IFERROR(ROUND(PERCENTILE(_xlfn._xlws.FILTER(Data_Table[Speed],(Data_Table[Direction]=ImportData!Direction_2)*(Data_Table[Period]=$B152)*(SUM(C152:N152)>=10)),0.85),2),\"-\")","v":"-"}]
[149,{"$f":"ImportData!$B$10+7*QUOTIENT(A153,24*60*7/ImportData!$B$8)+MOD(1+QUOTIENT(A153,24*60/ImportData!$B$8)-ImportData!$E$10,7)+TIME(0,ImportData!$B$8*A153,0)","v":"2022-05-15T05:00:00"},0,0,0,0,0,0,0,0,0,0,0,0,0,0,0,0,0,0,0,0,0,0,0,0,0,0,0,0,0,0,0,0,0,0,0,"-",{"$f":"IFERROR(ROUND(PERCENTILE(_xlfn._xlws.FILTER(Data_Table[Speed],(Data_Table[Direction]=ImportData!Direction_2)*(Data_Table[Period]=$B153)*(SUM(C153:N153)>=10)),0.85),2),\"-\")","v":"-"}]
[150,{"$f":"ImportData!$B$10+7*QUOTIENT(A154,24*60*7/ImportData!$B$8)+MOD(1+QUOTIENT(A154,24*60/ImportData!$B$8)-ImportData!$E$10,7)+TIME(0,ImportData!$B$8*A154,0)","v":"2022-05-15T06:00:00"},0,0,0,0,0,0,0,0,0,0,0,0,0,0,0,0,0,0,0,0,0,0,0,0,0,0,0,0,0,0,0,0,0,0,0,"-",{"$f":"IFERROR(ROUND(PERCENTILE(_xlfn._xlws.FILTER(Data_Table[Speed],(Data_Table[Direction]=ImportData!Direction_2)*(Data_Table[Period]=$B154)*(SUM(C154:N154)>=10)),0.85),2),\"-\")","v":"-"}]
[151,{"$f":"ImportData!$B$10+7*QUOTIENT(A155,24*60*7/ImportData!$B$8)+MOD(1+QUOTIENT(A155,24*60/ImportData!$B$8)-ImportData!$E$10,7)+TIME(0,ImportData!$B$8*A155,0)","v":"2022-05-15T07:00:00"},0,0,0,0,0,0,0,0,0,0,0,0,0,0,0,0,0,0,0,0,0,0,0,0,0,0,0,0,0,0,0,0,0,0,0,"-",{"$f":"IFERROR(ROUND(PERCENTILE(_xlfn._xlws.FILTER(Data_Table[Speed],(Data_Table[Direction]=ImportData!Direction_2)*(Data_Table[Period]=$B155)*(SUM(C155:N155)>=10)),0.85),2),\"-\")","v":"-"}]
[152,{"$f":"ImportData!$B$10+7*QUOTIENT(A156,24*60*7/ImportData!$B$8)+MOD(1+QUOTIENT(A156,24*60/ImportData!$B$8)-ImportData!$E$10,7)+TIME(0,ImportData!$B$8*A156,0)","v":"2022-05-15T08:00:00"},0,0,0,0,0,0,0,0,0,0,0,0,0,0,0,0,0,0,0,0,0,0,0,0,0,0,0,0,0,0,0,0,0,0,0,"-",{"$f":"IFERROR(ROUND(PERCENTILE(_xlfn._xlws.FILTER(Data_Table[Speed],(Data_Table[Direction]=ImportData!Direction_2)*(Data_Table[Period]=$B156)*(SUM(C156:N156)>=10)),0.85),2),\"-\")","v":"-"}]
[153,{"$f":"ImportData!$B$10+7*QUOTIENT(A157,24*60*7/ImportData!$B$8)+MOD(1+QUOTIENT(A157,24*60/ImportData!$B$8)-ImportData!$E$10,7)+TIME(0,ImportData!$B$8*A157,0)","v":"2022-05-15T09:00:00"},0,0,0,0,0,0,0,0,0,0,0,0,0,0,0,0,0,0,0,0,0,0,0,0,0,0,0,0,0,0,0,0,0,0,0,"-",{"$f":"IFERROR(ROUND(PERCENTILE(_xlfn._xlws.FILTER(Data_Table[Speed],(Data_Table[Direction]=ImportData!Direction_2)*(Data_Table[Period]=$B157)*(SUM(C157:N157)>=10)),0.85),2),\"-\")","v":"-"}]
[154,{"$f":"ImportData!$B$10+7*QUOTIENT(A158,24*60*7/ImportData!$B$8)+MOD(1+QUOTIENT(A158,24*60/ImportData!$B$8)-ImportData!$E$10,7)+TIME(0,ImportData!$B$8*A158,0)","v":"2022-05-15T10:00:00"},0,0,0,0,0,0,0,0,0,0,0,0,0,0,0,0,0,0,0,0,0,0,0,0,0,0,0,0,0,0,0,0,0,0,0,"-",{"$f":"IFERROR(ROUND(PERCENTILE(_xlfn._xlws.FILTER(Data_Table[Speed],(Data_Table[Direction]=ImportData!Direction_2)*(Data_Table[Period]=$B158)*(SUM(C158:N158)>=10)),0.85),2),\"-\")","v":"-"}]
[155,{"$f":"ImportData!$B$10+7*QUOTIENT(A159,24*60*7/ImportData!$B$8)+MOD(1+QUOTIENT(A159,24*60/ImportData!$B$8)-ImportData!$E$10,7)+TIME(0,ImportData!$B$8*A159,0)","v":"2022-05-15T11:00:00"},0,0,0,0,0,0,0,0,0,0,0,0,0,0,0,0,0,0,0,0,0,0,0,0,0,0,0,0,0,0,0,0,0,0,0,"-",{"$f":"IFERROR(ROUND(PERCENTILE(_xlfn._xlws.FILTER(Data_Table[Speed],(Data_Table[Direction]=ImportData!Direction_2)*(Data_Table[Period]=$B159)*(SUM(C159:N159)>=10)),0.85),2),\"-\")","v":"-"}]
[156,{"$f":"ImportData!$B$10+7*QUOTIENT(A160,24*60*7/ImportData!$B$8)+MOD(1+QUOTIENT(A160,24*60/ImportData!$B$8)-ImportData!$E$10,7)+TIME(0,ImportData!$B$8*A160,0)","v":"2022-05-15T12:00:00"},0,0,0,0,0,0,0,0,0,0,0,0,0,0,0,0,0,0,0,0,0,0,0,0,0,0,0,0,0,0,0,0,0,0,0,"-",{"$f":"IFERROR(ROUND(PERCENTILE(_xlfn._xlws.FILTER(Data_Table[Speed],(Data_Table[Direction]=ImportData!Direction_2)*(Data_Table[Period]=$B160)*(SUM(C160:N160)>=10)),0.85),2),\"-\")","v":"-"}]
[157,{"$f":"ImportData!$B$10+7*QUOTIENT(A161,24*60*7/ImportData!$B$8)+MOD(1+QUOTIENT(A161,24*60/ImportData!$B$8)-ImportData!$E$10,7)+TIME(0,ImportData!$B$8*A161,0)","v":"2022-05-15T13:00:00"},0,0,0,0,0,0,0,0,0,0,0,0,0,0,0,0,0,0,0,0,0,0,0,0,0,0,0,0,0,0,0,0,0,0,0,"-",{"$f":"IFERROR(ROUND(PERCENTILE(_xlfn._xlws.FILTER(Data_Table[Speed],(Data_Table[Direction]=ImportData!Direction_2)*(Data_Table[Period]=$B161)*(SUM(C161:N161)>=10)),0.85),2),\"-\")","v":"-"}]
[158,{"$f":"ImportData!$B$10+7*QUOTIENT(A162,24*60*7/ImportData!$B$8)+MOD(1+QUOTIENT(A162,24*60/ImportData!$B$8)-ImportData!$E$10,7)+TIME(0,ImportData!$B$8*A162,0)","v":"2022-05-15T14:00:00"},0,0,0,0,0,0,0,0,0,0,0,0,0,0,0,0,0,0,0,0,0,0,0,0,0,0,0,0,0,0,0,0,0,0,0,"-",{"$f":"IFERROR(ROUND(PERCENTILE(_xlfn._xlws.FILTER(Data_Table[Speed],(Data_Table[Direction]=ImportData!Direction_2)*(Data_Table[Period]=$B162)*(SUM(C162:N162)>=10)),0.85),2),\"-\")","v":"-"}]
[159,{"$f":"ImportData!$B$10+7*QUOTIENT(A163,24*60*7/ImportData!$B$8)+MOD(1+QUOTIENT(A163,24*60/ImportData!$B$8)-ImportData!$E$10,7)+TIME(0,ImportData!$B$8*A163,0)","v":"2022-05-15T15:00:00"},0,0,0,0,0,0,0,0,0,0,0,0,0,0,0,0,0,0,0,0,0,0,0,0,0,0,0,0,0,0,0,0,0,0,0,"-",{"$f":"IFERROR(ROUND(PERCENTILE(_xlfn._xlws.FILTER(Data_Table[Speed],(Data_Table[Direction]=ImportData!Direction_2)*(Data_Table[Period]=$B163)*(SUM(C163:N163)>=10)),0.85),2),\"-\")","v":"-"}]
[160,{"$f":"ImportData!$B$10+7*QUOTIENT(A164,24*60*7/ImportData!$B$8)+MOD(1+QUOTIENT(A164,24*60/ImportData!$B$8)-ImportData!$E$10,7)+TIME(0,ImportData!$B$8*A164,0)","v":"2022-05-15T16:00:00"},0,0,0,0,0,0,0,0,0,0,0,0,0,0,0,0,0,0,0,0,0,0,0,0,0,0,0,0,0,0,0,0,0,0,0,"-",{"$f":"IFERROR(ROUND(PERCENTILE(_xlfn._xlws.FILTER(Data_Table[Speed],(Data_Table[Direction]=ImportData!Direction_2)*(Data_Table[Period]=$B164)*(SUM(C164:N164)>=10)),0.85),2),\"-\")","v":"-"}]
[161,{"$f":"ImportData!$B$10+7*QUOTIENT(A165,24*60*7/ImportData!$B$8)+MOD(1+QUOTIENT(A165,24*60/ImportData!$B$8)-ImportData!$E$10,7)+TIME(0,ImportData!$B$8*A165,0)","v":"2022-05-15T17:00:00"},0,0,0,0,0,0,0,0,0,0,0,0,0,0,0,0,0,0,0,0,0,0,0,0,0,0,0,0,0,0,0,0,0,0,0,"-",{"$f":"IFERROR(ROUND(PERCENTILE(_xlfn._xlws.FILTER(Data_Table[Speed],(Data_Table[Direction]=ImportData!Direction_2)*(Data_Table[Period]=$B165)*(SUM(C165:N165)>=10)),0.85),2),\"-\")","v":"-"}]
[162,{"$f":"ImportData!$B$10+7*QUOTIENT(A166,24*60*7/ImportData!$B$8)+MOD(1+QUOTIENT(A166,24*60/ImportData!$B$8)-ImportData!$E$10,7)+TIME(0,ImportData!$B$8*A166,0)","v":"2022-05-15T18:00:00"},0,0,0,0,0,0,0,0,0,0,0,0,0,0,0,0,0,0,0,0,0,0,0,0,0,0,0,0,0,0,0,0,0,0,0,"-",{"$f":"IFERROR(ROUND(PERCENTILE(_xlfn._xlws.FILTER(Data_Table[Speed],(Data_Table[Direction]=ImportData!Direction_2)*(Data_Table[Period]=$B166)*(SUM(C166:N166)>=10)),0.85),2),\"-\")","v":"-"}]
[163,{"$f":"ImportData!$B$10+7*QUOTIENT(A167,24*60*7/ImportData!$B$8)+MOD(1+QUOTIENT(A167,24*60/ImportData!$B$8)-ImportData!$E$10,7)+TIME(0,ImportData!$B$8*A167,0)","v":"2022-05-15T19:00:00"},0,0,0,0,0,0,0,0,0,0,0,0,0,0,0,0,0,0,0,0,0,0,0,0,0,0,0,0,0,0,0,0,0,0,0,"-",{"$f":"IFERROR(ROUND(PERCENTILE(_xlfn._xlws.FILTER(Data_Table[Speed],(Data_Table[Direction]=ImportData!Direction_2)*(Data_Table[Period]=$B167)*(SUM(C167:N167)>=10)),0.85),2),\"-\")","v":"-"}]
[164,{"$f":"ImportData!$B$10+7*QUOTIENT(A168,24*60*7/ImportData!$B$8)+MOD(1+QUOTIENT(A168,24*60/ImportData!$B$8)-ImportData!$E$10,7)+TIME(0,ImportData!$B$8*A168,0)","v":"2022-05-15T20:00:00"},0,0,0,0,0,0,0,0,0,0,0,0,0,0,0,0,0,0,0,0,0,0,0,0,0,0,0,0,0,0,0,0,0,0,0,"-",{"$f":"IFERROR(ROUND(PERCENTILE(_xlfn._xlws.FILTER(Data_Table[Speed],(Data_Table[Direction]=ImportData!Direction_2)*(Data_Table[Period]=$B168)*(SUM(C168:N168)>=10)),0.85),2),\"-\")","v":"-"}]
[165,{"$f":"ImportData!$B$10+7*QUOTIENT(A169,24*60*7/ImportData!$B$8)+MOD(1+QUOTIENT(A169,24*60/ImportData!$B$8)-ImportData!$E$10,7)+TIME(0,ImportData!$B$8*A169,0)","v":"2022-05-15T21:00:00"},0,0,0,0,0,0,0,0,0,0,0,0,0,0,0,0,0,0,0,0,0,0,0,0,0,0,0,0,0,0,0,0,0,0,0,"-",{"$f":"IFERROR(ROUND(PERCENTILE(_xlfn._xlws.FILTER(Data_Table[Speed],(Data_Table[Direction]=ImportData!Direction_2)*(Data_Table[Period]=$B169)*(SUM(C169:N169)>=10)),0.85),2),\"-\")","v":"-"}]
[166,{"$f":"ImportData!$B$10+7*QUOTIENT(A170,24*60*7/ImportData!$B$8)+MOD(1+QUOTIENT(A170,24*60/ImportData!$B$8)-ImportData!$E$10,7)+TIME(0,ImportData!$B$8*A170,0)","v":"2022-05-15T22:00:00"},0,0,0,0,0,0,0,0,0,0,0,0,0,0,0,0,0,0,0,0,0,0,0,0,0,0,0,0,0,0,0,0,0,0,0,"-",{"$f":"IFERROR(ROUND(PERCENTILE(_xlfn._xlws.FILTER(Data_Table[Speed],(Data_Table[Direction]=ImportData!Direction_2)*(Data_Table[Period]=$B170)*(SUM(C170:N170)>=10)),0.85),2),\"-\")","v":"-"}]
[167,{"$f":"ImportData!$B$10+7*QUOTIENT(A171,24*60*7/ImportData!$B$8)+MOD(1+QUOTIENT(A171,24*60/ImportData!$B$8)-ImportData!$E$10,7)+TIME(0,ImportData!$B$8*A171,0)","v":"2022-05-15T23:00:00"},0,0,0,0,0,0,0,0,0,0,0,0,0,0,0,0,0,0,0,0,0,0,0,0,0,0,0,0,0,0,0,0,0,0,0,"-",{"$f":"IFERROR(ROUND(PERCENTILE(_xlfn._xlws.FILTER(Data_Table[Speed],(Data_Table[Direction]=ImportData!Direction_2)*(Data_Table[Period]=$B171)*(SUM(C171:N171)>=10)),0.85),2),\"-\")","v":"-"}]
[null,"00:00:00",{"$f":"SUM(C4,C28,C52,C76,C100)","v":0},{"$f":"SUM(D4,D28,D52,D76,D100)","v":0},0,0,0,0,0,0,0,0,0,0,0,0,{"$f":"SUM(Q4,Q28,Q52,Q76,Q100)","v":0},0,0,0,0,0,0,0,0,0,0,0,0,0,0,0,0,0,0,0,0,{"$f":"IFERROR(ROUND(AVERAGE(_xlfn._xlws.FILTER(Data_Table[Speed],(Data_Table[Direction]=ImportData!Direction_2)*(Data_Table[Period]-INT(Data_Table[Period])=B172)*(Data_Table[Weekday]<6))),2),\"-\")","v":"-"},{"$f":"IFERROR(ROUND(PERCENTILE(_xlfn._xlws.FILTER(Data_Table[Speed],(Data_Table[Direction]=ImportData!Direction_2)*(Data_Table[Period]-INT(Data_Table[Period])=B172)*(Data_Table[Weekday]<6)*(SUM(C172:N172)>=10)),0.85),2),\"-\")","v":"-"}]
[null,"01:00:00",{"$f":"SUM(C5,C29,C53,C77,C101)","v":0},0,0,0,0,0,0,0,0,0,0,0,0,0,0,0,0,0,0,0,0,0,0,0,0,0,0,0,0,0,0,0,0,0,0,{"$f":"IFERROR(ROUND(AVERAGE(_xlfn._xlws.FILTER(Data_Table[Speed],(Data_Table[Direction]=ImportData!Direction_2)*(Data_Table[Period]-INT(Data_Table[Period])=B173)*(Data_Table[Weekday]<6))),2),\"-\")","v":"-"},{"$f":"IFERROR(ROUND(PERCENTILE(_xlfn._xlws.FILTER(Data_Table[Speed],(Data_Table[Direction]=ImportData!Direction_2)*(Data_Table[Period]-INT(Data_Table[Period])=B173)*(Data_Table[Weekday]<6)*(SUM(C173:N173)>=10)),0.85),2),\"-\")","v":"-"}]
[null,"02:00:00",0,0,0,0,0,0,0,0,0,0,0,0,0,0,0,0,0,0,0,0,0,0,0,0,0,0,0,0,0,0,0,0,0,0,0,{"$f":"IFERROR(ROUND(AVERAGE(_xlfn._xlws.FILTER(Data_Table[Speed],(Data_Table[Direction]=ImportData!Direction_2)*(Data_Table[Period]-INT(Data_Table[Period])=B174)*(Data_Table[Weekday]<6))),2),\"-\")","v":"-"},{"$f":"IFERROR(ROUND(PERCENTILE(_xlfn._xlws.FILTER(Data_Table[Speed],(Data_Table[Direction]=ImportData!Direction_2)*(Data_Table[Period]-INT(Data_Table[Period])=B174)*(Data_Table[Weekday]<6)*(SUM(C174:N174)>=10)),0.85),2),\"-\")","v":"-"}]
[null,"03:00:00",0,0,0,0,0,0,0,0,0,0,0,0,0,0,0,0,0,0,0,0,0,0,0,0,0,0,0,0,0,0,0,0,0,0,0,{"$f":"IFERROR(ROUND(AVERAGE(_xlfn._xlws.FILTER(Data_Table[Speed],(Data_Table[Direction]=ImportData!Direction_2)*(Data_Table[Period]-INT(Data_Table[Period])=B175)*(Data_Table[Weekday]<6))),2),\"-\")","v":"-"},{"$f":"IFERROR(ROUND(PERCENTILE(_xlfn._xlws.FILTER(Data_Table[Speed],(Data_Table[Direction]=ImportData!Direction_2)*(Data_Table[Period]-INT(Data_Table[Period])=B175)*(Data_Table[Weekday]<6)*(SUM(C175:N175)>=10)),0.85),2),\"-\")","v":"-"}]
[null,"04:00:00",0,0,0,0,0,0,0,0,0,0,0,0,0,0,0,0,0,0,0,0,0,0,0,0,0,0,0,0,0,0,0,0,0,0,0,{"$f":"IFERROR(ROUND(AVERAGE(_xlfn._xlws.FILTER(Data_Table[Speed],(Data_Table[Direction]=ImportData!Direction_2)*(Data_Table[Period]-INT(Data_Table[Period])=B176)*(Data_Table[Weekday]<6))),2),\"-\")","v":"-"},{"$f":"IFERROR(ROUND(PERCENTILE(_xlfn._xlws.FILTER(Data_Table[Speed],(Data_Table[Direction]=ImportData!Direction_2)*(Data_Table[Period]-INT(Data_Table[Period])=B176)*(Data_Table[Weekday]<6)*(SUM(C176:N176)>=10)),0.85),2),\"-\")","v":"-"}]
[null,"05:00:00",0,0,0,0,0,0,0,0,0,0,0,0,0,0,0,0,0,0,0,0,0,0,0,0,0,0,0,0,0,0,0,0,0,0,0,{"$f":"IFERROR(ROUND(AVERAGE(_xlfn._xlws.FILTER(Data_Table[Speed],(Data_Table[Direction]=ImportData!Direction_2)*(Data_Table[Period]-INT(Data_Table[Period])=B177)*(Data_Table[Weekday]<6))),2),\"-\")","v":"-"},{"$f":"IFERROR(ROUND(PERCENTILE(_xlfn._xlws.FILTER(Data_Table[Speed],(Data_Table[Direction]=ImportData!Direction_2)*(Data_Table[Period]-INT(Data_Table[Period])=B177)*(Data_Table[Weekday]<6)*(SUM(C177:N177)>=10)),0.85),2),\"-\")","v":"-"}]
[null,"06:00:00",0,0,0,0,0,0,0,0,0,0,0,0,0,0,0,0,0,0,0,0,0,0,0,0,0,0,0,0,0,0,0,0,0,0,0,{"$f":"IFERROR(ROUND(AVERAGE(_xlfn._xlws.FILTER(Data_Table[Speed],(Data_Table[Direction]=ImportData!Direction_2)*(Data_Table[Period]-INT(Data_Table[Period])=B178)*(Data_Table[Weekday]<6))),2),\"-\")","v":"-"},{"$f":"IFERROR(ROUND(PERCENTILE(_xlfn._xlws.FILTER(Data_Table[Speed],(Data_Table[Direction]=ImportData!Direction_2)*(Data_Table[Period]-INT(Data_Table[Period])=B178)*(Data_Table[Weekday]<6)*(SUM(C178:N178)>=10)),0.85),2),\"-\")","v":"-"}]
[null,"07:00:00",0,0,0,0,0,0,0,0,0,0,0,0,0,0,0,0,0,0,0,0,0,0,0,0,0,0,0,0,0,0,0,0,0,0,0,{"$f":"IFERROR(ROUND(AVERAGE(_xlfn._xlws.FILTER(Data_Table[Speed],(Data_Table[Direction]=ImportData!Direction_2)*(Data_Table[Period]-INT(Data_Table[Period])=B179)*(Data_Table[Weekday]<6))),2),\"-\")","v":"-"},{"$f":"IFERROR(ROUND(PERCENTILE(_xlfn._xlws.FILTER(Data_Table[Speed],(Data_Table[Direction]=ImportData!Direction_2)*(Data_Table[Period]-INT(Data_Table[Period])=B179)*(Data_Table[Weekday]<6)*(SUM(C179:N179)>=10)),0.85),2),\"-\")","v":"-"}]
[null,"08:00:00",0,0,0,0,0,0,0,0,0,0,0,0,0,0,0,0,0,0,0,0,0,0,0,0,0,0,0,0,0,0,0,0,0,0,0,{"$f":"IFERROR(ROUND(AVERAGE(_xlfn._xlws.FILTER(Data_Table[Speed],(Data_Table[Direction]=ImportData!Direction_2)*(Data_Table[Period]-INT(Data_Table[Period])=B180)*(Data_Table[Weekday]<6))),2),\"-\")","v":"-"},{"$f":"IFERROR(ROUND(PERCENTILE(_xlfn._xlws.FILTER(Data_Table[Speed],(Data_Table[Direction]=ImportData!Direction_2)*(Data_Table[Period]-INT(Data_Table[Period])=B180)*(Data_Table[Weekday]<6)*(SUM(C180:N180)>=10)),0.85),2),\"-\")","v":"-"}]
[null,"09:00:00",0,0,0,0,0,0,0,0,0,0,0,0,0,0,0,0,0,0,0,0,0,0,0,0,0,0,0,0,0,0,0,0,0,0,0,{"$f":"IFERROR(ROUND(AVERAGE(_xlfn._xlws.FILTER(Data_Table[Speed],(Data_Table[Direction]=ImportData!Direction_2)*(Data_Table[Period]-INT(Data_Table[Period])=B181)*(Data_Table[Weekday]<6))),2),\"-\")","v":"-"},{"$f":"IFERROR(ROUND(PERCENTILE(_xlfn._xlws.FILTER(Data_Table[Speed],(Data_Table[Direction]=ImportData!Direction_2)*(Data_Table[Period]-INT(Data_Table[Period])=B181)*(Data_Table[Weekday]<6)*(SUM(C181:N181)>=10)),0.85),2),\"-\")","v":"-"}]
[null,"10:00:00",0,0,0,0,0,0,0,0,0,0,0,0,0,0,0,0,0,0,0,0,0,0,0,0,0,0,0,0,0,0,0,0,0,0,0,{"$f":"IFERROR(ROUND(AVERAGE(_xlfn._xlws.FILTER(Data_Table[Speed],(Data_Table[Direction]=ImportData!Direction_2)*(Data_Table[Period]-INT(Data_Table[Period])=B182)*(Data_Table[Weekday]<6))),2),\"-\")","v":"-"},{"$f":"IFERROR(ROUND(PERCENTILE(_xlfn._xlws.FILTER(Data_Table[Speed],(Data_Table[Direction]=ImportData!Direction_2)*(Data_Table[Period]-INT(Data_Table[Period])=B182)*(Data_Table[Weekday]<6)*(SUM(C182:N182)>=10)),0.85),2),\"-\")","v":"-"}]
[null,"11:00:00",0,0,0,0,0,{"$f":"SUM(H15,H39,H63,H87,H111)","v":0},0,0,0,0,0,0,0,0,{"$f":"SUM(Q15,Q39,Q63,Q87,Q111)","v":0},0,0,0,0,0,0,0,0,0,0,0,0,0,0,0,0,0,0,0,0,{"$f":"IFERROR(ROUND(AVERAGE(_xlfn._xlws.FILTER(Data_Table[Speed],(Data_Table[Direction]=ImportData!Direction_2)*(Data_Table[Period]-INT(Data_Table[Period])=B183)*(Data_Table[Weekday]<6))),2),\"-\")","v":"-"},{"$f":"IFERROR(ROUND(PERCENTILE(_xlfn._xlws.FILTER(Data_Table[Speed],(Data_Table[Direction]=ImportData!Direction_2)*(Data_Table[Period]-INT(Data_Table[Period])=B183)*(Data_Table[Weekday]<6)*(SUM(C183:N183)>=10)),0.85),2),\"-\")","v":"-"}]
[null,"12:00:00",{"$f":"SUM(C16,C40,C64,C88,C112)","v":0},0,0,0,0,0,0,0,0,0,0,0,0,0,0,0,0,0,0,0,0,0,0,0,0,0,0,0,0,0,0,0,0,0,0,{"$f":"IFERROR(ROUND(AVERAGE(_xlfn._xlws.FILTER(Data_Table[Speed],(Data_Table[Direction]=ImportData!Direction_2)*(Data_Table[Period]-INT(Data_Table[Period])=B184)*(Data_Table[Weekday]<6))),2),\"-\")","v":"-"},{"$f":"IFERROR(ROUND(PERCENTILE(_xlfn._xlws.FILTER(Data_Table[Speed],(Data_Table[Direction]=ImportData!Direction_2)*(Data_Table[Period]-INT(Data_Table[Period])=B184)*(Data_Table[Weekday]<6)*(SUM(C184:N184)>=10)),0.85),2),\"-\")","v":"-"}]
[null,"13:00:00",0,0,0,0,0,0,0,0,0,0,0,0,0,0,0,0,0,0,0,0,0,0,0,0,0,0,0,0,0,0,0,0,0,0,0,{"$f":"IFERROR(ROUND(AVERAGE(_xlfn._xlws.FILTER(Data_Table[Speed],(Data_Table[Direction]=ImportData!Direction_2)*(Data_Table[Period]-INT(Data_Table[Period])=B185)*(Data_Table[Weekday]<6))),2),\"-\")","v":"-"},{"$f":"IFERROR(ROUND(PERCENTILE(_xlfn._xlws.FILTER(Data_Table[Speed],(Data_Table[Direction]=ImportData!Direction_2)*(Data_Table[Period]-INT(Data_Table[Period])=B185)*(Data_Table[Weekday]<6)*(SUM(C185:N185)>=10)),0.85),2),\"-\")","v":"-"}]
[null,"14:00:00",0,0,0,0,0,0,0,0,0,0,0,0,0,0,0,0,0,0,0,0,0,0,0,0,0,0,0,0,0,0,0,0,0,0,0,{"$f":"IFERROR(ROUND(AVERAGE(_xlfn._xlws.FILTER(Data_Table[Speed],(Data_Table[Direction]=ImportData!Direction_2)*(Data_Table[Period]-INT(Data_Table[Period])=B186)*(Data_Table[Weekday]<6))),2),\"-\")","v":"-"},{"$f":"IFERROR(ROUND(PERCENTILE(_xlfn._xlws.FILTER(Data_Table[Speed],(Data_Table[Direction]=ImportData!Direction_2)*(Data_Table[Period]-INT(Data_Table[Period])=B186)*(Data_Table[Weekday]<6)*(SUM(C186:N186)>=10)),0.85),2),\"-\")","v":"-"}]
[null,"15:00:00",0,0,0,0,0,0,0,0,0,0,0,0,0,0,0,0,0,0,0,0,0,0,0,0,0,0,0,0,0,0,0,0,0,0,0,{"$f":"IFERROR(ROUND(AVERAGE(_xlfn._xlws.FILTER(Data_Table[Speed],(Data_Table[Direction]=ImportData!Direction_2)*(Data_Table[Period]-INT(Data_Table[Period])=B187)*(Data_Table[Weekday]<6))),2),\"-\")","v":"-"},{"$f":"IFERROR(ROUND(PERCENTILE(_xlfn._xlws.FILTER(Data_Table[Speed],(Data_Table[Direction]=ImportData!Direction_2)*(Data_Table[Period]-INT(Data_Table[Period])=B187)*(Data_Table[Weekday]<6)*(SUM(C187:N187)>=10)),0.85),2),\"-\")","v":"-"}]
[null,"16:00:00",0,0,0,0,0,0,0,0,0,0,0,0,0,0,0,0,0,0,0,0,0,0,0,0,0,0,0,0,0,0,0,0,0,0,0,{"$f":"IFERROR(ROUND(AVERAGE(_xlfn._xlws.FILTER(Data_Table[Speed],(Data_Table[Direction]=ImportData!Direction_2)*(Data_Table[Period]-INT(Data_Table[Period])=B188)*(Data_Table[Weekday]<6))),2),\"-\")","v":"-"},{"$f":"IFERROR(ROUND(PERCENTILE(_xlfn._xlws.FILTER(Data_Table[Speed],(Data_Table[Direction]=ImportData!Direction_2)*(Data_Table[Period]-INT(Data_Table[Period])=B188)*(Data_Table[Weekday]<6)*(SUM(C188:N188)>=10)),0.85),2),\"-\")","v":"-"}]
[null,"17:00:00",0,0,0,0,0,0,0,0,0,0,0,0,0,0,0,0,0,0,0,0,0,0,0,0,0,0,0,0,0,0,0,0,0,0,0,{"$f":"IFERROR(ROUND(AVERAGE(_xlfn._xlws.FILTER(Data_Table[Speed],(Data_Table[Direction]=ImportData!Direction_2)*(Data_Table[Period]-INT(Data_Table[Period])=B189)*(Data_Table[Weekday]<6))),2),\"-\")","v":"-"},{"$f":"IFERROR(ROUND(PERCENTILE(_xlfn._xlws.FILTER(Data_Table[Speed],(Data_Table[Direction]=ImportData!Direction_2)*(Data_Table[Period]-INT(Data_Table[Period])=B189)*(Data_Table[Weekday]<6)*(SUM(C189:N189)>=10)),0.85),2),\"-\")","v":"-"}]
[null,"18:00:00",0,0,0,0,0,0,0,0,0,0,0,0,0,0,0,0,0,0,0,0,0,0,0,0,0,0,0,0,0,0,0,0,0,0,0,{"$f":"IFERROR(ROUND(AVERAGE(_xlfn._xlws.FILTER(Data_Table[Speed],(Data_Table[Direction]=ImportData!Direction_2)*(Data_Table[Period]-INT(Data_Table[Period])=B190)*(Data_Table[Weekday]<6))),2),\"-\")","v":"-"},{"$f":"IFERROR(ROUND(PERCENTILE(_xlfn._xlws.FILTER(Data_Table[Speed],(Data_Table[Direction]=ImportData!Direction_2)*(Data_Table[Period]-INT(Data_Table[Period])=B190)*(Data_Table[Weekday]<6)*(SUM(C190:N190)>=10)),0.85),2),\"-\")","v":"-"}]
[null,"19:00:00",0,0,0,0,0,0,0,0,0,0,0,0,0,0,0,0,0,0,0,0,0,0,0,0,0,0,0,0,0,0,0,0,0,0,0,{"$f":"IFERROR(ROUND(AVERAGE(_xlfn._xlws.FILTER(Data_Table[Speed],(Data_Table[Direction]=ImportData!Direction_2)*(Data_Table[Period]-INT(Data_Table[Period])=B191)*(Data_Table[Weekday]<6))),2),\"-\")","v":"-"},{"$f":"IFERROR(ROUND(PERCENTILE(_xlfn._xlws.FILTER(Data_Table[Speed],(Data_Table[Direction]=ImportData!Direction_2)*(Data_Table[Period]-INT(Data_Table[Period])=B191)*(Data_Table[Weekday]<6)*(SUM(C191:N191)>=10)),0.85),2),\"-\")","v":"-"}]
[null,"20:00:00",0,0,0,0,0,0,0,0,0,0,0,0,0,0,0,0,0,0,0,0,0,0,0,0,0,0,0,0,0,0,0,0,0,0,0,{"$f":"IFERROR(ROUND(AVERAGE(_xlfn._xlws.FILTER(Data_Table[Speed],(Data_Table[Direction]=ImportData!Direction_2)*(Data_Table[Period]-INT(Data_Table[Period])=B192)*(Data_Table[Weekday]<6))),2),\"-\")","v":"-"},{"$f":"IFERROR(ROUND(PERCENTILE(_xlfn._xlws.FILTER(Data_Table[Speed],(Data_Table[Direction]=ImportData!Direction_2)*(Data_Table[Period]-INT(Data_Table[Period])=B192)*(Data_Table[Weekday]<6)*(SUM(C192:N192)>=10)),0.85),2),\"-\")","v":"-"}]
[null,"21:00:00",0,0,0,0,0,0,0,0,0,0,0,0,0,0,0,0,0,0,0,0,0,0,0,0,0,0,0,0,0,0,0,0,0,0,0,{"$f":"IFERROR(ROUND(AVERAGE(_xlfn._xlws.FILTER(Data_Table[Speed],(Data_Table[Direction]=ImportData!Direction_2)*(Data_Table[Period]-INT(Data_Table[Period])=B193)*(Data_Table[Weekday]<6))),2),\"-\")","v":"-"},{"$f":"IFERROR(ROUND(PERCENTILE(_xlfn._xlws.FILTER(Data_Table[Speed],(Data_Table[Direction]=ImportData!Direction_2)*(Data_Table[Period]-INT(Data_Table[Period])=B193)*(Data_Table[Weekday]<6)*(SUM(C193:N193)>=10)),0.85),2),\"-\")","v":"-"}]
[null,"22:00:00",0,0,0,0,0,{"$f":"SUM(H26,H50,H74,H98,H122)","v":0},0,0,0,0,0,0,0,0,{"$f":"SUM(Q26,Q50,Q74,Q98,Q122)","v":0},0,0,0,0,0,0,0,0,0,0,0,0,0,0,0,0,0,0,0,0,{"$f":"IFERROR(ROUND(AVERAGE(_xlfn._xlws.FILTER(Data_Table[Speed],(Data_Table[Direction]=ImportData!Direction_2)*(Data_Table[Period]-INT(Data_Table[Period])=B194)*(Data_Table[Weekday]<6))),2),\"-\")","v":"-"},{"$f":"IFERROR(ROUND(PERCENTILE(_xlfn._xlws.FILTER(Data_Table[Speed],(Data_Table[Direction]=ImportData!Direction_2)*(Data_Table[Period]-INT(Data_Table[Period])=B194)*(Data_Table[Weekday]<6)*(SUM(C194:N194)>=10)),0.85),2),\"-\")","v":"-"}]
[null,"23:00:00",{"$f":"SUM(C27,C51,C75,C99,C123)","v":0},0,0,0,0,0,0,0,0,0,0,0,0,0,{"$f":"SUM(Q27,Q51,Q75,Q99,Q123)","v":0},0,0,0,0,0,0,0,0,0,0,0,0,0,0,0,0,0,0,0,0,{"$f":"IFERROR(ROUND(AVERAGE(_xlfn._xlws.FILTER(Data_Table[Speed],(Data_Table[Direction]=ImportData!Direction_2)*(Data_Table[Period]-INT(Data_Table[Period])=B195)*(Data_Table[Weekday]<6))),2),\"-\")","v":"-"},{"$f":"IFERROR(ROUND(PERCENTILE(_xlfn._xlws.FILTER(Data_Table[Speed],(Data_Table[Direction]=ImportData!Direction_2)*(Data_Table[Period]-INT(Data_Table[Period])=B195)*(Data_Table[Weekday]<6)*(SUM(C195:N195)>=10)),0.85),2),\"-\")","v":"-"}]
[null,"00:00:00",{"$f":"SUM(C4,C28,C52,C76,C100,C124,C148)","v":0},{"$f":"SUM(D4,D28,D52,D76,D100,D124,D148)","v":0},0,0,0,0,0,0,0,0,0,0,0,0,{"$f":"SUM(Q4,Q28,Q52,Q76,Q100,Q124,Q148)","v":0},0,0,0,0,0,0,0,0,0,0,0,0,0,0,0,0,0,0,0,0,{"$f":"IFERROR(ROUND(AVERAGE(_xlfn._xlws.FILTER(Data_Table[Speed],(Data_Table[Direction]=ImportData!Direction_2)*(Data_Table[Period]-INT(Data_Table[Period])=B196))),2),\"-\")","v":"-"},{"$f":"IFERROR(ROUND(PERCENTILE(_xlfn._xlws.FILTER(Data_Table[Speed],(Data_Table[Direction]=ImportData!Direction_2)*(Data_Table[Period]-INT(Data_Table[Period])=B196)*(SUM(C196:N196)>=10)),0.85),2),\"-\")","v":"-"}]
[null,"01:00:00",{"$f":"SUM(C5,C29,C53,C77,C101,C125,C149)","v":0},0,0,0,0,0,0,0,0,0,0,0,0,0,0,0,0,0,0,0,0,0,0,0,0,0,0,0,0,0,0,0,0,0,0,{"$f":"IFERROR(ROUND(AVERAGE(_xlfn._xlws.FILTER(Data_Table[Speed],(Data_Table[Direction]=ImportData!Direction_2)*(Data_Table[Period]-INT(Data_Table[Period])=B197))),2),\"-\")","v":"-"},{"$f":"IFERROR(ROUND(PERCENTILE(_xlfn._xlws.FILTER(Data_Table[Speed],(Data_Table[Direction]=ImportData!Direction_2)*(Data_Table[Period]-INT(Data_Table[Period])=B197)*(SUM(C197:N197)>=10)),0.85),2),\"-\")","v":"-"}]
[null,"02:00:00",0,0,0,0,0,0,0,0,0,0,0,0,0,0,0,0,0,0,0,0,0,0,0,0,0,0,0,0,0,0,0,0,0,0,0,{"$f":"IFERROR(ROUND(AVERAGE(_xlfn._xlws.FILTER(Data_Table[Speed],(Data_Table[Direction]=ImportData!Direction_2)*(Data_Table[Period]-INT(Data_Table[Period])=B198))),2),\"-\")","v":"-"},{"$f":"IFERROR(ROUND(PERCENTILE(_xlfn._xlws.FILTER(Data_Table[Speed],(Data_Table[Direction]=ImportData!Direction_2)*(Data_Table[Period]-INT(Data_Table[Period])=B198)*(SUM(C198:N198)>=10)),0.85),2),\"-\")","v":"-"}]
[null,"03:00:00",0,0,0,0,0,0,0,0,0,0,0,0,0,0,0,0,0,0,0,0,0,0,0,0,0,0,0,0,0,0,0,0,0,0,0,{"$f":"IFERROR(ROUND(AVERAGE(_xlfn._xlws.FILTER(Data_Table[Speed],(Data_Table[Direction]=ImportData!Direction_2)*(Data_Table[Period]-INT(Data_Table[Period])=B199))),2),\"-\")","v":"-"},{"$f":"IFERROR(ROUND(PERCENTILE(_xlfn._xlws.FILTER(Data_Table[Speed],(Data_Table[Direction]=ImportData!Direction_2)*(Data_Table[Period]-INT(Data_Table[Period])=B199)*(SUM(C199:N199)>=10)),0.85),2),\"-\")","v":"-"}]
[null,"04:00:00",0,0,0,0,0,0,0,0,0,0,0,0,0,0,0,0,0,0,0,0,0,0,0,0,0,0,0,0,0,0,0,0,0,0,0,{"$f":"IFERROR(ROUND(AVERAGE(_xlfn._xlws.FILTER(Data_Table[Speed],(Data_Table[Direction]=ImportData!Direction_2)*(Data_Table[Period]-INT(Data_Table[Period])=B200))),2),\"-\")","v":"-"},{"$f":"IFERROR(ROUND(PERCENTILE(_xlfn._xlws.FILTER(Data_Table[Speed],(Data_Table[Direction]=ImportData!Direction_2)*(Data_Table[Period]-INT(Data_Table[Period])=B200)*(SUM(C200:N200)>=10)),0.85),2),\"-\")","v":"-"}]
[null,"05:00:00",0,0,0,0,0,0,0,0,0,0,0,0,0,0,0,0,0,0,0,0,0,0,0,0,0,0,0,0,0,0,0,0,0,0,0,{"$f":"IFERROR(ROUND(AVERAGE(_xlfn._xlws.FILTER(Data_Table[Speed],(Data_Table[Direction]=ImportData!Direction_2)*(Data_Table[Period]-INT(Data_Table[Period])=B201))),2),\"-\")","v":"-"},{"$f":"IFERROR(ROUND(PERCENTILE(_xlfn._xlws.FILTER(Data_Table[Speed],(Data_Table[Direction]=ImportData!Direction_2)*(Data_Table[Period]-INT(Data_Table[Period])=B201)*(SUM(C201:N201)>=10)),0.85),2),\"-\")","v":"-"}]
[null,"06:00:00",0,0,0,0,0,0,0,0,0,0,0,0,0,0,0,0,0,0,0,0,0,0,0,0,0,0,0,0,0,0,0,0,0,0,0,{"$f":"IFERROR(ROUND(AVERAGE(_xlfn._xlws.FILTER(Data_Table[Speed],(Data_Table[Direction]=ImportData!Direction_2)*(Data_Table[Period]-INT(Data_Table[Period])=B202))),2),\"-\")","v":"-"},{"$f":"IFERROR(ROUND(PERCENTILE(_xlfn._xlws.FILTER(Data_Table[Speed],(Data_Table[Direction]=ImportData!Direction_2)*(Data_Table[Period]-INT(Data_Table[Period])=B202)*(SUM(C202:N202)>=10)),0.85),2),\"-\")","v":"-"}]
[null,"07:00:00",0,0,0,0,0,0,0,0,0,0,0,0,0,0,0,0,0,0,0,0,0,0,0,0,0,0,0,0,0,0,0,0,0,0,0,{"$f":"IFERROR(ROUND(AVERAGE(_xlfn._xlws.FILTER(Data_Table[Speed],(Data_Table[Direction]=ImportData!Direction_2)*(Data_Table[Period]-INT(Data_Table[Period])=B203))),2),\"-\")","v":"-"},{"$f":"IFERROR(ROUND(PERCENTILE(_xlfn._xlws.FILTER(Data_Table[Speed],(Data_Table[Direction]=ImportData!Direction_2)*(Data_Table[Period]-INT(Data_Table[Period])=B203)*(SUM(C203:N203)>=10)),0.85),2),\"-\")","v":"-"}]
[null,"08:00:00",0,0,0,0,0,0,0,0,0,0,0,0,0,0,0,0,0,0,0,0,0,0,0,0,0,0,0,0,0,0,0,0,0,0,0,{"$f":"IFERROR(ROUND(AVERAGE(_xlfn._xlws.FILTER(Data_Table[Speed],(Data_Table[Direction]=ImportData!Direction_2)*(Data_Table[Period]-INT(Data_Table[Period])=B204))),2),\"-\")","v":"-"},{"$f":"IFERROR(ROUND(PERCENTILE(_xlfn._xlws.FILTER(Data_Table[Speed],(Data_Table[Direction]=ImportData!Direction_2)*(Data_Table[Period]-INT(Data_Table[Period])=B204)*(SUM(C204:N204)>=10)),0.85),2),\"-\")","v":"-"}]
[null,"09:00:00",0,0,0,0,0,0,0,0,0,0,0,0,0,0,0,0,0,0,0,0,0,0,0,0,0,0,0,0,0,0,0,0,0,0,0,{"$f":"IFERROR(ROUND(AVERAGE(_xlfn._xlws.FILTER(Data_Table[Speed],(Data_Table[Direction]=ImportData!Direction_2)*(Data_Table[Period]-INT(Data_Table[Period])=B205))),2),\"-\")","v":"-"},{"$f":"IFERROR(ROUND(PERCENTILE(_xlfn._xlws.FILTER(Data_Table[Speed],(Data_Table[Direction]=ImportData!Direction_2)*(Data_Table[Period]-INT(Data_Table[Period])=B205)*(SUM(C205:N205)>=10)),0.85),2),\"-\")","v":"-"}]
[null,"10:00:00",0,0,0,0,0,0,0,0,0,0,0,0,0,0,0,0,0,0,0,0,0,0,0,0,0,0,0,0,0,0,0,0,0,0,0,{"$f":"IFERROR(ROUND(AVERAGE(_xlfn._xlws.FILTER(Data_Table[Speed],(Data_Table[Direction]=ImportData!Direction_2)*(Data_Table[Period]-INT(Data_Table[Period])=B206))),2),\"-\")","v":"-"},{"$f":"IFERROR(ROUND(PERCENTILE(_xlfn._xlws.FILTER(Data_Table[Speed],(Data_Table[Direction]=ImportData!Direction_2)*(Data_Table[Period]-INT(Data_Table[Period])=B206)*(SUM(C206:N206)>=10)),0.85),2),\"-\")","v":"-"}]
[null,"11:00:00",0,0,0,0,0,{"$f":"SUM(H15,H39,H63,H87,H111,H135,H159)","v":0},0,0,0,0,0,0,0,0,{"$f":"SUM(Q15,Q39,Q63,Q87,Q111,Q135,Q159)","v":0},0,0,0,0,0,0,0,0,0,0,0,0,0,0,0,0,0,0,0,0,{"$f":"IFERROR(ROUND(AVERAGE(_xlfn._xlws.FILTER(Data_Table[Speed],(Data_Table[Direction]=ImportData!Direction_2)*(Data_Table[Period]-INT(Data_Table[Period])=B207))),2),\"-\")","v":"-"},{"$f":"IFERROR(ROUND(PERCENTILE(_xlfn._xlws.FILTER(Data_Table[Speed],(Data_Table[Direction]=ImportData!Direction_2)*(Data_Table[Period]-INT(Data_Table[Period])=B207)*(SUM(C207:N207)>=10)),0.85),2),\"-\")","v":"-"}]
[null,"12:00:00",{"$f":"SUM(C16,C40,C64,C88,C112,C136,C160)","v":0},0,0,0,0,0,0,0,0,0,0,0,0,0,0,0,0,0,0,0,0,0,0,0,0,0,0,0,0,0,0,0,0,0,0,{"$f":"IFERROR(ROUND(AVERAGE(_xlfn._xlws.FILTER(Data_Table[Speed],(Data_Table[Direction]=ImportData!Direction_2)*(Data_Table[Period]-INT(Data_Table[Period])=B208))),2),\"-\")","v":"-"},{"$f":"IFERROR(ROUND(PERCENTILE(_xlfn._xlws.FILTER(Data_Table[Speed],(Data_Table[Direction]=ImportData!Direction_2)*(Data_Table[Period]-INT(Data_Table[Period])=B208)*(SUM(C208:N208)>=10)),0.85),2),\"-\")","v":"-"}]
[null,"13:00:00",0,0,0,0,0,0,0,0,0,0,0,0,0,0,0,0,0,0,0,0,0,0,0,0,0,0,0,0,0,0,0,0,0,0,0,{"$f":"IFERROR(ROUND(AVERAGE(_xlfn._xlws.FILTER(Data_Table[Speed],(Data_Table[Direction]=ImportData!Direction_2)*(Data_Table[Period]-INT(Data_Table[Period])=B209))),2),\"-\")","v":"-"},{"$f":"IFERROR(ROUND(PERCENTILE(_xlfn._xlws.FILTER(Data_Table[Speed],(Data_Table[Direction]=ImportData!Direction_2)*(Data_Table[Period]-INT(Data_Table[Period])=B209)*(SUM(C209:N209)>=10)),0.85),2),\"-\")","v":"-"}]
[null,"14:00:00",0,0,0,0,0,0,0,0,0,0,0,0,0,0,0,0,0,0,0,0,0,0,0,0,0,0,0,0,0,0,0,0,0,0,0,{"$f":"IFERROR(ROUND(AVERAGE(_xlfn._xlws.FILTER(Data_Table[Speed],(Data_Table[Direction]=ImportData!Direction_2)*(Data_Table[Period]-INT(Data_Table[Period])=B210))),2),\"-\")","v":"-"},{"$f":"IFERROR(ROUND(PERCENTILE(_xlfn._xlws.FILTER(Data_Table[Speed],(Data_Table[Direction]=ImportData!Direction_2)*(Data_Table[Period]-INT(Data_Table[Period])=B210)*(SUM(C210:N210)>=10)),0.85),2),\"-\")","v":"-"}]
[null,"15:00:00",0,0,0,0,0,0,0,0,0,0,0,0,0,0,0,0,0,0,0,0,0,0,0,0,0,0,0,0,0,0,0,0,0,0,0,{"$f":"IFERROR(ROUND(AVERAGE(_xlfn._xlws.FILTER(Data_Table[Speed],(Data_Table[Direction]=ImportData!Direction_2)*(Data_Table[Period]-INT(Data_Table[Period])=B211))),2),\"-\")","v":"-"},{"$f":"IFERROR(ROUND(PERCENTILE(_xlfn._xlws.FILTER(Data_Table[Speed],(Data_Table[Direction]=ImportData!Direction_2)*(Data_Table[Period]-INT(Data_Table[Period])=B211)*(SUM(C211:N211)>=10)),0.85),2),\"-\")","v":"-"}]
[null,"16:00:00",0,0,0,0,0,0,0,0,0,0,0,0,0,0,0,0,0,0,0,0,0,0,0,0,0,0,0,0,0,0,0,0,0,0,0,{"$f":"IFERROR(ROUND(AVERAGE(_xlfn._xlws.FILTER(Data_Table[Speed],(Data_Table[Direction]=ImportData!Direction_2)*(Data_Table[Period]-INT(Data_Table[Period])=B212))),2),\"-\")","v":"-"},{"$f":"IFERROR(ROUND(PERCENTILE(_xlfn._xlws.FILTER(Data_Table[Speed],(Data_Table[Direction]=ImportData!Direction_2)*(Data_Table[Period]-INT(Data_Table[Period])=B212)*(SUM(C212:N212)>=10)),0.85),2),\"-\")","v":"-"}]
[null,"17:00:00",0,0,0,0,0,0,0,0,0,0,0,0,0,0,0,0,0,0,0,0,0,0,0,0,0,0,0,0,0,0,0,0,0,0,0,{"$f":"IFERROR(ROUND(AVERAGE(_xlfn._xlws.FILTER(Data_Table[Speed],(Data_Table[Direction]=ImportData!Direction_2)*(Data_Table[Period]-INT(Data_Table[Period])=B213))),2),\"-\")","v":"-"},{"$f":"IFERROR(ROUND(PERCENTILE(_xlfn._xlws.FILTER(Data_Table[Speed],(Data_Table[Direction]=ImportData!Direction_2)*(Data_Table[Period]-INT(Data_Table[Period])=B213)*(SUM(C213:N213)>=10)),0.85),2),\"-\")","v":"-"}]
[null,"18:00:00",0,0,0,0,0,0,0,0,0,0,0,0,0,0,0,0,0,0,0,0,0,0,0,0,0,0,0,0,0,0,0,0,0,0,0,{"$f":"IFERROR(ROUND(AVERAGE(_xlfn._xlws.FILTER(Data_Table[Speed],(Data_Table[Direction]=ImportData!Direction_2)*(Data_Table[Period]-INT(Data_Table[Period])=B214))),2),\"-\")","v":"-"},{"$f":"IFERROR(ROUND(PERCENTILE(_xlfn._xlws.FILTER(Data_Table[Speed],(Data_Table[Direction]=ImportData!Direction_2)*(Data_Table[Period]-INT(Data_Table[Period])=B214)*(SUM(C214:N214)>=10)),0.85),2),\"-\")","v":"-"}]
[null,"19:00:00",0,0,0,0,0,0,0,0,0,0,0,0,0,0,0,0,0,0,0,0,0,0,0,0,0,0,0,0,0,0,0,0,0,0,0,{"$f":"IFERROR(ROUND(AVERAGE(_xlfn._xlws.FILTER(Data_Table[Speed],(Data_Table[Direction]=ImportData!Direction_2)*(Data_Table[Period]-INT(Data_Table[Period])=B215))),2),\"-\")","v":"-"},{"$f":"IFERROR(ROUND(PERCENTILE(_xlfn._xlws.FILTER(Data_Table[Speed],(Data_Table[Direction]=ImportData!Direction_2)*(Data_Table[Period]-INT(Data_Table[Period])=B215)*(SUM(C215:N215)>=10)),0.85),2),\"-\")","v":"-"}]
[null,"20:00:00",0,0,0,0,0,0,0,0,0,0,0,0,0,0,0,0,0,0,0,0,0,0,0,0,0,0,0,0,0,0,0,0,0,0,0,{"$f":"IFERROR(ROUND(AVERAGE(_xlfn._xlws.FILTER(Data_Table[Speed],(Data_Table[Direction]=ImportData!Direction_2)*(Data_Table[Period]-INT(Data_Table[Period])=B216))),2),\"-\")","v":"-"},{"$f":"IFERROR(ROUND(PERCENTILE(_xlfn._xlws.FILTER(Data_Table[Speed],(Data_Table[Direction]=ImportData!Direction_2)*(Data_Table[Period]-INT(Data_Table[Period])=B216)*(SUM(C216:N216)>=10)),0.85),2),\"-\")","v":"-"}]
[null,"21:00:00",0,0,0,0,0,0,0,0,0,0,0,0,0,0,0,0,0,0,0,0,0,0,0,0,0,0,0,0,0,0,0,0,0,0,0,{"$f":"IFERROR(ROUND(AVERAGE(_xlfn._xlws.FILTER(Data_Table[Speed],(Data_Table[Direction]=ImportData!Direction_2)*(Data_Table[Period]-INT(Data_Table[Period])=B217))),2),\"-\")","v":"-"},{"$f":"IFERROR(ROUND(PERCENTILE(_xlfn._xlws.FILTER(Data_Table[Speed],(Data_Table[Direction]=ImportData!Direction_2)*(Data_Table[Period]-INT(Data_Table[Period])=B217)*(SUM(C217:N217)>=10)),0.85),2),\"-\")","v":"-"}]
[null,"22:00:00",0,0,0,0,0,{"$f":"SUM(H26,H50,H74,H98,H122,H146,H170)","v":0},0,0,0,0,0,0,0,0,{"$f":"SUM(Q26,Q50,Q74,Q98,Q122,Q146,Q170)","v":0},0,0,0,0,0,0,0,0,0,0,0,0,0,0,0,0,0,0,0,0,{"$f":"IFERROR(ROUND(AVERAGE(_xlfn._xlws.FILTER(Data_Table[Speed],(Data_Table[Direction]=ImportData!Direction_2)*(Data_Table[Period]-INT(Data_Table[Period])=B218))),2),\"-\")","v":"-"},{"$f":"IFERROR(ROUND(PERCENTILE(_xlfn._xlws.FILTER(Data_Table[Speed],(Data_Table[Direction]=ImportData!Direction_2)*(Data_Table[Period]-INT(Data_Table[Period])=B218)*(SUM(C218:N218)>=10)),0.85),2),\"-\")","v":"-"}]
[null,"23:00:00",{"$f":"SUM(C27,C51,C75,C99,C123,C147,C171)","v":0},0,0,0,0,0,0,0,0,0,0,0,0,0,{"$f":"SUM(Q27,Q51,Q75,Q99,Q123,Q147,Q171)","v":0},0,0,0,0,0,0,0,0,0,0,0,0,0,0,0,0,0,0,0,0,{"$f":"IFERROR(ROUND(AVERAGE(_xlfn._xlws.FILTER(Data_Table[Speed],(Data_Table[Direction]=ImportData!Direction_2)*(Data_Table[Period]-INT(Data_Table[Period])=B219))),2),\"-\")","v":"-"},{"$f":"IFERROR(ROUND(PERCENTILE(_xlfn._xlws.FILTER(Data_Table[Speed],(Data_Table[Direction]=ImportData!Direction_2)*(Data_Table[Period]-INT(Data_Table[Period])=B219)*(SUM(C219:N219)>=10)),0.85),2),\"-\")","v":"-"}]

{"sheet":"Dir_Both","index":13,"n_rows":219,"n_cols":47,"rows_kept":219,"cut":false,"hidden":true,"merged":[[1,39,2,39],[1,1,2,1],[1,2,1,13],[1,14,1,36],[1,37,2,37],[1,38,2,38]]}
[]
[null,"Time","Vehicle Class",null,null,null,null,null,null,null,null,null,null,null,"Speed Bin",null,null,null,null,null,null,null,null,null,null,null,null,null,null,null,null,null,null,null,null,null,null,"Average",0.85]
[null,null,1,2,3,4,5,6,7,8,9,10,11,12,5,10,15,20,25,30,35,40,45,50,55,60,65,70,75,80,85,90,95,100,105,110,115,null,null,null,null,null,"Headway >=0",null,"Median","Average",0.85]
[0,{"$f":"ImportData!$B$10+MOD(1-ImportData!$E$10,7)","v":"2022-05-16"},{"$f":"'Dir1'!C4+'Dir2'!C4","v":0},{"$f":"'Dir1'!D4+'Dir2'!D4","v":0},{"$f":"'Dir1'!E4+'Dir2'!E4","v":0},{"$f":"'Dir1'!F4+'Dir2'!F4","v":0},{"$f":"'Dir1'!G4+'Dir2'!G4","v":0},{"$f":"'Dir1'!H4+'Dir2'!H4","v":0},{"$f":"'Dir1'!I4+'Dir2'!I4","v":0},{"$f":"'Dir1'!J4+'Dir2'!J4","v":0},{"$f":"'Dir1'!K4+'Dir2'!K4","v":0},{"$f":"'Dir1'!L4+'Dir2'!L4","v":0},{"$f":"'Dir1'!M4+'Dir2'!M4","v":0},{"$f":"'Dir1'!N4+'Dir2'!N4","v":0},{"$f":"'Dir1'!O4+'Dir2'!O4","v":0},{"$f":"'Dir1'!P4+'Dir2'!P4","v":0},{"$f":"'Dir1'!Q4+'Dir2'!Q4","v":0},{"$f":"'Dir1'!R4+'Dir2'!R4","v":0},{"$f":"'Dir1'!S4+'Dir2'!S4","v":0},{"$f":"'Dir1'!T4+'Dir2'!T4","v":0},{"$f":"'Dir1'!U4+'Dir2'!U4","v":0},{"$f":"'Dir1'!V4+'Dir2'!V4","v":0},{"$f":"'Dir1'!W4+'Dir2'!W4","v":0},{"$f":"'Dir1'!X4+'Dir2'!X4","v":0},{"$f":"'Dir1'!Y4+'Dir2'!Y4","v":0},{"$f":"'Dir1'!Z4+'Dir2'!Z4","v":0},{"$f":"'Dir1'!AA4+'Dir2'!AA4","v":0},{"$f":"'Dir1'!AB4+'Dir2'!AB4","v":0},{"$f":"'Dir1'!AC4+'Dir2'!AC4","v":0},{"$f":"'Dir1'!AD4+'Dir2'!AD4","v":0},{"$f":"'Dir1'!AE4+'Dir2'!AE4","v":0},{"$f":"'Dir1'!AF4+'Dir2'!AF4","v":0},{"$f":"'Dir1'!AG4+'Dir2'!AG4","v":0},{"$f":"'Dir1'!AH4+'Dir2'!AH4","v":0},{"$f":"'Dir1'!AI4+'Dir2'!AI4","v":0},{"$f":"'Dir1'!AJ4+'Dir2'!AJ4","v":0},{"$f":"'Dir1'!AK4+'Dir2'!AK4","v":0},{"$f":"IFERROR(ROUND(AVERAGEIFS(Data_Table[Speed],Data_Table[Period], $B4:$B171),2),\"-\")","v":"-"},{"$f":"IFERROR(ROUND(PERCENTILE(_xlfn._xlws.FILTER(Data_Table[Speed],(Data_Table[Period]=$B4)*(SUM(C4:N4)>=10)),0.85),2),\"-\")","v":"-"},null,null,0,{"$f":"OFFSET($B$4,AP4*24,0)","v":"2022-05-16"},null,{"$f":"IFERROR(ROUND(PERCENTILE(_xlfn._xlws.FILTER(Data_Table[Speed],(Data_Table[Weekday]=$AP4+1)),0.5),2),\"-\")","v":"-"},{"$f":"IFERROR(ROUND(AVERAGEIFS(Data_Table[Speed],Data_Table[Weekday], $AP4:$AP10+1),2),\"-\")","v":"-"},{"$f":"IFERROR(ROUND(PERCENTILE(_xlfn._xlws.FILTER(Data_Table[Speed],(Data_Table[Weekday]=$AP4+1)),0.85),2),\"-\")","v":"-"}]
[1,{"$f":"ImportData!$B$10+7*QUOTIENT(A5,24*60*7/ImportData!$B$8)+MOD(1+QUOTIENT(A5,24*60/ImportData!$B$8)-ImportData!$E$10,7)+TIME(0,ImportData!$B$8*A5,0)","v":"2022-05-16T01:00:00"},{"$f":"'Dir1'!C5+'Dir2'!C5","v":0},{"$f":"'Dir1'!D5+'Dir2'!D5","v":0},{"$f":"'Dir1'!E5+'Dir2'!E5","v":0},{"$f":"'Dir1'!F5+'Dir2'!F5","v":0},{"$f":"'Dir1'!G5+'Dir2'!G5","v":0},{"$f":"'Dir1'!H5+'Dir2'!H5","v":0},{"$f":"'Dir1'!I5+'Dir2'!I5","v":0},{"$f":"'Dir1'!J5+'Dir2'!J5","v":0},{"$f":"'Dir1'!K5+'Dir2'!K5","v":0},{"$f":"'Dir1'!L5+'Dir2'!L5","v":0},{"$f":"'Dir1'!M5+'Dir2'!M5","v":0},{"$f":"'Dir1'!N5+'Dir2'!N5","v":0},{"$f":"'Dir1'!O5+'Dir2'!O5","v":0},{"$f":"'Dir1'!P5+'Dir2'!P5","v":0},{"$f":"'Dir1'!Q5+'Dir2'!Q5","v":0},{"$f":"'Dir1'!R5+'Dir2'!R5","v":0},{"$f":"'Dir1'!S5+'Dir2'!S5","v":0},{"$f":"'Dir1'!T5+'Dir2'!T5","v":0},{"$f":"'Dir1'!U5+'Dir2'!U5","v":0},{"$f":"'Dir1'!V5+'Dir2'!V5","v":0},{"$f":"'Dir1'!W5+'Dir2'!W5","v":0},{"$f":"'Dir1'!X5+'Dir2'!X5","v":0},{"$f":"'Dir1'!Y5+'Dir2'!Y5","v":0},{"$f":"'Dir1'!Z5+'Dir2'!Z5","v":0},{"$f":"'Dir1'!AA5+'Dir2'!AA5","v":0},{"$f":"'Dir1'!AB5+'Dir2'!AB5","v":0},{"$f":"'Dir1'!AC5+'Dir2'!AC5","v":0},{"$f":"'Dir1'!AD5+'Dir2'!AD5","v":0},{"$f":"'Dir1'!AE5+'Dir2'!AE5","v":0},{"$f":"'Dir1'!AF5+'Dir2'!AF5","v":0},{"$f":"'Dir1'!AG5+'Dir2'!AG5","v":0},{"$f":"'Dir1'!AH5+'Dir2'!AH5","v":0},{"$f":"'Dir1'!AI5+'Dir2'!AI5","v":0},{"$f":"'Dir1'!AJ5+'Dir2'!AJ5","v":0},{"$f":"'Dir1'!AK5+'Dir2'!AK5","v":0},"-",{"$f":"IFERROR(ROUND(PERCENTILE(_xlfn._xlws.FILTER(Data_Table[Speed],(Data_Table[Period]=$B5)*(SUM(C5:N5)>=10)),0.85),2),\"-\")","v":"-"},null,null,1,{"$f":"OFFSET($B$4,AP5*24,0)","v":"2022-05-17"},null,{"$f":"IFERROR(ROUND(PERCENTILE(_xlfn._xlws.FILTER(Data_Table[Speed],(Data_Table[Weekday]=$AP5+1)),0.5),2),\"-\")","v":"-"},"-",{"$f":"IFERROR(ROUND(PERCENTILE(_xlfn._xlws.FILTER(Data_Table[Speed],(Data_Table[Weekday]=$AP5+1)),0.85),2),\"-\")","v":"-"}]
[2,{"$f":"ImportData!$B$10+7*QUOTIENT(A6,24*60*7/ImportData!$B$8)+MOD(1+QUOTIENT(A6,24*60/ImportData!$B$8)-ImportData!$E$10,7)+TIME(0,ImportData!$B$8*A6,0)","v":"2022-05-16T02:00:00"},{"$f":"'Dir1'!C6+'Dir2'!C6","v":0},{"$f":"'Dir1'!D6+'Dir2'!D6","v":0},{"$f":"'Dir1'!E6+'Dir2'!E6","v":0},{"$f":"'Dir1'!F6+'Dir2'!F6","v":0},{"$f":"'Dir1'!G6+'Dir2'!G6","v":0},{"$f":"'Dir1'!H6+'Dir2'!H6","v":0},{"$f":"'Dir1'!I6+'Dir2'!I6","v":0},{"$f":"'Dir1'!J6+'Dir2'!J6","v":0},{"$f":"'Dir1'!K6+'Dir2'!K6","v":0},{"$f":"'Dir1'!L6+'Dir2'!L6","v":0},{"$f":"'Dir1'!M6+'Dir2'!M6","v":0},{"$f":"'Dir1'!N6+'Dir2'!N6","v":0},{"$f":"'Dir1'!O6+'Dir2'!O6","v":0},{"$f":"'Dir1'!P6+'Dir2'!P6","v":0},{"$f":"'Dir1'!Q6+'Dir2'!Q6","v":0},{"$f":"'Dir1'!R6+'Dir2'!R6","v":0},{"$f":"'Dir1'!S6+'Dir2'!S6","v":0},{"$f":"'Dir1'!T6+'Dir2'!T6","v":0},{"$f":"'Dir1'!U6+'Dir2'!U6","v":0},{"$f":"'Dir1'!V6+'Dir2'!V6","v":0},{"$f":"'Dir1'!W6+'Dir2'!W6","v":0},{"$f":"'Dir1'!X6+'Dir2'!X6","v":0},{"$f":"'Dir1'!Y6+'Dir2'!Y6","v":0},{"$f":"'Dir1'!Z6+'Dir2'!Z6","v":0},{"$f":"'Dir1'!AA6+'Dir2'!AA6","v":0},{"$f":"'Dir1'!AB6+'Dir2'!AB6","v":0},{"$f":"'Dir1'!AC6+'Dir2'!AC6","v":0},{"$f":"'Dir1'!AD6+'Dir2'!AD6","v":0},{"$f":"'Dir1'!AE6+'Dir2'!AE6","v":0},{"$f":"'Dir1'!AF6+'Dir2'!AF6","v":0},{"$f":"'Dir1'!AG6+'Dir2'!AG6","v":0},{"$f":"'Dir1'!AH6+'Dir2'!AH6","v":0},{"$f":"'Dir1'!AI6+'Dir2'!AI6","v":0},{"$f":"'Dir1'!AJ6+'Dir2'!AJ6","v":0},{"$f":"'Dir1'!AK6+'Dir2'!AK6","v":0},"-",{"$f":"IFERROR(ROUND(PERCENTILE(_xlfn._xlws.FILTER(Data_Table[Speed],(Data_Table[Period]=$B6)*(SUM(C6:N6)>=10)),0.85),2),\"-\")","v":"-"},null,null,2,"2022-05-11",null,{"$f":"IFERROR(ROUND(PERCENTILE(_xlfn._xlws.FILTER(Data_Table[Speed],(Data_Table[Weekday]=$AP6+1)),0.5),2),\"-\")","v":"-"},"-",{"$f":"IFERROR(ROUND(PERCENTILE(_xlfn._xlws.FILTER(Data_Table[Speed],(Data_Table[Weekday]=$AP6+1)),0.85),2),\"-\")","v":"-"}]
[3,{"$f":"ImportData!$B$10+7*QUOTIENT(A7,24*60*7/ImportData!$B$8)+MOD(1+QUOTIENT(A7,24*60/ImportData!$B$8)-ImportData!$E$10,7)+TIME(0,ImportData!$B$8*A7,0)","v":"2022-05-16T03:00:00"},{"$f":"'Dir1'!C7+'Dir2'!C7","v":0},{"$f":"'Dir1'!D7+'Dir2'!D7","v":0},{"$f":"'Dir1'!E7+'Dir2'!E7","v":0},{"$f":"'Dir1'!F7+'Dir2'!F7","v":0},{"$f":"'Dir1'!G7+'Dir2'!G7","v":0},{"$f":"'Dir1'!H7+'Dir2'!H7","v":0},{"$f":"'Dir1'!I7+'Dir2'!I7","v":0},{"$f":"'Dir1'!J7+'Dir2'!J7","v":0},{"$f":"'Dir1'!K7+'Dir2'!K7","v":0},{"$f":"'Dir1'!L7+'Dir2'!L7","v":0},{"$f":"'Dir1'!M7+'Dir2'!M7","v":0},{"$f":"'Dir1'!N7+'Dir2'!N7","v":0},{"$f":"'Dir1'!O7+'Dir2'!O7","v":0},{"$f":"'Dir1'!P7+'Dir2'!P7","v":0},{"$f":"'Dir1'!Q7+'Dir2'!Q7","v":0},{"$f":"'Dir1'!R7+'Dir2'!R7","v":0},{"$f":"'Dir1'!S7+'Dir2'!S7","v":0},{"$f":"'Dir1'!T7+'Dir2'!T7","v":0},{"$f":"'Dir1'!U7+'Dir2'!U7","v":0},{"$f":"'Dir1'!V7+'Dir2'!V7","v":0},{"$f":"'Dir1'!W7+'Dir2'!W7","v":0},{"$f":"'Dir1'!X7+'Dir2'!X7","v":0},{"$f":"'Dir1'!Y7+'Dir2'!Y7","v":0},{"$f":"'Dir1'!Z7+'Dir2'!Z7","v":0},{"$f":"'Dir1'!AA7+'Dir2'!AA7","v":0},{"$f":"'Dir1'!AB7+'Dir2'!AB7","v":0},{"$f":"'Dir1'!AC7+'Dir2'!AC7","v":0},{"$f":"'Dir1'!AD7+'Dir2'!AD7","v":0},{"$f":"'Dir1'!AE7+'Dir2'!AE7","v":0},{"$f":"'Dir1'!AF7+'Dir2'!AF7","v":0},{"$f":"'Dir1'!AG7+'Dir2'!AG7","v":0},{"$f":"'Dir1'!AH7+'Dir2'!AH7","v":0},{"$f":"'Dir1'!AI7+'Dir2'!AI7","v":0},{"$f":"'Dir1'!AJ7+'Dir2'!AJ7","v":0},{"$f":"'Dir1'!AK7+'Dir2'!AK7","v":0},"-",{"$f":"IFERROR(ROUND(PERCENTILE(_xlfn._xlws.FILTER(Data_Table[Speed],(Data_Table[Period]=$B7)*(SUM(C7:N7)>=10)),0.85),2),\"-\")","v":"-"},null,null,3,"2022-05-12",null,{"$f":"IFERROR(ROUND(PERCENTILE(_xlfn._xlws.FILTER(Data_Table[Speed],(Data_Table[Weekday]=$AP7+1)),0.5),2),\"-\")","v":"-"},"-",{"$f":"IFERROR(ROUND(PERCENTILE(_xlfn._xlws.FILTER(Data_Table[Speed],(Data_Table[Weekday]=$AP7+1)),0.85),2),\"-\")","v":"-"}]
[4,{"$f":"ImportData!$B$10+7*QUOTIENT(A8,24*60*7/ImportData!$B$8)+MOD(1+QUOTIENT(A8,24*60/ImportData!$B$8)-ImportData!$E$10,7)+TIME(0,ImportData!$B$8*A8,0)","v":"2022-05-16T04:00:00"},{"$f":"'Dir1'!C8+'Dir2'!C8","v":0},{"$f":"'Dir1'!D8+'Dir2'!D8","v":0},{"$f":"'Dir1'!E8+'Dir2'!E8","v":0},{"$f":"'Dir1'!F8+'Dir2'!F8","v":0},{"$f":"'Dir1'!G8+'Dir2'!G8","v":0},{"$f":"'Dir1'!H8+'Dir2'!H8","v":0},{"$f":"'Dir1'!I8+'Dir2'!I8","v":0},{"$f":"'Dir1'!J8+'Dir2'!J8","v":0},{"$f":"'Dir1'!K8+'Dir2'!K8","v":0},{"$f":"'Dir1'!L8+'Dir2'!L8","v":0},{"$f":"'Dir1'!M8+'Dir2'!M8","v":0},{"$f":"'Dir1'!N8+'Dir2'!N8","v":0},{"$f":"'Dir1'!O8+'Dir2'!O8","v":0},{"$f":"'Dir1'!P8+'Dir2'!P8","v":0},{"$f":"'Dir1'!Q8+'Dir2'!Q8","v":0},{"$f":"'Dir1'!R8+'Dir2'!R8","v":0},{"$f":"'Dir1'!S8+'Dir2'!S8","v":0},{"$f":"'Dir1'!T8+'Dir2'!T8","v":0},{"$f":"'Dir1'!U8+'Dir2'!U8","v":0},{"$f":"'Dir1'!V8+'Dir2'!V8","v":0},{"$f":"'Dir1'!W8+'Dir2'!W8","v":0},{"$f":"'Dir1'!X8+'Dir2'!X8","v":0},{"$f":"'Dir1'!Y8+'Dir2'!Y8","v":0},{"$f":"'Dir1'!Z8+'Dir2'!Z8","v":0},{"$f":"'Dir1'!AA8+'Dir2'!AA8","v":0},{"$f":"'Dir1'!AB8+'Dir2'!AB8","v":0},{"$f":"'Dir1'!AC8+'Dir2'!AC8","v":0},{"$f":"'Dir1'!AD8+'Dir2'!AD8","v":0},{"$f":"'Dir1'!AE8+'Dir2'!AE8","v":0},{"$f":"'Dir1'!AF8+'Dir2'!AF8","v":0},{"$f":"'Dir1'!AG8+'Dir2'!AG8","v":0},{"$f":"'Dir1'!AH8+'Dir2'!AH8","v":0},{"$f":"'Dir1'!AI8+'Dir2'!AI8","v":0},{"$f":"'Dir1'!AJ8+'Dir2'!AJ8","v":0},{"$f":"'Dir1'!AK8+'Dir2'!AK8","v":0},"-",{"$f":"IFERROR(ROUND(PERCENTILE(_xlfn._xlws.FILTER(Data_Table[Speed],(Data_Table[Period]=$B8)*(SUM(C8:N8)>=10)),0.85),2),\"-\")","v":"-"},null,null,4,"2022-05-13",null,{"$f":"IFERROR(ROUND(PERCENTILE(_xlfn._xlws.FILTER(Data_Table[Speed],(Data_Table[Weekday]=$AP8+1)),0.5),2),\"-\")","v":"-"},"-",{"$f":"IFERROR(ROUND(PERCENTILE(_xlfn._xlws.FILTER(Data_Table[Speed],(Data_Table[Weekday]=$AP8+1)),0.85),2),\"-\")","v":"-"}]
[5,{"$f":"ImportData!$B$10+7*QUOTIENT(A9,24*60*7/ImportData!$B$8)+MOD(1+QUOTIENT(A9,24*60/ImportData!$B$8)-ImportData!$E$10,7)+TIME(0,ImportData!$B$8*A9,0)","v":"2022-05-16T05:00:00"},{"$f":"'Dir1'!C9+'Dir2'!C9","v":0},{"$f":"'Dir1'!D9+'Dir2'!D9","v":0},{"$f":"'Dir1'!E9+'Dir2'!E9","v":0},{"$f":"'Dir1'!F9+'Dir2'!F9","v":0},{"$f":"'Dir1'!G9+'Dir2'!G9","v":0},{"$f":"'Dir1'!H9+'Dir2'!H9","v":0},{"$f":"'Dir1'!I9+'Dir2'!I9","v":0},{"$f":"'Dir1'!J9+'Dir2'!J9","v":0},{"$f":"'Dir1'!K9+'Dir2'!K9","v":0},{"$f":"'Dir1'!L9+'Dir2'!L9","v":0},{"$f":"'Dir1'!M9+'Dir2'!M9","v":0},{"$f":"'Dir1'!N9+'Dir2'!N9","v":0},{"$f":"'Dir1'!O9+'Dir2'!O9","v":0},{"$f":"'Dir1'!P9+'Dir2'!P9","v":0},{"$f":"'Dir1'!Q9+'Dir2'!Q9","v":0},{"$f":"'Dir1'!R9+'Dir2'!R9","v":0},{"$f":"'Dir1'!S9+'Dir2'!S9","v":0},{"$f":"'Dir1'!T9+'Dir2'!T9","v":0},{"$f":"'Dir1'!U9+'Dir2'!U9","v":0},{"$f":"'Dir1'!V9+'Dir2'!V9","v":0},{"$f":"'Dir1'!W9+'Dir2'!W9","v":0},{"$f":"'Dir1'!X9+'Dir2'!X9","v":0},{"$f":"'Dir1'!Y9+'Dir2'!Y9","v":0},{"$f":"'Dir1'!Z9+'Dir2'!Z9","v":0},{"$f":"'Dir1'!AA9+'Dir2'!AA9","v":0},{"$f":"'Dir1'!AB9+'Dir2'!AB9","v":0},{"$f":"'Dir1'!AC9+'Dir2'!AC9","v":0},{"$f":"'Dir1'!AD9+'Dir2'!AD9","v":0},{"$f":"'Dir1'!AE9+'Dir2'!AE9","v":0},{"$f":"'Dir1'!AF9+'Dir2'!AF9","v":0},{"$f":"'Dir1'!AG9+'Dir2'!AG9","v":0},{"$f":"'Dir1'!AH9+'Dir2'!AH9","v":0},{"$f":"'Dir1'!AI9+'Dir2'!AI9","v":0},{"$f":"'Dir1'!AJ9+'Dir2'!AJ9","v":0},{"$f":"'Dir1'!AK9+'Dir2'!AK9","v":0},"-",{"$f":"IFERROR(ROUND(PERCENTILE(_xlfn._xlws.FILTER(Data_Table[Speed],(Data_Table[Period]=$B9)*(SUM(C9:N9)>=10)),0.85),2),\"-\")","v":"-"},null,null,5,"2022-05-14",null,{"$f":"IFERROR(ROUND(PERCENTILE(_xlfn._xlws.FILTER(Data_Table[Speed],(Data_Table[Weekday]=$AP9+1)),0.5),2),\"-\")","v":"-"},"-",{"$f":"IFERROR(ROUND(PERCENTILE(_xlfn._xlws.FILTER(Data_Table[Speed],(Data_Table[Weekday]=$AP9+1)),0.85),2),\"-\")","v":"-"}]
[6,{"$f":"ImportData!$B$10+7*QUOTIENT(A10,24*60*7/ImportData!$B$8)+MOD(1+QUOTIENT(A10,24*60/ImportData!$B$8)-ImportData!$E$10,7)+TIME(0,ImportData!$B$8*A10,0)","v":"2022-05-16T06:00:00"},{"$f":"'Dir1'!C10+'Dir2'!C10","v":0},{"$f":"'Dir1'!D10+'Dir2'!D10","v":0},{"$f":"'Dir1'!E10+'Dir2'!E10","v":0},{"$f":"'Dir1'!F10+'Dir2'!F10","v":0},{"$f":"'Dir1'!G10+'Dir2'!G10","v":0},{"$f":"'Dir1'!H10+'Dir2'!H10","v":0},{"$f":"'Dir1'!I10+'Dir2'!I10","v":0},{"$f":"'Dir1'!J10+'Dir2'!J10","v":0},{"$f":"'Dir1'!K10+'Dir2'!K10","v":0},{"$f":"'Dir1'!L10+'Dir2'!L10","v":0},{"$f":"'Dir1'!M10+'Dir2'!M10","v":0},{"$f":"'Dir1'!N10+'Dir2'!N10","v":0},{"$f":"'Dir1'!O10+'Dir2'!O10","v":0},{"$f":"'Dir1'!P10+'Dir2'!P10","v":0},{"$f":"'Dir1'!Q10+'Dir2'!Q10","v":0},{"$f":"'Dir1'!R10+'Dir2'!R10","v":0},{"$f":"'Dir1'!S10+'Dir2'!S10","v":0},{"$f":"'Dir1'!T10+'Dir2'!T10","v":0},{"$f":"'Dir1'!U10+'Dir2'!U10","v":0},{"$f":"'Dir1'!V10+'Dir2'!V10","v":0},{"$f":"'Dir1'!W10+'Dir2'!W10","v":0},{"$f":"'Dir1'!X10+'Dir2'!X10","v":0},{"$f":"'Dir1'!Y10+'Dir2'!Y10","v":0},{"$f":"'Dir1'!Z10+'Dir2'!Z10","v":0},{"$f":"'Dir1'!AA10+'Dir2'!AA10","v":0},{"$f":"'Dir1'!AB10+'Dir2'!AB10","v":0},{"$f":"'Dir1'!AC10+'Dir2'!AC10","v":0},{"$f":"'Dir1'!AD10+'Dir2'!AD10","v":0},{"$f":"'Dir1'!AE10+'Dir2'!AE10","v":0},{"$f":"'Dir1'!AF10+'Dir2'!AF10","v":0},{"$f":"'Dir1'!AG10+'Dir2'!AG10","v":0},{"$f":"'Dir1'!AH10+'Dir2'!AH10","v":0},{"$f":"'Dir1'!AI10+'Dir2'!AI10","v":0},{"$f":"'Dir1'!AJ10+'Dir2'!AJ10","v":0},{"$f":"'Dir1'!AK10+'Dir2'!AK10","v":0},"-",{"$f":"IFERROR(ROUND(PERCENTILE(_xlfn._xlws.FILTER(Data_Table[Speed],(Data_Table[Period]=$B10)*(SUM(C10:N10)>=10)),0.85),2),\"-\")","v":"-"},null,null,6,"2022-05-15",null,{"$f":"IFERROR(ROUND(PERCENTILE(_xlfn._xlws.FILTER(Data_Table[Speed],(Data_Table[Weekday]=$AP10+1)),0.5),2),\"-\")","v":"-"},"-",{"$f":"IFERROR(ROUND(PERCENTILE(_xlfn._xlws.FILTER(Data_Table[Speed],(Data_Table[Weekday]=$AP10+1)),0.85),2),\"-\")","v":"-"}]
[7,{"$f":"ImportData!$B$10+7*QUOTIENT(A11,24*60*7/ImportData!$B$8)+MOD(1+QUOTIENT(A11,24*60/ImportData!$B$8)-ImportData!$E$10,7)+TIME(0,ImportData!$B$8*A11,0)","v":"2022-05-16T07:00:00"},{"$f":"'Dir1'!C11+'Dir2'!C11","v":0},{"$f":"'Dir1'!D11+'Dir2'!D11","v":0},{"$f":"'Dir1'!E11+'Dir2'!E11","v":0},{"$f":"'Dir1'!F11+'Dir2'!F11","v":0},{"$f":"'Dir1'!G11+'Dir2'!G11","v":0},{"$f":"'Dir1'!H11+'Dir2'!H11","v":0},{"$f":"'Dir1'!I11+'Dir2'!I11","v":0},{"$f":"'Dir1'!J11+'Dir2'!J11","v":0},{"$f":"'Dir1'!K11+'Dir2'!K11","v":0},{"$f":"'Dir1'!L11+'Dir2'!L11","v":0},{"$f":"'Dir1'!M11+'Dir2'!M11","v":0},{"$f":"'Dir1'!N11+'Dir2'!N11","v":0},{"$f":"'Dir1'!O11+'Dir2'!O11","v":0},{"$f":"'Dir1'!P11+'Dir2'!P11","v":0},{"$f":"'Dir1'!Q11+'Dir2'!Q11","v":0},{"$f":"'Dir1'!R11+'Dir2'!R11","v":0},{"$f":"'Dir1'!S11+'Dir2'!S11","v":0},{"$f":"'Dir1'!T11+'Dir2'!T11","v":0},{"$f":"'Dir1'!U11+'Dir2'!U11","v":0},{"$f":"'Dir1'!V11+'Dir2'!V11","v":0},{"$f":"'Dir1'!W11+'Dir2'!W11","v":0},{"$f":"'Dir1'!X11+'Dir2'!X11","v":0},{"$f":"'Dir1'!Y11+'Dir2'!Y11","v":0},{"$f":"'Dir1'!Z11+'Dir2'!Z11","v":0},{"$f":"'Dir1'!AA11+'Dir2'!AA11","v":0},{"$f":"'Dir1'!AB11+'Dir2'!AB11","v":0},{"$f":"'Dir1'!AC11+'Dir2'!AC11","v":0},{"$f":"'Dir1'!AD11+'Dir2'!AD11","v":0},{"$f":"'Dir1'!AE11+'Dir2'!AE11","v":0},{"$f":"'Dir1'!AF11+'Dir2'!AF11","v":0},{"$f":"'Dir1'!AG11+'Dir2'!AG11","v":0},{"$f":"'Dir1'!AH11+'Dir2'!AH11","v":0},{"$f":"'Dir1'!AI11+'Dir2'!AI11","v":0},{"$f":"'Dir1'!AJ11+'Dir2'!AJ11","v":0},{"$f":"'Dir1'!AK11+'Dir2'!AK11","v":0},"-",{"$f":"IFERROR(ROUND(PERCENTILE(_xlfn._xlws.FILTER(Data_Table[Speed],(Data_Table[Period]=$B11)*(SUM(C11:N11)>=10)),0.85),2),\"-\")","v":"-"},null,null,null,"Weekdays",null,{"$f":"IFERROR(ROUND(PERCENTILE(_xlfn._xlws.FILTER(Data_Table[Speed],(Data_Table[Weekday]< 6)),0.5),2),\"-\")","v":"-"},{"$f":"IFERROR(ROUND(AVERAGEIFS(Data_Table[Speed],Data_Table[Weekday],\"<\" & 6),2),\"-\")","v":"-"},{"$f":"IFERROR(ROUND(PERCENTILE(_xlfn._xlws.FILTER(Data_Table[Speed],(Data_Table[Weekday]< 6)),0.85),2),\"-\")","v":"-"}]
[8,{"$f":"ImportData!$B$10+7*QUOTIENT(A12,24*60*7/ImportData!$B$8)+MOD(1+QUOTIENT(A12,24*60/ImportData!$B$8)-ImportData!$E$10,7)+TIME(0,ImportData!$B$8*A12,0)","v":"2022-05-16T08:00:00"},{"$f":"'Dir1'!C12+'Dir2'!C12","v":0},{"$f":"'Dir1'!D12+'Dir2'!D12","v":0},{"$f":"'Dir1'!E12+'Dir2'!E12","v":0},{"$f":"'Dir1'!F12+'Dir2'!F12","v":0},{"$f":"'Dir1'!G12+'Dir2'!G12","v":0},{"$f":"'Dir1'!H12+'Dir2'!H12","v":0},{"$f":"'Dir1'!I12+'Dir2'!I12","v":0},{"$f":"'Dir1'!J12+'Dir2'!J12","v":0},{"$f":"'Dir1'!K12+'Dir2'!K12","v":0},{"$f":"'Dir1'!L12+'Dir2'!L12","v":0},{"$f":"'Dir1'!M12+'Dir2'!M12","v":0},{"$f":"'Dir1'!N12+'Dir2'!N12","v":0},{"$f":"'Dir1'!O12+'Dir2'!O12","v":0},{"$f":"'Dir1'!P12+'Dir2'!P12","v":0},{"$f":"'Dir1'!Q12+'Dir2'!Q12","v":0},{"$f":"'Dir1'!R12+'Dir2'!R12","v":0},{"$f":"'Dir1'!S12+'Dir2'!S12","v":0},{"$f":"'Dir1'!T12+'Dir2'!T12","v":0},{"$f":"'Dir1'!U12+'Dir2'!U12","v":0},{"$f":"'Dir1'!V12+'Dir2'!V12","v":0},{"$f":"'Dir1'!W12+'Dir2'!W12","v":0},{"$f":"'Dir1'!X12+'Dir2'!X12","v":0},{"$f":"'Dir1'!Y12+'Dir2'!Y12","v":0},{"$f":"'Dir1'!Z12+'Dir2'!Z12","v":0},{"$f":"'Dir1'!AA12+'Dir2'!AA12","v":0},{"$f":"'Dir1'!AB12+'Dir2'!AB12","v":0},{"$f":"'Dir1'!AC12+'Dir2'!AC12","v":0},{"$f":"'Dir1'!AD12+'Dir2'!AD12","v":0},{"$f":"'Dir1'!AE12+'Dir2'!AE12","v":0},{"$f":"'Dir1'!AF12+'Dir2'!AF12","v":0},{"$f":"'Dir1'!AG12+'Dir2'!AG12","v":0},{"$f":"'Dir1'!AH12+'Dir2'!AH12","v":0},{"$f":"'Dir1'!AI12+'Dir2'!AI12","v":0},{"$f":"'Dir1'!AJ12+'Dir2'!AJ12","v":0},{"$f":"'Dir1'!AK12+'Dir2'!AK12","v":0},"-",{"$f":"IFERROR(ROUND(PERCENTILE(_xlfn._xlws.FILTER(Data_Table[Speed],(Data_Table[Period]=$B12)*(SUM(C12:N12)>=10)),0.85),2),\"-\")","v":"-"},null,null,null,"7 days",null,{"$f":"IFERROR(ROUND(PERCENTILE(Data_Table[Speed],0.5),2),\"-\")","v":"-"},{"$f":"IFERROR(ROUND(AVERAGE(Data_Table[Speed]),2),\"-\")","v":"-"},{"$f":"IFERROR(ROUND(PERCENTILE(Data_Table[Speed],0.85),2),\"-\")","v":"-"}]
[9,{"$f":"ImportData!$B$10+7*QUOTIENT(A13,24*60*7/ImportData!$B$8)+MOD(1+QUOTIENT(A13,24*60/ImportData!$B$8)-ImportData!$E$10,7)+TIME(0,ImportData!$B$8*A13,0)","v":"2022-05-16T09:00:00"},{"$f":"'Dir1'!C13+'Dir2'!C13","v":0},{"$f":"'Dir1'!D13+'Dir2'!D13","v":0},{"$f":"'Dir1'!E13+'Dir2'!E13","v":0},{"$f":"'Dir1'!F13+'Dir2'!F13","v":0},{"$f":"'Dir1'!G13+'Dir2'!G13","v":0},{"$f":"'Dir1'!H13+'Dir2'!H13","v":0},{"$f":"'Dir1'!I13+'Dir2'!I13","v":0},{"$f":"'Dir1'!J13+'Dir2'!J13","v":0},{"$f":"'Dir1'!K13+'Dir2'!K13","v":0},{"$f":"'Dir1'!L13+'Dir2'!L13","v":0},{"$f":"'Dir1'!M13+'Dir2'!M13","v":0},{"$f":"'Dir1'!N13+'Dir2'!N13","v":0},{"$f":"'Dir1'!O13+'Dir2'!O13","v":0},{"$f":"'Dir1'!P13+'Dir2'!P13","v":0},{"$f":"'Dir1'!Q13+'Dir2'!Q13","v":0},{"$f":"'Dir1'!R13+'Dir2'!R13","v":0},{"$f":"'Dir1'!S13+'Dir2'!S13","v":0},{"$f":"'Dir1'!T13+'Dir2'!T13","v":0},{"$f":"'Dir1'!U13+'Dir2'!U13","v":0},{"$f":"'Dir1'!V13+'Dir2'!V13","v":0},{"$f":"'Dir1'!W13+'Dir2'!W13","v":0},{"$f":"'Dir1'!X13+'Dir2'!X13","v":0},{"$f":"'Dir1'!Y13+'Dir2'!Y13","v":0},{"$f":"'Dir1'!Z13+'Dir2'!Z13","v":0},{"$f":"'Dir1'!AA13+'Dir2'!AA13","v":0},{"$f":"'Dir1'!AB13+'Dir2'!AB13","v":0},{"$f":"'Dir1'!AC13+'Dir2'!AC13","v":0},{"$f":"'Dir1'!AD13+'Dir2'!AD13","v":0},{"$f":"'Dir1'!AE13+'Dir2'!AE13","v":0},{"$f":"'Dir1'!AF13+'Dir2'!AF13","v":0},{"$f":"'Dir1'!AG13+'Dir2'!AG13","v":0},{"$f":"'Dir1'!AH13+'Dir2'!AH13","v":0},{"$f":"'Dir1'!AI13+'Dir2'!AI13","v":0},{"$f":"'Dir1'!AJ13+'Dir2'!AJ13","v":0},{"$f":"'Dir1'!AK13+'Dir2'!AK13","v":0},"-",{"$f":"IFERROR(ROUND(PERCENTILE(_xlfn._xlws.FILTER(Data_Table[Speed],(Data_Table[Period]=$B13)*(SUM(C13:N13)>=10)),0.85),2),\"-\")","v":"-"}]
[10,{"$f":"ImportData!$B$10+7*QUOTIENT(A14,24*60*7/ImportData!$B$8)+MOD(1+QUOTIENT(A14,24*60/ImportData!$B$8)-ImportData!$E$10,7)+TIME(0,ImportData!$B$8*A14,0)","v":"2022-05-16T10:00:00"},{"$f":"'Dir1'!C14+'Dir2'!C14","v":0},{"$f":"'Dir1'!D14+'Dir2'!D14","v":0},{"$f":"'Dir1'!E14+'Dir2'!E14","v":0},{"$f":"'Dir1'!F14+'Dir2'!F14","v":0},{"$f":"'Dir1'!G14+'Dir2'!G14","v":0},{"$f":"'Dir1'!H14+'Dir2'!H14","v":0},{"$f":"'Dir1'!I14+'Dir2'!I14","v":0},{"$f":"'Dir1'!J14+'Dir2'!J14","v":0},{"$f":"'Dir1'!K14+'Dir2'!K14","v":0},{"$f":"'Dir1'!L14+'Dir2'!L14","v":0},{"$f":"'Dir1'!M14+'Dir2'!M14","v":0},{"$f":"'Dir1'!N14+'Dir2'!N14","v":0},{"$f":"'Dir1'!O14+'Dir2'!O14","v":0},{"$f":"'Dir1'!P14+'Dir2'!P14","v":0},{"$f":"'Dir1'!Q14+'Dir2'!Q14","v":0},{"$f":"'Dir1'!R14+'Dir2'!R14","v":0},{"$f":"'Dir1'!S14+'Dir2'!S14","v":0},{"$f":"'Dir1'!T14+'Dir2'!T14","v":0},{"$f":"'Dir1'!U14+'Dir2'!U14","v":0},{"$f":"'Dir1'!V14+'Dir2'!V14","v":0},{"$f":"'Dir1'!W14+'Dir2'!W14","v":0},{"$f":"'Dir1'!X14+'Dir2'!X14","v":0},{"$f":"'Dir1'!Y14+'Dir2'!Y14","v":0},{"$f":"'Dir1'!Z14+'Dir2'!Z14","v":0},{"$f":"'Dir1'!AA14+'Dir2'!AA14","v":0},{"$f":"'Dir1'!AB14+'Dir2'!AB14","v":0},{"$f":"'Dir1'!AC14+'Dir2'!AC14","v":0},{"$f":"'Dir1'!AD14+'Dir2'!AD14","v":0},{"$f":"'Dir1'!AE14+'Dir2'!AE14","v":0},{"$f":"'Dir1'!AF14+'Dir2'!AF14","v":0},{"$f":"'Dir1'!AG14+'Dir2'!AG14","v":0},{"$f":"'Dir1'!AH14+'Dir2'!AH14","v":0},{"$f":"'Dir1'!AI14+'Dir2'!AI14","v":0},{"$f":"'Dir1'!AJ14+'Dir2'!AJ14","v":0},{"$f":"'Dir1'!AK14+'Dir2'!AK14","v":0},"-",{"$f":"IFERROR(ROUND(PERCENTILE(_xlfn._xlws.FILTER(Data_Table[Speed],(Data_Table[Period]=$B14)*(SUM(C14:N14)>=10)),0.85),2),\"-\")","v":"-"}]
[11,{"$f":"ImportData!$B$10+7*QUOTIENT(A15,24*60*7/ImportData!$B$8)+MOD(1+QUOTIENT(A15,24*60/ImportData!$B$8)-ImportData!$E$10,7)+TIME(0,ImportData!$B$8*A15,0)","v":"2022-05-16T11:00:00"},{"$f":"'Dir1'!C15+'Dir2'!C15","v":0},{"$f":"'Dir1'!D15+'Dir2'!D15","v":0},{"$f":"'Dir1'!E15+'Dir2'!E15","v":0},{"$f":"'Dir1'!F15+'Dir2'!F15","v":0},{"$f":"'Dir1'!G15+'Dir2'!G15","v":0},{"$f":"'Dir1'!H15+'Dir2'!H15","v":0},{"$f":"'Dir1'!I15+'Dir2'!I15","v":0},{"$f":"'Dir1'!J15+'Dir2'!J15","v":0},{"$f":"'Dir1'!K15+'Dir2'!K15","v":0},{"$f":"'Dir1'!L15+'Dir2'!L15","v":0},{"$f":"'Dir1'!M15+'Dir2'!M15","v":0},{"$f":"'Dir1'!N15+'Dir2'!N15","v":0},{"$f":"'Dir1'!O15+'Dir2'!O15","v":0},{"$f":"'Dir1'!P15+'Dir2'!P15","v":0},{"$f":"'Dir1'!Q15+'Dir2'!Q15","v":0},{"$f":"'Dir1'!R15+'Dir2'!R15","v":0},{"$f":"'Dir1'!S15+'Dir2'!S15","v":0},{"$f":"'Dir1'!T15+'Dir2'!T15","v":0},{"$f":"'Dir1'!U15+'Dir2'!U15","v":0},{"$f":"'Dir1'!V15+'Dir2'!V15","v":0},{"$f":"'Dir1'!W15+'Dir2'!W15","v":0},{"$f":"'Dir1'!X15+'Dir2'!X15","v":0},{"$f":"'Dir1'!Y15+'Dir2'!Y15","v":0},{"$f":"'Dir1'!Z15+'Dir2'!Z15","v":0},{"$f":"'Dir1'!AA15+'Dir2'!AA15","v":0},{"$f":"'Dir1'!AB15+'Dir2'!AB15","v":0},{"$f":"'Dir1'!AC15+'Dir2'!AC15","v":0},{"$f":"'Dir1'!AD15+'Dir2'!AD15","v":0},{"$f":"'Dir1'!AE15+'Dir2'!AE15","v":0},{"$f":"'Dir1'!AF15+'Dir2'!AF15","v":0},{"$f":"'Dir1'!AG15+'Dir2'!AG15","v":0},{"$f":"'Dir1'!AH15+'Dir2'!AH15","v":0},{"$f":"'Dir1'!AI15+'Dir2'!AI15","v":0},{"$f":"'Dir1'!AJ15+'Dir2'!AJ15","v":0},{"$f":"'Dir1'!AK15+'Dir2'!AK15","v":0},"-",{"$f":"IFERROR(ROUND(PERCENTILE(_xlfn._xlws.FILTER(Data_Table[Speed],(Data_Table[Period]=$B15)*(SUM(C15:N15)>=10)),0.85),2),\"-\")","v":"-"},null,null,null,"Headway >=4",null,"Median","Average",0.85]
[12,{"$f":"ImportData!$B$10+7*QUOTIENT(A16,24*60*7/ImportData!$B$8)+MOD(1+QUOTIENT(A16,24*60/ImportData!$B$8)-ImportData!$E$10,7)+TIME(0,ImportData!$B$8*A16,0)","v":"2022-05-16T12:00:00"},{"$f":"'Dir1'!C16+'Dir2'!C16","v":0},{"$f":"'Dir1'!D16+'Dir2'!D16","v":0},{"$f":"'Dir1'!E16+'Dir2'!E16","v":0},{"$f":"'Dir1'!F16+'Dir2'!F16","v":0},{"$f":"'Dir1'!G16+'Dir2'!G16","v":0},{"$f":"'Dir1'!H16+'Dir2'!H16","v":0},{"$f":"'Dir1'!I16+'Dir2'!I16","v":0},{"$f":"'Dir1'!J16+'Dir2'!J16","v":0},{"$f":"'Dir1'!K16+'Dir2'!K16","v":0},{"$f":"'Dir1'!L16+'Dir2'!L16","v":0},{"$f":"'Dir1'!M16+'Dir2'!M16","v":0},{"$f":"'Dir1'!N16+'Dir2'!N16","v":0},{"$f":"'Dir1'!O16+'Dir2'!O16","v":0},{"$f":"'Dir1'!P16+'Dir2'!P16","v":0},{"$f":"'Dir1'!Q16+'Dir2'!Q16","v":0},{"$f":"'Dir1'!R16+'Dir2'!R16","v":0},{"$f":"'Dir1'!S16+'Dir2'!S16","v":0},{"$f":"'Dir1'!T16+'Dir2'!T16","v":0},{"$f":"'Dir1'!U16+'Dir2'!U16","v":0},{"$f":"'Dir1'!V16+'Dir2'!V16","v":0},{"$f":"'Dir1'!W16+'Dir2'!W16","v":0},{"$f":"'Dir1'!X16+'Dir2'!X16","v":0},{"$f":"'Dir1'!Y16+'Dir2'!Y16","v":0},{"$f":"'Dir1'!Z16+'Dir2'!Z16","v":0},{"$f":"'Dir1'!AA16+'Dir2'!AA16","v":0},{"$f":"'Dir1'!AB16+'Dir2'!AB16","v":0},{"$f":"'Dir1'!AC16+'Dir2'!AC16","v":0},{"$f":"'Dir1'!AD16+'Dir2'!AD16","v":0},{"$f":"'Dir1'!AE16+'Dir2'!AE16","v":0},{"$f":"'Dir1'!AF16+'Dir2'!AF16","v":0},{"$f":"'Dir1'!AG16+'Dir2'!AG16","v":0},{"$f":"'Dir1'!AH16+'Dir2'!AH16","v":0},{"$f":"'Dir1'!AI16+'Dir2'!AI16","v":0},{"$f":"'Dir1'!AJ16+'Dir2'!AJ16","v":0},{"$f":"'Dir1'!AK16+'Dir2'!AK16","v":0},"-",{"$f":"IFERROR(ROUND(PERCENTILE(_xlfn._xlws.FILTER(Data_Table[Speed],(Data_Table[Period]=$B16)*(SUM(C16:N16)>=10)),0.85),2),\"-\")","v":"-"},null,null,0,{"$f":"OFFSET($B$4,AP16*24,0)","v":"2022-05-16"},null,{"$f":"IFERROR(ROUND(PERCENTILE(_xlfn._xlws.FILTER(Data_Table[Speed],(Data_Table[Headway]>= 4)*(Data_Table[Weekday]=$AP16+1)),0.5),2),\"-\")","v":"-"},{"$f":"IFERROR(ROUND(AVERAGEIFS(Data_Table[Speed],Data_Table[Headway],\">=\" & 4,Data_Table[Weekday],$AP16:$AP22+1),2),\"-\")","v":"-"},{"$f":"IFERROR(ROUND(PERCENTILE(_xlfn._xlws.FILTER(Data_Table[Speed],(Data_Table[Headway]>= 4)*(Data_Table[Weekday]=$AP16+1)),0.85),2),\"-\")","v":"-"}]
[13,{"$f":"ImportData!$B$10+7*QUOTIENT(A17,24*60*7/ImportData!$B$8)+MOD(1+QUOTIENT(A17,24*60/ImportData!$B$8)-ImportData!$E$10,7)+TIME(0,ImportData!$B$8*A17,0)","v":"2022-05-16T13:00:00"},{"$f":"'Dir1'!C17+'Dir2'!C17","v":0},{"$f":"'Dir1'!D17+'Dir2'!D17","v":0},{"$f":"'Dir1'!E17+'Dir2'!E17","v":0},{"$f":"'Dir1'!F17+'Dir2'!F17","v":0},{"$f":"'Dir1'!G17+'Dir2'!G17","v":0},{"$f":"'Dir1'!H17+'Dir2'!H17","v":0},{"$f":"'Dir1'!I17+'Dir2'!I17","v":0},{"$f":"'Dir1'!J17+'Dir2'!J17","v":0},{"$f":"'Dir1'!K17+'Dir2'!K17","v":0},{"$f":"'Dir1'!L17+'Dir2'!L17","v":0},{"$f":"'Dir1'!M17+'Dir2'!M17","v":0},{"$f":"'Dir1'!N17+'Dir2'!N17","v":0},{"$f":"'Dir1'!O17+'Dir2'!O17","v":0},{"$f":"'Dir1'!P17+'Dir2'!P17","v":0},{"$f":"'Dir1'!Q17+'Dir2'!Q17","v":0},{"$f":"'Dir1'!R17+'Dir2'!R17","v":0},{"$f":"'Dir1'!S17+'Dir2'!S17","v":0},{"$f":"'Dir1'!T17+'Dir2'!T17","v":0},{"$f":"'Dir1'!U17+'Dir2'!U17","v":0},{"$f":"'Dir1'!V17+'Dir2'!V17","v":0},{"$f":"'Dir1'!W17+'Dir2'!W17","v":0},{"$f":"'Dir1'!X17+'Dir2'!X17","v":0},{"$f":"'Dir1'!Y17+'Dir2'!Y17","v":0},{"$f":"'Dir1'!Z17+'Dir2'!Z17","v":0},{"$f":"'Dir1'!AA17+'Dir2'!AA17","v":0},{"$f":"'Dir1'!AB17+'Dir2'!AB17","v":0},{"$f":"'Dir1'!AC17+'Dir2'!AC17","v":0},{"$f":"'Dir1'!AD17+'Dir2'!AD17","v":0},{"$f":"'Dir1'!AE17+'Dir2'!AE17","v":0},{"$f":"'Dir1'!AF17+'Dir2'!AF17","v":0},{"$f":"'Dir1'!AG17+'Dir2'!AG17","v":0},{"$f":"'Dir1'!AH17+'Dir2'!AH17","v":0},{"$f":"'Dir1'!AI17+'Dir2'!AI17","v":0},{"$f":"'Dir1'!AJ17+'Dir2'!AJ17","v":0},{"$f":"'Dir1'!AK17+'Dir2'!AK17","v":0},"-",{"$f":"IFERROR(ROUND(PERCENTILE(_xlfn._xlws.FILTER(Data_Table[Speed],(Data_Table[Period]=$B17)*(SUM(C17:N17)>=10)),0.85),2),\"-\")","v":"-"},null,null,1,{"$f":"OFFSET($B$4,AP17*24,0)","v":"2022-05-17"},null,{"$f":"IFERROR(ROUND(PERCENTILE(_xlfn._xlws.FILTER(Data_Table[Speed],(Data_Table[Headway]>= 4)*(Data_Table[Weekday]=$AP17+1)),0.5),2),\"-\")","v":"-"},"-",{"$f":"IFERROR(ROUND(PERCENTILE(_xlfn._xlws.FILTER(Data_Table[Speed],(Data_Table[Headway]>= 4)*(Data_Table[Weekday]=$AP17+1)),0.85),2),\"-\")","v":"-"}]
[14,{"$f":"ImportData!$B$10+7*QUOTIENT(A18,24*60*7/ImportData!$B$8)+MOD(1+QUOTIENT(A18,24*60/ImportData!$B$8)-ImportData!$E$10,7)+TIME(0,ImportData!$B$8*A18,0)","v":"2022-05-16T14:00:00"},{"$f":"'Dir1'!C18+'Dir2'!C18","v":0},{"$f":"'Dir1'!D18+'Dir2'!D18","v":0},{"$f":"'Dir1'!E18+'Dir2'!E18","v":0},{"$f":"'Dir1'!F18+'Dir2'!F18","v":0},{"$f":"'Dir1'!G18+'Dir2'!G18","v":0},{"$f":"'Dir1'!H18+'Dir2'!H18","v":0},{"$f":"'Dir1'!I18+'Dir2'!I18","v":0},{"$f":"'Dir1'!J18+'Dir2'!J18","v":0},{"$f":"'Dir1'!K18+'Dir2'!K18","v":0},{"$f":"'Dir1'!L18+'Dir2'!L18","v":0},{"$f":"'Dir1'!M18+'Dir2'!M18","v":0},{"$f":"'Dir1'!N18+'Dir2'!N18","v":0},{"$f":"'Dir1'!O18+'Dir2'!O18","v":0},{"$f":"'Dir1'!P18+'Dir2'!P18","v":0},{"$f":"'Dir1'!Q18+'Dir2'!Q18","v":0},{"$f":"'Dir1'!R18+'Dir2'!R18","v":0},{"$f":"'Dir1'!S18+'Dir2'!S18","v":0},{"$f":"'Dir1'!T18+'Dir2'!T18","v":0},{"$f":"'Dir1'!U18+'Dir2'!U18","v":0},{"$f":"'Dir1'!V18+'Dir2'!V18","v":0},{"$f":"'Dir1'!W18+'Dir2'!W18","v":0},{"$f":"'Dir1'!X18+'Dir2'!X18","v":0},{"$f":"'Dir1'!Y18+'Dir2'!Y18","v":0},{"$f":"'Dir1'!Z18+'Dir2'!Z18","v":0},{"$f":"'Dir1'!AA18+'Dir2'!AA18","v":0},{"$f":"'Dir1'!AB18+'Dir2'!AB18","v":0},{"$f":"'Dir1'!AC18+'Dir2'!AC18","v":0},{"$f":"'Dir1'!AD18+'Dir2'!AD18","v":0},{"$f":"'Dir1'!AE18+'Dir2'!AE18","v":0},{"$f":"'Dir1'!AF18+'Dir2'!AF18","v":0},{"$f":"'Dir1'!AG18+'Dir2'!AG18","v":0},{"$f":"'Dir1'!AH18+'Dir2'!AH18","v":0},{"$f":"'Dir1'!AI18+'Dir2'!AI18","v":0},{"$f":"'Dir1'!AJ18+'Dir2'!AJ18","v":0},{"$f":"'Dir1'!AK18+'Dir2'!AK18","v":0},"-",{"$f":"IFERROR(ROUND(PERCENTILE(_xlfn._xlws.FILTER(Data_Table[Speed],(Data_Table[Period]=$B18)*(SUM(C18:N18)>=10)),0.85),2),\"-\")","v":"-"},null,null,2,"2022-05-11",null,{"$f":"IFERROR(ROUND(PERCENTILE(_xlfn._xlws.FILTER(Data_Table[Speed],(Data_Table[Headway]>= 4)*(Data_Table[Weekday]=$AP18+1)),0.5),2),\"-\")","v":"-"},"-",{"$f":"IFERROR(ROUND(PERCENTILE(_xlfn._xlws.FILTER(Data_Table[Speed],(Data_Table[Headway]>= 4)*(Data_Table[Weekday]=$AP18+1)),0.85),2),\"-\")","v":"-"}]
[15,{"$f":"ImportData!$B$10+7*QUOTIENT(A19,24*60*7/ImportData!$B$8)+MOD(1+QUOTIENT(A19,24*60/ImportData!$B$8)-ImportData!$E$10,7)+TIME(0,ImportData!$B$8*A19,0)","v":"2022-05-16T15:00:00"},{"$f":"'Dir1'!C19+'Dir2'!C19","v":0},{"$f":"'Dir1'!D19+'Dir2'!D19","v":0},{"$f":"'Dir1'!E19+'Dir2'!E19","v":0},{"$f":"'Dir1'!F19+'Dir2'!F19","v":0},{"$f":"'Dir1'!G19+'Dir2'!G19","v":0},{"$f":"'Dir1'!H19+'Dir2'!H19","v":0},{"$f":"'Dir1'!I19+'Dir2'!I19","v":0},{"$f":"'Dir1'!J19+'Dir2'!J19","v":0},{"$f":"'Dir1'!K19+'Dir2'!K19","v":0},{"$f":"'Dir1'!L19+'Dir2'!L19","v":0},{"$f":"'Dir1'!M19+'Dir2'!M19","v":0},{"$f":"'Dir1'!N19+'Dir2'!N19","v":0},{"$f":"'Dir1'!O19+'Dir2'!O19","v":0},{"$f":"'Dir1'!P19+'Dir2'!P19","v":0},{"$f":"'Dir1'!Q19+'Dir2'!Q19","v":0},{"$f":"'Dir1'!R19+'Dir2'!R19","v":0},{"$f":"'Dir1'!S19+'Dir2'!S19","v":0},{"$f":"'Dir1'!T19+'Dir2'!T19","v":0},{"$f":"'Dir1'!U19+'Dir2'!U19","v":0},{"$f":"'Dir1'!V19+'Dir2'!V19","v":0},{"$f":"'Dir1'!W19+'Dir2'!W19","v":0},{"$f":"'Dir1'!X19+'Dir2'!X19","v":0},{"$f":"'Dir1'!Y19+'Dir2'!Y19","v":0},{"$f":"'Dir1'!Z19+'Dir2'!Z19","v":0},{"$f":"'Dir1'!AA19+'Dir2'!AA19","v":0},{"$f":"'Dir1'!AB19+'Dir2'!AB19","v":0},{"$f":"'Dir1'!AC19+'Dir2'!AC19","v":0},{"$f":"'Dir1'!AD19+'Dir2'!AD19","v":0},{"$f":"'Dir1'!AE19+'Dir2'!AE19","v":0},{"$f":"'Dir1'!AF19+'Dir2'!AF19","v":0},{"$f":"'Dir1'!AG19+'Dir2'!AG19","v":0},{"$f":"'Dir1'!AH19+'Dir2'!AH19","v":0},{"$f":"'Dir1'!AI19+'Dir2'!AI19","v":0},{"$f":"'Dir1'!AJ19+'Dir2'!AJ19","v":0},{"$f":"'Dir1'!AK19+'Dir2'!AK19","v":0},"-",{"$f":"IFERROR(ROUND(PERCENTILE(_xlfn._xlws.FILTER(Data_Table[Speed],(Data_Table[Period]=$B19)*(SUM(C19:N19)>=10)),0.85),2),\"-\")","v":"-"},null,null,3,"2022-05-12",null,{"$f":"IFERROR(ROUND(PERCENTILE(_xlfn._xlws.FILTER(Data_Table[Speed],(Data_Table[Headway]>= 4)*(Data_Table[Weekday]=$AP19+1)),0.5),2),\"-\")","v":"-"},"-",{"$f":"IFERROR(ROUND(PERCENTILE(_xlfn._xlws.FILTER(Data_Table[Speed],(Data_Table[Headway]>= 4)*(Data_Table[Weekday]=$AP19+1)),0.85),2),\"-\")","v":"-"}]
[16,{"$f":"ImportData!$B$10+7*QUOTIENT(A20,24*60*7/ImportData!$B$8)+MOD(1+QUOTIENT(A20,24*60/ImportData!$B$8)-ImportData!$E$10,7)+TIME(0,ImportData!$B$8*A20,0)","v":"2022-05-16T16:00:00"},{"$f":"'Dir1'!C20+'Dir2'!C20","v":0},{"$f":"'Dir1'!D20+'Dir2'!D20","v":0},{"$f":"'Dir1'!E20+'Dir2'!E20","v":0},{"$f":"'Dir1'!F20+'Dir2'!F20","v":0},{"$f":"'Dir1'!G20+'Dir2'!G20","v":0},{"$f":"'Dir1'!H20+'Dir2'!H20","v":0},{"$f":"'Dir1'!I20+'Dir2'!I20","v":0},{"$f":"'Dir1'!J20+'Dir2'!J20","v":0},{"$f":"'Dir1'!K20+'Dir2'!K20","v":0},{"$f":"'Dir1'!L20+'Dir2'!L20","v":0},{"$f":"'Dir1'!M20+'Dir2'!M20","v":0},{"$f":"'Dir1'!N20+'Dir2'!N20","v":0},{"$f":"'Dir1'!O20+'Dir2'!O20","v":0},{"$f":"'Dir1'!P20+'Dir2'!P20","v":0},{"$f":"'Dir1'!Q20+'Dir2'!Q20","v":0},{"$f":"'Dir1'!R20+'Dir2'!R20","v":0},{"$f":"'Dir1'!S20+'Dir2'!S20","v":0},{"$f":"'Dir1'!T20+'Dir2'!T20","v":0},{"$f":"'Dir1'!U20+'Dir2'!U20","v":0},{"$f":"'Dir1'!V20+'Dir2'!V20","v":0},{"$f":"'Dir1'!W20+'Dir2'!W20","v":0},{"$f":"'Dir1'!X20+'Dir2'!X20","v":0},{"$f":"'Dir1'!Y20+'Dir2'!Y20","v":0},{"$f":"'Dir1'!Z20+'Dir2'!Z20","v":0},{"$f":"'Dir1'!AA20+'Dir2'!AA20","v":0},{"$f":"'Dir1'!AB20+'Dir2'!AB20","v":0},{"$f":"'Dir1'!AC20+'Dir2'!AC20","v":0},{"$f":"'Dir1'!AD20+'Dir2'!AD20","v":0},{"$f":"'Dir1'!AE20+'Dir2'!AE20","v":0},{"$f":"'Dir1'!AF20+'Dir2'!AF20","v":0},{"$f":"'Dir1'!AG20+'Dir2'!AG20","v":0},{"$f":"'Dir1'!AH20+'Dir2'!AH20","v":0},{"$f":"'Dir1'!AI20+'Dir2'!AI20","v":0},{"$f":"'Dir1'!AJ20+'Dir2'!AJ20","v":0},{"$f":"'Dir1'!AK20+'Dir2'!AK20","v":0},"-",{"$f":"IFERROR(ROUND(PERCENTILE(_xlfn._xlws.FILTER(Data_Table[Speed],(Data_Table[Period]=$B20)*(SUM(C20:N20)>=10)),0.85),2),\"-\")","v":"-"},null,null,4,"2022-05-13",null,{"$f":"IFERROR(ROUND(PERCENTILE(_xlfn._xlws.FILTER(Data_Table[Speed],(Data_Table[Headway]>= 4)*(Data_Table[Weekday]=$AP20+1)),0.5),2),\"-\")","v":"-"},"-",{"$f":"IFERROR(ROUND(PERCENTILE(_xlfn._xlws.FILTER(Data_Table[Speed],(Data_Table[Headway]>= 4)*(Data_Table[Weekday]=$AP20+1)),0.85),2),\"-\")","v":"-"}]
[17,{"$f":"ImportData!$B$10+7*QUOTIENT(A21,24*60*7/ImportData!$B$8)+MOD(1+QUOTIENT(A21,24*60/ImportData!$B$8)-ImportData!$E$10,7)+TIME(0,ImportData!$B$8*A21,0)","v":"2022-05-16T17:00:00"},{"$f":"'Dir1'!C21+'Dir2'!C21","v":0},{"$f":"'Dir1'!D21+'Dir2'!D21","v":0},{"$f":"'Dir1'!E21+'Dir2'!E21","v":0},{"$f":"'Dir1'!F21+'Dir2'!F21","v":0},{"$f":"'Dir1'!G21+'Dir2'!G21","v":0},{"$f":"'Dir1'!H21+'Dir2'!H21","v":0},{"$f":"'Dir1'!I21+'Dir2'!I21","v":0},{"$f":"'Dir1'!J21+'Dir2'!J21","v":0},{"$f":"'Dir1'!K21+'Dir2'!K21","v":0},{"$f":"'Dir1'!L21+'Dir2'!L21","v":0},{"$f":"'Dir1'!M21+'Dir2'!M21","v":0},{"$f":"'Dir1'!N21+'Dir2'!N21","v":0},{"$f":"'Dir1'!O21+'Dir2'!O21","v":0},{"$f":"'Dir1'!P21+'Dir2'!P21","v":0},{"$f":"'Dir1'!Q21+'Dir2'!Q21","v":0},{"$f":"'Dir1'!R21+'Dir2'!R21","v":0},{"$f":"'Dir1'!S21+'Dir2'!S21","v":0},{"$f":"'Dir1'!T21+'Dir2'!T21","v":0},{"$f":"'Dir1'!U21+'Dir2'!U21","v":0},{"$f":"'Dir1'!V21+'Dir2'!V21","v":0},{"$f":"'Dir1'!W21+'Dir2'!W21","v":0},{"$f":"'Dir1'!X21+'Dir2'!X21","v":0},{"$f":"'Dir1'!Y21+'Dir2'!Y21","v":0},{"$f":"'Dir1'!Z21+'Dir2'!Z21","v":0},{"$f":"'Dir1'!AA21+'Dir2'!AA21","v":0},{"$f":"'Dir1'!AB21+'Dir2'!AB21","v":0},{"$f":"'Dir1'!AC21+'Dir2'!AC21","v":0},{"$f":"'Dir1'!AD21+'Dir2'!AD21","v":0},{"$f":"'Dir1'!AE21+'Dir2'!AE21","v":0},{"$f":"'Dir1'!AF21+'Dir2'!AF21","v":0},{"$f":"'Dir1'!AG21+'Dir2'!AG21","v":0},{"$f":"'Dir1'!AH21+'Dir2'!AH21","v":0},{"$f":"'Dir1'!AI21+'Dir2'!AI21","v":0},{"$f":"'Dir1'!AJ21+'Dir2'!AJ21","v":0},{"$f":"'Dir1'!AK21+'Dir2'!AK21","v":0},"-",{"$f":"IFERROR(ROUND(PERCENTILE(_xlfn._xlws.FILTER(Data_Table[Speed],(Data_Table[Period]=$B21)*(SUM(C21:N21)>=10)),0.85),2),\"-\")","v":"-"},null,null,5,"2022-05-14",null,{"$f":"IFERROR(ROUND(PERCENTILE(_xlfn._xlws.FILTER(Data_Table[Speed],(Data_Table[Headway]>= 4)*(Data_Table[Weekday]=$AP21+1)),0.5),2),\"-\")","v":"-"},"-",{"$f":"IFERROR(ROUND(PERCENTILE(_xlfn._xlws.FILTER(Data_Table[Speed],(Data_Table[Headway]>= 4)*(Data_Table[Weekday]=$AP21+1)),0.85),2),\"-\")","v":"-"}]
[18,{"$f":"ImportData!$B$10+7*QUOTIENT(A22,24*60*7/ImportData!$B$8)+MOD(1+QUOTIENT(A22,24*60/ImportData!$B$8)-ImportData!$E$10,7)+TIME(0,ImportData!$B$8*A22,0)","v":"2022-05-16T18:00:00"},{"$f":"'Dir1'!C22+'Dir2'!C22","v":0},{"$f":"'Dir1'!D22+'Dir2'!D22","v":0},{"$f":"'Dir1'!E22+'Dir2'!E22","v":0},{"$f":"'Dir1'!F22+'Dir2'!F22","v":0},{"$f":"'Dir1'!G22+'Dir2'!G22","v":0},{"$f":"'Dir1'!H22+'Dir2'!H22","v":0},{"$f":"'Dir1'!I22+'Dir2'!I22","v":0},{"$f":"'Dir1'!J22+'Dir2'!J22","v":0},{"$f":"'Dir1'!K22+'Dir2'!K22","v":0},{"$f":"'Dir1'!L22+'Dir2'!L22","v":0},{"$f":"'Dir1'!M22+'Dir2'!M22","v":0},{"$f":"'Dir1'!N22+'Dir2'!N22","v":0},{"$f":"'Dir1'!O22+'Dir2'!O22","v":0},{"$f":"'Dir1'!P22+'Dir2'!P22","v":0},{"$f":"'Dir1'!Q22+'Dir2'!Q22","v":0},{"$f":"'Dir1'!R22+'Dir2'!R22","v":0},{"$f":"'Dir1'!S22+'Dir2'!S22","v":0},{"$f":"'Dir1'!T22+'Dir2'!T22","v":0},{"$f":"'Dir1'!U22+'Dir2'!U22","v":0},{"$f":"'Dir1'!V22+'Dir2'!V22","v":0},{"$f":"'Dir1'!W22+'Dir2'!W22","v":0},{"$f":"'Dir1'!X22+'Dir2'!X22","v":0},{"$f":"'Dir1'!Y22+'Dir2'!Y22","v":0},{"$f":"'Dir1'!Z22+'Dir2'!Z22","v":0},{"$f":"'Dir1'!AA22+'Dir2'!AA22","v":0},{"$f":"'Dir1'!AB22+'Dir2'!AB22","v":0},{"$f":"'Dir1'!AC22+'Dir2'!AC22","v":0},{"$f":"'Dir1'!AD22+'Dir2'!AD22","v":0},{"$f":"'Dir1'!AE22+'Dir2'!AE22","v":0},{"$f":"'Dir1'!AF22+'Dir2'!AF22","v":0},{"$f":"'Dir1'!AG22+'Dir2'!AG22","v":0},{"$f":"'Dir1'!AH22+'Dir2'!AH22","v":0},{"$f":"'Dir1'!AI22+'Dir2'!AI22","v":0},{"$f":"'Dir1'!AJ22+'Dir2'!AJ22","v":0},{"$f":"'Dir1'!AK22+'Dir2'!AK22","v":0},"-",{"$f":"IFERROR(ROUND(PERCENTILE(_xlfn._xlws.FILTER(Data_Table[Speed],(Data_Table[Period]=$B22)*(SUM(C22:N22)>=10)),0.85),2),\"-\")","v":"-"},null,null,6,"2022-05-15",null,{"$f":"IFERROR(ROUND(PERCENTILE(_xlfn._xlws.FILTER(Data_Table[Speed],(Data_Table[Headway]>= 4)*(Data_Table[Weekday]=$AP22+1)),0.5),2),\"-\")","v":"-"},"-",{"$f":"IFERROR(ROUND(PERCENTILE(_xlfn._xlws.FILTER(Data_Table[Speed],(Data_Table[Headway]>= 4)*(Data_Table[Weekday]=$AP22+1)),0.85),2),\"-\")","v":"-"}]
[19,{"$f":"ImportData!$B$10+7*QUOTIENT(A23,24*60*7/ImportData!$B$8)+MOD(1+QUOTIENT(A23,24*60/ImportData!$B$8)-ImportData!$E$10,7)+TIME(0,ImportData!$B$8*A23,0)","v":"2022-05-16T19:00:00"},{"$f":"'Dir1'!C23+'Dir2'!C23","v":0},{"$f":"'Dir1'!D23+'Dir2'!D23","v":0},{"$f":"'Dir1'!E23+'Dir2'!E23","v":0},{"$f":"'Dir1'!F23+'Dir2'!F23","v":0},{"$f":"'Dir1'!G23+'Dir2'!G23","v":0},{"$f":"'Dir1'!H23+'Dir2'!H23","v":0},{"$f":"'Dir1'!I23+'Dir2'!I23","v":0},{"$f":"'Dir1'!J23+'Dir2'!J23","v":0},{"$f":"'Dir1'!K23+'Dir2'!K23","v":0},{"$f":"'Dir1'!L23+'Dir2'!L23","v":0},{"$f":"'Dir1'!M23+'Dir2'!M23","v":0},{"$f":"'Dir1'!N23+'Dir2'!N23","v":0},{"$f":"'Dir1'!O23+'Dir2'!O23","v":0},{"$f":"'Dir1'!P23+'Dir2'!P23","v":0},{"$f":"'Dir1'!Q23+'Dir2'!Q23","v":0},{"$f":"'Dir1'!R23+'Dir2'!R23","v":0},{"$f":"'Dir1'!S23+'Dir2'!S23","v":0},{"$f":"'Dir1'!T23+'Dir2'!T23","v":0},{"$f":"'Dir1'!U23+'Dir2'!U23","v":0},{"$f":"'Dir1'!V23+'Dir2'!V23","v":0},{"$f":"'Dir1'!W23+'Dir2'!W23","v":0},{"$f":"'Dir1'!X23+'Dir2'!X23","v":0},{"$f":"'Dir1'!Y23+'Dir2'!Y23","v":0},{"$f":"'Dir1'!Z23+'Dir2'!Z23","v":0},{"$f":"'Dir1'!AA23+'Dir2'!AA23","v":0},{"$f":"'Dir1'!AB23+'Dir2'!AB23","v":0},{"$f":"'Dir1'!AC23+'Dir2'!AC23","v":0},{"$f":"'Dir1'!AD23+'Dir2'!AD23","v":0},{"$f":"'Dir1'!AE23+'Dir2'!AE23","v":0},{"$f":"'Dir1'!AF23+'Dir2'!AF23","v":0},{"$f":"'Dir1'!AG23+'Dir2'!AG23","v":0},{"$f":"'Dir1'!AH23+'Dir2'!AH23","v":0},{"$f":"'Dir1'!AI23+'Dir2'!AI23","v":0},{"$f":"'Dir1'!AJ23+'Dir2'!AJ23","v":0},{"$f":"'Dir1'!AK23+'Dir2'!AK23","v":0},"-",{"$f":"IFERROR(ROUND(PERCENTILE(_xlfn._xlws.FILTER(Data_Table[Speed],(Data_Table[Period]=$B23)*(SUM(C23:N23)>=10)),0.85),2),\"-\")","v":"-"},null,null,null,"Weekdays",null,{"$f":"IFERROR(ROUND(PERCENTILE(_xlfn._xlws.FILTER(Data_Table[Speed],(Data_Table[Headway]>= 4)*(Data_Table[Weekday]< 6)),0.5),2),\"-\")","v":"-"},{"$f":"IFERROR(ROUND(AVERAGEIFS(Data_Table[Speed],Data_Table[Headway],\">=\" & 4,Data_Table[Weekday],\"<\" & 6),2),\"-\")","v":"-"},{"$f":"IFERROR(ROUND(PERCENTILE(_xlfn._xlws.FILTER(Data_Table[Speed],(Data_Table[Headway]>= 4)*(Data_Table[Weekday]< 6)),0.85),2),\"-\")","v":"-"}]
[20,{"$f":"ImportData!$B$10+7*QUOTIENT(A24,24*60*7/ImportData!$B$8)+MOD(1+QUOTIENT(A24,24*60/ImportData!$B$8)-ImportData!$E$10,7)+TIME(0,ImportData!$B$8*A24,0)","v":"2022-05-16T20:00:00"},{"$f":"'Dir1'!C24+'Dir2'!C24","v":0},{"$f":"'Dir1'!D24+'Dir2'!D24","v":0},{"$f":"'Dir1'!E24+'Dir2'!E24","v":0},{"$f":"'Dir1'!F24+'Dir2'!F24","v":0},{"$f":"'Dir1'!G24+'Dir2'!G24","v":0},{"$f":"'Dir1'!H24+'Dir2'!H24","v":0},{"$f":"'Dir1'!I24+'Dir2'!I24","v":0},{"$f":"'Dir1'!J24+'Dir2'!J24","v":0},{"$f":"'Dir1'!K24+'Dir2'!K24","v":0},{"$f":"'Dir1'!L24+'Dir2'!L24","v":0},{"$f":"'Dir1'!M24+'Dir2'!M24","v":0},{"$f":"'Dir1'!N24+'Dir2'!N24","v":0},{"$f":"'Dir1'!O24+'Dir2'!O24","v":0},{"$f":"'Dir1'!P24+'Dir2'!P24","v":0},{"$f":"'Dir1'!Q24+'Dir2'!Q24","v":0},{"$f":"'Dir1'!R24+'Dir2'!R24","v":0},{"$f":"'Dir1'!S24+'Dir2'!S24","v":0},{"$f":"'Dir1'!T24+'Dir2'!T24","v":0},{"$f":"'Dir1'!U24+'Dir2'!U24","v":0},{"$f":"'Dir1'!V24+'Dir2'!V24","v":0},{"$f":"'Dir1'!W24+'Dir2'!W24","v":0},{"$f":"'Dir1'!X24+'Dir2'!X24","v":0},{"$f":"'Dir1'!Y24+'Dir2'!Y24","v":0},{"$f":"'Dir1'!Z24+'Dir2'!Z24","v":0},{"$f":"'Dir1'!AA24+'Dir2'!AA24","v":0},{"$f":"'Dir1'!AB24+'Dir2'!AB24","v":0},{"$f":"'Dir1'!AC24+'Dir2'!AC24","v":0},{"$f":"'Dir1'!AD24+'Dir2'!AD24","v":0},{"$f":"'Dir1'!AE24+'Dir2'!AE24","v":0},{"$f":"'Dir1'!AF24+'Dir2'!AF24","v":0},{"$f":"'Dir1'!AG24+'Dir2'!AG24","v":0},{"$f":"'Dir1'!AH24+'Dir2'!AH24","v":0},{"$f":"'Dir1'!AI24+'Dir2'!AI24","v":0},{"$f":"'Dir1'!AJ24+'Dir2'!AJ24","v":0},{"$f":"'Dir1'!AK24+'Dir2'!AK24","v":0},"-",{"$f":"IFERROR(ROUND(PERCENTILE(_xlfn._xlws.FILTER(Data_Table[Speed],(Data_Table[Period]=$B24)*(SUM(C24:N24)>=10)),0.85),2),\"-\")","v":"-"},null,null,null,"7 days",null,{"$f":"IFERROR(ROUND(PERCENTILE(_xlfn._xlws.FILTER(Data_Table[Speed],(Data_Table[Headway]>= 4)),0.5),2),\"-\")","v":"-"},{"$f":"IFERROR(ROUND(AVERAGEIFS(Data_Table[Speed],Data_Table[Headway],\">=\" & 4),2),\"-\")","v":"-"},{"$f":"IFERROR(ROUND(PERCENTILE(_xlfn._xlws.FILTER(Data_Table[Speed],(Data_Table[Headway]>= 4)),0.85),2),\"-\")","v":"-"}]
[21,{"$f":"ImportData!$B$10+7*QUOTIENT(A25,24*60*7/ImportData!$B$8)+MOD(1+QUOTIENT(A25,24*60/ImportData!$B$8)-ImportData!$E$10,7)+TIME(0,ImportData!$B$8*A25,0)","v":"2022-05-16T21:00:00"},{"$f":"'Dir1'!C25+'Dir2'!C25","v":0},{"$f":"'Dir1'!D25+'Dir2'!D25","v":0},{"$f":"'Dir1'!E25+'Dir2'!E25","v":0},{"$f":"'Dir1'!F25+'Dir2'!F25","v":0},{"$f":"'Dir1'!G25+'Dir2'!G25","v":0},{"$f":"'Dir1'!H25+'Dir2'!H25","v":0},{"$f":"'Dir1'!I25+'Dir2'!I25","v":0},{"$f":"'Dir1'!J25+'Dir2'!J25","v":0},{"$f":"'Dir1'!K25+'Dir2'!K25","v":0},{"$f":"'Dir1'!L25+'Dir2'!L25","v":0},{"$f":"'Dir1'!M25+'Dir2'!M25","v":0},{"$f":"'Dir1'!N25+'Dir2'!N25","v":0},{"$f":"'Dir1'!O25+'Dir2'!O25","v":0},{"$f":"'Dir1'!P25+'Dir2'!P25","v":0},{"$f":"'Dir1'!Q25+'Dir2'!Q25","v":0},{"$f":"'Dir1'!R25+'Dir2'!R25","v":0},{"$f":"'Dir1'!S25+'Dir2'!S25","v":0},{"$f":"'Dir1'!T25+'Dir2'!T25","v":0},{"$f":"'Dir1'!U25+'Dir2'!U25","v":0},{"$f":"'Dir1'!V25+'Dir2'!V25","v":0},{"$f":"'Dir1'!W25+'Dir2'!W25","v":0},{"$f":"'Dir1'!X25+'Dir2'!X25","v":0},{"$f":"'Dir1'!Y25+'Dir2'!Y25","v":0},{"$f":"'Dir1'!Z25+'Dir2'!Z25","v":0},{"$f":"'Dir1'!AA25+'Dir2'!AA25","v":0},{"$f":"'Dir1'!AB25+'Dir2'!AB25","v":0},{"$f":"'Dir1'!AC25+'Dir2'!AC25","v":0},{"$f":"'Dir1'!AD25+'Dir2'!AD25","v":0},{"$f":"'Dir1'!AE25+'Dir2'!AE25","v":0},{"$f":"'Dir1'!AF25+'Dir2'!AF25","v":0},{"$f":"'Dir1'!AG25+'Dir2'!AG25","v":0},{"$f":"'Dir1'!AH25+'Dir2'!AH25","v":0},{"$f":"'Dir1'!AI25+'Dir2'!AI25","v":0},{"$f":"'Dir1'!AJ25+'Dir2'!AJ25","v":0},{"$f":"'Dir1'!AK25+'Dir2'!AK25","v":0},"-",{"$f":"IFERROR(ROUND(PERCENTILE(_xlfn._xlws.FILTER(Data_Table[Speed],(Data_Table[Period]=$B25)*(SUM(C25:N25)>=10)),0.85),2),\"-\")","v":"-"}]
[22,{"$f":"ImportData!$B$10+7*QUOTIENT(A26,24*60*7/ImportData!$B$8)+MOD(1+QUOTIENT(A26,24*60/ImportData!$B$8)-ImportData!$E$10,7)+TIME(0,ImportData!$B$8*A26,0)","v":"2022-05-16T22:00:00"},{"$f":"'Dir1'!C26+'Dir2'!C26","v":0},{"$f":"'Dir1'!D26+'Dir2'!D26","v":0},{"$f":"'Dir1'!E26+'Dir2'!E26","v":0},{"$f":"'Dir1'!F26+'Dir2'!F26","v":0},{"$f":"'Dir1'!G26+'Dir2'!G26","v":0},{"$f":"'Dir1'!H26+'Dir2'!H26","v":0},{"$f":"'Dir1'!I26+'Dir2'!I26","v":0},{"$f":"'Dir1'!J26+'Dir2'!J26","v":0},{"$f":"'Dir1'!K26+'Dir2'!K26","v":0},{"$f":"'Dir1'!L26+'Dir2'!L26","v":0},{"$f":"'Dir1'!M26+'Dir2'!M26","v":0},{"$f":"'Dir1'!N26+'Dir2'!N26","v":0},{"$f":"'Dir1'!O26+'Dir2'!O26","v":0},{"$f":"'Dir1'!P26+'Dir2'!P26","v":0},{"$f":"'Dir1'!Q26+'Dir2'!Q26","v":0},{"$f":"'Dir1'!R26+'Dir2'!R26","v":0},{"$f":"'Dir1'!S26+'Dir2'!S26","v":0},{"$f":"'Dir1'!T26+'Dir2'!T26","v":0},{"$f":"'Dir1'!U26+'Dir2'!U26","v":0},{"$f":"'Dir1'!V26+'Dir2'!V26","v":0},{"$f":"'Dir1'!W26+'Dir2'!W26","v":0},{"$f":"'Dir1'!X26+'Dir2'!X26","v":0},{"$f":"'Dir1'!Y26+'Dir2'!Y26","v":0},{"$f":"'Dir1'!Z26+'Dir2'!Z26","v":0},{"$f":"'Dir1'!AA26+'Dir2'!AA26","v":0},{"$f":"'Dir1'!AB26+'Dir2'!AB26","v":0},{"$f":"'Dir1'!AC26+'Dir2'!AC26","v":0},{"$f":"'Dir1'!AD26+'Dir2'!AD26","v":0},{"$f":"'Dir1'!AE26+'Dir2'!AE26","v":0},{"$f":"'Dir1'!AF26+'Dir2'!AF26","v":0},{"$f":"'Dir1'!AG26+'Dir2'!AG26","v":0},{"$f":"'Dir1'!AH26+'Dir2'!AH26","v":0},{"$f":"'Dir1'!AI26+'Dir2'!AI26","v":0},{"$f":"'Dir1'!AJ26+'Dir2'!AJ26","v":0},{"$f":"'Dir1'!AK26+'Dir2'!AK26","v":0},"-",{"$f":"IFERROR(ROUND(PERCENTILE(_xlfn._xlws.FILTER(Data_Table[Speed],(Data_Table[Period]=$B26)*(SUM(C26:N26)>=10)),0.85),2),\"-\")","v":"-"}]
[23,{"$f":"ImportData!$B$10+7*QUOTIENT(A27,24*60*7/ImportData!$B$8)+MOD(1+QUOTIENT(A27,24*60/ImportData!$B$8)-ImportData!$E$10,7)+TIME(0,ImportData!$B$8*A27,0)","v":"2022-05-16T23:00:00"},{"$f":"'Dir1'!C27+'Dir2'!C27","v":0},{"$f":"'Dir1'!D27+'Dir2'!D27","v":0},{"$f":"'Dir1'!E27+'Dir2'!E27","v":0},{"$f":"'Dir1'!F27+'Dir2'!F27","v":0},{"$f":"'Dir1'!G27+'Dir2'!G27","v":0},{"$f":"'Dir1'!H27+'Dir2'!H27","v":0},{"$f":"'Dir1'!I27+'Dir2'!I27","v":0},{"$f":"'Dir1'!J27+'Dir2'!J27","v":0},{"$f":"'Dir1'!K27+'Dir2'!K27","v":0},{"$f":"'Dir1'!L27+'Dir2'!L27","v":0},{"$f":"'Dir1'!M27+'Dir2'!M27","v":0},{"$f":"'Dir1'!N27+'Dir2'!N27","v":0},{"$f":"'Dir1'!O27+'Dir2'!O27","v":0},{"$f":"'Dir1'!P27+'Dir2'!P27","v":0},{"$f":"'Dir1'!Q27+'Dir2'!Q27","v":0},{"$f":"'Dir1'!R27+'Dir2'!R27","v":0},{"$f":"'Dir1'!S27+'Dir2'!S27","v":0},{"$f":"'Dir1'!T27+'Dir2'!T27","v":0},{"$f":"'Dir1'!U27+'Dir2'!U27","v":0},{"$f":"'Dir1'!V27+'Dir2'!V27","v":0},{"$f":"'Dir1'!W27+'Dir2'!W27","v":0},{"$f":"'Dir1'!X27+'Dir2'!X27","v":0},{"$f":"'Dir1'!Y27+'Dir2'!Y27","v":0},{"$f":"'Dir1'!Z27+'Dir2'!Z27","v":0},{"$f":"'Dir1'!AA27+'Dir2'!AA27","v":0},{"$f":"'Dir1'!AB27+'Dir2'!AB27","v":0},{"$f":"'Dir1'!AC27+'Dir2'!AC27","v":0},{"$f":"'Dir1'!AD27+'Dir2'!AD27","v":0},{"$f":"'Dir1'!AE27+'Dir2'!AE27","v":0},{"$f":"'Dir1'!AF27+'Dir2'!AF27","v":0},{"$f":"'Dir1'!AG27+'Dir2'!AG27","v":0},{"$f":"'Dir1'!AH27+'Dir2'!AH27","v":0},{"$f":"'Dir1'!AI27+'Dir2'!AI27","v":0},{"$f":"'Dir1'!AJ27+'Dir2'!AJ27","v":0},{"$f":"'Dir1'!AK27+'Dir2'!AK27","v":0},"-",{"$f":"IFERROR(ROUND(PERCENTILE(_xlfn._xlws.FILTER(Data_Table[Speed],(Data_Table[Period]=$B27)*(SUM(C27:N27)>=10)),0.85),2),\"-\")","v":"-"}]
[24,{"$f":"ImportData!$B$10+7*QUOTIENT(A28,24*60*7/ImportData!$B$8)+MOD(1+QUOTIENT(A28,24*60/ImportData!$B$8)-ImportData!$E$10,7)+TIME(0,ImportData!$B$8*A28,0)","v":"2022-05-17"},{"$f":"'Dir1'!C28+'Dir2'!C28","v":0},{"$f":"'Dir1'!D28+'Dir2'!D28","v":0},{"$f":"'Dir1'!E28+'Dir2'!E28","v":0},{"$f":"'Dir1'!F28+'Dir2'!F28","v":0},{"$f":"'Dir1'!G28+'Dir2'!G28","v":0},{"$f":"'Dir1'!H28+'Dir2'!H28","v":0},{"$f":"'Dir1'!I28+'Dir2'!I28","v":0},{"$f":"'Dir1'!J28+'Dir2'!J28","v":0},{"$f":"'Dir1'!K28+'Dir2'!K28","v":0},{"$f":"'Dir1'!L28+'Dir2'!L28","v":0},{"$f":"'Dir1'!M28+'Dir2'!M28","v":0},{"$f":"'Dir1'!N28+'Dir2'!N28","v":0},{"$f":"'Dir1'!O28+'Dir2'!O28","v":0},{"$f":"'Dir1'!P28+'Dir2'!P28","v":0},{"$f":"'Dir1'!Q28+'Dir2'!Q28","v":0},{"$f":"'Dir1'!R28+'Dir2'!R28","v":0},{"$f":"'Dir1'!S28+'Dir2'!S28","v":0},{"$f":"'Dir1'!T28+'Dir2'!T28","v":0},{"$f":"'Dir1'!U28+'Dir2'!U28","v":0},{"$f":"'Dir1'!V28+'Dir2'!V28","v":0},{"$f":"'Dir1'!W28+'Dir2'!W28","v":0},{"$f":"'Dir1'!X28+'Dir2'!X28","v":0},{"$f":"'Dir1'!Y28+'Dir2'!Y28","v":0},{"$f":"'Dir1'!Z28+'Dir2'!Z28","v":0},{"$f":"'Dir1'!AA28+'Dir2'!AA28","v":0},{"$f":"'Dir1'!AB28+'Dir2'!AB28","v":0},{"$f":"'Dir1'!AC28+'Dir2'!AC28","v":0},{"$f":"'Dir1'!AD28+'Dir2'!AD28","v":0},{"$f":"'Dir1'!AE28+'Dir2'!AE28","v":0},{"$f":"'Dir1'!AF28+'Dir2'!AF28","v":0},{"$f":"'Dir1'!AG28+'Dir2'!AG28","v":0},{"$f":"'Dir1'!AH28+'Dir2'!AH28","v":0},{"$f":"'Dir1'!AI28+'Dir2'!AI28","v":0},{"$f":"'Dir1'!AJ28+'Dir2'!AJ28","v":0},{"$f":"'Dir1'!AK28+'Dir2'!AK28","v":0},"-",{"$f":"IFERROR(ROUND(PERCENTILE(_xlfn._xlws.FILTER(Data_Table[Speed],(Data_Table[Period]=$B28)*(SUM(C28:N28)>=10)),0.85),2),\"-\")","v":"-"}]
[25,{"$f":"ImportData!$B$10+7*QUOTIENT(A29,24*60*7/ImportData!$B$8)+MOD(1+QUOTIENT(A29,24*60/ImportData!$B$8)-ImportData!$E$10,7)+TIME(0,ImportData!$B$8*A29,0)","v":"2022-05-17T01:00:00"},{"$f":"'Dir1'!C29+'Dir2'!C29","v":0},{"$f":"'Dir1'!D29+'Dir2'!D29","v":0},{"$f":"'Dir1'!E29+'Dir2'!E29","v":0},{"$f":"'Dir1'!F29+'Dir2'!F29","v":0},{"$f":"'Dir1'!G29+'Dir2'!G29","v":0},{"$f":"'Dir1'!H29+'Dir2'!H29","v":0},{"$f":"'Dir1'!I29+'Dir2'!I29","v":0},{"$f":"'Dir1'!J29+'Dir2'!J29","v":0},{"$f":"'Dir1'!K29+'Dir2'!K29","v":0},{"$f":"'Dir1'!L29+'Dir2'!L29","v":0},{"$f":"'Dir1'!M29+'Dir2'!M29","v":0},{"$f":"'Dir1'!N29+'Dir2'!N29","v":0},{"$f":"'Dir1'!O29+'Dir2'!O29","v":0},{"$f":"'Dir1'!P29+'Dir2'!P29","v":0},{"$f":"'Dir1'!Q29+'Dir2'!Q29","v":0},{"$f":"'Dir1'!R29+'Dir2'!R29","v":0},{"$f":"'Dir1'!S29+'Dir2'!S29","v":0},{"$f":"'Dir1'!T29+'Dir2'!T29","v":0},{"$f":"'Dir1'!U29+'Dir2'!U29","v":0},{"$f":"'Dir1'!V29+'Dir2'!V29","v":0},{"$f":"'Dir1'!W29+'Dir2'!W29","v":0},{"$f":"'Dir1'!X29+'Dir2'!X29","v":0},{"$f":"'Dir1'!Y29+'Dir2'!Y29","v":0},{"$f":"'Dir1'!Z29+'Dir2'!Z29","v":0},{"$f":"'Dir1'!AA29+'Dir2'!AA29","v":0},{"$f":"'Dir1'!AB29+'Dir2'!AB29","v":0},{"$f":"'Dir1'!AC29+'Dir2'!AC29","v":0},{"$f":"'Dir1'!AD29+'Dir2'!AD29","v":0},{"$f":"'Dir1'!AE29+'Dir2'!AE29","v":0},{"$f":"'Dir1'!AF29+'Dir2'!AF29","v":0},{"$f":"'Dir1'!AG29+'Dir2'!AG29","v":0},{"$f":"'Dir1'!AH29+'Dir2'!AH29","v":0},{"$f":"'Dir1'!AI29+'Dir2'!AI29","v":0},{"$f":"'Dir1'!AJ29+'Dir2'!AJ29","v":0},{"$f":"'Dir1'!AK29+'Dir2'!AK29","v":0},"-",{"$f":"IFERROR(ROUND(PERCENTILE(_xlfn._xlws.FILTER(Data_Table[Speed],(Data_Table[Period]=$B29)*(SUM(C29:N29)>=10)),0.85),2),\"-\")","v":"-"}]
[26,{"$f":"ImportData!$B$10+7*QUOTIENT(A30,24*60*7/ImportData!$B$8)+MOD(1+QUOTIENT(A30,24*60/ImportData!$B$8)-ImportData!$E$10,7)+TIME(0,ImportData!$B$8*A30,0)","v":"2022-05-17T02:00:00"},{"$f":"'Dir1'!C30+'Dir2'!C30","v":0},{"$f":"'Dir1'!D30+'Dir2'!D30","v":0},{"$f":"'Dir1'!E30+'Dir2'!E30","v":0},{"$f":"'Dir1'!F30+'Dir2'!F30","v":0},{"$f":"'Dir1'!G30+'Dir2'!G30","v":0},{"$f":"'Dir1'!H30+'Dir2'!H30","v":0},{"$f":"'Dir1'!I30+'Dir2'!I30","v":0},{"$f":"'Dir1'!J30+'Dir2'!J30","v":0},{"$f":"'Dir1'!K30+'Dir2'!K30","v":0},{"$f":"'Dir1'!L30+'Dir2'!L30","v":0},{"$f":"'Dir1'!M30+'Dir2'!M30","v":0},{"$f":"'Dir1'!N30+'Dir2'!N30","v":0},{"$f":"'Dir1'!O30+'Dir2'!O30","v":0},{"$f":"'Dir1'!P30+'Dir2'!P30","v":0},{"$f":"'Dir1'!Q30+'Dir2'!Q30","v":0},{"$f":"'Dir1'!R30+'Dir2'!R30","v":0},{"$f":"'Dir1'!S30+'Dir2'!S30","v":0},{"$f":"'Dir1'!T30+'Dir2'!T30","v":0},{"$f":"'Dir1'!U30+'Dir2'!U30","v":0},{"$f":"'Dir1'!V30+'Dir2'!V30","v":0},{"$f":"'Dir1'!W30+'Dir2'!W30","v":0},{"$f":"'Dir1'!X30+'Dir2'!X30","v":0},{"$f":"'Dir1'!Y30+'Dir2'!Y30","v":0},{"$f":"'Dir1'!Z30+'Dir2'!Z30","v":0},{"$f":"'Dir1'!AA30+'Dir2'!AA30","v":0},{"$f":"'Dir1'!AB30+'Dir2'!AB30","v":0},{"$f":"'Dir1'!AC30+'Dir2'!AC30","v":0},{"$f":"'Dir1'!AD30+'Dir2'!AD30","v":0},{"$f":"'Dir1'!AE30+'Dir2'!AE30","v":0},{"$f":"'Dir1'!AF30+'Dir2'!AF30","v":0},{"$f":"'Dir1'!AG30+'Dir2'!AG30","v":0},{"$f":"'Dir1'!AH30+'Dir2'!AH30","v":0},{"$f":"'Dir1'!AI30+'Dir2'!AI30","v":0},{"$f":"'Dir1'!AJ30+'Dir2'!AJ30","v":0},{"$f":"'Dir1'!AK30+'Dir2'!AK30","v":0},"-",{"$f":"IFERROR(ROUND(PERCENTILE(_xlfn._xlws.FILTER(Data_Table[Speed],(Data_Table[Period]=$B30)*(SUM(C30:N30)>=10)),0.85),2),\"-\")","v":"-"}]
[27,{"$f":"ImportData!$B$10+7*QUOTIENT(A31,24*60*7/ImportData!$B$8)+MOD(1+QUOTIENT(A31,24*60/ImportData!$B$8)-ImportData!$E$10,7)+TIME(0,ImportData!$B$8*A31,0)","v":"2022-05-17T03:00:00"},{"$f":"'Dir1'!C31+'Dir2'!C31","v":0},{"$f":"'Dir1'!D31+'Dir2'!D31","v":0},{"$f":"'Dir1'!E31+'Dir2'!E31","v":0},{"$f":"'Dir1'!F31+'Dir2'!F31","v":0},{"$f":"'Dir1'!G31+'Dir2'!G31","v":0},{"$f":"'Dir1'!H31+'Dir2'!H31","v":0},{"$f":"'Dir1'!I31+'Dir2'!I31","v":0},{"$f":"'Dir1'!J31+'Dir2'!J31","v":0},{"$f":"'Dir1'!K31+'Dir2'!K31","v":0},{"$f":"'Dir1'!L31+'Dir2'!L31","v":0},{"$f":"'Dir1'!M31+'Dir2'!M31","v":0},{"$f":"'Dir1'!N31+'Dir2'!N31","v":0},{"$f":"'Dir1'!O31+'Dir2'!O31","v":0},{"$f":"'Dir1'!P31+'Dir2'!P31","v":0},{"$f":"'Dir1'!Q31+'Dir2'!Q31","v":0},{"$f":"'Dir1'!R31+'Dir2'!R31","v":0},{"$f":"'Dir1'!S31+'Dir2'!S31","v":0},{"$f":"'Dir1'!T31+'Dir2'!T31","v":0},{"$f":"'Dir1'!U31+'Dir2'!U31","v":0},{"$f":"'Dir1'!V31+'Dir2'!V31","v":0},{"$f":"'Dir1'!W31+'Dir2'!W31","v":0},{"$f":"'Dir1'!X31+'Dir2'!X31","v":0},{"$f":"'Dir1'!Y31+'Dir2'!Y31","v":0},{"$f":"'Dir1'!Z31+'Dir2'!Z31","v":0},{"$f":"'Dir1'!AA31+'Dir2'!AA31","v":0},{"$f":"'Dir1'!AB31+'Dir2'!AB31","v":0},{"$f":"'Dir1'!AC31+'Dir2'!AC31","v":0},{"$f":"'Dir1'!AD31+'Dir2'!AD31","v":0},{"$f":"'Dir1'!AE31+'Dir2'!AE31","v":0},{"$f":"'Dir1'!AF31+'Dir2'!AF31","v":0},{"$f":"'Dir1'!AG31+'Dir2'!AG31","v":0},{"$f":"'Dir1'!AH31+'Dir2'!AH31","v":0},{"$f":"'Dir1'!AI31+'Dir2'!AI31","v":0},{"$f":"'Dir1'!AJ31+'Dir2'!AJ31","v":0},{"$f":"'Dir1'!AK31+'Dir2'!AK31","v":0},"-",{"$f":"IFERROR(ROUND(PERCENTILE(_xlfn._xlws.FILTER(Data_Table[Speed],(Data_Table[Period]=$B31)*(SUM(C31:N31)>=10)),0.85),2),\"-\")","v":"-"}]
[28,{"$f":"ImportData!$B$10+7*QUOTIENT(A32,24*60*7/ImportData!$B$8)+MOD(1+QUOTIENT(A32,24*60/ImportData!$B$8)-ImportData!$E$10,7)+TIME(0,ImportData!$B$8*A32,0)","v":"2022-05-17T04:00:00"},{"$f":"'Dir1'!C32+'Dir2'!C32","v":0},{"$f":"'Dir1'!D32+'Dir2'!D32","v":0},{"$f":"'Dir1'!E32+'Dir2'!E32","v":0},{"$f":"'Dir1'!F32+'Dir2'!F32","v":0},{"$f":"'Dir1'!G32+'Dir2'!G32","v":0},{"$f":"'Dir1'!H32+'Dir2'!H32","v":0},{"$f":"'Dir1'!I32+'Dir2'!I32","v":0},{"$f":"'Dir1'!J32+'Dir2'!J32","v":0},{"$f":"'Dir1'!K32+'Dir2'!K32","v":0},{"$f":"'Dir1'!L32+'Dir2'!L32","v":0},{"$f":"'Dir1'!M32+'Dir2'!M32","v":0},{"$f":"'Dir1'!N32+'Dir2'!N32","v":0},{"$f":"'Dir1'!O32+'Dir2'!O32","v":0},{"$f":"'Dir1'!P32+'Dir2'!P32","v":0},{"$f":"'Dir1'!Q32+'Dir2'!Q32","v":0},{"$f":"'Dir1'!R32+'Dir2'!R32","v":0},{"$f":"'Dir1'!S32+'Dir2'!S32","v":0},{"$f":"'Dir1'!T32+'Dir2'!T32","v":0},{"$f":"'Dir1'!U32+'Dir2'!U32","v":0},{"$f":"'Dir1'!V32+'Dir2'!V32","v":0},{"$f":"'Dir1'!W32+'Dir2'!W32","v":0},{"$f":"'Dir1'!X32+'Dir2'!X32","v":0},{"$f":"'Dir1'!Y32+'Dir2'!Y32","v":0},{"$f":"'Dir1'!Z32+'Dir2'!Z32","v":0},{"$f":"'Dir1'!AA32+'Dir2'!AA32","v":0},{"$f":"'Dir1'!AB32+'Dir2'!AB32","v":0},{"$f":"'Dir1'!AC32+'Dir2'!AC32","v":0},{"$f":"'Dir1'!AD32+'Dir2'!AD32","v":0},{"$f":"'Dir1'!AE32+'Dir2'!AE32","v":0},{"$f":"'Dir1'!AF32+'Dir2'!AF32","v":0},{"$f":"'Dir1'!AG32+'Dir2'!AG32","v":0},{"$f":"'Dir1'!AH32+'Dir2'!AH32","v":0},{"$f":"'Dir1'!AI32+'Dir2'!AI32","v":0},{"$f":"'Dir1'!AJ32+'Dir2'!AJ32","v":0},{"$f":"'Dir1'!AK32+'Dir2'!AK32","v":0},"-",{"$f":"IFERROR(ROUND(PERCENTILE(_xlfn._xlws.FILTER(Data_Table[Speed],(Data_Table[Period]=$B32)*(SUM(C32:N32)>=10)),0.85),2),\"-\")","v":"-"}]
[29,{"$f":"ImportData!$B$10+7*QUOTIENT(A33,24*60*7/ImportData!$B$8)+MOD(1+QUOTIENT(A33,24*60/ImportData!$B$8)-ImportData!$E$10,7)+TIME(0,ImportData!$B$8*A33,0)","v":"2022-05-17T05:00:00"},{"$f":"'Dir1'!C33+'Dir2'!C33","v":0},{"$f":"'Dir1'!D33+'Dir2'!D33","v":0},{"$f":"'Dir1'!E33+'Dir2'!E33","v":0},{"$f":"'Dir1'!F33+'Dir2'!F33","v":0},{"$f":"'Dir1'!G33+'Dir2'!G33","v":0},{"$f":"'Dir1'!H33+'Dir2'!H33","v":0},{"$f":"'Dir1'!I33+'Dir2'!I33","v":0},{"$f":"'Dir1'!J33+'Dir2'!J33","v":0},{"$f":"'Dir1'!K33+'Dir2'!K33","v":0},{"$f":"'Dir1'!L33+'Dir2'!L33","v":0},{"$f":"'Dir1'!M33+'Dir2'!M33","v":0},{"$f":"'Dir1'!N33+'Dir2'!N33","v":0},{"$f":"'Dir1'!O33+'Dir2'!O33","v":0},{"$f":"'Dir1'!P33+'Dir2'!P33","v":0},{"$f":"'Dir1'!Q33+'Dir2'!Q33","v":0},{"$f":"'Dir1'!R33+'Dir2'!R33","v":0},{"$f":"'Dir1'!S33+'Dir2'!S33","v":0},{"$f":"'Dir1'!T33+'Dir2'!T33","v":0},{"$f":"'Dir1'!U33+'Dir2'!U33","v":0},{"$f":"'Dir1'!V33+'Dir2'!V33","v":0},{"$f":"'Dir1'!W33+'Dir2'!W33","v":0},{"$f":"'Dir1'!X33+'Dir2'!X33","v":0},{"$f":"'Dir1'!Y33+'Dir2'!Y33","v":0},{"$f":"'Dir1'!Z33+'Dir2'!Z33","v":0},{"$f":"'Dir1'!AA33+'Dir2'!AA33","v":0},{"$f":"'Dir1'!AB33+'Dir2'!AB33","v":0},{"$f":"'Dir1'!AC33+'Dir2'!AC33","v":0},{"$f":"'Dir1'!AD33+'Dir2'!AD33","v":0},{"$f":"'Dir1'!AE33+'Dir2'!AE33","v":0},{"$f":"'Dir1'!AF33+'Dir2'!AF33","v":0},{"$f":"'Dir1'!AG33+'Dir2'!AG33","v":0},{"$f":"'Dir1'!AH33+'Dir2'!AH33","v":0},{"$f":"'Dir1'!AI33+'Dir2'!AI33","v":0},{"$f":"'Dir1'!AJ33+'Dir2'!AJ33","v":0},{"$f":"'Dir1'!AK33+'Dir2'!AK33","v":0},"-",{"$f":"IFERROR(ROUND(PERCENTILE(_xlfn._xlws.FILTER(Data_Table[Speed],(Data_Table[Period]=$B33)*(SUM(C33:N33)>=10)),0.85),2),\"-\")","v":"-"}]
[30,{"$f":"ImportData!$B$10+7*QUOTIENT(A34,24*60*7/ImportData!$B$8)+MOD(1+QUOTIENT(A34,24*60/ImportData!$B$8)-ImportData!$E$10,7)+TIME(0,ImportData!$B$8*A34,0)","v":"2022-05-17T06:00:00"},{"$f":"'Dir1'!C34+'Dir2'!C34","v":0},{"$f":"'Dir1'!D34+'Dir2'!D34","v":0},{"$f":"'Dir1'!E34+'Dir2'!E34","v":0},{"$f":"'Dir1'!F34+'Dir2'!F34","v":0},{"$f":"'Dir1'!G34+'Dir2'!G34","v":0},{"$f":"'Dir1'!H34+'Dir2'!H34","v":0},{"$f":"'Dir1'!I34+'Dir2'!I34","v":0},{"$f":"'Dir1'!J34+'Dir2'!J34","v":0},{"$f":"'Dir1'!K34+'Dir2'!K34","v":0},{"$f":"'Dir1'!L34+'Dir2'!L34","v":0},{"$f":"'Dir1'!M34+'Dir2'!M34","v":0},{"$f":"'Dir1'!N34+'Dir2'!N34","v":0},{"$f":"'Dir1'!O34+'Dir2'!O34","v":0},{"$f":"'Dir1'!P34+'Dir2'!P34","v":0},{"$f":"'Dir1'!Q34+'Dir2'!Q34","v":0},{"$f":"'Dir1'!R34+'Dir2'!R34","v":0},{"$f":"'Dir1'!S34+'Dir2'!S34","v":0},{"$f":"'Dir1'!T34+'Dir2'!T34","v":0},{"$f":"'Dir1'!U34+'Dir2'!U34","v":0},{"$f":"'Dir1'!V34+'Dir2'!V34","v":0},{"$f":"'Dir1'!W34+'Dir2'!W34","v":0},{"$f":"'Dir1'!X34+'Dir2'!X34","v":0},{"$f":"'Dir1'!Y34+'Dir2'!Y34","v":0},{"$f":"'Dir1'!Z34+'Dir2'!Z34","v":0},{"$f":"'Dir1'!AA34+'Dir2'!AA34","v":0},{"$f":"'Dir1'!AB34+'Dir2'!AB34","v":0},{"$f":"'Dir1'!AC34+'Dir2'!AC34","v":0},{"$f":"'Dir1'!AD34+'Dir2'!AD34","v":0},{"$f":"'Dir1'!AE34+'Dir2'!AE34","v":0},{"$f":"'Dir1'!AF34+'Dir2'!AF34","v":0},{"$f":"'Dir1'!AG34+'Dir2'!AG34","v":0},{"$f":"'Dir1'!AH34+'Dir2'!AH34","v":0},{"$f":"'Dir1'!AI34+'Dir2'!AI34","v":0},{"$f":"'Dir1'!AJ34+'Dir2'!AJ34","v":0},{"$f":"'Dir1'!AK34+'Dir2'!AK34","v":0},"-",{"$f":"IFERROR(ROUND(PERCENTILE(_xlfn._xlws.FILTER(Data_Table[Speed],(Data_Table[Period]=$B34)*(SUM(C34:N34)>=10)),0.85),2),\"-\")","v":"-"}]
[31,{"$f":"ImportData!$B$10+7*QUOTIENT(A35,24*60*7/ImportData!$B$8)+MOD(1+QUOTIENT(A35,24*60/ImportData!$B$8)-ImportData!$E$10,7)+TIME(0,ImportData!$B$8*A35,0)","v":"2022-05-17T07:00:00"},{"$f":"'Dir1'!C35+'Dir2'!C35","v":0},{"$f":"'Dir1'!D35+'Dir2'!D35","v":0},{"$f":"'Dir1'!E35+'Dir2'!E35","v":0},{"$f":"'Dir1'!F35+'Dir2'!F35","v":0},{"$f":"'Dir1'!G35+'Dir2'!G35","v":0},{"$f":"'Dir1'!H35+'Dir2'!H35","v":0},{"$f":"'Dir1'!I35+'Dir2'!I35","v":0},{"$f":"'Dir1'!J35+'Dir2'!J35","v":0},{"$f":"'Dir1'!K35+'Dir2'!K35","v":0},{"$f":"'Dir1'!L35+'Dir2'!L35","v":0},{"$f":"'Dir1'!M35+'Dir2'!M35","v":0},{"$f":"'Dir1'!N35+'Dir2'!N35","v":0},{"$f":"'Dir1'!O35+'Dir2'!O35","v":0},{"$f":"'Dir1'!P35+'Dir2'!P35","v":0},{"$f":"'Dir1'!Q35+'Dir2'!Q35","v":0},{"$f":"'Dir1'!R35+'Dir2'!R35","v":0},{"$f":"'Dir1'!S35+'Dir2'!S35","v":0},{"$f":"'Dir1'!T35+'Dir2'!T35","v":0},{"$f":"'Dir1'!U35+'Dir2'!U35","v":0},{"$f":"'Dir1'!V35+'Dir2'!V35","v":0},{"$f":"'Dir1'!W35+'Dir2'!W35","v":0},{"$f":"'Dir1'!X35+'Dir2'!X35","v":0},{"$f":"'Dir1'!Y35+'Dir2'!Y35","v":0},{"$f":"'Dir1'!Z35+'Dir2'!Z35","v":0},{"$f":"'Dir1'!AA35+'Dir2'!AA35","v":0},{"$f":"'Dir1'!AB35+'Dir2'!AB35","v":0},{"$f":"'Dir1'!AC35+'Dir2'!AC35","v":0},{"$f":"'Dir1'!AD35+'Dir2'!AD35","v":0},{"$f":"'Dir1'!AE35+'Dir2'!AE35","v":0},{"$f":"'Dir1'!AF35+'Dir2'!AF35","v":0},{"$f":"'Dir1'!AG35+'Dir2'!AG35","v":0},{"$f":"'Dir1'!AH35+'Dir2'!AH35","v":0},{"$f":"'Dir1'!AI35+'Dir2'!AI35","v":0},{"$f":"'Dir1'!AJ35+'Dir2'!AJ35","v":0},{"$f":"'Dir1'!AK35+'Dir2'!AK35","v":0},"-",{"$f":"IFERROR(ROUND(PERCENTILE(_xlfn._xlws.FILTER(Data_Table[Speed],(Data_Table[Period]=$B35)*(SUM(C35:N35)>=10)),0.85),2),\"-\")","v":"-"}]
[32,{"$f":"ImportData!$B$10+7*QUOTIENT(A36,24*60*7/ImportData!$B$8)+MOD(1+QUOTIENT(A36,24*60/ImportData!$B$8)-ImportData!$E$10,7)+TIME(0,ImportData!$B$8*A36,0)","v":"2022-05-17T08:00:00"},{"$f":"'Dir1'!C36+'Dir2'!C36","v":0},{"$f":"'Dir1'!D36+'Dir2'!D36","v":0},{"$f":"'Dir1'!E36+'Dir2'!E36","v":0},{"$f":"'Dir1'!F36+'Dir2'!F36","v":0},{"$f":"'Dir1'!G36+'Dir2'!G36","v":0},{"$f":"'Dir1'!H36+'Dir2'!H36","v":0},{"$f":"'Dir1'!I36+'Dir2'!I36","v":0},{"$f":"'Dir1'!J36+'Dir2'!J36","v":0},{"$f":"'Dir1'!K36+'Dir2'!K36","v":0},{"$f":"'Dir1'!L36+'Dir2'!L36","v":0},{"$f":"'Dir1'!M36+'Dir2'!M36","v":0},{"$f":"'Dir1'!N36+'Dir2'!N36","v":0},{"$f":"'Dir1'!O36+'Dir2'!O36","v":0},{"$f":"'Dir1'!P36+'Dir2'!P36","v":0},{"$f":"'Dir1'!Q36+'Dir2'!Q36","v":0},{"$f":"'Dir1'!R36+'Dir2'!R36","v":0},{"$f":"'Dir1'!S36+'Dir2'!S36","v":0},{"$f":"'Dir1'!T36+'Dir2'!T36","v":0},{"$f":"'Dir1'!U36+'Dir2'!U36","v":0},{"$f":"'Dir1'!V36+'Dir2'!V36","v":0},{"$f":"'Dir1'!W36+'Dir2'!W36","v":0},{"$f":"'Dir1'!X36+'Dir2'!X36","v":0},{"$f":"'Dir1'!Y36+'Dir2'!Y36","v":0},{"$f":"'Dir1'!Z36+'Dir2'!Z36","v":0},{"$f":"'Dir1'!AA36+'Dir2'!AA36","v":0},{"$f":"'Dir1'!AB36+'Dir2'!AB36","v":0},{"$f":"'Dir1'!AC36+'Dir2'!AC36","v":0},{"$f":"'Dir1'!AD36+'Dir2'!AD36","v":0},{"$f":"'Dir1'!AE36+'Dir2'!AE36","v":0},{"$f":"'Dir1'!AF36+'Dir2'!AF36","v":0},{"$f":"'Dir1'!AG36+'Dir2'!AG36","v":0},{"$f":"'Dir1'!AH36+'Dir2'!AH36","v":0},{"$f":"'Dir1'!AI36+'Dir2'!AI36","v":0},{"$f":"'Dir1'!AJ36+'Dir2'!AJ36","v":0},{"$f":"'Dir1'!AK36+'Dir2'!AK36","v":0},"-",{"$f":"IFERROR(ROUND(PERCENTILE(_xlfn._xlws.FILTER(Data_Table[Speed],(Data_Table[Period]=$B36)*(SUM(C36:N36)>=10)),0.85),2),\"-\")","v":"-"}]
[33,{"$f":"ImportData!$B$10+7*QUOTIENT(A37,24*60*7/ImportData!$B$8)+MOD(1+QUOTIENT(A37,24*60/ImportData!$B$8)-ImportData!$E$10,7)+TIME(0,ImportData!$B$8*A37,0)","v":"2022-05-17T09:00:00"},{"$f":"'Dir1'!C37+'Dir2'!C37","v":0},{"$f":"'Dir1'!D37+'Dir2'!D37","v":0},{"$f":"'Dir1'!E37+'Dir2'!E37","v":0},{"$f":"'Dir1'!F37+'Dir2'!F37","v":0},{"$f":"'Dir1'!G37+'Dir2'!G37","v":0},{"$f":"'Dir1'!H37+'Dir2'!H37","v":0},{"$f":"'Dir1'!I37+'Dir2'!I37","v":0},{"$f":"'Dir1'!J37+'Dir2'!J37","v":0},{"$f":"'Dir1'!K37+'Dir2'!K37","v":0},{"$f":"'Dir1'!L37+'Dir2'!L37","v":0},{"$f":"'Dir1'!M37+'Dir2'!M37","v":0},{"$f":"'Dir1'!N37+'Dir2'!N37","v":0},{"$f":"'Dir1'!O37+'Dir2'!O37","v":0},{"$f":"'Dir1'!P37+'Dir2'!P37","v":0},{"$f":"'Dir1'!Q37+'Dir2'!Q37","v":0},{"$f":"'Dir1'!R37+'Dir2'!R37","v":0},{"$f":"'Dir1'!S37+'Dir2'!S37","v":0},{"$f":"'Dir1'!T37+'Dir2'!T37","v":0},{"$f":"'Dir1'!U37+'Dir2'!U37","v":0},{"$f":"'Dir1'!V37+'Dir2'!V37","v":0},{"$f":"'Dir1'!W37+'Dir2'!W37","v":0},{"$f":"'Dir1'!X37+'Dir2'!X37","v":0},{"$f":"'Dir1'!Y37+'Dir2'!Y37","v":0},{"$f":"'Dir1'!Z37+'Dir2'!Z37","v":0},{"$f":"'Dir1'!AA37+'Dir2'!AA37","v":0},{"$f":"'Dir1'!AB37+'Dir2'!AB37","v":0},{"$f":"'Dir1'!AC37+'Dir2'!AC37","v":0},{"$f":"'Dir1'!AD37+'Dir2'!AD37","v":0},{"$f":"'Dir1'!AE37+'Dir2'!AE37","v":0},{"$f":"'Dir1'!AF37+'Dir2'!AF37","v":0},{"$f":"'Dir1'!AG37+'Dir2'!AG37","v":0},{"$f":"'Dir1'!AH37+'Dir2'!AH37","v":0},{"$f":"'Dir1'!AI37+'Dir2'!AI37","v":0},{"$f":"'Dir1'!AJ37+'Dir2'!AJ37","v":0},{"$f":"'Dir1'!AK37+'Dir2'!AK37","v":0},"-",{"$f":"IFERROR(ROUND(PERCENTILE(_xlfn._xlws.FILTER(Data_Table[Speed],(Data_Table[Period]=$B37)*(SUM(C37:N37)>=10)),0.85),2),\"-\")","v":"-"}]
[34,{"$f":"ImportData!$B$10+7*QUOTIENT(A38,24*60*7/ImportData!$B$8)+MOD(1+QUOTIENT(A38,24*60/ImportData!$B$8)-ImportData!$E$10,7)+TIME(0,ImportData!$B$8*A38,0)","v":"2022-05-17T10:00:00"},{"$f":"'Dir1'!C38+'Dir2'!C38","v":0},{"$f":"'Dir1'!D38+'Dir2'!D38","v":0},{"$f":"'Dir1'!E38+'Dir2'!E38","v":0},{"$f":"'Dir1'!F38+'Dir2'!F38","v":0},{"$f":"'Dir1'!G38+'Dir2'!G38","v":0},{"$f":"'Dir1'!H38+'Dir2'!H38","v":0},{"$f":"'Dir1'!I38+'Dir2'!I38","v":0},{"$f":"'Dir1'!J38+'Dir2'!J38","v":0},{"$f":"'Dir1'!K38+'Dir2'!K38","v":0},{"$f":"'Dir1'!L38+'Dir2'!L38","v":0},{"$f":"'Dir1'!M38+'Dir2'!M38","v":0},{"$f":"'Dir1'!N38+'Dir2'!N38","v":0},{"$f":"'Dir1'!O38+'Dir2'!O38","v":0},{"$f":"'Dir1'!P38+'Dir2'!P38","v":0},{"$f":"'Dir1'!Q38+'Dir2'!Q38","v":0},{"$f":"'Dir1'!R38+'Dir2'!R38","v":0},{"$f":"'Dir1'!S38+'Dir2'!S38","v":0},{"$f":"'Dir1'!T38+'Dir2'!T38","v":0},{"$f":"'Dir1'!U38+'Dir2'!U38","v":0},{"$f":"'Dir1'!V38+'Dir2'!V38","v":0},{"$f":"'Dir1'!W38+'Dir2'!W38","v":0},{"$f":"'Dir1'!X38+'Dir2'!X38","v":0},{"$f":"'Dir1'!Y38+'Dir2'!Y38","v":0},{"$f":"'Dir1'!Z38+'Dir2'!Z38","v":0},{"$f":"'Dir1'!AA38+'Dir2'!AA38","v":0},{"$f":"'Dir1'!AB38+'Dir2'!AB38","v":0},{"$f":"'Dir1'!AC38+'Dir2'!AC38","v":0},{"$f":"'Dir1'!AD38+'Dir2'!AD38","v":0},{"$f":"'Dir1'!AE38+'Dir2'!AE38","v":0},{"$f":"'Dir1'!AF38+'Dir2'!AF38","v":0},{"$f":"'Dir1'!AG38+'Dir2'!AG38","v":0},{"$f":"'Dir1'!AH38+'Dir2'!AH38","v":0},{"$f":"'Dir1'!AI38+'Dir2'!AI38","v":0},{"$f":"'Dir1'!AJ38+'Dir2'!AJ38","v":0},{"$f":"'Dir1'!AK38+'Dir2'!AK38","v":0},"-",{"$f":"IFERROR(ROUND(PERCENTILE(_xlfn._xlws.FILTER(Data_Table[Speed],(Data_Table[Period]=$B38)*(SUM(C38:N38)>=10)),0.85),2),\"-\")","v":"-"}]
[35,{"$f":"ImportData!$B$10+7*QUOTIENT(A39,24*60*7/ImportData!$B$8)+MOD(1+QUOTIENT(A39,24*60/ImportData!$B$8)-ImportData!$E$10,7)+TIME(0,ImportData!$B$8*A39,0)","v":"2022-05-17T11:00:00"},{"$f":"'Dir1'!C39+'Dir2'!C39","v":0},{"$f":"'Dir1'!D39+'Dir2'!D39","v":0},{"$f":"'Dir1'!E39+'Dir2'!E39","v":0},{"$f":"'Dir1'!F39+'Dir2'!F39","v":0},{"$f":"'Dir1'!G39+'Dir2'!G39","v":0},{"$f":"'Dir1'!H39+'Dir2'!H39","v":0},{"$f":"'Dir1'!I39+'Dir2'!I39","v":0},{"$f":"'Dir1'!J39+'Dir2'!J39","v":0},{"$f":"'Dir1'!K39+'Dir2'!K39","v":0},{"$f":"'Dir1'!L39+'Dir2'!L39","v":0},{"$f":"'Dir1'!M39+'Dir2'!M39","v":0},{"$f":"'Dir1'!N39+'Dir2'!N39","v":0},{"$f":"'Dir1'!O39+'Dir2'!O39","v":0},{"$f":"'Dir1'!P39+'Dir2'!P39","v":0},{"$f":"'Dir1'!Q39+'Dir2'!Q39","v":0},{"$f":"'Dir1'!R39+'Dir2'!R39","v":0},{"$f":"'Dir1'!S39+'Dir2'!S39","v":0},{"$f":"'Dir1'!T39+'Dir2'!T39","v":0},{"$f":"'Dir1'!U39+'Dir2'!U39","v":0},{"$f":"'Dir1'!V39+'Dir2'!V39","v":0},{"$f":"'Dir1'!W39+'Dir2'!W39","v":0},{"$f":"'Dir1'!X39+'Dir2'!X39","v":0},{"$f":"'Dir1'!Y39+'Dir2'!Y39","v":0},{"$f":"'Dir1'!Z39+'Dir2'!Z39","v":0},{"$f":"'Dir1'!AA39+'Dir2'!AA39","v":0},{"$f":"'Dir1'!AB39+'Dir2'!AB39","v":0},{"$f":"'Dir1'!AC39+'Dir2'!AC39","v":0},{"$f":"'Dir1'!AD39+'Dir2'!AD39","v":0},{"$f":"'Dir1'!AE39+'Dir2'!AE39","v":0},{"$f":"'Dir1'!AF39+'Dir2'!AF39","v":0},{"$f":"'Dir1'!AG39+'Dir2'!AG39","v":0},{"$f":"'Dir1'!AH39+'Dir2'!AH39","v":0},{"$f":"'Dir1'!AI39+'Dir2'!AI39","v":0},{"$f":"'Dir1'!AJ39+'Dir2'!AJ39","v":0},{"$f":"'Dir1'!AK39+'Dir2'!AK39","v":0},"-",{"$f":"IFERROR(ROUND(PERCENTILE(_xlfn._xlws.FILTER(Data_Table[Speed],(Data_Table[Period]=$B39)*(SUM(C39:N39)>=10)),0.85),2),\"-\")","v":"-"}]
[36,{"$f":"ImportData!$B$10+7*QUOTIENT(A40,24*60*7/ImportData!$B$8)+MOD(1+QUOTIENT(A40,24*60/ImportData!$B$8)-ImportData!$E$10,7)+TIME(0,ImportData!$B$8*A40,0)","v":"2022-05-17T12:00:00"},{"$f":"'Dir1'!C40+'Dir2'!C40","v":0},{"$f":"'Dir1'!D40+'Dir2'!D40","v":0},{"$f":"'Dir1'!E40+'Dir2'!E40","v":0},{"$f":"'Dir1'!F40+'Dir2'!F40","v":0},{"$f":"'Dir1'!G40+'Dir2'!G40","v":0},{"$f":"'Dir1'!H40+'Dir2'!H40","v":0},{"$f":"'Dir1'!I40+'Dir2'!I40","v":0},{"$f":"'Dir1'!J40+'Dir2'!J40","v":0},{"$f":"'Dir1'!K40+'Dir2'!K40","v":0},{"$f":"'Dir1'!L40+'Dir2'!L40","v":0},{"$f":"'Dir1'!M40+'Dir2'!M40","v":0},{"$f":"'Dir1'!N40+'Dir2'!N40","v":0},{"$f":"'Dir1'!O40+'Dir2'!O40","v":0},{"$f":"'Dir1'!P40+'Dir2'!P40","v":0},{"$f":"'Dir1'!Q40+'Dir2'!Q40","v":0},{"$f":"'Dir1'!R40+'Dir2'!R40","v":0},{"$f":"'Dir1'!S40+'Dir2'!S40","v":0},{"$f":"'Dir1'!T40+'Dir2'!T40","v":0},{"$f":"'Dir1'!U40+'Dir2'!U40","v":0},{"$f":"'Dir1'!V40+'Dir2'!V40","v":0},{"$f":"'Dir1'!W40+'Dir2'!W40","v":0},{"$f":"'Dir1'!X40+'Dir2'!X40","v":0},{"$f":"'Dir1'!Y40+'Dir2'!Y40","v":0},{"$f":"'Dir1'!Z40+'Dir2'!Z40","v":0},{"$f":"'Dir1'!AA40+'Dir2'!AA40","v":0},{"$f":"'Dir1'!AB40+'Dir2'!AB40","v":0},{"$f":"'Dir1'!AC40+'Dir2'!AC40","v":0},{"$f":"'Dir1'!AD40+'Dir2'!AD40","v":0},{"$f":"'Dir1'!AE40+'Dir2'!AE40","v":0},{"$f":"'Dir1'!AF40+'Dir2'!AF40","v":0},{"$f":"'Dir1'!AG40+'Dir2'!AG40","v":0},{"$f":"'Dir1'!AH40+'Dir2'!AH40","v":0},{"$f":"'Dir1'!AI40+'Dir2'!AI40","v":0},{"$f":"'Dir1'!AJ40+'Dir2'!AJ40","v":0},{"$f":"'Dir1'!AK40+'Dir2'!AK40","v":0},"-",{"$f":"IFERROR(ROUND(PERCENTILE(_xlfn._xlws.FILTER(Data_Table[Speed],(Data_Table[Period]=$B40)*(SUM(C40:N40)>=10)),0.85),2),\"-\")","v":"-"}]
[37,{"$f":"ImportData!$B$10+7*QUOTIENT(A41,24*60*7/ImportData!$B$8)+MOD(1+QUOTIENT(A41,24*60/ImportData!$B$8)-ImportData!$E$10,7)+TIME(0,ImportData!$B$8*A41,0)","v":"2022-05-17T13:00:00"},{"$f":"'Dir1'!C41+'Dir2'!C41","v":0},{"$f":"'Dir1'!D41+'Dir2'!D41","v":0},{"$f":"'Dir1'!E41+'Dir2'!E41","v":0},{"$f":"'Dir1'!F41+'Dir2'!F41","v":0},{"$f":"'Dir1'!G41+'Dir2'!G41","v":0},{"$f":"'Dir1'!H41+'Dir2'!H41","v":0},{"$f":"'Dir1'!I41+'Dir2'!I41","v":0},{"$f":"'Dir1'!J41+'Dir2'!J41","v":0},{"$f":"'Dir1'!K41+'Dir2'!K41","v":0},{"$f":"'Dir1'!L41+'Dir2'!L41","v":0},{"$f":"'Dir1'!M41+'Dir2'!M41","v":0},{"$f":"'Dir1'!N41+'Dir2'!N41","v":0},{"$f":"'Dir1'!O41+'Dir2'!O41","v":0},{"$f":"'Dir1'!P41+'Dir2'!P41","v":0},{"$f":"'Dir1'!Q41+'Dir2'!Q41","v":0},{"$f":"'Dir1'!R41+'Dir2'!R41","v":0},{"$f":"'Dir1'!S41+'Dir2'!S41","v":0},{"$f":"'Dir1'!T41+'Dir2'!T41","v":0},{"$f":"'Dir1'!U41+'Dir2'!U41","v":0},{"$f":"'Dir1'!V41+'Dir2'!V41","v":0},{"$f":"'Dir1'!W41+'Dir2'!W41","v":0},{"$f":"'Dir1'!X41+'Dir2'!X41","v":0},{"$f":"'Dir1'!Y41+'Dir2'!Y41","v":0},{"$f":"'Dir1'!Z41+'Dir2'!Z41","v":0},{"$f":"'Dir1'!AA41+'Dir2'!AA41","v":0},{"$f":"'Dir1'!AB41+'Dir2'!AB41","v":0},{"$f":"'Dir1'!AC41+'Dir2'!AC41","v":0},{"$f":"'Dir1'!AD41+'Dir2'!AD41","v":0},{"$f":"'Dir1'!AE41+'Dir2'!AE41","v":0},{"$f":"'Dir1'!AF41+'Dir2'!AF41","v":0},{"$f":"'Dir1'!AG41+'Dir2'!AG41","v":0},{"$f":"'Dir1'!AH41+'Dir2'!AH41","v":0},{"$f":"'Dir1'!AI41+'Dir2'!AI41","v":0},{"$f":"'Dir1'!AJ41+'Dir2'!AJ41","v":0},{"$f":"'Dir1'!AK41+'Dir2'!AK41","v":0},"-",{"$f":"IFERROR(ROUND(PERCENTILE(_xlfn._xlws.FILTER(Data_Table[Speed],(Data_Table[Period]=$B41)*(SUM(C41:N41)>=10)),0.85),2),\"-\")","v":"-"}]
[38,{"$f":"ImportData!$B$10+7*QUOTIENT(A42,24*60*7/ImportData!$B$8)+MOD(1+QUOTIENT(A42,24*60/ImportData!$B$8)-ImportData!$E$10,7)+TIME(0,ImportData!$B$8*A42,0)","v":"2022-05-17T14:00:00"},{"$f":"'Dir1'!C42+'Dir2'!C42","v":0},{"$f":"'Dir1'!D42+'Dir2'!D42","v":0},{"$f":"'Dir1'!E42+'Dir2'!E42","v":0},{"$f":"'Dir1'!F42+'Dir2'!F42","v":0},{"$f":"'Dir1'!G42+'Dir2'!G42","v":0},{"$f":"'Dir1'!H42+'Dir2'!H42","v":0},{"$f":"'Dir1'!I42+'Dir2'!I42","v":0},{"$f":"'Dir1'!J42+'Dir2'!J42","v":0},{"$f":"'Dir1'!K42+'Dir2'!K42","v":0},{"$f":"'Dir1'!L42+'Dir2'!L42","v":0},{"$f":"'Dir1'!M42+'Dir2'!M42","v":0},{"$f":"'Dir1'!N42+'Dir2'!N42","v":0},{"$f":"'Dir1'!O42+'Dir2'!O42","v":0},{"$f":"'Dir1'!P42+'Dir2'!P42","v":0},{"$f":"'Dir1'!Q42+'Dir2'!Q42","v":0},{"$f":"'Dir1'!R42+'Dir2'!R42","v":0},{"$f":"'Dir1'!S42+'Dir2'!S42","v":0},{"$f":"'Dir1'!T42+'Dir2'!T42","v":0},{"$f":"'Dir1'!U42+'Dir2'!U42","v":0},{"$f":"'Dir1'!V42+'Dir2'!V42","v":0},{"$f":"'Dir1'!W42+'Dir2'!W42","v":0},{"$f":"'Dir1'!X42+'Dir2'!X42","v":0},{"$f":"'Dir1'!Y42+'Dir2'!Y42","v":0},{"$f":"'Dir1'!Z42+'Dir2'!Z42","v":0},{"$f":"'Dir1'!AA42+'Dir2'!AA42","v":0},{"$f":"'Dir1'!AB42+'Dir2'!AB42","v":0},{"$f":"'Dir1'!AC42+'Dir2'!AC42","v":0},{"$f":"'Dir1'!AD42+'Dir2'!AD42","v":0},{"$f":"'Dir1'!AE42+'Dir2'!AE42","v":0},{"$f":"'Dir1'!AF42+'Dir2'!AF42","v":0},{"$f":"'Dir1'!AG42+'Dir2'!AG42","v":0},{"$f":"'Dir1'!AH42+'Dir2'!AH42","v":0},{"$f":"'Dir1'!AI42+'Dir2'!AI42","v":0},{"$f":"'Dir1'!AJ42+'Dir2'!AJ42","v":0},{"$f":"'Dir1'!AK42+'Dir2'!AK42","v":0},"-",{"$f":"IFERROR(ROUND(PERCENTILE(_xlfn._xlws.FILTER(Data_Table[Speed],(Data_Table[Period]=$B42)*(SUM(C42:N42)>=10)),0.85),2),\"-\")","v":"-"}]
[39,{"$f":"ImportData!$B$10+7*QUOTIENT(A43,24*60*7/ImportData!$B$8)+MOD(1+QUOTIENT(A43,24*60/ImportData!$B$8)-ImportData!$E$10,7)+TIME(0,ImportData!$B$8*A43,0)","v":"2022-05-17T15:00:00"},{"$f":"'Dir1'!C43+'Dir2'!C43","v":0},{"$f":"'Dir1'!D43+'Dir2'!D43","v":0},{"$f":"'Dir1'!E43+'Dir2'!E43","v":0},{"$f":"'Dir1'!F43+'Dir2'!F43","v":0},{"$f":"'Dir1'!G43+'Dir2'!G43","v":0},{"$f":"'Dir1'!H43+'Dir2'!H43","v":0},{"$f":"'Dir1'!I43+'Dir2'!I43","v":0},{"$f":"'Dir1'!J43+'Dir2'!J43","v":0},{"$f":"'Dir1'!K43+'Dir2'!K43","v":0},{"$f":"'Dir1'!L43+'Dir2'!L43","v":0},{"$f":"'Dir1'!M43+'Dir2'!M43","v":0},{"$f":"'Dir1'!N43+'Dir2'!N43","v":0},{"$f":"'Dir1'!O43+'Dir2'!O43","v":0},{"$f":"'Dir1'!P43+'Dir2'!P43","v":0},{"$f":"'Dir1'!Q43+'Dir2'!Q43","v":0},{"$f":"'Dir1'!R43+'Dir2'!R43","v":0},{"$f":"'Dir1'!S43+'Dir2'!S43","v":0},{"$f":"'Dir1'!T43+'Dir2'!T43","v":0},{"$f":"'Dir1'!U43+'Dir2'!U43","v":0},{"$f":"'Dir1'!V43+'Dir2'!V43","v":0},{"$f":"'Dir1'!W43+'Dir2'!W43","v":0},{"$f":"'Dir1'!X43+'Dir2'!X43","v":0},{"$f":"'Dir1'!Y43+'Dir2'!Y43","v":0},{"$f":"'Dir1'!Z43+'Dir2'!Z43","v":0},{"$f":"'Dir1'!AA43+'Dir2'!AA43","v":0},{"$f":"'Dir1'!AB43+'Dir2'!AB43","v":0},{"$f":"'Dir1'!AC43+'Dir2'!AC43","v":0},{"$f":"'Dir1'!AD43+'Dir2'!AD43","v":0},{"$f":"'Dir1'!AE43+'Dir2'!AE43","v":0},{"$f":"'Dir1'!AF43+'Dir2'!AF43","v":0},{"$f":"'Dir1'!AG43+'Dir2'!AG43","v":0},{"$f":"'Dir1'!AH43+'Dir2'!AH43","v":0},{"$f":"'Dir1'!AI43+'Dir2'!AI43","v":0},{"$f":"'Dir1'!AJ43+'Dir2'!AJ43","v":0},{"$f":"'Dir1'!AK43+'Dir2'!AK43","v":0},"-",{"$f":"IFERROR(ROUND(PERCENTILE(_xlfn._xlws.FILTER(Data_Table[Speed],(Data_Table[Period]=$B43)*(SUM(C43:N43)>=10)),0.85),2),\"-\")","v":"-"}]
[40,{"$f":"ImportData!$B$10+7*QUOTIENT(A44,24*60*7/ImportData!$B$8)+MOD(1+QUOTIENT(A44,24*60/ImportData!$B$8)-ImportData!$E$10,7)+TIME(0,ImportData!$B$8*A44,0)","v":"2022-05-17T16:00:00"},{"$f":"'Dir1'!C44+'Dir2'!C44","v":0},{"$f":"'Dir1'!D44+'Dir2'!D44","v":0},{"$f":"'Dir1'!E44+'Dir2'!E44","v":0},{"$f":"'Dir1'!F44+'Dir2'!F44","v":0},{"$f":"'Dir1'!G44+'Dir2'!G44","v":0},{"$f":"'Dir1'!H44+'Dir2'!H44","v":0},{"$f":"'Dir1'!I44+'Dir2'!I44","v":0},{"$f":"'Dir1'!J44+'Dir2'!J44","v":0},{"$f":"'Dir1'!K44+'Dir2'!K44","v":0},{"$f":"'Dir1'!L44+'Dir2'!L44","v":0},{"$f":"'Dir1'!M44+'Dir2'!M44","v":0},{"$f":"'Dir1'!N44+'Dir2'!N44","v":0},{"$f":"'Dir1'!O44+'Dir2'!O44","v":0},{"$f":"'Dir1'!P44+'Dir2'!P44","v":0},{"$f":"'Dir1'!Q44+'Dir2'!Q44","v":0},{"$f":"'Dir1'!R44+'Dir2'!R44","v":0},{"$f":"'Dir1'!S44+'Dir2'!S44","v":0},{"$f":"'Dir1'!T44+'Dir2'!T44","v":0},{"$f":"'Dir1'!U44+'Dir2'!U44","v":0},{"$f":"'Dir1'!V44+'Dir2'!V44","v":0},{"$f":"'Dir1'!W44+'Dir2'!W44","v":0},{"$f":"'Dir1'!X44+'Dir2'!X44","v":0},{"$f":"'Dir1'!Y44+'Dir2'!Y44","v":0},{"$f":"'Dir1'!Z44+'Dir2'!Z44","v":0},{"$f":"'Dir1'!AA44+'Dir2'!AA44","v":0},{"$f":"'Dir1'!AB44+'Dir2'!AB44","v":0},{"$f":"'Dir1'!AC44+'Dir2'!AC44","v":0},{"$f":"'Dir1'!AD44+'Dir2'!AD44","v":0},{"$f":"'Dir1'!AE44+'Dir2'!AE44","v":0},{"$f":"'Dir1'!AF44+'Dir2'!AF44","v":0},{"$f":"'Dir1'!AG44+'Dir2'!AG44","v":0},{"$f":"'Dir1'!AH44+'Dir2'!AH44","v":0},{"$f":"'Dir1'!AI44+'Dir2'!AI44","v":0},{"$f":"'Dir1'!AJ44+'Dir2'!AJ44","v":0},{"$f":"'Dir1'!AK44+'Dir2'!AK44","v":0},"-",{"$f":"IFERROR(ROUND(PERCENTILE(_xlfn._xlws.FILTER(Data_Table[Speed],(Data_Table[Period]=$B44)*(SUM(C44:N44)>=10)),0.85),2),\"-\")","v":"-"}]
[41,{"$f":"ImportData!$B$10+7*QUOTIENT(A45,24*60*7/ImportData!$B$8)+MOD(1+QUOTIENT(A45,24*60/ImportData!$B$8)-ImportData!$E$10,7)+TIME(0,ImportData!$B$8*A45,0)","v":"2022-05-17T17:00:00"},{"$f":"'Dir1'!C45+'Dir2'!C45","v":0},{"$f":"'Dir1'!D45+'Dir2'!D45","v":0},{"$f":"'Dir1'!E45+'Dir2'!E45","v":0},{"$f":"'Dir1'!F45+'Dir2'!F45","v":0},{"$f":"'Dir1'!G45+'Dir2'!G45","v":0},{"$f":"'Dir1'!H45+'Dir2'!H45","v":0},{"$f":"'Dir1'!I45+'Dir2'!I45","v":0},{"$f":"'Dir1'!J45+'Dir2'!J45","v":0},{"$f":"'Dir1'!K45+'Dir2'!K45","v":0},{"$f":"'Dir1'!L45+'Dir2'!L45","v":0},{"$f":"'Dir1'!M45+'Dir2'!M45","v":0},{"$f":"'Dir1'!N45+'Dir2'!N45","v":0},{"$f":"'Dir1'!O45+'Dir2'!O45","v":0},{"$f":"'Dir1'!P45+'Dir2'!P45","v":0},{"$f":"'Dir1'!Q45+'Dir2'!Q45","v":0},{"$f":"'Dir1'!R45+'Dir2'!R45","v":0},{"$f":"'Dir1'!S45+'Dir2'!S45","v":0},{"$f":"'Dir1'!T45+'Dir2'!T45","v":0},{"$f":"'Dir1'!U45+'Dir2'!U45","v":0},{"$f":"'Dir1'!V45+'Dir2'!V45","v":0},{"$f":"'Dir1'!W45+'Dir2'!W45","v":0},{"$f":"'Dir1'!X45+'Dir2'!X45","v":0},{"$f":"'Dir1'!Y45+'Dir2'!Y45","v":0},{"$f":"'Dir1'!Z45+'Dir2'!Z45","v":0},{"$f":"'Dir1'!AA45+'Dir2'!AA45","v":0},{"$f":"'Dir1'!AB45+'Dir2'!AB45","v":0},{"$f":"'Dir1'!AC45+'Dir2'!AC45","v":0},{"$f":"'Dir1'!AD45+'Dir2'!AD45","v":0},{"$f":"'Dir1'!AE45+'Dir2'!AE45","v":0},{"$f":"'Dir1'!AF45+'Dir2'!AF45","v":0},{"$f":"'Dir1'!AG45+'Dir2'!AG45","v":0},{"$f":"'Dir1'!AH45+'Dir2'!AH45","v":0},{"$f":"'Dir1'!AI45+'Dir2'!AI45","v":0},{"$f":"'Dir1'!AJ45+'Dir2'!AJ45","v":0},{"$f":"'Dir1'!AK45+'Dir2'!AK45","v":0},"-",{"$f":"IFERROR(ROUND(PERCENTILE(_xlfn._xlws.FILTER(Data_Table[Speed],(Data_Table[Period]=$B45)*(SUM(C45:N45)>=10)),0.85),2),\"-\")","v":"-"}]
[42,{"$f":"ImportData!$B$10+7*QUOTIENT(A46,24*60*7/ImportData!$B$8)+MOD(1+QUOTIENT(A46,24*60/ImportData!$B$8)-ImportData!$E$10,7)+TIME(0,ImportData!$B$8*A46,0)","v":"2022-05-17T18:00:00"},{"$f":"'Dir1'!C46+'Dir2'!C46","v":0},{"$f":"'Dir1'!D46+'Dir2'!D46","v":0},{"$f":"'Dir1'!E46+'Dir2'!E46","v":0},{"$f":"'Dir1'!F46+'Dir2'!F46","v":0},{"$f":"'Dir1'!G46+'Dir2'!G46","v":0},{"$f":"'Dir1'!H46+'Dir2'!H46","v":0},{"$f":"'Dir1'!I46+'Dir2'!I46","v":0},{"$f":"'Dir1'!J46+'Dir2'!J46","v":0},{"$f":"'Dir1'!K46+'Dir2'!K46","v":0},{"$f":"'Dir1'!L46+'Dir2'!L46","v":0},{"$f":"'Dir1'!M46+'Dir2'!M46","v":0},{"$f":"'Dir1'!N46+'Dir2'!N46","v":0},{"$f":"'Dir1'!O46+'Dir2'!O46","v":0},{"$f":"'Dir1'!P46+'Dir2'!P46","v":0},{"$f":"'Dir1'!Q46+'Dir2'!Q46","v":0},{"$f":"'Dir1'!R46+'Dir2'!R46","v":0},{"$f":"'Dir1'!S46+'Dir2'!S46","v":0},{"$f":"'Dir1'!T46+'Dir2'!T46","v":0},{"$f":"'Dir1'!U46+'Dir2'!U46","v":0},{"$f":"'Dir1'!V46+'Dir2'!V46","v":0},{"$f":"'Dir1'!W46+'Dir2'!W46","v":0},{"$f":"'Dir1'!X46+'Dir2'!X46","v":0},{"$f":"'Dir1'!Y46+'Dir2'!Y46","v":0},{"$f":"'Dir1'!Z46+'Dir2'!Z46","v":0},{"$f":"'Dir1'!AA46+'Dir2'!AA46","v":0},{"$f":"'Dir1'!AB46+'Dir2'!AB46","v":0},{"$f":"'Dir1'!AC46+'Dir2'!AC46","v":0},{"$f":"'Dir1'!AD46+'Dir2'!AD46","v":0},{"$f":"'Dir1'!AE46+'Dir2'!AE46","v":0},{"$f":"'Dir1'!AF46+'Dir2'!AF46","v":0},{"$f":"'Dir1'!AG46+'Dir2'!AG46","v":0},{"$f":"'Dir1'!AH46+'Dir2'!AH46","v":0},{"$f":"'Dir1'!AI46+'Dir2'!AI46","v":0},{"$f":"'Dir1'!AJ46+'Dir2'!AJ46","v":0},{"$f":"'Dir1'!AK46+'Dir2'!AK46","v":0},"-",{"$f":"IFERROR(ROUND(PERCENTILE(_xlfn._xlws.FILTER(Data_Table[Speed],(Data_Table[Period]=$B46)*(SUM(C46:N46)>=10)),0.85),2),\"-\")","v":"-"}]
[43,{"$f":"ImportData!$B$10+7*QUOTIENT(A47,24*60*7/ImportData!$B$8)+MOD(1+QUOTIENT(A47,24*60/ImportData!$B$8)-ImportData!$E$10,7)+TIME(0,ImportData!$B$8*A47,0)","v":"2022-05-17T19:00:00"},{"$f":"'Dir1'!C47+'Dir2'!C47","v":0},{"$f":"'Dir1'!D47+'Dir2'!D47","v":0},{"$f":"'Dir1'!E47+'Dir2'!E47","v":0},{"$f":"'Dir1'!F47+'Dir2'!F47","v":0},{"$f":"'Dir1'!G47+'Dir2'!G47","v":0},{"$f":"'Dir1'!H47+'Dir2'!H47","v":0},{"$f":"'Dir1'!I47+'Dir2'!I47","v":0},{"$f":"'Dir1'!J47+'Dir2'!J47","v":0},{"$f":"'Dir1'!K47+'Dir2'!K47","v":0},{"$f":"'Dir1'!L47+'Dir2'!L47","v":0},{"$f":"'Dir1'!M47+'Dir2'!M47","v":0},{"$f":"'Dir1'!N47+'Dir2'!N47","v":0},{"$f":"'Dir1'!O47+'Dir2'!O47","v":0},{"$f":"'Dir1'!P47+'Dir2'!P47","v":0},{"$f":"'Dir1'!Q47+'Dir2'!Q47","v":0},{"$f":"'Dir1'!R47+'Dir2'!R47","v":0},{"$f":"'Dir1'!S47+'Dir2'!S47","v":0},{"$f":"'Dir1'!T47+'Dir2'!T47","v":0},{"$f":"'Dir1'!U47+'Dir2'!U47","v":0},{"$f":"'Dir1'!V47+'Dir2'!V47","v":0},{"$f":"'Dir1'!W47+'Dir2'!W47","v":0},{"$f":"'Dir1'!X47+'Dir2'!X47","v":0},{"$f":"'Dir1'!Y47+'Dir2'!Y47","v":0},{"$f":"'Dir1'!Z47+'Dir2'!Z47","v":0},{"$f":"'Dir1'!AA47+'Dir2'!AA47","v":0},{"$f":"'Dir1'!AB47+'Dir2'!AB47","v":0},{"$f":"'Dir1'!AC47+'Dir2'!AC47","v":0},{"$f":"'Dir1'!AD47+'Dir2'!AD47","v":0},{"$f":"'Dir1'!AE47+'Dir2'!AE47","v":0},{"$f":"'Dir1'!AF47+'Dir2'!AF47","v":0},{"$f":"'Dir1'!AG47+'Dir2'!AG47","v":0},{"$f":"'Dir1'!AH47+'Dir2'!AH47","v":0},{"$f":"'Dir1'!AI47+'Dir2'!AI47","v":0},{"$f":"'Dir1'!AJ47+'Dir2'!AJ47","v":0},{"$f":"'Dir1'!AK47+'Dir2'!AK47","v":0},"-",{"$f":"IFERROR(ROUND(PERCENTILE(_xlfn._xlws.FILTER(Data_Table[Speed],(Data_Table[Period]=$B47)*(SUM(C47:N47)>=10)),0.85),2),\"-\")","v":"-"}]
[44,{"$f":"ImportData!$B$10+7*QUOTIENT(A48,24*60*7/ImportData!$B$8)+MOD(1+QUOTIENT(A48,24*60/ImportData!$B$8)-ImportData!$E$10,7)+TIME(0,ImportData!$B$8*A48,0)","v":"2022-05-17T20:00:00"},{"$f":"'Dir1'!C48+'Dir2'!C48","v":0},{"$f":"'Dir1'!D48+'Dir2'!D48","v":0},{"$f":"'Dir1'!E48+'Dir2'!E48","v":0},{"$f":"'Dir1'!F48+'Dir2'!F48","v":0},{"$f":"'Dir1'!G48+'Dir2'!G48","v":0},{"$f":"'Dir1'!H48+'Dir2'!H48","v":0},{"$f":"'Dir1'!I48+'Dir2'!I48","v":0},{"$f":"'Dir1'!J48+'Dir2'!J48","v":0},{"$f":"'Dir1'!K48+'Dir2'!K48","v":0},{"$f":"'Dir1'!L48+'Dir2'!L48","v":0},{"$f":"'Dir1'!M48+'Dir2'!M48","v":0},{"$f":"'Dir1'!N48+'Dir2'!N48","v":0},{"$f":"'Dir1'!O48+'Dir2'!O48","v":0},{"$f":"'Dir1'!P48+'Dir2'!P48","v":0},{"$f":"'Dir1'!Q48+'Dir2'!Q48","v":0},{"$f":"'Dir1'!R48+'Dir2'!R48","v":0},{"$f":"'Dir1'!S48+'Dir2'!S48","v":0},{"$f":"'Dir1'!T48+'Dir2'!T48","v":0},{"$f":"'Dir1'!U48+'Dir2'!U48","v":0},{"$f":"'Dir1'!V48+'Dir2'!V48","v":0},{"$f":"'Dir1'!W48+'Dir2'!W48","v":0},{"$f":"'Dir1'!X48+'Dir2'!X48","v":0},{"$f":"'Dir1'!Y48+'Dir2'!Y48","v":0},{"$f":"'Dir1'!Z48+'Dir2'!Z48","v":0},{"$f":"'Dir1'!AA48+'Dir2'!AA48","v":0},{"$f":"'Dir1'!AB48+'Dir2'!AB48","v":0},{"$f":"'Dir1'!AC48+'Dir2'!AC48","v":0},{"$f":"'Dir1'!AD48+'Dir2'!AD48","v":0},{"$f":"'Dir1'!AE48+'Dir2'!AE48","v":0},{"$f":"'Dir1'!AF48+'Dir2'!AF48","v":0},{"$f":"'Dir1'!AG48+'Dir2'!AG48","v":0},{"$f":"'Dir1'!AH48+'Dir2'!AH48","v":0},{"$f":"'Dir1'!AI48+'Dir2'!AI48","v":0},{"$f":"'Dir1'!AJ48+'Dir2'!AJ48","v":0},{"$f":"'Dir1'!AK48+'Dir2'!AK48","v":0},"-",{"$f":"IFERROR(ROUND(PERCENTILE(_xlfn._xlws.FILTER(Data_Table[Speed],(Data_Table[Period]=$B48)*(SUM(C48:N48)>=10)),0.85),2),\"-\")","v":"-"}]
[45,{"$f":"ImportData!$B$10+7*QUOTIENT(A49,24*60*7/ImportData!$B$8)+MOD(1+QUOTIENT(A49,24*60/ImportData!$B$8)-ImportData!$E$10,7)+TIME(0,ImportData!$B$8*A49,0)","v":"2022-05-17T21:00:00"},{"$f":"'Dir1'!C49+'Dir2'!C49","v":0},{"$f":"'Dir1'!D49+'Dir2'!D49","v":0},{"$f":"'Dir1'!E49+'Dir2'!E49","v":0},{"$f":"'Dir1'!F49+'Dir2'!F49","v":0},{"$f":"'Dir1'!G49+'Dir2'!G49","v":0},{"$f":"'Dir1'!H49+'Dir2'!H49","v":0},{"$f":"'Dir1'!I49+'Dir2'!I49","v":0},{"$f":"'Dir1'!J49+'Dir2'!J49","v":0},{"$f":"'Dir1'!K49+'Dir2'!K49","v":0},{"$f":"'Dir1'!L49+'Dir2'!L49","v":0},{"$f":"'Dir1'!M49+'Dir2'!M49","v":0},{"$f":"'Dir1'!N49+'Dir2'!N49","v":0},{"$f":"'Dir1'!O49+'Dir2'!O49","v":0},{"$f":"'Dir1'!P49+'Dir2'!P49","v":0},{"$f":"'Dir1'!Q49+'Dir2'!Q49","v":0},{"$f":"'Dir1'!R49+'Dir2'!R49","v":0},{"$f":"'Dir1'!S49+'Dir2'!S49","v":0},{"$f":"'Dir1'!T49+'Dir2'!T49","v":0},{"$f":"'Dir1'!U49+'Dir2'!U49","v":0},{"$f":"'Dir1'!V49+'Dir2'!V49","v":0},{"$f":"'Dir1'!W49+'Dir2'!W49","v":0},{"$f":"'Dir1'!X49+'Dir2'!X49","v":0},{"$f":"'Dir1'!Y49+'Dir2'!Y49","v":0},{"$f":"'Dir1'!Z49+'Dir2'!Z49","v":0},{"$f":"'Dir1'!AA49+'Dir2'!AA49","v":0},{"$f":"'Dir1'!AB49+'Dir2'!AB49","v":0},{"$f":"'Dir1'!AC49+'Dir2'!AC49","v":0},{"$f":"'Dir1'!AD49+'Dir2'!AD49","v":0},{"$f":"'Dir1'!AE49+'Dir2'!AE49","v":0},{"$f":"'Dir1'!AF49+'Dir2'!AF49","v":0},{"$f":"'Dir1'!AG49+'Dir2'!AG49","v":0},{"$f":"'Dir1'!AH49+'Dir2'!AH49","v":0},{"$f":"'Dir1'!AI49+'Dir2'!AI49","v":0},{"$f":"'Dir1'!AJ49+'Dir2'!AJ49","v":0},{"$f":"'Dir1'!AK49+'Dir2'!AK49","v":0},"-",{"$f":"IFERROR(ROUND(PERCENTILE(_xlfn._xlws.FILTER(Data_Table[Speed],(Data_Table[Period]=$B49)*(SUM(C49:N49)>=10)),0.85),2),\"-\")","v":"-"}]
[46,{"$f":"ImportData!$B$10+7*QUOTIENT(A50,24*60*7/ImportData!$B$8)+MOD(1+QUOTIENT(A50,24*60/ImportData!$B$8)-ImportData!$E$10,7)+TIME(0,ImportData!$B$8*A50,0)","v":"2022-05-17T22:00:00"},{"$f":"'Dir1'!C50+'Dir2'!C50","v":0},{"$f":"'Dir1'!D50+'Dir2'!D50","v":0},{"$f":"'Dir1'!E50+'Dir2'!E50","v":0},{"$f":"'Dir1'!F50+'Dir2'!F50","v":0},{"$f":"'Dir1'!G50+'Dir2'!G50","v":0},{"$f":"'Dir1'!H50+'Dir2'!H50","v":0},{"$f":"'Dir1'!I50+'Dir2'!I50","v":0},{"$f":"'Dir1'!J50+'Dir2'!J50","v":0},{"$f":"'Dir1'!K50+'Dir2'!K50","v":0},{"$f":"'Dir1'!L50+'Dir2'!L50","v":0},{"$f":"'Dir1'!M50+'Dir2'!M50","v":0},{"$f":"'Dir1'!N50+'Dir2'!N50","v":0},{"$f":"'Dir1'!O50+'Dir2'!O50","v":0},{"$f":"'Dir1'!P50+'Dir2'!P50","v":0},{"$f":"'Dir1'!Q50+'Dir2'!Q50","v":0},{"$f":"'Dir1'!R50+'Dir2'!R50","v":0},{"$f":"'Dir1'!S50+'Dir2'!S50","v":0},{"$f":"'Dir1'!T50+'Dir2'!T50","v":0},{"$f":"'Dir1'!U50+'Dir2'!U50","v":0},{"$f":"'Dir1'!V50+'Dir2'!V50","v":0},{"$f":"'Dir1'!W50+'Dir2'!W50","v":0},{"$f":"'Dir1'!X50+'Dir2'!X50","v":0},{"$f":"'Dir1'!Y50+'Dir2'!Y50","v":0},{"$f":"'Dir1'!Z50+'Dir2'!Z50","v":0},{"$f":"'Dir1'!AA50+'Dir2'!AA50","v":0},{"$f":"'Dir1'!AB50+'Dir2'!AB50","v":0},{"$f":"'Dir1'!AC50+'Dir2'!AC50","v":0},{"$f":"'Dir1'!AD50+'Dir2'!AD50","v":0},{"$f":"'Dir1'!AE50+'Dir2'!AE50","v":0},{"$f":"'Dir1'!AF50+'Dir2'!AF50","v":0},{"$f":"'Dir1'!AG50+'Dir2'!AG50","v":0},{"$f":"'Dir1'!AH50+'Dir2'!AH50","v":0},{"$f":"'Dir1'!AI50+'Dir2'!AI50","v":0},{"$f":"'Dir1'!AJ50+'Dir2'!AJ50","v":0},{"$f":"'Dir1'!AK50+'Dir2'!AK50","v":0},"-",{"$f":"IFERROR(ROUND(PERCENTILE(_xlfn._xlws.FILTER(Data_Table[Speed],(Data_Table[Period]=$B50)*(SUM(C50:N50)>=10)),0.85),2),\"-\")","v":"-"}]
[47,{"$f":"ImportData!$B$10+7*QUOTIENT(A51,24*60*7/ImportData!$B$8)+MOD(1+QUOTIENT(A51,24*60/ImportData!$B$8)-ImportData!$E$10,7)+TIME(0,ImportData!$B$8*A51,0)","v":"2022-05-17T23:00:00"},{"$f":"'Dir1'!C51+'Dir2'!C51","v":0},{"$f":"'Dir1'!D51+'Dir2'!D51","v":0},{"$f":"'Dir1'!E51+'Dir2'!E51","v":0},{"$f":"'Dir1'!F51+'Dir2'!F51","v":0},{"$f":"'Dir1'!G51+'Dir2'!G51","v":0},{"$f":"'Dir1'!H51+'Dir2'!H51","v":0},{"$f":"'Dir1'!I51+'Dir2'!I51","v":0},{"$f":"'Dir1'!J51+'Dir2'!J51","v":0},{"$f":"'Dir1'!K51+'Dir2'!K51","v":0},{"$f":"'Dir1'!L51+'Dir2'!L51","v":0},{"$f":"'Dir1'!M51+'Dir2'!M51","v":0},{"$f":"'Dir1'!N51+'Dir2'!N51","v":0},{"$f":"'Dir1'!O51+'Dir2'!O51","v":0},{"$f":"'Dir1'!P51+'Dir2'!P51","v":0},{"$f":"'Dir1'!Q51+'Dir2'!Q51","v":0},{"$f":"'Dir1'!R51+'Dir2'!R51","v":0},{"$f":"'Dir1'!S51+'Dir2'!S51","v":0},{"$f":"'Dir1'!T51+'Dir2'!T51","v":0},{"$f":"'Dir1'!U51+'Dir2'!U51","v":0},{"$f":"'Dir1'!V51+'Dir2'!V51","v":0},{"$f":"'Dir1'!W51+'Dir2'!W51","v":0},{"$f":"'Dir1'!X51+'Dir2'!X51","v":0},{"$f":"'Dir1'!Y51+'Dir2'!Y51","v":0},{"$f":"'Dir1'!Z51+'Dir2'!Z51","v":0},{"$f":"'Dir1'!AA51+'Dir2'!AA51","v":0},{"$f":"'Dir1'!AB51+'Dir2'!AB51","v":0},{"$f":"'Dir1'!AC51+'Dir2'!AC51","v":0},{"$f":"'Dir1'!AD51+'Dir2'!AD51","v":0},{"$f":"'Dir1'!AE51+'Dir2'!AE51","v":0},{"$f":"'Dir1'!AF51+'Dir2'!AF51","v":0},{"$f":"'Dir1'!AG51+'Dir2'!AG51","v":0},{"$f":"'Dir1'!AH51+'Dir2'!AH51","v":0},{"$f":"'Dir1'!AI51+'Dir2'!AI51","v":0},{"$f":"'Dir1'!AJ51+'Dir2'!AJ51","v":0},{"$f":"'Dir1'!AK51+'Dir2'!AK51","v":0},"-",{"$f":"IFERROR(ROUND(PERCENTILE(_xlfn._xlws.FILTER(Data_Table[Speed],(Data_Table[Period]=$B51)*(SUM(C51:N51)>=10)),0.85),2),\"-\")","v":"-"}]
[48,{"$f":"ImportData!$B$10+7*QUOTIENT(A52,24*60*7/ImportData!$B$8)+MOD(1+QUOTIENT(A52,24*60/ImportData!$B$8)-ImportData!$E$10,7)+TIME(0,ImportData!$B$8*A52,0)","v":"2022-05-11"},{"$f":"'Dir1'!C52+'Dir2'!C52","v":0},{"$f":"'Dir1'!D52+'Dir2'!D52","v":0},{"$f":"'Dir1'!E52+'Dir2'!E52","v":0},{"$f":"'Dir1'!F52+'Dir2'!F52","v":0},{"$f":"'Dir1'!G52+'Dir2'!G52","v":0},{"$f":"'Dir1'!H52+'Dir2'!H52","v":0},{"$f":"'Dir1'!I52+'Dir2'!I52","v":0},{"$f":"'Dir1'!J52+'Dir2'!J52","v":0},{"$f":"'Dir1'!K52+'Dir2'!K52","v":0},{"$f":"'Dir1'!L52+'Dir2'!L52","v":0},{"$f":"'Dir1'!M52+'Dir2'!M52","v":0},{"$f":"'Dir1'!N52+'Dir2'!N52","v":0},{"$f":"'Dir1'!O52+'Dir2'!O52","v":0},{"$f":"'Dir1'!P52+'Dir2'!P52","v":0},{"$f":"'Dir1'!Q52+'Dir2'!Q52","v":0},{"$f":"'Dir1'!R52+'Dir2'!R52","v":0},{"$f":"'Dir1'!S52+'Dir2'!S52","v":0},{"$f":"'Dir1'!T52+'Dir2'!T52","v":0},{"$f":"'Dir1'!U52+'Dir2'!U52","v":0},{"$f":"'Dir1'!V52+'Dir2'!V52","v":0},{"$f":"'Dir1'!W52+'Dir2'!W52","v":0},{"$f":"'Dir1'!X52+'Dir2'!X52","v":0},{"$f":"'Dir1'!Y52+'Dir2'!Y52","v":0},{"$f":"'Dir1'!Z52+'Dir2'!Z52","v":0},{"$f":"'Dir1'!AA52+'Dir2'!AA52","v":0},{"$f":"'Dir1'!AB52+'Dir2'!AB52","v":0},{"$f":"'Dir1'!AC52+'Dir2'!AC52","v":0},{"$f":"'Dir1'!AD52+'Dir2'!AD52","v":0},{"$f":"'Dir1'!AE52+'Dir2'!AE52","v":0},{"$f":"'Dir1'!AF52+'Dir2'!AF52","v":0},{"$f":"'Dir1'!AG52+'Dir2'!AG52","v":0},{"$f":"'Dir1'!AH52+'Dir2'!AH52","v":0},{"$f":"'Dir1'!AI52+'Dir2'!AI52","v":0},{"$f":"'Dir1'!AJ52+'Dir2'!AJ52","v":0},{"$f":"'Dir1'!AK52+'Dir2'!AK52","v":0},"-",{"$f":"IFERROR(ROUND(PERCENTILE(_xlfn._xlws.FILTER(Data_Table[Speed],(Data_Table[Period]=$B52)*(SUM(C52:N52)>=10)),0.85),2),\"-\")","v":"-"}]
[49,{"$f":"ImportData!$B$10+7*QUOTIENT(A53,24*60*7/ImportData!$B$8)+MOD(1+QUOTIENT(A53,24*60/ImportData!$B$8)-ImportData!$E$10,7)+TIME(0,ImportData!$B$8*A53,0)","v":"2022-05-11T01:00:00"},{"$f":"'Dir1'!C53+'Dir2'!C53","v":0},{"$f":"'Dir1'!D53+'Dir2'!D53","v":0},{"$f":"'Dir1'!E53+'Dir2'!E53","v":0},{"$f":"'Dir1'!F53+'Dir2'!F53","v":0},{"$f":"'Dir1'!G53+'Dir2'!G53","v":0},{"$f":"'Dir1'!H53+'Dir2'!H53","v":0},{"$f":"'Dir1'!I53+'Dir2'!I53","v":0},{"$f":"'Dir1'!J53+'Dir2'!J53","v":0},{"$f":"'Dir1'!K53+'Dir2'!K53","v":0},{"$f":"'Dir1'!L53+'Dir2'!L53","v":0},{"$f":"'Dir1'!M53+'Dir2'!M53","v":0},{"$f":"'Dir1'!N53+'Dir2'!N53","v":0},{"$f":"'Dir1'!O53+'Dir2'!O53","v":0},{"$f":"'Dir1'!P53+'Dir2'!P53","v":0},{"$f":"'Dir1'!Q53+'Dir2'!Q53","v":0},{"$f":"'Dir1'!R53+'Dir2'!R53","v":0},{"$f":"'Dir1'!S53+'Dir2'!S53","v":0},{"$f":"'Dir1'!T53+'Dir2'!T53","v":0},{"$f":"'Dir1'!U53+'Dir2'!U53","v":0},{"$f":"'Dir1'!V53+'Dir2'!V53","v":0},{"$f":"'Dir1'!W53+'Dir2'!W53","v":0},{"$f":"'Dir1'!X53+'Dir2'!X53","v":0},{"$f":"'Dir1'!Y53+'Dir2'!Y53","v":0},{"$f":"'Dir1'!Z53+'Dir2'!Z53","v":0},{"$f":"'Dir1'!AA53+'Dir2'!AA53","v":0},{"$f":"'Dir1'!AB53+'Dir2'!AB53","v":0},{"$f":"'Dir1'!AC53+'Dir2'!AC53","v":0},{"$f":"'Dir1'!AD53+'Dir2'!AD53","v":0},{"$f":"'Dir1'!AE53+'Dir2'!AE53","v":0},{"$f":"'Dir1'!AF53+'Dir2'!AF53","v":0},{"$f":"'Dir1'!AG53+'Dir2'!AG53","v":0},{"$f":"'Dir1'!AH53+'Dir2'!AH53","v":0},{"$f":"'Dir1'!AI53+'Dir2'!AI53","v":0},{"$f":"'Dir1'!AJ53+'Dir2'!AJ53","v":0},{"$f":"'Dir1'!AK53+'Dir2'!AK53","v":0},"-",{"$f":"IFERROR(ROUND(PERCENTILE(_xlfn._xlws.FILTER(Data_Table[Speed],(Data_Table[Period]=$B53)*(SUM(C53:N53)>=10)),0.85),2),\"-\")","v":"-"}]
[50,{"$f":"ImportData!$B$10+7*QUOTIENT(A54,24*60*7/ImportData!$B$8)+MOD(1+QUOTIENT(A54,24*60/ImportData!$B$8)-ImportData!$E$10,7)+TIME(0,ImportData!$B$8*A54,0)","v":"2022-05-11T02:00:00"},{"$f":"'Dir1'!C54+'Dir2'!C54","v":0},{"$f":"'Dir1'!D54+'Dir2'!D54","v":0},{"$f":"'Dir1'!E54+'Dir2'!E54","v":0},{"$f":"'Dir1'!F54+'Dir2'!F54","v":0},{"$f":"'Dir1'!G54+'Dir2'!G54","v":0},{"$f":"'Dir1'!H54+'Dir2'!H54","v":0},{"$f":"'Dir1'!I54+'Dir2'!I54","v":0},{"$f":"'Dir1'!J54+'Dir2'!J54","v":0},{"$f":"'Dir1'!K54+'Dir2'!K54","v":0},{"$f":"'Dir1'!L54+'Dir2'!L54","v":0},{"$f":"'Dir1'!M54+'Dir2'!M54","v":0},{"$f":"'Dir1'!N54+'Dir2'!N54","v":0},{"$f":"'Dir1'!O54+'Dir2'!O54","v":0},{"$f":"'Dir1'!P54+'Dir2'!P54","v":0},{"$f":"'Dir1'!Q54+'Dir2'!Q54","v":0},{"$f":"'Dir1'!R54+'Dir2'!R54","v":0},{"$f":"'Dir1'!S54+'Dir2'!S54","v":0},{"$f":"'Dir1'!T54+'Dir2'!T54","v":0},{"$f":"'Dir1'!U54+'Dir2'!U54","v":0},{"$f":"'Dir1'!V54+'Dir2'!V54","v":0},{"$f":"'Dir1'!W54+'Dir2'!W54","v":0},{"$f":"'Dir1'!X54+'Dir2'!X54","v":0},{"$f":"'Dir1'!Y54+'Dir2'!Y54","v":0},{"$f":"'Dir1'!Z54+'Dir2'!Z54","v":0},{"$f":"'Dir1'!AA54+'Dir2'!AA54","v":0},{"$f":"'Dir1'!AB54+'Dir2'!AB54","v":0},{"$f":"'Dir1'!AC54+'Dir2'!AC54","v":0},{"$f":"'Dir1'!AD54+'Dir2'!AD54","v":0},{"$f":"'Dir1'!AE54+'Dir2'!AE54","v":0},{"$f":"'Dir1'!AF54+'Dir2'!AF54","v":0},{"$f":"'Dir1'!AG54+'Dir2'!AG54","v":0},{"$f":"'Dir1'!AH54+'Dir2'!AH54","v":0},{"$f":"'Dir1'!AI54+'Dir2'!AI54","v":0},{"$f":"'Dir1'!AJ54+'Dir2'!AJ54","v":0},{"$f":"'Dir1'!AK54+'Dir2'!AK54","v":0},"-",{"$f":"IFERROR(ROUND(PERCENTILE(_xlfn._xlws.FILTER(Data_Table[Speed],(Data_Table[Period]=$B54)*(SUM(C54:N54)>=10)),0.85),2),\"-\")","v":"-"}]
[51,{"$f":"ImportData!$B$10+7*QUOTIENT(A55,24*60*7/ImportData!$B$8)+MOD(1+QUOTIENT(A55,24*60/ImportData!$B$8)-ImportData!$E$10,7)+TIME(0,ImportData!$B$8*A55,0)","v":"2022-05-11T03:00:00"},{"$f":"'Dir1'!C55+'Dir2'!C55","v":0},{"$f":"'Dir1'!D55+'Dir2'!D55","v":0},{"$f":"'Dir1'!E55+'Dir2'!E55","v":0},{"$f":"'Dir1'!F55+'Dir2'!F55","v":0},{"$f":"'Dir1'!G55+'Dir2'!G55","v":0},{"$f":"'Dir1'!H55+'Dir2'!H55","v":0},{"$f":"'Dir1'!I55+'Dir2'!I55","v":0},{"$f":"'Dir1'!J55+'Dir2'!J55","v":0},{"$f":"'Dir1'!K55+'Dir2'!K55","v":0},{"$f":"'Dir1'!L55+'Dir2'!L55","v":0},{"$f":"'Dir1'!M55+'Dir2'!M55","v":0},{"$f":"'Dir1'!N55+'Dir2'!N55","v":0},{"$f":"'Dir1'!O55+'Dir2'!O55","v":0},{"$f":"'Dir1'!P55+'Dir2'!P55","v":0},{"$f":"'Dir1'!Q55+'Dir2'!Q55","v":0},{"$f":"'Dir1'!R55+'Dir2'!R55","v":0},{"$f":"'Dir1'!S55+'Dir2'!S55","v":0},{"$f":"'Dir1'!T55+'Dir2'!T55","v":0},{"$f":"'Dir1'!U55+'Dir2'!U55","v":0},{"$f":"'Dir1'!V55+'Dir2'!V55","v":0},{"$f":"'Dir1'!W55+'Dir2'!W55","v":0},{"$f":"'Dir1'!X55+'Dir2'!X55","v":0},{"$f":"'Dir1'!Y55+'Dir2'!Y55","v":0},{"$f":"'Dir1'!Z55+'Dir2'!Z55","v":0},{"$f":"'Dir1'!AA55+'Dir2'!AA55","v":0},{"$f":"'Dir1'!AB55+'Dir2'!AB55","v":0},{"$f":"'Dir1'!AC55+'Dir2'!AC55","v":0},{"$f":"'Dir1'!AD55+'Dir2'!AD55","v":0},{"$f":"'Dir1'!AE55+'Dir2'!AE55","v":0},{"$f":"'Dir1'!AF55+'Dir2'!AF55","v":0},{"$f":"'Dir1'!AG55+'Dir2'!AG55","v":0},{"$f":"'Dir1'!AH55+'Dir2'!AH55","v":0},{"$f":"'Dir1'!AI55+'Dir2'!AI55","v":0},{"$f":"'Dir1'!AJ55+'Dir2'!AJ55","v":0},{"$f":"'Dir1'!AK55+'Dir2'!AK55","v":0},"-",{"$f":"IFERROR(ROUND(PERCENTILE(_xlfn._xlws.FILTER(Data_Table[Speed],(Data_Table[Period]=$B55)*(SUM(C55:N55)>=10)),0.85),2),\"-\")","v":"-"}]
[52,{"$f":"ImportData!$B$10+7*QUOTIENT(A56,24*60*7/ImportData!$B$8)+MOD(1+QUOTIENT(A56,24*60/ImportData!$B$8)-ImportData!$E$10,7)+TIME(0,ImportData!$B$8*A56,0)","v":"2022-05-11T04:00:00"},{"$f":"'Dir1'!C56+'Dir2'!C56","v":0},{"$f":"'Dir1'!D56+'Dir2'!D56","v":0},{"$f":"'Dir1'!E56+'Dir2'!E56","v":0},{"$f":"'Dir1'!F56+'Dir2'!F56","v":0},{"$f":"'Dir1'!G56+'Dir2'!G56","v":0},{"$f":"'Dir1'!H56+'Dir2'!H56","v":0},{"$f":"'Dir1'!I56+'Dir2'!I56","v":0},{"$f":"'Dir1'!J56+'Dir2'!J56","v":0},{"$f":"'Dir1'!K56+'Dir2'!K56","v":0},{"$f":"'Dir1'!L56+'Dir2'!L56","v":0},{"$f":"'Dir1'!M56+'Dir2'!M56","v":0},{"$f":"'Dir1'!N56+'Dir2'!N56","v":0},{"$f":"'Dir1'!O56+'Dir2'!O56","v":0},{"$f":"'Dir1'!P56+'Dir2'!P56","v":0},{"$f":"'Dir1'!Q56+'Dir2'!Q56","v":0},{"$f":"'Dir1'!R56+'Dir2'!R56","v":0},{"$f":"'Dir1'!S56+'Dir2'!S56","v":0},{"$f":"'Dir1'!T56+'Dir2'!T56","v":0},{"$f":"'Dir1'!U56+'Dir2'!U56","v":0},{"$f":"'Dir1'!V56+'Dir2'!V56","v":0},{"$f":"'Dir1'!W56+'Dir2'!W56","v":0},{"$f":"'Dir1'!X56+'Dir2'!X56","v":0},{"$f":"'Dir1'!Y56+'Dir2'!Y56","v":0},{"$f":"'Dir1'!Z56+'Dir2'!Z56","v":0},{"$f":"'Dir1'!AA56+'Dir2'!AA56","v":0},{"$f":"'Dir1'!AB56+'Dir2'!AB56","v":0},{"$f":"'Dir1'!AC56+'Dir2'!AC56","v":0},{"$f":"'Dir1'!AD56+'Dir2'!AD56","v":0},{"$f":"'Dir1'!AE56+'Dir2'!AE56","v":0},{"$f":"'Dir1'!AF56+'Dir2'!AF56","v":0},{"$f":"'Dir1'!AG56+'Dir2'!AG56","v":0},{"$f":"'Dir1'!AH56+'Dir2'!AH56","v":0},{"$f":"'Dir1'!AI56+'Dir2'!AI56","v":0},{"$f":"'Dir1'!AJ56+'Dir2'!AJ56","v":0},{"$f":"'Dir1'!AK56+'Dir2'!AK56","v":0},"-",{"$f":"IFERROR(ROUND(PERCENTILE(_xlfn._xlws.FILTER(Data_Table[Speed],(Data_Table[Period]=$B56)*(SUM(C56:N56)>=10)),0.85),2),\"-\")","v":"-"}]
[53,{"$f":"ImportData!$B$10+7*QUOTIENT(A57,24*60*7/ImportData!$B$8)+MOD(1+QUOTIENT(A57,24*60/ImportData!$B$8)-ImportData!$E$10,7)+TIME(0,ImportData!$B$8*A57,0)","v":"2022-05-11T05:00:00"},{"$f":"'Dir1'!C57+'Dir2'!C57","v":0},{"$f":"'Dir1'!D57+'Dir2'!D57","v":0},{"$f":"'Dir1'!E57+'Dir2'!E57","v":0},{"$f":"'Dir1'!F57+'Dir2'!F57","v":0},{"$f":"'Dir1'!G57+'Dir2'!G57","v":0},{"$f":"'Dir1'!H57+'Dir2'!H57","v":0},{"$f":"'Dir1'!I57+'Dir2'!I57","v":0},{"$f":"'Dir1'!J57+'Dir2'!J57","v":0},{"$f":"'Dir1'!K57+'Dir2'!K57","v":0},{"$f":"'Dir1'!L57+'Dir2'!L57","v":0},{"$f":"'Dir1'!M57+'Dir2'!M57","v":0},{"$f":"'Dir1'!N57+'Dir2'!N57","v":0},{"$f":"'Dir1'!O57+'Dir2'!O57","v":0},{"$f":"'Dir1'!P57+'Dir2'!P57","v":0},{"$f":"'Dir1'!Q57+'Dir2'!Q57","v":0},{"$f":"'Dir1'!R57+'Dir2'!R57","v":0},{"$f":"'Dir1'!S57+'Dir2'!S57","v":0},{"$f":"'Dir1'!T57+'Dir2'!T57","v":0},{"$f":"'Dir1'!U57+'Dir2'!U57","v":0},{"$f":"'Dir1'!V57+'Dir2'!V57","v":0},{"$f":"'Dir1'!W57+'Dir2'!W57","v":0},{"$f":"'Dir1'!X57+'Dir2'!X57","v":0},{"$f":"'Dir1'!Y57+'Dir2'!Y57","v":0},{"$f":"'Dir1'!Z57+'Dir2'!Z57","v":0},{"$f":"'Dir1'!AA57+'Dir2'!AA57","v":0},{"$f":"'Dir1'!AB57+'Dir2'!AB57","v":0},{"$f":"'Dir1'!AC57+'Dir2'!AC57","v":0},{"$f":"'Dir1'!AD57+'Dir2'!AD57","v":0},{"$f":"'Dir1'!AE57+'Dir2'!AE57","v":0},{"$f":"'Dir1'!AF57+'Dir2'!AF57","v":0},{"$f":"'Dir1'!AG57+'Dir2'!AG57","v":0},{"$f":"'Dir1'!AH57+'Dir2'!AH57","v":0},{"$f":"'Dir1'!AI57+'Dir2'!AI57","v":0},{"$f":"'Dir1'!AJ57+'Dir2'!AJ57","v":0},{"$f":"'Dir1'!AK57+'Dir2'!AK57","v":0},"-",{"$f":"IFERROR(ROUND(PERCENTILE(_xlfn._xlws.FILTER(Data_Table[Speed],(Data_Table[Period]=$B57)*(SUM(C57:N57)>=10)),0.85),2),\"-\")","v":"-"}]
[54,{"$f":"ImportData!$B$10+7*QUOTIENT(A58,24*60*7/ImportData!$B$8)+MOD(1+QUOTIENT(A58,24*60/ImportData!$B$8)-ImportData!$E$10,7)+TIME(0,ImportData!$B$8*A58,0)","v":"2022-05-11T06:00:00"},{"$f":"'Dir1'!C58+'Dir2'!C58","v":0},{"$f":"'Dir1'!D58+'Dir2'!D58","v":0},{"$f":"'Dir1'!E58+'Dir2'!E58","v":0},{"$f":"'Dir1'!F58+'Dir2'!F58","v":0},{"$f":"'Dir1'!G58+'Dir2'!G58","v":0},{"$f":"'Dir1'!H58+'Dir2'!H58","v":0},{"$f":"'Dir1'!I58+'Dir2'!I58","v":0},{"$f":"'Dir1'!J58+'Dir2'!J58","v":0},{"$f":"'Dir1'!K58+'Dir2'!K58","v":0},{"$f":"'Dir1'!L58+'Dir2'!L58","v":0},{"$f":"'Dir1'!M58+'Dir2'!M58","v":0},{"$f":"'Dir1'!N58+'Dir2'!N58","v":0},{"$f":"'Dir1'!O58+'Dir2'!O58","v":0},{"$f":"'Dir1'!P58+'Dir2'!P58","v":0},{"$f":"'Dir1'!Q58+'Dir2'!Q58","v":0},{"$f":"'Dir1'!R58+'Dir2'!R58","v":0},{"$f":"'Dir1'!S58+'Dir2'!S58","v":0},{"$f":"'Dir1'!T58+'Dir2'!T58","v":0},{"$f":"'Dir1'!U58+'Dir2'!U58","v":0},{"$f":"'Dir1'!V58+'Dir2'!V58","v":0},{"$f":"'Dir1'!W58+'Dir2'!W58","v":0},{"$f":"'Dir1'!X58+'Dir2'!X58","v":0},{"$f":"'Dir1'!Y58+'Dir2'!Y58","v":0},{"$f":"'Dir1'!Z58+'Dir2'!Z58","v":0},{"$f":"'Dir1'!AA58+'Dir2'!AA58","v":0},{"$f":"'Dir1'!AB58+'Dir2'!AB58","v":0},{"$f":"'Dir1'!AC58+'Dir2'!AC58","v":0},{"$f":"'Dir1'!AD58+'Dir2'!AD58","v":0},{"$f":"'Dir1'!AE58+'Dir2'!AE58","v":0},{"$f":"'Dir1'!AF58+'Dir2'!AF58","v":0},{"$f":"'Dir1'!AG58+'Dir2'!AG58","v":0},{"$f":"'Dir1'!AH58+'Dir2'!AH58","v":0},{"$f":"'Dir1'!AI58+'Dir2'!AI58","v":0},{"$f":"'Dir1'!AJ58+'Dir2'!AJ58","v":0},{"$f":"'Dir1'!AK58+'Dir2'!AK58","v":0},"-",{"$f":"IFERROR(ROUND(PERCENTILE(_xlfn._xlws.FILTER(Data_Table[Speed],(Data_Table[Period]=$B58)*(SUM(C58:N58)>=10)),0.85),2),\"-\")","v":"-"}]
[55,{"$f":"ImportData!$B$10+7*QUOTIENT(A59,24*60*7/ImportData!$B$8)+MOD(1+QUOTIENT(A59,24*60/ImportData!$B$8)-ImportData!$E$10,7)+TIME(0,ImportData!$B$8*A59,0)","v":"2022-05-11T07:00:00"},{"$f":"'Dir1'!C59+'Dir2'!C59","v":0},{"$f":"'Dir1'!D59+'Dir2'!D59","v":0},{"$f":"'Dir1'!E59+'Dir2'!E59","v":0},{"$f":"'Dir1'!F59+'Dir2'!F59","v":0},{"$f":"'Dir1'!G59+'Dir2'!G59","v":0},{"$f":"'Dir1'!H59+'Dir2'!H59","v":0},{"$f":"'Dir1'!I59+'Dir2'!I59","v":0},{"$f":"'Dir1'!J59+'Dir2'!J59","v":0},{"$f":"'Dir1'!K59+'Dir2'!K59","v":0},{"$f":"'Dir1'!L59+'Dir2'!L59","v":0},{"$f":"'Dir1'!M59+'Dir2'!M59","v":0},{"$f":"'Dir1'!N59+'Dir2'!N59","v":0},{"$f":"'Dir1'!O59+'Dir2'!O59","v":0},{"$f":"'Dir1'!P59+'Dir2'!P59","v":0},{"$f":"'Dir1'!Q59+'Dir2'!Q59","v":0},{"$f":"'Dir1'!R59+'Dir2'!R59","v":0},{"$f":"'Dir1'!S59+'Dir2'!S59","v":0},{"$f":"'Dir1'!T59+'Dir2'!T59","v":0},{"$f":"'Dir1'!U59+'Dir2'!U59","v":0},{"$f":"'Dir1'!V59+'Dir2'!V59","v":0},{"$f":"'Dir1'!W59+'Dir2'!W59","v":0},{"$f":"'Dir1'!X59+'Dir2'!X59","v":0},{"$f":"'Dir1'!Y59+'Dir2'!Y59","v":0},{"$f":"'Dir1'!Z59+'Dir2'!Z59","v":0},{"$f":"'Dir1'!AA59+'Dir2'!AA59","v":0},{"$f":"'Dir1'!AB59+'Dir2'!AB59","v":0},{"$f":"'Dir1'!AC59+'Dir2'!AC59","v":0},{"$f":"'Dir1'!AD59+'Dir2'!AD59","v":0},{"$f":"'Dir1'!AE59+'Dir2'!AE59","v":0},{"$f":"'Dir1'!AF59+'Dir2'!AF59","v":0},{"$f":"'Dir1'!AG59+'Dir2'!AG59","v":0},{"$f":"'Dir1'!AH59+'Dir2'!AH59","v":0},{"$f":"'Dir1'!AI59+'Dir2'!AI59","v":0},{"$f":"'Dir1'!AJ59+'Dir2'!AJ59","v":0},{"$f":"'Dir1'!AK59+'Dir2'!AK59","v":0},"-",{"$f":"IFERROR(ROUND(PERCENTILE(_xlfn._xlws.FILTER(Data_Table[Speed],(Data_Table[Period]=$B59)*(SUM(C59:N59)>=10)),0.85),2),\"-\")","v":"-"}]
[56,{"$f":"ImportData!$B$10+7*QUOTIENT(A60,24*60*7/ImportData!$B$8)+MOD(1+QUOTIENT(A60,24*60/ImportData!$B$8)-ImportData!$E$10,7)+TIME(0,ImportData!$B$8*A60,0)","v":"2022-05-11T08:00:00"},{"$f":"'Dir1'!C60+'Dir2'!C60","v":0},{"$f":"'Dir1'!D60+'Dir2'!D60","v":0},{"$f":"'Dir1'!E60+'Dir2'!E60","v":0},{"$f":"'Dir1'!F60+'Dir2'!F60","v":0},{"$f":"'Dir1'!G60+'Dir2'!G60","v":0},{"$f":"'Dir1'!H60+'Dir2'!H60","v":0},{"$f":"'Dir1'!I60+'Dir2'!I60","v":0},{"$f":"'Dir1'!J60+'Dir2'!J60","v":0},{"$f":"'Dir1'!K60+'Dir2'!K60","v":0},{"$f":"'Dir1'!L60+'Dir2'!L60","v":0},{"$f":"'Dir1'!M60+'Dir2'!M60","v":0},{"$f":"'Dir1'!N60+'Dir2'!N60","v":0},{"$f":"'Dir1'!O60+'Dir2'!O60","v":0},{"$f":"'Dir1'!P60+'Dir2'!P60","v":0},{"$f":"'Dir1'!Q60+'Dir2'!Q60","v":0},{"$f":"'Dir1'!R60+'Dir2'!R60","v":0},{"$f":"'Dir1'!S60+'Dir2'!S60","v":0},{"$f":"'Dir1'!T60+'Dir2'!T60","v":0},{"$f":"'Dir1'!U60+'Dir2'!U60","v":0},{"$f":"'Dir1'!V60+'Dir2'!V60","v":0},{"$f":"'Dir1'!W60+'Dir2'!W60","v":0},{"$f":"'Dir1'!X60+'Dir2'!X60","v":0},{"$f":"'Dir1'!Y60+'Dir2'!Y60","v":0},{"$f":"'Dir1'!Z60+'Dir2'!Z60","v":0},{"$f":"'Dir1'!AA60+'Dir2'!AA60","v":0},{"$f":"'Dir1'!AB60+'Dir2'!AB60","v":0},{"$f":"'Dir1'!AC60+'Dir2'!AC60","v":0},{"$f":"'Dir1'!AD60+'Dir2'!AD60","v":0},{"$f":"'Dir1'!AE60+'Dir2'!AE60","v":0},{"$f":"'Dir1'!AF60+'Dir2'!AF60","v":0},{"$f":"'Dir1'!AG60+'Dir2'!AG60","v":0},{"$f":"'Dir1'!AH60+'Dir2'!AH60","v":0},{"$f":"'Dir1'!AI60+'Dir2'!AI60","v":0},{"$f":"'Dir1'!AJ60+'Dir2'!AJ60","v":0},{"$f":"'Dir1'!AK60+'Dir2'!AK60","v":0},"-",{"$f":"IFERROR(ROUND(PERCENTILE(_xlfn._xlws.FILTER(Data_Table[Speed],(Data_Table[Period]=$B60)*(SUM(C60:N60)>=10)),0.85),2),\"-\")","v":"-"}]
[57,{"$f":"ImportData!$B$10+7*QUOTIENT(A61,24*60*7/ImportData!$B$8)+MOD(1+QUOTIENT(A61,24*60/ImportData!$B$8)-ImportData!$E$10,7)+TIME(0,ImportData!$B$8*A61,0)","v":"2022-05-11T09:00:00"},{"$f":"'Dir1'!C61+'Dir2'!C61","v":0},{"$f":"'Dir1'!D61+'Dir2'!D61","v":0},{"$f":"'Dir1'!E61+'Dir2'!E61","v":0},{"$f":"'Dir1'!F61+'Dir2'!F61","v":0},{"$f":"'Dir1'!G61+'Dir2'!G61","v":0},{"$f":"'Dir1'!H61+'Dir2'!H61","v":0},{"$f":"'Dir1'!I61+'Dir2'!I61","v":0},{"$f":"'Dir1'!J61+'Dir2'!J61","v":0},{"$f":"'Dir1'!K61+'Dir2'!K61","v":0},{"$f":"'Dir1'!L61+'Dir2'!L61","v":0},{"$f":"'Dir1'!M61+'Dir2'!M61","v":0},{"$f":"'Dir1'!N61+'Dir2'!N61","v":0},{"$f":"'Dir1'!O61+'Dir2'!O61","v":0},{"$f":"'Dir1'!P61+'Dir2'!P61","v":0},{"$f":"'Dir1'!Q61+'Dir2'!Q61","v":0},{"$f":"'Dir1'!R61+'Dir2'!R61","v":0},{"$f":"'Dir1'!S61+'Dir2'!S61","v":0},{"$f":"'Dir1'!T61+'Dir2'!T61","v":0},{"$f":"'Dir1'!U61+'Dir2'!U61","v":0},{"$f":"'Dir1'!V61+'Dir2'!V61","v":0},{"$f":"'Dir1'!W61+'Dir2'!W61","v":0},{"$f":"'Dir1'!X61+'Dir2'!X61","v":0},{"$f":"'Dir1'!Y61+'Dir2'!Y61","v":0},{"$f":"'Dir1'!Z61+'Dir2'!Z61","v":0},{"$f":"'Dir1'!AA61+'Dir2'!AA61","v":0},{"$f":"'Dir1'!AB61+'Dir2'!AB61","v":0},{"$f":"'Dir1'!AC61+'Dir2'!AC61","v":0},{"$f":"'Dir1'!AD61+'Dir2'!AD61","v":0},{"$f":"'Dir1'!AE61+'Dir2'!AE61","v":0},{"$f":"'Dir1'!AF61+'Dir2'!AF61","v":0},{"$f":"'Dir1'!AG61+'Dir2'!AG61","v":0},{"$f":"'Dir1'!AH61+'Dir2'!AH61","v":0},{"$f":"'Dir1'!AI61+'Dir2'!AI61","v":0},{"$f":"'Dir1'!AJ61+'Dir2'!AJ61","v":0},{"$f":"'Dir1'!AK61+'Dir2'!AK61","v":0},"-",{"$f":"IFERROR(ROUND(PERCENTILE(_xlfn._xlws.FILTER(Data_Table[Speed],(Data_Table[Period]=$B61)*(SUM(C61:N61)>=10)),0.85),2),\"-\")","v":"-"}]
[58,{"$f":"ImportData!$B$10+7*QUOTIENT(A62,24*60*7/ImportData!$B$8)+MOD(1+QUOTIENT(A62,24*60/ImportData!$B$8)-ImportData!$E$10,7)+TIME(0,ImportData!$B$8*A62,0)","v":"2022-05-11T10:00:00"},{"$f":"'Dir1'!C62+'Dir2'!C62","v":0},{"$f":"'Dir1'!D62+'Dir2'!D62","v":0},{"$f":"'Dir1'!E62+'Dir2'!E62","v":0},{"$f":"'Dir1'!F62+'Dir2'!F62","v":0},{"$f":"'Dir1'!G62+'Dir2'!G62","v":0},{"$f":"'Dir1'!H62+'Dir2'!H62","v":0},{"$f":"'Dir1'!I62+'Dir2'!I62","v":0},{"$f":"'Dir1'!J62+'Dir2'!J62","v":0},{"$f":"'Dir1'!K62+'Dir2'!K62","v":0},{"$f":"'Dir1'!L62+'Dir2'!L62","v":0},{"$f":"'Dir1'!M62+'Dir2'!M62","v":0},{"$f":"'Dir1'!N62+'Dir2'!N62","v":0},{"$f":"'Dir1'!O62+'Dir2'!O62","v":0},{"$f":"'Dir1'!P62+'Dir2'!P62","v":0},{"$f":"'Dir1'!Q62+'Dir2'!Q62","v":0},{"$f":"'Dir1'!R62+'Dir2'!R62","v":0},{"$f":"'Dir1'!S62+'Dir2'!S62","v":0},{"$f":"'Dir1'!T62+'Dir2'!T62","v":0},{"$f":"'Dir1'!U62+'Dir2'!U62","v":0},{"$f":"'Dir1'!V62+'Dir2'!V62","v":0},{"$f":"'Dir1'!W62+'Dir2'!W62","v":0},{"$f":"'Dir1'!X62+'Dir2'!X62","v":0},{"$f":"'Dir1'!Y62+'Dir2'!Y62","v":0},{"$f":"'Dir1'!Z62+'Dir2'!Z62","v":0},{"$f":"'Dir1'!AA62+'Dir2'!AA62","v":0},{"$f":"'Dir1'!AB62+'Dir2'!AB62","v":0},{"$f":"'Dir1'!AC62+'Dir2'!AC62","v":0},{"$f":"'Dir1'!AD62+'Dir2'!AD62","v":0},{"$f":"'Dir1'!AE62+'Dir2'!AE62","v":0},{"$f":"'Dir1'!AF62+'Dir2'!AF62","v":0},{"$f":"'Dir1'!AG62+'Dir2'!AG62","v":0},{"$f":"'Dir1'!AH62+'Dir2'!AH62","v":0},{"$f":"'Dir1'!AI62+'Dir2'!AI62","v":0},{"$f":"'Dir1'!AJ62+'Dir2'!AJ62","v":0},{"$f":"'Dir1'!AK62+'Dir2'!AK62","v":0},"-",{"$f":"IFERROR(ROUND(PERCENTILE(_xlfn._xlws.FILTER(Data_Table[Speed],(Data_Table[Period]=$B62)*(SUM(C62:N62)>=10)),0.85),2),\"-\")","v":"-"}]
[59,{"$f":"ImportData!$B$10+7*QUOTIENT(A63,24*60*7/ImportData!$B$8)+MOD(1+QUOTIENT(A63,24*60/ImportData!$B$8)-ImportData!$E$10,7)+TIME(0,ImportData!$B$8*A63,0)","v":"2022-05-11T11:00:00"},{"$f":"'Dir1'!C63+'Dir2'!C63","v":0},{"$f":"'Dir1'!D63+'Dir2'!D63","v":0},{"$f":"'Dir1'!E63+'Dir2'!E63","v":0},{"$f":"'Dir1'!F63+'Dir2'!F63","v":0},{"$f":"'Dir1'!G63+'Dir2'!G63","v":0},{"$f":"'Dir1'!H63+'Dir2'!H63","v":0},{"$f":"'Dir1'!I63+'Dir2'!I63","v":0},{"$f":"'Dir1'!J63+'Dir2'!J63","v":0},{"$f":"'Dir1'!K63+'Dir2'!K63","v":0},{"$f":"'Dir1'!L63+'Dir2'!L63","v":0},{"$f":"'Dir1'!M63+'Dir2'!M63","v":0},{"$f":"'Dir1'!N63+'Dir2'!N63","v":0},{"$f":"'Dir1'!O63+'Dir2'!O63","v":0},{"$f":"'Dir1'!P63+'Dir2'!P63","v":0},{"$f":"'Dir1'!Q63+'Dir2'!Q63","v":0},{"$f":"'Dir1'!R63+'Dir2'!R63","v":0},{"$f":"'Dir1'!S63+'Dir2'!S63","v":0},{"$f":"'Dir1'!T63+'Dir2'!T63","v":0},{"$f":"'Dir1'!U63+'Dir2'!U63","v":0},{"$f":"'Dir1'!V63+'Dir2'!V63","v":0},{"$f":"'Dir1'!W63+'Dir2'!W63","v":0},{"$f":"'Dir1'!X63+'Dir2'!X63","v":0},{"$f":"'Dir1'!Y63+'Dir2'!Y63","v":0},{"$f":"'Dir1'!Z63+'Dir2'!Z63","v":0},{"$f":"'Dir1'!AA63+'Dir2'!AA63","v":0},{"$f":"'Dir1'!AB63+'Dir2'!AB63","v":0},{"$f":"'Dir1'!AC63+'Dir2'!AC63","v":0},{"$f":"'Dir1'!AD63+'Dir2'!AD63","v":0},{"$f":"'Dir1'!AE63+'Dir2'!AE63","v":0},{"$f":"'Dir1'!AF63+'Dir2'!AF63","v":0},{"$f":"'Dir1'!AG63+'Dir2'!AG63","v":0},{"$f":"'Dir1'!AH63+'Dir2'!AH63","v":0},{"$f":"'Dir1'!AI63+'Dir2'!AI63","v":0},{"$f":"'Dir1'!AJ63+'Dir2'!AJ63","v":0},{"$f":"'Dir1'!AK63+'Dir2'!AK63","v":0},"-",{"$f":"IFERROR(ROUND(PERCENTILE(_xlfn._xlws.FILTER(Data_Table[Speed],(Data_Table[Period]=$B63)*(SUM(C63:N63)>=10)),0.85),2),\"-\")","v":"-"}]
[60,{"$f":"ImportData!$B$10+7*QUOTIENT(A64,24*60*7/ImportData!$B$8)+MOD(1+QUOTIENT(A64,24*60/ImportData!$B$8)-ImportData!$E$10,7)+TIME(0,ImportData!$B$8*A64,0)","v":"2022-05-11T12:00:00"},{"$f":"'Dir1'!C64+'Dir2'!C64","v":0},{"$f":"'Dir1'!D64+'Dir2'!D64","v":0},{"$f":"'Dir1'!E64+'Dir2'!E64","v":0},{"$f":"'Dir1'!F64+'Dir2'!F64","v":0},{"$f":"'Dir1'!G64+'Dir2'!G64","v":0},{"$f":"'Dir1'!H64+'Dir2'!H64","v":0},{"$f":"'Dir1'!I64+'Dir2'!I64","v":0},{"$f":"'Dir1'!J64+'Dir2'!J64","v":0},{"$f":"'Dir1'!K64+'Dir2'!K64","v":0},{"$f":"'Dir1'!L64+'Dir2'!L64","v":0},{"$f":"'Dir1'!M64+'Dir2'!M64","v":0},{"$f":"'Dir1'!N64+'Dir2'!N64","v":0},{"$f":"'Dir1'!O64+'Dir2'!O64","v":0},{"$f":"'Dir1'!P64+'Dir2'!P64","v":0},{"$f":"'Dir1'!Q64+'Dir2'!Q64","v":0},{"$f":"'Dir1'!R64+'Dir2'!R64","v":0},{"$f":"'Dir1'!S64+'Dir2'!S64","v":0},{"$f":"'Dir1'!T64+'Dir2'!T64","v":0},{"$f":"'Dir1'!U64+'Dir2'!U64","v":0},{"$f":"'Dir1'!V64+'Dir2'!V64","v":0},{"$f":"'Dir1'!W64+'Dir2'!W64","v":0},{"$f":"'Dir1'!X64+'Dir2'!X64","v":0},{"$f":"'Dir1'!Y64+'Dir2'!Y64","v":0},{"$f":"'Dir1'!Z64+'Dir2'!Z64","v":0},{"$f":"'Dir1'!AA64+'Dir2'!AA64","v":0},{"$f":"'Dir1'!AB64+'Dir2'!AB64","v":0},{"$f":"'Dir1'!AC64+'Dir2'!AC64","v":0},{"$f":"'Dir1'!AD64+'Dir2'!AD64","v":0},{"$f":"'Dir1'!AE64+'Dir2'!AE64","v":0},{"$f":"'Dir1'!AF64+'Dir2'!AF64","v":0},{"$f":"'Dir1'!AG64+'Dir2'!AG64","v":0},{"$f":"'Dir1'!AH64+'Dir2'!AH64","v":0},{"$f":"'Dir1'!AI64+'Dir2'!AI64","v":0},{"$f":"'Dir1'!AJ64+'Dir2'!AJ64","v":0},{"$f":"'Dir1'!AK64+'Dir2'!AK64","v":0},"-",{"$f":"IFERROR(ROUND(PERCENTILE(_xlfn._xlws.FILTER(Data_Table[Speed],(Data_Table[Period]=$B64)*(SUM(C64:N64)>=10)),0.85),2),\"-\")","v":"-"}]
[61,{"$f":"ImportData!$B$10+7*QUOTIENT(A65,24*60*7/ImportData!$B$8)+MOD(1+QUOTIENT(A65,24*60/ImportData!$B$8)-ImportData!$E$10,7)+TIME(0,ImportData!$B$8*A65,0)","v":"2022-05-11T13:00:00"},{"$f":"'Dir1'!C65+'Dir2'!C65","v":0},{"$f":"'Dir1'!D65+'Dir2'!D65","v":0},{"$f":"'Dir1'!E65+'Dir2'!E65","v":0},{"$f":"'Dir1'!F65+'Dir2'!F65","v":0},{"$f":"'Dir1'!G65+'Dir2'!G65","v":0},{"$f":"'Dir1'!H65+'Dir2'!H65","v":0},{"$f":"'Dir1'!I65+'Dir2'!I65","v":0},{"$f":"'Dir1'!J65+'Dir2'!J65","v":0},{"$f":"'Dir1'!K65+'Dir2'!K65","v":0},{"$f":"'Dir1'!L65+'Dir2'!L65","v":0},{"$f":"'Dir1'!M65+'Dir2'!M65","v":0},{"$f":"'Dir1'!N65+'Dir2'!N65","v":0},{"$f":"'Dir1'!O65+'Dir2'!O65","v":0},{"$f":"'Dir1'!P65+'Dir2'!P65","v":0},{"$f":"'Dir1'!Q65+'Dir2'!Q65","v":0},{"$f":"'Dir1'!R65+'Dir2'!R65","v":0},{"$f":"'Dir1'!S65+'Dir2'!S65","v":0},{"$f":"'Dir1'!T65+'Dir2'!T65","v":0},{"$f":"'Dir1'!U65+'Dir2'!U65","v":0},{"$f":"'Dir1'!V65+'Dir2'!V65","v":0},{"$f":"'Dir1'!W65+'Dir2'!W65","v":0},{"$f":"'Dir1'!X65+'Dir2'!X65","v":0},{"$f":"'Dir1'!Y65+'Dir2'!Y65","v":0},{"$f":"'Dir1'!Z65+'Dir2'!Z65","v":0},{"$f":"'Dir1'!AA65+'Dir2'!AA65","v":0},{"$f":"'Dir1'!AB65+'Dir2'!AB65","v":0},{"$f":"'Dir1'!AC65+'Dir2'!AC65","v":0},{"$f":"'Dir1'!AD65+'Dir2'!AD65","v":0},{"$f":"'Dir1'!AE65+'Dir2'!AE65","v":0},{"$f":"'Dir1'!AF65+'Dir2'!AF65","v":0},{"$f":"'Dir1'!AG65+'Dir2'!AG65","v":0},{"$f":"'Dir1'!AH65+'Dir2'!AH65","v":0},{"$f":"'Dir1'!AI65+'Dir2'!AI65","v":0},{"$f":"'Dir1'!AJ65+'Dir2'!AJ65","v":0},{"$f":"'Dir1'!AK65+'Dir2'!AK65","v":0},"-",{"$f":"IFERROR(ROUND(PERCENTILE(_xlfn._xlws.FILTER(Data_Table[Speed],(Data_Table[Period]=$B65)*(SUM(C65:N65)>=10)),0.85),2),\"-\")","v":"-"}]
[62,{"$f":"ImportData!$B$10+7*QUOTIENT(A66,24*60*7/ImportData!$B$8)+MOD(1+QUOTIENT(A66,24*60/ImportData!$B$8)-ImportData!$E$10,7)+TIME(0,ImportData!$B$8*A66,0)","v":"2022-05-11T14:00:00"},{"$f":"'Dir1'!C66+'Dir2'!C66","v":0},{"$f":"'Dir1'!D66+'Dir2'!D66","v":0},{"$f":"'Dir1'!E66+'Dir2'!E66","v":0},{"$f":"'Dir1'!F66+'Dir2'!F66","v":0},{"$f":"'Dir1'!G66+'Dir2'!G66","v":0},{"$f":"'Dir1'!H66+'Dir2'!H66","v":0},{"$f":"'Dir1'!I66+'Dir2'!I66","v":0},{"$f":"'Dir1'!J66+'Dir2'!J66","v":0},{"$f":"'Dir1'!K66+'Dir2'!K66","v":0},{"$f":"'Dir1'!L66+'Dir2'!L66","v":0},{"$f":"'Dir1'!M66+'Dir2'!M66","v":0},{"$f":"'Dir1'!N66+'Dir2'!N66","v":0},{"$f":"'Dir1'!O66+'Dir2'!O66","v":0},{"$f":"'Dir1'!P66+'Dir2'!P66","v":0},{"$f":"'Dir1'!Q66+'Dir2'!Q66","v":0},{"$f":"'Dir1'!R66+'Dir2'!R66","v":0},{"$f":"'Dir1'!S66+'Dir2'!S66","v":0},{"$f":"'Dir1'!T66+'Dir2'!T66","v":0},{"$f":"'Dir1'!U66+'Dir2'!U66","v":0},{"$f":"'Dir1'!V66+'Dir2'!V66","v":0},{"$f":"'Dir1'!W66+'Dir2'!W66","v":0},{"$f":"'Dir1'!X66+'Dir2'!X66","v":0},{"$f":"'Dir1'!Y66+'Dir2'!Y66","v":0},{"$f":"'Dir1'!Z66+'Dir2'!Z66","v":0},{"$f":"'Dir1'!AA66+'Dir2'!AA66","v":0},{"$f":"'Dir1'!AB66+'Dir2'!AB66","v":0},{"$f":"'Dir1'!AC66+'Dir2'!AC66","v":0},{"$f":"'Dir1'!AD66+'Dir2'!AD66","v":0},{"$f":"'Dir1'!AE66+'Dir2'!AE66","v":0},{"$f":"'Dir1'!AF66+'Dir2'!AF66","v":0},{"$f":"'Dir1'!AG66+'Dir2'!AG66","v":0},{"$f":"'Dir1'!AH66+'Dir2'!AH66","v":0},{"$f":"'Dir1'!AI66+'Dir2'!AI66","v":0},{"$f":"'Dir1'!AJ66+'Dir2'!AJ66","v":0},{"$f":"'Dir1'!AK66+'Dir2'!AK66","v":0},"-",{"$f":"IFERROR(ROUND(PERCENTILE(_xlfn._xlws.FILTER(Data_Table[Speed],(Data_Table[Period]=$B66)*(SUM(C66:N66)>=10)),0.85),2),\"-\")","v":"-"}]
[63,{"$f":"ImportData!$B$10+7*QUOTIENT(A67,24*60*7/ImportData!$B$8)+MOD(1+QUOTIENT(A67,24*60/ImportData!$B$8)-ImportData!$E$10,7)+TIME(0,ImportData!$B$8*A67,0)","v":"2022-05-11T15:00:00"},{"$f":"'Dir1'!C67+'Dir2'!C67","v":0},{"$f":"'Dir1'!D67+'Dir2'!D67","v":0},{"$f":"'Dir1'!E67+'Dir2'!E67","v":0},{"$f":"'Dir1'!F67+'Dir2'!F67","v":0},{"$f":"'Dir1'!G67+'Dir2'!G67","v":0},{"$f":"'Dir1'!H67+'Dir2'!H67","v":0},{"$f":"'Dir1'!I67+'Dir2'!I67","v":0},{"$f":"'Dir1'!J67+'Dir2'!J67","v":0},{"$f":"'Dir1'!K67+'Dir2'!K67","v":0},{"$f":"'Dir1'!L67+'Dir2'!L67","v":0},{"$f":"'Dir1'!M67+'Dir2'!M67","v":0},{"$f":"'Dir1'!N67+'Dir2'!N67","v":0},{"$f":"'Dir1'!O67+'Dir2'!O67","v":0},{"$f":"'Dir1'!P67+'Dir2'!P67","v":0},{"$f":"'Dir1'!Q67+'Dir2'!Q67","v":0},{"$f":"'Dir1'!R67+'Dir2'!R67","v":0},{"$f":"'Dir1'!S67+'Dir2'!S67","v":0},{"$f":"'Dir1'!T67+'Dir2'!T67","v":0},{"$f":"'Dir1'!U67+'Dir2'!U67","v":0},{"$f":"'Dir1'!V67+'Dir2'!V67","v":0},{"$f":"'Dir1'!W67+'Dir2'!W67","v":0},{"$f":"'Dir1'!X67+'Dir2'!X67","v":0},{"$f":"'Dir1'!Y67+'Dir2'!Y67","v":0},{"$f":"'Dir1'!Z67+'Dir2'!Z67","v":0},{"$f":"'Dir1'!AA67+'Dir2'!AA67","v":0},{"$f":"'Dir1'!AB67+'Dir2'!AB67","v":0},{"$f":"'Dir1'!AC67+'Dir2'!AC67","v":0},{"$f":"'Dir1'!AD67+'Dir2'!AD67","v":0},{"$f":"'Dir1'!AE67+'Dir2'!AE67","v":0},{"$f":"'Dir1'!AF67+'Dir2'!AF67","v":0},{"$f":"'Dir1'!AG67+'Dir2'!AG67","v":0},{"$f":"'Dir1'!AH67+'Dir2'!AH67","v":0},{"$f":"'Dir1'!AI67+'Dir2'!AI67","v":0},{"$f":"'Dir1'!AJ67+'Dir2'!AJ67","v":0},{"$f":"'Dir1'!AK67+'Dir2'!AK67","v":0},"-",{"$f":"IFERROR(ROUND(PERCENTILE(_xlfn._xlws.FILTER(Data_Table[Speed],(Data_Table[Period]=$B67)*(SUM(C67:N67)>=10)),0.85),2),\"-\")","v":"-"}]
[64,{"$f":"ImportData!$B$10+7*QUOTIENT(A68,24*60*7/ImportData!$B$8)+MOD(1+QUOTIENT(A68,24*60/ImportData!$B$8)-ImportData!$E$10,7)+TIME(0,ImportData!$B$8*A68,0)","v":"2022-05-11T16:00:00"},{"$f":"'Dir1'!C68+'Dir2'!C68","v":0},{"$f":"'Dir1'!D68+'Dir2'!D68","v":0},{"$f":"'Dir1'!E68+'Dir2'!E68","v":0},{"$f":"'Dir1'!F68+'Dir2'!F68","v":0},{"$f":"'Dir1'!G68+'Dir2'!G68","v":0},{"$f":"'Dir1'!H68+'Dir2'!H68","v":0},{"$f":"'Dir1'!I68+'Dir2'!I68","v":0},{"$f":"'Dir1'!J68+'Dir2'!J68","v":0},{"$f":"'Dir1'!K68+'Dir2'!K68","v":0},{"$f":"'Dir1'!L68+'Dir2'!L68","v":0},{"$f":"'Dir1'!M68+'Dir2'!M68","v":0},{"$f":"'Dir1'!N68+'Dir2'!N68","v":0},{"$f":"'Dir1'!O68+'Dir2'!O68","v":0},{"$f":"'Dir1'!P68+'Dir2'!P68","v":0},{"$f":"'Dir1'!Q68+'Dir2'!Q68","v":0},{"$f":"'Dir1'!R68+'Dir2'!R68","v":0},{"$f":"'Dir1'!S68+'Dir2'!S68","v":0},{"$f":"'Dir1'!T68+'Dir2'!T68","v":0},{"$f":"'Dir1'!U68+'Dir2'!U68","v":0},{"$f":"'Dir1'!V68+'Dir2'!V68","v":0},{"$f":"'Dir1'!W68+'Dir2'!W68","v":0},{"$f":"'Dir1'!X68+'Dir2'!X68","v":0},{"$f":"'Dir1'!Y68+'Dir2'!Y68","v":0},{"$f":"'Dir1'!Z68+'Dir2'!Z68","v":0},{"$f":"'Dir1'!AA68+'Dir2'!AA68","v":0},{"$f":"'Dir1'!AB68+'Dir2'!AB68","v":0},{"$f":"'Dir1'!AC68+'Dir2'!AC68","v":0},{"$f":"'Dir1'!AD68+'Dir2'!AD68","v":0},{"$f":"'Dir1'!AE68+'Dir2'!AE68","v":0},{"$f":"'Dir1'!AF68+'Dir2'!AF68","v":0},{"$f":"'Dir1'!AG68+'Dir2'!AG68","v":0},{"$f":"'Dir1'!AH68+'Dir2'!AH68","v":0},{"$f":"'Dir1'!AI68+'Dir2'!AI68","v":0},{"$f":"'Dir1'!AJ68+'Dir2'!AJ68","v":0},{"$f":"'Dir1'!AK68+'Dir2'!AK68","v":0},"-",{"$f":"IFERROR(ROUND(PERCENTILE(_xlfn._xlws.FILTER(Data_Table[Speed],(Data_Table[Period]=$B68)*(SUM(C68:N68)>=10)),0.85),2),\"-\")","v":"-"}]
[65,{"$f":"ImportData!$B$10+7*QUOTIENT(A69,24*60*7/ImportData!$B$8)+MOD(1+QUOTIENT(A69,24*60/ImportData!$B$8)-ImportData!$E$10,7)+TIME(0,ImportData!$B$8*A69,0)","v":"2022-05-11T17:00:00"},{"$f":"'Dir1'!C69+'Dir2'!C69","v":0},{"$f":"'Dir1'!D69+'Dir2'!D69","v":0},{"$f":"'Dir1'!E69+'Dir2'!E69","v":0},{"$f":"'Dir1'!F69+'Dir2'!F69","v":0},{"$f":"'Dir1'!G69+'Dir2'!G69","v":0},{"$f":"'Dir1'!H69+'Dir2'!H69","v":0},{"$f":"'Dir1'!I69+'Dir2'!I69","v":0},{"$f":"'Dir1'!J69+'Dir2'!J69","v":0},{"$f":"'Dir1'!K69+'Dir2'!K69","v":0},{"$f":"'Dir1'!L69+'Dir2'!L69","v":0},{"$f":"'Dir1'!M69+'Dir2'!M69","v":0},{"$f":"'Dir1'!N69+'Dir2'!N69","v":0},{"$f":"'Dir1'!O69+'Dir2'!O69","v":0},{"$f":"'Dir1'!P69+'Dir2'!P69","v":0},{"$f":"'Dir1'!Q69+'Dir2'!Q69","v":0},{"$f":"'Dir1'!R69+'Dir2'!R69","v":0},{"$f":"'Dir1'!S69+'Dir2'!S69","v":0},{"$f":"'Dir1'!T69+'Dir2'!T69","v":0},{"$f":"'Dir1'!U69+'Dir2'!U69","v":0},{"$f":"'Dir1'!V69+'Dir2'!V69","v":0},{"$f":"'Dir1'!W69+'Dir2'!W69","v":0},{"$f":"'Dir1'!X69+'Dir2'!X69","v":0},{"$f":"'Dir1'!Y69+'Dir2'!Y69","v":0},{"$f":"'Dir1'!Z69+'Dir2'!Z69","v":0},{"$f":"'Dir1'!AA69+'Dir2'!AA69","v":0},{"$f":"'Dir1'!AB69+'Dir2'!AB69","v":0},{"$f":"'Dir1'!AC69+'Dir2'!AC69","v":0},{"$f":"'Dir1'!AD69+'Dir2'!AD69","v":0},{"$f":"'Dir1'!AE69+'Dir2'!AE69","v":0},{"$f":"'Dir1'!AF69+'Dir2'!AF69","v":0},{"$f":"'Dir1'!AG69+'Dir2'!AG69","v":0},{"$f":"'Dir1'!AH69+'Dir2'!AH69","v":0},{"$f":"'Dir1'!AI69+'Dir2'!AI69","v":0},{"$f":"'Dir1'!AJ69+'Dir2'!AJ69","v":0},{"$f":"'Dir1'!AK69+'Dir2'!AK69","v":0},"-",{"$f":"IFERROR(ROUND(PERCENTILE(_xlfn._xlws.FILTER(Data_Table[Speed],(Data_Table[Period]=$B69)*(SUM(C69:N69)>=10)),0.85),2),\"-\")","v":"-"}]
[66,{"$f":"ImportData!$B$10+7*QUOTIENT(A70,24*60*7/ImportData!$B$8)+MOD(1+QUOTIENT(A70,24*60/ImportData!$B$8)-ImportData!$E$10,7)+TIME(0,ImportData!$B$8*A70,0)","v":"2022-05-11T18:00:00"},{"$f":"'Dir1'!C70+'Dir2'!C70","v":0},{"$f":"'Dir1'!D70+'Dir2'!D70","v":0},{"$f":"'Dir1'!E70+'Dir2'!E70","v":0},{"$f":"'Dir1'!F70+'Dir2'!F70","v":0},{"$f":"'Dir1'!G70+'Dir2'!G70","v":0},{"$f":"'Dir1'!H70+'Dir2'!H70","v":0},{"$f":"'Dir1'!I70+'Dir2'!I70","v":0},{"$f":"'Dir1'!J70+'Dir2'!J70","v":0},{"$f":"'Dir1'!K70+'Dir2'!K70","v":0},{"$f":"'Dir1'!L70+'Dir2'!L70","v":0},{"$f":"'Dir1'!M70+'Dir2'!M70","v":0},{"$f":"'Dir1'!N70+'Dir2'!N70","v":0},{"$f":"'Dir1'!O70+'Dir2'!O70","v":0},{"$f":"'Dir1'!P70+'Dir2'!P70","v":0},{"$f":"'Dir1'!Q70+'Dir2'!Q70","v":0},{"$f":"'Dir1'!R70+'Dir2'!R70","v":0},{"$f":"'Dir1'!S70+'Dir2'!S70","v":0},{"$f":"'Dir1'!T70+'Dir2'!T70","v":0},{"$f":"'Dir1'!U70+'Dir2'!U70","v":0},{"$f":"'Dir1'!V70+'Dir2'!V70","v":0},{"$f":"'Dir1'!W70+'Dir2'!W70","v":0},{"$f":"'Dir1'!X70+'Dir2'!X70","v":0},{"$f":"'Dir1'!Y70+'Dir2'!Y70","v":0},{"$f":"'Dir1'!Z70+'Dir2'!Z70","v":0},{"$f":"'Dir1'!AA70+'Dir2'!AA70","v":0},{"$f":"'Dir1'!AB70+'Dir2'!AB70","v":0},{"$f":"'Dir1'!AC70+'Dir2'!AC70","v":0},{"$f":"'Dir1'!AD70+'Dir2'!AD70","v":0},{"$f":"'Dir1'!AE70+'Dir2'!AE70","v":0},{"$f":"'Dir1'!AF70+'Dir2'!AF70","v":0},{"$f":"'Dir1'!AG70+'Dir2'!AG70","v":0},{"$f":"'Dir1'!AH70+'Dir2'!AH70","v":0},{"$f":"'Dir1'!AI70+'Dir2'!AI70","v":0},{"$f":"'Dir1'!AJ70+'Dir2'!AJ70","v":0},{"$f":"'Dir1'!AK70+'Dir2'!AK70","v":0},"-",{"$f":"IFERROR(ROUND(PERCENTILE(_xlfn._xlws.FILTER(Data_Table[Speed],(Data_Table[Period]=$B70)*(SUM(C70:N70)>=10)),0.85),2),\"-\")","v":"-"}]
[67,{"$f":"ImportData!$B$10+7*QUOTIENT(A71,24*60*7/ImportData!$B$8)+MOD(1+QUOTIENT(A71,24*60/ImportData!$B$8)-ImportData!$E$10,7)+TIME(0,ImportData!$B$8*A71,0)","v":"2022-05-11T19:00:00"},{"$f":"'Dir1'!C71+'Dir2'!C71","v":0},{"$f":"'Dir1'!D71+'Dir2'!D71","v":0},{"$f":"'Dir1'!E71+'Dir2'!E71","v":0},{"$f":"'Dir1'!F71+'Dir2'!F71","v":0},{"$f":"'Dir1'!G71+'Dir2'!G71","v":0},{"$f":"'Dir1'!H71+'Dir2'!H71","v":0},{"$f":"'Dir1'!I71+'Dir2'!I71","v":0},{"$f":"'Dir1'!J71+'Dir2'!J71","v":0},{"$f":"'Dir1'!K71+'Dir2'!K71","v":0},{"$f":"'Dir1'!L71+'Dir2'!L71","v":0},{"$f":"'Dir1'!M71+'Dir2'!M71","v":0},{"$f":"'Dir1'!N71+'Dir2'!N71","v":0},{"$f":"'Dir1'!O71+'Dir2'!O71","v":0},{"$f":"'Dir1'!P71+'Dir2'!P71","v":0},{"$f":"'Dir1'!Q71+'Dir2'!Q71","v":0},{"$f":"'Dir1'!R71+'Dir2'!R71","v":0},{"$f":"'Dir1'!S71+'Dir2'!S71","v":0},{"$f":"'Dir1'!T71+'Dir2'!T71","v":0},{"$f":"'Dir1'!U71+'Dir2'!U71","v":0},{"$f":"'Dir1'!V71+'Dir2'!V71","v":0},{"$f":"'Dir1'!W71+'Dir2'!W71","v":0},{"$f":"'Dir1'!X71+'Dir2'!X71","v":0},{"$f":"'Dir1'!Y71+'Dir2'!Y71","v":0},{"$f":"'Dir1'!Z71+'Dir2'!Z71","v":0},{"$f":"'Dir1'!AA71+'Dir2'!AA71","v":0},{"$f":"'Dir1'!AB71+'Dir2'!AB71","v":0},{"$f":"'Dir1'!AC71+'Dir2'!AC71","v":0},{"$f":"'Dir1'!AD71+'Dir2'!AD71","v":0},{"$f":"'Dir1'!AE71+'Dir2'!AE71","v":0},{"$f":"'Dir1'!AF71+'Dir2'!AF71","v":0},{"$f":"'Dir1'!AG71+'Dir2'!AG71","v":0},{"$f":"'Dir1'!AH71+'Dir2'!AH71","v":0},{"$f":"'Dir1'!AI71+'Dir2'!AI71","v":0},{"$f":"'Dir1'!AJ71+'Dir2'!AJ71","v":0},{"$f":"'Dir1'!AK71+'Dir2'!AK71","v":0},"-",{"$f":"IFERROR(ROUND(PERCENTILE(_xlfn._xlws.FILTER(Data_Table[Speed],(Data_Table[Period]=$B71)*(SUM(C71:N71)>=10)),0.85),2),\"-\")","v":"-"}]
[68,{"$f":"ImportData!$B$10+7*QUOTIENT(A72,24*60*7/ImportData!$B$8)+MOD(1+QUOTIENT(A72,24*60/ImportData!$B$8)-ImportData!$E$10,7)+TIME(0,ImportData!$B$8*A72,0)","v":"2022-05-11T20:00:00"},{"$f":"'Dir1'!C72+'Dir2'!C72","v":0},{"$f":"'Dir1'!D72+'Dir2'!D72","v":0},{"$f":"'Dir1'!E72+'Dir2'!E72","v":0},{"$f":"'Dir1'!F72+'Dir2'!F72","v":0},{"$f":"'Dir1'!G72+'Dir2'!G72","v":0},{"$f":"'Dir1'!H72+'Dir2'!H72","v":0},{"$f":"'Dir1'!I72+'Dir2'!I72","v":0},{"$f":"'Dir1'!J72+'Dir2'!J72","v":0},{"$f":"'Dir1'!K72+'Dir2'!K72","v":0},{"$f":"'Dir1'!L72+'Dir2'!L72","v":0},{"$f":"'Dir1'!M72+'Dir2'!M72","v":0},{"$f":"'Dir1'!N72+'Dir2'!N72","v":0},{"$f":"'Dir1'!O72+'Dir2'!O72","v":0},{"$f":"'Dir1'!P72+'Dir2'!P72","v":0},{"$f":"'Dir1'!Q72+'Dir2'!Q72","v":0},{"$f":"'Dir1'!R72+'Dir2'!R72","v":0},{"$f":"'Dir1'!S72+'Dir2'!S72","v":0},{"$f":"'Dir1'!T72+'Dir2'!T72","v":0},{"$f":"'Dir1'!U72+'Dir2'!U72","v":0},{"$f":"'Dir1'!V72+'Dir2'!V72","v":0},{"$f":"'Dir1'!W72+'Dir2'!W72","v":0},{"$f":"'Dir1'!X72+'Dir2'!X72","v":0},{"$f":"'Dir1'!Y72+'Dir2'!Y72","v":0},{"$f":"'Dir1'!Z72+'Dir2'!Z72","v":0},{"$f":"'Dir1'!AA72+'Dir2'!AA72","v":0},{"$f":"'Dir1'!AB72+'Dir2'!AB72","v":0},{"$f":"'Dir1'!AC72+'Dir2'!AC72","v":0},{"$f":"'Dir1'!AD72+'Dir2'!AD72","v":0},{"$f":"'Dir1'!AE72+'Dir2'!AE72","v":0},{"$f":"'Dir1'!AF72+'Dir2'!AF72","v":0},{"$f":"'Dir1'!AG72+'Dir2'!AG72","v":0},{"$f":"'Dir1'!AH72+'Dir2'!AH72","v":0},{"$f":"'Dir1'!AI72+'Dir2'!AI72","v":0},{"$f":"'Dir1'!AJ72+'Dir2'!AJ72","v":0},{"$f":"'Dir1'!AK72+'Dir2'!AK72","v":0},"-",{"$f":"IFERROR(ROUND(PERCENTILE(_xlfn._xlws.FILTER(Data_Table[Speed],(Data_Table[Period]=$B72)*(SUM(C72:N72)>=10)),0.85),2),\"-\")","v":"-"}]
[69,{"$f":"ImportData!$B$10+7*QUOTIENT(A73,24*60*7/ImportData!$B$8)+MOD(1+QUOTIENT(A73,24*60/ImportData!$B$8)-ImportData!$E$10,7)+TIME(0,ImportData!$B$8*A73,0)","v":"2022-05-11T21:00:00"},{"$f":"'Dir1'!C73+'Dir2'!C73","v":0},{"$f":"'Dir1'!D73+'Dir2'!D73","v":0},{"$f":"'Dir1'!E73+'Dir2'!E73","v":0},{"$f":"'Dir1'!F73+'Dir2'!F73","v":0},{"$f":"'Dir1'!G73+'Dir2'!G73","v":0},{"$f":"'Dir1'!H73+'Dir2'!H73","v":0},{"$f":"'Dir1'!I73+'Dir2'!I73","v":0},{"$f":"'Dir1'!J73+'Dir2'!J73","v":0},{"$f":"'Dir1'!K73+'Dir2'!K73","v":0},{"$f":"'Dir1'!L73+'Dir2'!L73","v":0},{"$f":"'Dir1'!M73+'Dir2'!M73","v":0},{"$f":"'Dir1'!N73+'Dir2'!N73","v":0},{"$f":"'Dir1'!O73+'Dir2'!O73","v":0},{"$f":"'Dir1'!P73+'Dir2'!P73","v":0},{"$f":"'Dir1'!Q73+'Dir2'!Q73","v":0},{"$f":"'Dir1'!R73+'Dir2'!R73","v":0},{"$f":"'Dir1'!S73+'Dir2'!S73","v":0},{"$f":"'Dir1'!T73+'Dir2'!T73","v":0},{"$f":"'Dir1'!U73+'Dir2'!U73","v":0},{"$f":"'Dir1'!V73+'Dir2'!V73","v":0},{"$f":"'Dir1'!W73+'Dir2'!W73","v":0},{"$f":"'Dir1'!X73+'Dir2'!X73","v":0},{"$f":"'Dir1'!Y73+'Dir2'!Y73","v":0},{"$f":"'Dir1'!Z73+'Dir2'!Z73","v":0},{"$f":"'Dir1'!AA73+'Dir2'!AA73","v":0},{"$f":"'Dir1'!AB73+'Dir2'!AB73","v":0},{"$f":"'Dir1'!AC73+'Dir2'!AC73","v":0},{"$f":"'Dir1'!AD73+'Dir2'!AD73","v":0},{"$f":"'Dir1'!AE73+'Dir2'!AE73","v":0},{"$f":"'Dir1'!AF73+'Dir2'!AF73","v":0},{"$f":"'Dir1'!AG73+'Dir2'!AG73","v":0},{"$f":"'Dir1'!AH73+'Dir2'!AH73","v":0},{"$f":"'Dir1'!AI73+'Dir2'!AI73","v":0},{"$f":"'Dir1'!AJ73+'Dir2'!AJ73","v":0},{"$f":"'Dir1'!AK73+'Dir2'!AK73","v":0},"-",{"$f":"IFERROR(ROUND(PERCENTILE(_xlfn._xlws.FILTER(Data_Table[Speed],(Data_Table[Period]=$B73)*(SUM(C73:N73)>=10)),0.85),2),\"-\")","v":"-"}]
[70,{"$f":"ImportData!$B$10+7*QUOTIENT(A74,24*60*7/ImportData!$B$8)+MOD(1+QUOTIENT(A74,24*60/ImportData!$B$8)-ImportData!$E$10,7)+TIME(0,ImportData!$B$8*A74,0)","v":"2022-05-11T22:00:00"},{"$f":"'Dir1'!C74+'Dir2'!C74","v":0},{"$f":"'Dir1'!D74+'Dir2'!D74","v":0},{"$f":"'Dir1'!E74+'Dir2'!E74","v":0},{"$f":"'Dir1'!F74+'Dir2'!F74","v":0},{"$f":"'Dir1'!G74+'Dir2'!G74","v":0},{"$f":"'Dir1'!H74+'Dir2'!H74","v":0},{"$f":"'Dir1'!I74+'Dir2'!I74","v":0},{"$f":"'Dir1'!J74+'Dir2'!J74","v":0},{"$f":"'Dir1'!K74+'Dir2'!K74","v":0},{"$f":"'Dir1'!L74+'Dir2'!L74","v":0},{"$f":"'Dir1'!M74+'Dir2'!M74","v":0},{"$f":"'Dir1'!N74+'Dir2'!N74","v":0},{"$f":"'Dir1'!O74+'Dir2'!O74","v":0},{"$f":"'Dir1'!P74+'Dir2'!P74","v":0},{"$f":"'Dir1'!Q74+'Dir2'!Q74","v":0},{"$f":"'Dir1'!R74+'Dir2'!R74","v":0},{"$f":"'Dir1'!S74+'Dir2'!S74","v":0},{"$f":"'Dir1'!T74+'Dir2'!T74","v":0},{"$f":"'Dir1'!U74+'Dir2'!U74","v":0},{"$f":"'Dir1'!V74+'Dir2'!V74","v":0},{"$f":"'Dir1'!W74+'Dir2'!W74","v":0},{"$f":"'Dir1'!X74+'Dir2'!X74","v":0},{"$f":"'Dir1'!Y74+'Dir2'!Y74","v":0},{"$f":"'Dir1'!Z74+'Dir2'!Z74","v":0},{"$f":"'Dir1'!AA74+'Dir2'!AA74","v":0},{"$f":"'Dir1'!AB74+'Dir2'!AB74","v":0},{"$f":"'Dir1'!AC74+'Dir2'!AC74","v":0},{"$f":"'Dir1'!AD74+'Dir2'!AD74","v":0},{"$f":"'Dir1'!AE74+'Dir2'!AE74","v":0},{"$f":"'Dir1'!AF74+'Dir2'!AF74","v":0},{"$f":"'Dir1'!AG74+'Dir2'!AG74","v":0},{"$f":"'Dir1'!AH74+'Dir2'!AH74","v":0},{"$f":"'Dir1'!AI74+'Dir2'!AI74","v":0},{"$f":"'Dir1'!AJ74+'Dir2'!AJ74","v":0},{"$f":"'Dir1'!AK74+'Dir2'!AK74","v":0},"-",{"$f":"IFERROR(ROUND(PERCENTILE(_xlfn._xlws.FILTER(Data_Table[Speed],(Data_Table[Period]=$B74)*(SUM(C74:N74)>=10)),0.85),2),\"-\")","v":"-"}]
[71,{"$f":"ImportData!$B$10+7*QUOTIENT(A75,24*60*7/ImportData!$B$8)+MOD(1+QUOTIENT(A75,24*60/ImportData!$B$8)-ImportData!$E$10,7)+TIME(0,ImportData!$B$8*A75,0)","v":"2022-05-11T23:00:00"},{"$f":"'Dir1'!C75+'Dir2'!C75","v":0},{"$f":"'Dir1'!D75+'Dir2'!D75","v":0},{"$f":"'Dir1'!E75+'Dir2'!E75","v":0},{"$f":"'Dir1'!F75+'Dir2'!F75","v":0},{"$f":"'Dir1'!G75+'Dir2'!G75","v":0},{"$f":"'Dir1'!H75+'Dir2'!H75","v":0},{"$f":"'Dir1'!I75+'Dir2'!I75","v":0},{"$f":"'Dir1'!J75+'Dir2'!J75","v":0},{"$f":"'Dir1'!K75+'Dir2'!K75","v":0},{"$f":"'Dir1'!L75+'Dir2'!L75","v":0},{"$f":"'Dir1'!M75+'Dir2'!M75","v":0},{"$f":"'Dir1'!N75+'Dir2'!N75","v":0},{"$f":"'Dir1'!O75+'Dir2'!O75","v":0},{"$f":"'Dir1'!P75+'Dir2'!P75","v":0},{"$f":"'Dir1'!Q75+'Dir2'!Q75","v":0},{"$f":"'Dir1'!R75+'Dir2'!R75","v":0},{"$f":"'Dir1'!S75+'Dir2'!S75","v":0},{"$f":"'Dir1'!T75+'Dir2'!T75","v":0},{"$f":"'Dir1'!U75+'Dir2'!U75","v":0},{"$f":"'Dir1'!V75+'Dir2'!V75","v":0},{"$f":"'Dir1'!W75+'Dir2'!W75","v":0},{"$f":"'Dir1'!X75+'Dir2'!X75","v":0},{"$f":"'Dir1'!Y75+'Dir2'!Y75","v":0},{"$f":"'Dir1'!Z75+'Dir2'!Z75","v":0},{"$f":"'Dir1'!AA75+'Dir2'!AA75","v":0},{"$f":"'Dir1'!AB75+'Dir2'!AB75","v":0},{"$f":"'Dir1'!AC75+'Dir2'!AC75","v":0},{"$f":"'Dir1'!AD75+'Dir2'!AD75","v":0},{"$f":"'Dir1'!AE75+'Dir2'!AE75","v":0},{"$f":"'Dir1'!AF75+'Dir2'!AF75","v":0},{"$f":"'Dir1'!AG75+'Dir2'!AG75","v":0},{"$f":"'Dir1'!AH75+'Dir2'!AH75","v":0},{"$f":"'Dir1'!AI75+'Dir2'!AI75","v":0},{"$f":"'Dir1'!AJ75+'Dir2'!AJ75","v":0},{"$f":"'Dir1'!AK75+'Dir2'!AK75","v":0},"-",{"$f":"IFERROR(ROUND(PERCENTILE(_xlfn._xlws.FILTER(Data_Table[Speed],(Data_Table[Period]=$B75)*(SUM(C75:N75)>=10)),0.85),2),\"-\")","v":"-"}]
[72,{"$f":"ImportData!$B$10+7*QUOTIENT(A76,24*60*7/ImportData!$B$8)+MOD(1+QUOTIENT(A76,24*60/ImportData!$B$8)-ImportData!$E$10,7)+TIME(0,ImportData!$B$8*A76,0)","v":"2022-05-12"},{"$f":"'Dir1'!C76+'Dir2'!C76","v":0},{"$f":"'Dir1'!D76+'Dir2'!D76","v":0},{"$f":"'Dir1'!E76+'Dir2'!E76","v":0},{"$f":"'Dir1'!F76+'Dir2'!F76","v":0},{"$f":"'Dir1'!G76+'Dir2'!G76","v":0},{"$f":"'Dir1'!H76+'Dir2'!H76","v":0},{"$f":"'Dir1'!I76+'Dir2'!I76","v":0},{"$f":"'Dir1'!J76+'Dir2'!J76","v":0},{"$f":"'Dir1'!K76+'Dir2'!K76","v":0},{"$f":"'Dir1'!L76+'Dir2'!L76","v":0},{"$f":"'Dir1'!M76+'Dir2'!M76","v":0},{"$f":"'Dir1'!N76+'Dir2'!N76","v":0},{"$f":"'Dir1'!O76+'Dir2'!O76","v":0},{"$f":"'Dir1'!P76+'Dir2'!P76","v":0},{"$f":"'Dir1'!Q76+'Dir2'!Q76","v":0},{"$f":"'Dir1'!R76+'Dir2'!R76","v":0},{"$f":"'Dir1'!S76+'Dir2'!S76","v":0},{"$f":"'Dir1'!T76+'Dir2'!T76","v":0},{"$f":"'Dir1'!U76+'Dir2'!U76","v":0},{"$f":"'Dir1'!V76+'Dir2'!V76","v":0},{"$f":"'Dir1'!W76+'Dir2'!W76","v":0},{"$f":"'Dir1'!X76+'Dir2'!X76","v":0},{"$f":"'Dir1'!Y76+'Dir2'!Y76","v":0},{"$f":"'Dir1'!Z76+'Dir2'!Z76","v":0},{"$f":"'Dir1'!AA76+'Dir2'!AA76","v":0},{"$f":"'Dir1'!AB76+'Dir2'!AB76","v":0},{"$f":"'Dir1'!AC76+'Dir2'!AC76","v":0},{"$f":"'Dir1'!AD76+'Dir2'!AD76","v":0},{"$f":"'Dir1'!AE76+'Dir2'!AE76","v":0},{"$f":"'Dir1'!AF76+'Dir2'!AF76","v":0},{"$f":"'Dir1'!AG76+'Dir2'!AG76","v":0},{"$f":"'Dir1'!AH76+'Dir2'!AH76","v":0},{"$f":"'Dir1'!AI76+'Dir2'!AI76","v":0},{"$f":"'Dir1'!AJ76+'Dir2'!AJ76","v":0},{"$f":"'Dir1'!AK76+'Dir2'!AK76","v":0},"-",{"$f":"IFERROR(ROUND(PERCENTILE(_xlfn._xlws.FILTER(Data_Table[Speed],(Data_Table[Period]=$B76)*(SUM(C76:N76)>=10)),0.85),2),\"-\")","v":"-"}]
[73,{"$f":"ImportData!$B$10+7*QUOTIENT(A77,24*60*7/ImportData!$B$8)+MOD(1+QUOTIENT(A77,24*60/ImportData!$B$8)-ImportData!$E$10,7)+TIME(0,ImportData!$B$8*A77,0)","v":"2022-05-12T01:00:00"},{"$f":"'Dir1'!C77+'Dir2'!C77","v":0},{"$f":"'Dir1'!D77+'Dir2'!D77","v":0},{"$f":"'Dir1'!E77+'Dir2'!E77","v":0},{"$f":"'Dir1'!F77+'Dir2'!F77","v":0},{"$f":"'Dir1'!G77+'Dir2'!G77","v":0},{"$f":"'Dir1'!H77+'Dir2'!H77","v":0},{"$f":"'Dir1'!I77+'Dir2'!I77","v":0},{"$f":"'Dir1'!J77+'Dir2'!J77","v":0},{"$f":"'Dir1'!K77+'Dir2'!K77","v":0},{"$f":"'Dir1'!L77+'Dir2'!L77","v":0},{"$f":"'Dir1'!M77+'Dir2'!M77","v":0},{"$f":"'Dir1'!N77+'Dir2'!N77","v":0},{"$f":"'Dir1'!O77+'Dir2'!O77","v":0},{"$f":"'Dir1'!P77+'Dir2'!P77","v":0},{"$f":"'Dir1'!Q77+'Dir2'!Q77","v":0},{"$f":"'Dir1'!R77+'Dir2'!R77","v":0},{"$f":"'Dir1'!S77+'Dir2'!S77","v":0},{"$f":"'Dir1'!T77+'Dir2'!T77","v":0},{"$f":"'Dir1'!U77+'Dir2'!U77","v":0},{"$f":"'Dir1'!V77+'Dir2'!V77","v":0},{"$f":"'Dir1'!W77+'Dir2'!W77","v":0},{"$f":"'Dir1'!X77+'Dir2'!X77","v":0},{"$f":"'Dir1'!Y77+'Dir2'!Y77","v":0},{"$f":"'Dir1'!Z77+'Dir2'!Z77","v":0},{"$f":"'Dir1'!AA77+'Dir2'!AA77","v":0},{"$f":"'Dir1'!AB77+'Dir2'!AB77","v":0},{"$f":"'Dir1'!AC77+'Dir2'!AC77","v":0},{"$f":"'Dir1'!AD77+'Dir2'!AD77","v":0},{"$f":"'Dir1'!AE77+'Dir2'!AE77","v":0},{"$f":"'Dir1'!AF77+'Dir2'!AF77","v":0},{"$f":"'Dir1'!AG77+'Dir2'!AG77","v":0},{"$f":"'Dir1'!AH77+'Dir2'!AH77","v":0},{"$f":"'Dir1'!AI77+'Dir2'!AI77","v":0},{"$f":"'Dir1'!AJ77+'Dir2'!AJ77","v":0},{"$f":"'Dir1'!AK77+'Dir2'!AK77","v":0},"-",{"$f":"IFERROR(ROUND(PERCENTILE(_xlfn._xlws.FILTER(Data_Table[Speed],(Data_Table[Period]=$B77)*(SUM(C77:N77)>=10)),0.85),2),\"-\")","v":"-"}]
[74,{"$f":"ImportData!$B$10+7*QUOTIENT(A78,24*60*7/ImportData!$B$8)+MOD(1+QUOTIENT(A78,24*60/ImportData!$B$8)-ImportData!$E$10,7)+TIME(0,ImportData!$B$8*A78,0)","v":"2022-05-12T02:00:00"},{"$f":"'Dir1'!C78+'Dir2'!C78","v":0},{"$f":"'Dir1'!D78+'Dir2'!D78","v":0},{"$f":"'Dir1'!E78+'Dir2'!E78","v":0},{"$f":"'Dir1'!F78+'Dir2'!F78","v":0},{"$f":"'Dir1'!G78+'Dir2'!G78","v":0},{"$f":"'Dir1'!H78+'Dir2'!H78","v":0},{"$f":"'Dir1'!I78+'Dir2'!I78","v":0},{"$f":"'Dir1'!J78+'Dir2'!J78","v":0},{"$f":"'Dir1'!K78+'Dir2'!K78","v":0},{"$f":"'Dir1'!L78+'Dir2'!L78","v":0},{"$f":"'Dir1'!M78+'Dir2'!M78","v":0},{"$f":"'Dir1'!N78+'Dir2'!N78","v":0},{"$f":"'Dir1'!O78+'Dir2'!O78","v":0},{"$f":"'Dir1'!P78+'Dir2'!P78","v":0},{"$f":"'Dir1'!Q78+'Dir2'!Q78","v":0},{"$f":"'Dir1'!R78+'Dir2'!R78","v":0},{"$f":"'Dir1'!S78+'Dir2'!S78","v":0},{"$f":"'Dir1'!T78+'Dir2'!T78","v":0},{"$f":"'Dir1'!U78+'Dir2'!U78","v":0},{"$f":"'Dir1'!V78+'Dir2'!V78","v":0},{"$f":"'Dir1'!W78+'Dir2'!W78","v":0},{"$f":"'Dir1'!X78+'Dir2'!X78","v":0},{"$f":"'Dir1'!Y78+'Dir2'!Y78","v":0},{"$f":"'Dir1'!Z78+'Dir2'!Z78","v":0},{"$f":"'Dir1'!AA78+'Dir2'!AA78","v":0},{"$f":"'Dir1'!AB78+'Dir2'!AB78","v":0},{"$f":"'Dir1'!AC78+'Dir2'!AC78","v":0},{"$f":"'Dir1'!AD78+'Dir2'!AD78","v":0},{"$f":"'Dir1'!AE78+'Dir2'!AE78","v":0},{"$f":"'Dir1'!AF78+'Dir2'!AF78","v":0},{"$f":"'Dir1'!AG78+'Dir2'!AG78","v":0},{"$f":"'Dir1'!AH78+'Dir2'!AH78","v":0},{"$f":"'Dir1'!AI78+'Dir2'!AI78","v":0},{"$f":"'Dir1'!AJ78+'Dir2'!AJ78","v":0},{"$f":"'Dir1'!AK78+'Dir2'!AK78","v":0},"-",{"$f":"IFERROR(ROUND(PERCENTILE(_xlfn._xlws.FILTER(Data_Table[Speed],(Data_Table[Period]=$B78)*(SUM(C78:N78)>=10)),0.85),2),\"-\")","v":"-"}]
[75,{"$f":"ImportData!$B$10+7*QUOTIENT(A79,24*60*7/ImportData!$B$8)+MOD(1+QUOTIENT(A79,24*60/ImportData!$B$8)-ImportData!$E$10,7)+TIME(0,ImportData!$B$8*A79,0)","v":"2022-05-12T03:00:00"},{"$f":"'Dir1'!C79+'Dir2'!C79","v":0},{"$f":"'Dir1'!D79+'Dir2'!D79","v":0},{"$f":"'Dir1'!E79+'Dir2'!E79","v":0},{"$f":"'Dir1'!F79+'Dir2'!F79","v":0},{"$f":"'Dir1'!G79+'Dir2'!G79","v":0},{"$f":"'Dir1'!H79+'Dir2'!H79","v":0},{"$f":"'Dir1'!I79+'Dir2'!I79","v":0},{"$f":"'Dir1'!J79+'Dir2'!J79","v":0},{"$f":"'Dir1'!K79+'Dir2'!K79","v":0},{"$f":"'Dir1'!L79+'Dir2'!L79","v":0},{"$f":"'Dir1'!M79+'Dir2'!M79","v":0},{"$f":"'Dir1'!N79+'Dir2'!N79","v":0},{"$f":"'Dir1'!O79+'Dir2'!O79","v":0},{"$f":"'Dir1'!P79+'Dir2'!P79","v":0},{"$f":"'Dir1'!Q79+'Dir2'!Q79","v":0},{"$f":"'Dir1'!R79+'Dir2'!R79","v":0},{"$f":"'Dir1'!S79+'Dir2'!S79","v":0},{"$f":"'Dir1'!T79+'Dir2'!T79","v":0},{"$f":"'Dir1'!U79+'Dir2'!U79","v":0},{"$f":"'Dir1'!V79+'Dir2'!V79","v":0},{"$f":"'Dir1'!W79+'Dir2'!W79","v":0},{"$f":"'Dir1'!X79+'Dir2'!X79","v":0},{"$f":"'Dir1'!Y79+'Dir2'!Y79","v":0},{"$f":"'Dir1'!Z79+'Dir2'!Z79","v":0},{"$f":"'Dir1'!AA79+'Dir2'!AA79","v":0},{"$f":"'Dir1'!AB79+'Dir2'!AB79","v":0},{"$f":"'Dir1'!AC79+'Dir2'!AC79","v":0},{"$f":"'Dir1'!AD79+'Dir2'!AD79","v":0},{"$f":"'Dir1'!AE79+'Dir2'!AE79","v":0},{"$f":"'Dir1'!AF79+'Dir2'!AF79","v":0},{"$f":"'Dir1'!AG79+'Dir2'!AG79","v":0},{"$f":"'Dir1'!AH79+'Dir2'!AH79","v":0},{"$f":"'Dir1'!AI79+'Dir2'!AI79","v":0},{"$f":"'Dir1'!AJ79+'Dir2'!AJ79","v":0},{"$f":"'Dir1'!AK79+'Dir2'!AK79","v":0},"-",{"$f":"IFERROR(ROUND(PERCENTILE(_xlfn._xlws.FILTER(Data_Table[Speed],(Data_Table[Period]=$B79)*(SUM(C79:N79)>=10)),0.85),2),\"-\")","v":"-"}]
[76,{"$f":"ImportData!$B$10+7*QUOTIENT(A80,24*60*7/ImportData!$B$8)+MOD(1+QUOTIENT(A80,24*60/ImportData!$B$8)-ImportData!$E$10,7)+TIME(0,ImportData!$B$8*A80,0)","v":"2022-05-12T04:00:00"},{"$f":"'Dir1'!C80+'Dir2'!C80","v":0},{"$f":"'Dir1'!D80+'Dir2'!D80","v":0},{"$f":"'Dir1'!E80+'Dir2'!E80","v":0},{"$f":"'Dir1'!F80+'Dir2'!F80","v":0},{"$f":"'Dir1'!G80+'Dir2'!G80","v":0},{"$f":"'Dir1'!H80+'Dir2'!H80","v":0},{"$f":"'Dir1'!I80+'Dir2'!I80","v":0},{"$f":"'Dir1'!J80+'Dir2'!J80","v":0},{"$f":"'Dir1'!K80+'Dir2'!K80","v":0},{"$f":"'Dir1'!L80+'Dir2'!L80","v":0},{"$f":"'Dir1'!M80+'Dir2'!M80","v":0},{"$f":"'Dir1'!N80+'Dir2'!N80","v":0},{"$f":"'Dir1'!O80+'Dir2'!O80","v":0},{"$f":"'Dir1'!P80+'Dir2'!P80","v":0},{"$f":"'Dir1'!Q80+'Dir2'!Q80","v":0},{"$f":"'Dir1'!R80+'Dir2'!R80","v":0},{"$f":"'Dir1'!S80+'Dir2'!S80","v":0},{"$f":"'Dir1'!T80+'Dir2'!T80","v":0},{"$f":"'Dir1'!U80+'Dir2'!U80","v":0},{"$f":"'Dir1'!V80+'Dir2'!V80","v":0},{"$f":"'Dir1'!W80+'Dir2'!W80","v":0},{"$f":"'Dir1'!X80+'Dir2'!X80","v":0},{"$f":"'Dir1'!Y80+'Dir2'!Y80","v":0},{"$f":"'Dir1'!Z80+'Dir2'!Z80","v":0},{"$f":"'Dir1'!AA80+'Dir2'!AA80","v":0},{"$f":"'Dir1'!AB80+'Dir2'!AB80","v":0},{"$f":"'Dir1'!AC80+'Dir2'!AC80","v":0},{"$f":"'Dir1'!AD80+'Dir2'!AD80","v":0},{"$f":"'Dir1'!AE80+'Dir2'!AE80","v":0},{"$f":"'Dir1'!AF80+'Dir2'!AF80","v":0},{"$f":"'Dir1'!AG80+'Dir2'!AG80","v":0},{"$f":"'Dir1'!AH80+'Dir2'!AH80","v":0},{"$f":"'Dir1'!AI80+'Dir2'!AI80","v":0},{"$f":"'Dir1'!AJ80+'Dir2'!AJ80","v":0},{"$f":"'Dir1'!AK80+'Dir2'!AK80","v":0},"-",{"$f":"IFERROR(ROUND(PERCENTILE(_xlfn._xlws.FILTER(Data_Table[Speed],(Data_Table[Period]=$B80)*(SUM(C80:N80)>=10)),0.85),2),\"-\")","v":"-"}]
[77,{"$f":"ImportData!$B$10+7*QUOTIENT(A81,24*60*7/ImportData!$B$8)+MOD(1+QUOTIENT(A81,24*60/ImportData!$B$8)-ImportData!$E$10,7)+TIME(0,ImportData!$B$8*A81,0)","v":"2022-05-12T05:00:00"},{"$f":"'Dir1'!C81+'Dir2'!C81","v":0},{"$f":"'Dir1'!D81+'Dir2'!D81","v":0},{"$f":"'Dir1'!E81+'Dir2'!E81","v":0},{"$f":"'Dir1'!F81+'Dir2'!F81","v":0},{"$f":"'Dir1'!G81+'Dir2'!G81","v":0},{"$f":"'Dir1'!H81+'Dir2'!H81","v":0},{"$f":"'Dir1'!I81+'Dir2'!I81","v":0},{"$f":"'Dir1'!J81+'Dir2'!J81","v":0},{"$f":"'Dir1'!K81+'Dir2'!K81","v":0},{"$f":"'Dir1'!L81+'Dir2'!L81","v":0},{"$f":"'Dir1'!M81+'Dir2'!M81","v":0},{"$f":"'Dir1'!N81+'Dir2'!N81","v":0},{"$f":"'Dir1'!O81+'Dir2'!O81","v":0},{"$f":"'Dir1'!P81+'Dir2'!P81","v":0},{"$f":"'Dir1'!Q81+'Dir2'!Q81","v":0},{"$f":"'Dir1'!R81+'Dir2'!R81","v":0},{"$f":"'Dir1'!S81+'Dir2'!S81","v":0},{"$f":"'Dir1'!T81+'Dir2'!T81","v":0},{"$f":"'Dir1'!U81+'Dir2'!U81","v":0},{"$f":"'Dir1'!V81+'Dir2'!V81","v":0},{"$f":"'Dir1'!W81+'Dir2'!W81","v":0},{"$f":"'Dir1'!X81+'Dir2'!X81","v":0},{"$f":"'Dir1'!Y81+'Dir2'!Y81","v":0},{"$f":"'Dir1'!Z81+'Dir2'!Z81","v":0},{"$f":"'Dir1'!AA81+'Dir2'!AA81","v":0},{"$f":"'Dir1'!AB81+'Dir2'!AB81","v":0},{"$f":"'Dir1'!AC81+'Dir2'!AC81","v":0},{"$f":"'Dir1'!AD81+'Dir2'!AD81","v":0},{"$f":"'Dir1'!AE81+'Dir2'!AE81","v":0},{"$f":"'Dir1'!AF81+'Dir2'!AF81","v":0},{"$f":"'Dir1'!AG81+'Dir2'!AG81","v":0},{"$f":"'Dir1'!AH81+'Dir2'!AH81","v":0},{"$f":"'Dir1'!AI81+'Dir2'!AI81","v":0},{"$f":"'Dir1'!AJ81+'Dir2'!AJ81","v":0},{"$f":"'Dir1'!AK81+'Dir2'!AK81","v":0},"-",{"$f":"IFERROR(ROUND(PERCENTILE(_xlfn._xlws.FILTER(Data_Table[Speed],(Data_Table[Period]=$B81)*(SUM(C81:N81)>=10)),0.85),2),\"-\")","v":"-"}]
[78,{"$f":"ImportData!$B$10+7*QUOTIENT(A82,24*60*7/ImportData!$B$8)+MOD(1+QUOTIENT(A82,24*60/ImportData!$B$8)-ImportData!$E$10,7)+TIME(0,ImportData!$B$8*A82,0)","v":"2022-05-12T06:00:00"},{"$f":"'Dir1'!C82+'Dir2'!C82","v":0},{"$f":"'Dir1'!D82+'Dir2'!D82","v":0},{"$f":"'Dir1'!E82+'Dir2'!E82","v":0},{"$f":"'Dir1'!F82+'Dir2'!F82","v":0},{"$f":"'Dir1'!G82+'Dir2'!G82","v":0},{"$f":"'Dir1'!H82+'Dir2'!H82","v":0},{"$f":"'Dir1'!I82+'Dir2'!I82","v":0},{"$f":"'Dir1'!J82+'Dir2'!J82","v":0},{"$f":"'Dir1'!K82+'Dir2'!K82","v":0},{"$f":"'Dir1'!L82+'Dir2'!L82","v":0},{"$f":"'Dir1'!M82+'Dir2'!M82","v":0},{"$f":"'Dir1'!N82+'Dir2'!N82","v":0},{"$f":"'Dir1'!O82+'Dir2'!O82","v":0},{"$f":"'Dir1'!P82+'Dir2'!P82","v":0},{"$f":"'Dir1'!Q82+'Dir2'!Q82","v":0},{"$f":"'Dir1'!R82+'Dir2'!R82","v":0},{"$f":"'Dir1'!S82+'Dir2'!S82","v":0},{"$f":"'Dir1'!T82+'Dir2'!T82","v":0},{"$f":"'Dir1'!U82+'Dir2'!U82","v":0},{"$f":"'Dir1'!V82+'Dir2'!V82","v":0},{"$f":"'Dir1'!W82+'Dir2'!W82","v":0},{"$f":"'Dir1'!X82+'Dir2'!X82","v":0},{"$f":"'Dir1'!Y82+'Dir2'!Y82","v":0},{"$f":"'Dir1'!Z82+'Dir2'!Z82","v":0},{"$f":"'Dir1'!AA82+'Dir2'!AA82","v":0},{"$f":"'Dir1'!AB82+'Dir2'!AB82","v":0},{"$f":"'Dir1'!AC82+'Dir2'!AC82","v":0},{"$f":"'Dir1'!AD82+'Dir2'!AD82","v":0},{"$f":"'Dir1'!AE82+'Dir2'!AE82","v":0},{"$f":"'Dir1'!AF82+'Dir2'!AF82","v":0},{"$f":"'Dir1'!AG82+'Dir2'!AG82","v":0},{"$f":"'Dir1'!AH82+'Dir2'!AH82","v":0},{"$f":"'Dir1'!AI82+'Dir2'!AI82","v":0},{"$f":"'Dir1'!AJ82+'Dir2'!AJ82","v":0},{"$f":"'Dir1'!AK82+'Dir2'!AK82","v":0},"-",{"$f":"IFERROR(ROUND(PERCENTILE(_xlfn._xlws.FILTER(Data_Table[Speed],(Data_Table[Period]=$B82)*(SUM(C82:N82)>=10)),0.85),2),\"-\")","v":"-"}]
[79,{"$f":"ImportData!$B$10+7*QUOTIENT(A83,24*60*7/ImportData!$B$8)+MOD(1+QUOTIENT(A83,24*60/ImportData!$B$8)-ImportData!$E$10,7)+TIME(0,ImportData!$B$8*A83,0)","v":"2022-05-12T07:00:00"},{"$f":"'Dir1'!C83+'Dir2'!C83","v":0},{"$f":"'Dir1'!D83+'Dir2'!D83","v":0},{"$f":"'Dir1'!E83+'Dir2'!E83","v":0},{"$f":"'Dir1'!F83+'Dir2'!F83","v":0},{"$f":"'Dir1'!G83+'Dir2'!G83","v":0},{"$f":"'Dir1'!H83+'Dir2'!H83","v":0},{"$f":"'Dir1'!I83+'Dir2'!I83","v":0},{"$f":"'Dir1'!J83+'Dir2'!J83","v":0},{"$f":"'Dir1'!K83+'Dir2'!K83","v":0},{"$f":"'Dir1'!L83+'Dir2'!L83","v":0},{"$f":"'Dir1'!M83+'Dir2'!M83","v":0},{"$f":"'Dir1'!N83+'Dir2'!N83","v":0},{"$f":"'Dir1'!O83+'Dir2'!O83","v":0},{"$f":"'Dir1'!P83+'Dir2'!P83","v":0},{"$f":"'Dir1'!Q83+'Dir2'!Q83","v":0},{"$f":"'Dir1'!R83+'Dir2'!R83","v":0},{"$f":"'Dir1'!S83+'Dir2'!S83","v":0},{"$f":"'Dir1'!T83+'Dir2'!T83","v":0},{"$f":"'Dir1'!U83+'Dir2'!U83","v":0},{"$f":"'Dir1'!V83+'Dir2'!V83","v":0},{"$f":"'Dir1'!W83+'Dir2'!W83","v":0},{"$f":"'Dir1'!X83+'Dir2'!X83","v":0},{"$f":"'Dir1'!Y83+'Dir2'!Y83","v":0},{"$f":"'Dir1'!Z83+'Dir2'!Z83","v":0},{"$f":"'Dir1'!AA83+'Dir2'!AA83","v":0},{"$f":"'Dir1'!AB83+'Dir2'!AB83","v":0},{"$f":"'Dir1'!AC83+'Dir2'!AC83","v":0},{"$f":"'Dir1'!AD83+'Dir2'!AD83","v":0},{"$f":"'Dir1'!AE83+'Dir2'!AE83","v":0},{"$f":"'Dir1'!AF83+'Dir2'!AF83","v":0},{"$f":"'Dir1'!AG83+'Dir2'!AG83","v":0},{"$f":"'Dir1'!AH83+'Dir2'!AH83","v":0},{"$f":"'Dir1'!AI83+'Dir2'!AI83","v":0},{"$f":"'Dir1'!AJ83+'Dir2'!AJ83","v":0},{"$f":"'Dir1'!AK83+'Dir2'!AK83","v":0},"-",{"$f":"IFERROR(ROUND(PERCENTILE(_xlfn._xlws.FILTER(Data_Table[Speed],(Data_Table[Period]=$B83)*(SUM(C83:N83)>=10)),0.85),2),\"-\")","v":"-"}]
[80,{"$f":"ImportData!$B$10+7*QUOTIENT(A84,24*60*7/ImportData!$B$8)+MOD(1+QUOTIENT(A84,24*60/ImportData!$B$8)-ImportData!$E$10,7)+TIME(0,ImportData!$B$8*A84,0)","v":"2022-05-12T08:00:00"},{"$f":"'Dir1'!C84+'Dir2'!C84","v":0},{"$f":"'Dir1'!D84+'Dir2'!D84","v":0},{"$f":"'Dir1'!E84+'Dir2'!E84","v":0},{"$f":"'Dir1'!F84+'Dir2'!F84","v":0},{"$f":"'Dir1'!G84+'Dir2'!G84","v":0},{"$f":"'Dir1'!H84+'Dir2'!H84","v":0},{"$f":"'Dir1'!I84+'Dir2'!I84","v":0},{"$f":"'Dir1'!J84+'Dir2'!J84","v":0},{"$f":"'Dir1'!K84+'Dir2'!K84","v":0},{"$f":"'Dir1'!L84+'Dir2'!L84","v":0},{"$f":"'Dir1'!M84+'Dir2'!M84","v":0},{"$f":"'Dir1'!N84+'Dir2'!N84","v":0},{"$f":"'Dir1'!O84+'Dir2'!O84","v":0},{"$f":"'Dir1'!P84+'Dir2'!P84","v":0},{"$f":"'Dir1'!Q84+'Dir2'!Q84","v":0},{"$f":"'Dir1'!R84+'Dir2'!R84","v":0},{"$f":"'Dir1'!S84+'Dir2'!S84","v":0},{"$f":"'Dir1'!T84+'Dir2'!T84","v":0},{"$f":"'Dir1'!U84+'Dir2'!U84","v":0},{"$f":"'Dir1'!V84+'Dir2'!V84","v":0},{"$f":"'Dir1'!W84+'Dir2'!W84","v":0},{"$f":"'Dir1'!X84+'Dir2'!X84","v":0},{"$f":"'Dir1'!Y84+'Dir2'!Y84","v":0},{"$f":"'Dir1'!Z84+'Dir2'!Z84","v":0},{"$f":"'Dir1'!AA84+'Dir2'!AA84","v":0},{"$f":"'Dir1'!AB84+'Dir2'!AB84","v":0},{"$f":"'Dir1'!AC84+'Dir2'!AC84","v":0},{"$f":"'Dir1'!AD84+'Dir2'!AD84","v":0},{"$f":"'Dir1'!AE84+'Dir2'!AE84","v":0},{"$f":"'Dir1'!AF84+'Dir2'!AF84","v":0},{"$f":"'Dir1'!AG84+'Dir2'!AG84","v":0},{"$f":"'Dir1'!AH84+'Dir2'!AH84","v":0},{"$f":"'Dir1'!AI84+'Dir2'!AI84","v":0},{"$f":"'Dir1'!AJ84+'Dir2'!AJ84","v":0},{"$f":"'Dir1'!AK84+'Dir2'!AK84","v":0},"-",{"$f":"IFERROR(ROUND(PERCENTILE(_xlfn._xlws.FILTER(Data_Table[Speed],(Data_Table[Period]=$B84)*(SUM(C84:N84)>=10)),0.85),2),\"-\")","v":"-"}]
[81,{"$f":"ImportData!$B$10+7*QUOTIENT(A85,24*60*7/ImportData!$B$8)+MOD(1+QUOTIENT(A85,24*60/ImportData!$B$8)-ImportData!$E$10,7)+TIME(0,ImportData!$B$8*A85,0)","v":"2022-05-12T09:00:00"},{"$f":"'Dir1'!C85+'Dir2'!C85","v":0},{"$f":"'Dir1'!D85+'Dir2'!D85","v":0},{"$f":"'Dir1'!E85+'Dir2'!E85","v":0},{"$f":"'Dir1'!F85+'Dir2'!F85","v":0},{"$f":"'Dir1'!G85+'Dir2'!G85","v":0},{"$f":"'Dir1'!H85+'Dir2'!H85","v":0},{"$f":"'Dir1'!I85+'Dir2'!I85","v":0},{"$f":"'Dir1'!J85+'Dir2'!J85","v":0},{"$f":"'Dir1'!K85+'Dir2'!K85","v":0},{"$f":"'Dir1'!L85+'Dir2'!L85","v":0},{"$f":"'Dir1'!M85+'Dir2'!M85","v":0},{"$f":"'Dir1'!N85+'Dir2'!N85","v":0},{"$f":"'Dir1'!O85+'Dir2'!O85","v":0},{"$f":"'Dir1'!P85+'Dir2'!P85","v":0},{"$f":"'Dir1'!Q85+'Dir2'!Q85","v":0},{"$f":"'Dir1'!R85+'Dir2'!R85","v":0},{"$f":"'Dir1'!S85+'Dir2'!S85","v":0},{"$f":"'Dir1'!T85+'Dir2'!T85","v":0},{"$f":"'Dir1'!U85+'Dir2'!U85","v":0},{"$f":"'Dir1'!V85+'Dir2'!V85","v":0},{"$f":"'Dir1'!W85+'Dir2'!W85","v":0},{"$f":"'Dir1'!X85+'Dir2'!X85","v":0},{"$f":"'Dir1'!Y85+'Dir2'!Y85","v":0},{"$f":"'Dir1'!Z85+'Dir2'!Z85","v":0},{"$f":"'Dir1'!AA85+'Dir2'!AA85","v":0},{"$f":"'Dir1'!AB85+'Dir2'!AB85","v":0},{"$f":"'Dir1'!AC85+'Dir2'!AC85","v":0},{"$f":"'Dir1'!AD85+'Dir2'!AD85","v":0},{"$f":"'Dir1'!AE85+'Dir2'!AE85","v":0},{"$f":"'Dir1'!AF85+'Dir2'!AF85","v":0},{"$f":"'Dir1'!AG85+'Dir2'!AG85","v":0},{"$f":"'Dir1'!AH85+'Dir2'!AH85","v":0},{"$f":"'Dir1'!AI85+'Dir2'!AI85","v":0},{"$f":"'Dir1'!AJ85+'Dir2'!AJ85","v":0},{"$f":"'Dir1'!AK85+'Dir2'!AK85","v":0},"-",{"$f":"IFERROR(ROUND(PERCENTILE(_xlfn._xlws.FILTER(Data_Table[Speed],(Data_Table[Period]=$B85)*(SUM(C85:N85)>=10)),0.85),2),\"-\")","v":"-"}]
[82,{"$f":"ImportData!$B$10+7*QUOTIENT(A86,24*60*7/ImportData!$B$8)+MOD(1+QUOTIENT(A86,24*60/ImportData!$B$8)-ImportData!$E$10,7)+TIME(0,ImportData!$B$8*A86,0)","v":"2022-05-12T10:00:00"},{"$f":"'Dir1'!C86+'Dir2'!C86","v":0},{"$f":"'Dir1'!D86+'Dir2'!D86","v":0},{"$f":"'Dir1'!E86+'Dir2'!E86","v":0},{"$f":"'Dir1'!F86+'Dir2'!F86","v":0},{"$f":"'Dir1'!G86+'Dir2'!G86","v":0},{"$f":"'Dir1'!H86+'Dir2'!H86","v":0},{"$f":"'Dir1'!I86+'Dir2'!I86","v":0},{"$f":"'Dir1'!J86+'Dir2'!J86","v":0},{"$f":"'Dir1'!K86+'Dir2'!K86","v":0},{"$f":"'Dir1'!L86+'Dir2'!L86","v":0},{"$f":"'Dir1'!M86+'Dir2'!M86","v":0},{"$f":"'Dir1'!N86+'Dir2'!N86","v":0},{"$f":"'Dir1'!O86+'Dir2'!O86","v":0},{"$f":"'Dir1'!P86+'Dir2'!P86","v":0},{"$f":"'Dir1'!Q86+'Dir2'!Q86","v":0},{"$f":"'Dir1'!R86+'Dir2'!R86","v":0},{"$f":"'Dir1'!S86+'Dir2'!S86","v":0},{"$f":"'Dir1'!T86+'Dir2'!T86","v":0},{"$f":"'Dir1'!U86+'Dir2'!U86","v":0},{"$f":"'Dir1'!V86+'Dir2'!V86","v":0},{"$f":"'Dir1'!W86+'Dir2'!W86","v":0},{"$f":"'Dir1'!X86+'Dir2'!X86","v":0},{"$f":"'Dir1'!Y86+'Dir2'!Y86","v":0},{"$f":"'Dir1'!Z86+'Dir2'!Z86","v":0},{"$f":"'Dir1'!AA86+'Dir2'!AA86","v":0},{"$f":"'Dir1'!AB86+'Dir2'!AB86","v":0},{"$f":"'Dir1'!AC86+'Dir2'!AC86","v":0},{"$f":"'Dir1'!AD86+'Dir2'!AD86","v":0},{"$f":"'Dir1'!AE86+'Dir2'!AE86","v":0},{"$f":"'Dir1'!AF86+'Dir2'!AF86","v":0},{"$f":"'Dir1'!AG86+'Dir2'!AG86","v":0},{"$f":"'Dir1'!AH86+'Dir2'!AH86","v":0},{"$f":"'Dir1'!AI86+'Dir2'!AI86","v":0},{"$f":"'Dir1'!AJ86+'Dir2'!AJ86","v":0},{"$f":"'Dir1'!AK86+'Dir2'!AK86","v":0},"-",{"$f":"IFERROR(ROUND(PERCENTILE(_xlfn._xlws.FILTER(Data_Table[Speed],(Data_Table[Period]=$B86)*(SUM(C86:N86)>=10)),0.85),2),\"-\")","v":"-"}]
[83,{"$f":"ImportData!$B$10+7*QUOTIENT(A87,24*60*7/ImportData!$B$8)+MOD(1+QUOTIENT(A87,24*60/ImportData!$B$8)-ImportData!$E$10,7)+TIME(0,ImportData!$B$8*A87,0)","v":"2022-05-12T11:00:00"},{"$f":"'Dir1'!C87+'Dir2'!C87","v":0},{"$f":"'Dir1'!D87+'Dir2'!D87","v":0},{"$f":"'Dir1'!E87+'Dir2'!E87","v":0},{"$f":"'Dir1'!F87+'Dir2'!F87","v":0},{"$f":"'Dir1'!G87+'Dir2'!G87","v":0},{"$f":"'Dir1'!H87+'Dir2'!H87","v":0},{"$f":"'Dir1'!I87+'Dir2'!I87","v":0},{"$f":"'Dir1'!J87+'Dir2'!J87","v":0},{"$f":"'Dir1'!K87+'Dir2'!K87","v":0},{"$f":"'Dir1'!L87+'Dir2'!L87","v":0},{"$f":"'Dir1'!M87+'Dir2'!M87","v":0},{"$f":"'Dir1'!N87+'Dir2'!N87","v":0},{"$f":"'Dir1'!O87+'Dir2'!O87","v":0},{"$f":"'Dir1'!P87+'Dir2'!P87","v":0},{"$f":"'Dir1'!Q87+'Dir2'!Q87","v":0},{"$f":"'Dir1'!R87+'Dir2'!R87","v":0},{"$f":"'Dir1'!S87+'Dir2'!S87","v":0},{"$f":"'Dir1'!T87+'Dir2'!T87","v":0},{"$f":"'Dir1'!U87+'Dir2'!U87","v":0},{"$f":"'Dir1'!V87+'Dir2'!V87","v":0},{"$f":"'Dir1'!W87+'Dir2'!W87","v":0},{"$f":"'Dir1'!X87+'Dir2'!X87","v":0},{"$f":"'Dir1'!Y87+'Dir2'!Y87","v":0},{"$f":"'Dir1'!Z87+'Dir2'!Z87","v":0},{"$f":"'Dir1'!AA87+'Dir2'!AA87","v":0},{"$f":"'Dir1'!AB87+'Dir2'!AB87","v":0},{"$f":"'Dir1'!AC87+'Dir2'!AC87","v":0},{"$f":"'Dir1'!AD87+'Dir2'!AD87","v":0},{"$f":"'Dir1'!AE87+'Dir2'!AE87","v":0},{"$f":"'Dir1'!AF87+'Dir2'!AF87","v":0},{"$f":"'Dir1'!AG87+'Dir2'!AG87","v":0},{"$f":"'Dir1'!AH87+'Dir2'!AH87","v":0},{"$f":"'Dir1'!AI87+'Dir2'!AI87","v":0},{"$f":"'Dir1'!AJ87+'Dir2'!AJ87","v":0},{"$f":"'Dir1'!AK87+'Dir2'!AK87","v":0},"-",{"$f":"IFERROR(ROUND(PERCENTILE(_xlfn._xlws.FILTER(Data_Table[Speed],(Data_Table[Period]=$B87)*(SUM(C87:N87)>=10)),0.85),2),\"-\")","v":"-"}]
[84,{"$f":"ImportData!$B$10+7*QUOTIENT(A88,24*60*7/ImportData!$B$8)+MOD(1+QUOTIENT(A88,24*60/ImportData!$B$8)-ImportData!$E$10,7)+TIME(0,ImportData!$B$8*A88,0)","v":"2022-05-12T12:00:00"},{"$f":"'Dir1'!C88+'Dir2'!C88","v":0},{"$f":"'Dir1'!D88+'Dir2'!D88","v":0},{"$f":"'Dir1'!E88+'Dir2'!E88","v":0},{"$f":"'Dir1'!F88+'Dir2'!F88","v":0},{"$f":"'Dir1'!G88+'Dir2'!G88","v":0},{"$f":"'Dir1'!H88+'Dir2'!H88","v":0},{"$f":"'Dir1'!I88+'Dir2'!I88","v":0},{"$f":"'Dir1'!J88+'Dir2'!J88","v":0},{"$f":"'Dir1'!K88+'Dir2'!K88","v":0},{"$f":"'Dir1'!L88+'Dir2'!L88","v":0},{"$f":"'Dir1'!M88+'Dir2'!M88","v":0},{"$f":"'Dir1'!N88+'Dir2'!N88","v":0},{"$f":"'Dir1'!O88+'Dir2'!O88","v":0},{"$f":"'Dir1'!P88+'Dir2'!P88","v":0},{"$f":"'Dir1'!Q88+'Dir2'!Q88","v":0},{"$f":"'Dir1'!R88+'Dir2'!R88","v":0},{"$f":"'Dir1'!S88+'Dir2'!S88","v":0},{"$f":"'Dir1'!T88+'Dir2'!T88","v":0},{"$f":"'Dir1'!U88+'Dir2'!U88","v":0},{"$f":"'Dir1'!V88+'Dir2'!V88","v":0},{"$f":"'Dir1'!W88+'Dir2'!W88","v":0},{"$f":"'Dir1'!X88+'Dir2'!X88","v":0},{"$f":"'Dir1'!Y88+'Dir2'!Y88","v":0},{"$f":"'Dir1'!Z88+'Dir2'!Z88","v":0},{"$f":"'Dir1'!AA88+'Dir2'!AA88","v":0},{"$f":"'Dir1'!AB88+'Dir2'!AB88","v":0},{"$f":"'Dir1'!AC88+'Dir2'!AC88","v":0},{"$f":"'Dir1'!AD88+'Dir2'!AD88","v":0},{"$f":"'Dir1'!AE88+'Dir2'!AE88","v":0},{"$f":"'Dir1'!AF88+'Dir2'!AF88","v":0},{"$f":"'Dir1'!AG88+'Dir2'!AG88","v":0},{"$f":"'Dir1'!AH88+'Dir2'!AH88","v":0},{"$f":"'Dir1'!AI88+'Dir2'!AI88","v":0},{"$f":"'Dir1'!AJ88+'Dir2'!AJ88","v":0},{"$f":"'Dir1'!AK88+'Dir2'!AK88","v":0},"-",{"$f":"IFERROR(ROUND(PERCENTILE(_xlfn._xlws.FILTER(Data_Table[Speed],(Data_Table[Period]=$B88)*(SUM(C88:N88)>=10)),0.85),2),\"-\")","v":"-"}]
[85,{"$f":"ImportData!$B$10+7*QUOTIENT(A89,24*60*7/ImportData!$B$8)+MOD(1+QUOTIENT(A89,24*60/ImportData!$B$8)-ImportData!$E$10,7)+TIME(0,ImportData!$B$8*A89,0)","v":"2022-05-12T13:00:00"},{"$f":"'Dir1'!C89+'Dir2'!C89","v":0},{"$f":"'Dir1'!D89+'Dir2'!D89","v":0},{"$f":"'Dir1'!E89+'Dir2'!E89","v":0},{"$f":"'Dir1'!F89+'Dir2'!F89","v":0},{"$f":"'Dir1'!G89+'Dir2'!G89","v":0},{"$f":"'Dir1'!H89+'Dir2'!H89","v":0},{"$f":"'Dir1'!I89+'Dir2'!I89","v":0},{"$f":"'Dir1'!J89+'Dir2'!J89","v":0},{"$f":"'Dir1'!K89+'Dir2'!K89","v":0},{"$f":"'Dir1'!L89+'Dir2'!L89","v":0},{"$f":"'Dir1'!M89+'Dir2'!M89","v":0},{"$f":"'Dir1'!N89+'Dir2'!N89","v":0},{"$f":"'Dir1'!O89+'Dir2'!O89","v":0},{"$f":"'Dir1'!P89+'Dir2'!P89","v":0},{"$f":"'Dir1'!Q89+'Dir2'!Q89","v":0},{"$f":"'Dir1'!R89+'Dir2'!R89","v":0},{"$f":"'Dir1'!S89+'Dir2'!S89","v":0},{"$f":"'Dir1'!T89+'Dir2'!T89","v":0},{"$f":"'Dir1'!U89+'Dir2'!U89","v":0},{"$f":"'Dir1'!V89+'Dir2'!V89","v":0},{"$f":"'Dir1'!W89+'Dir2'!W89","v":0},{"$f":"'Dir1'!X89+'Dir2'!X89","v":0},{"$f":"'Dir1'!Y89+'Dir2'!Y89","v":0},{"$f":"'Dir1'!Z89+'Dir2'!Z89","v":0},{"$f":"'Dir1'!AA89+'Dir2'!AA89","v":0},{"$f":"'Dir1'!AB89+'Dir2'!AB89","v":0},{"$f":"'Dir1'!AC89+'Dir2'!AC89","v":0},{"$f":"'Dir1'!AD89+'Dir2'!AD89","v":0},{"$f":"'Dir1'!AE89+'Dir2'!AE89","v":0},{"$f":"'Dir1'!AF89+'Dir2'!AF89","v":0},{"$f":"'Dir1'!AG89+'Dir2'!AG89","v":0},{"$f":"'Dir1'!AH89+'Dir2'!AH89","v":0},{"$f":"'Dir1'!AI89+'Dir2'!AI89","v":0},{"$f":"'Dir1'!AJ89+'Dir2'!AJ89","v":0},{"$f":"'Dir1'!AK89+'Dir2'!AK89","v":0},"-",{"$f":"IFERROR(ROUND(PERCENTILE(_xlfn._xlws.FILTER(Data_Table[Speed],(Data_Table[Period]=$B89)*(SUM(C89:N89)>=10)),0.85),2),\"-\")","v":"-"}]
[86,{"$f":"ImportData!$B$10+7*QUOTIENT(A90,24*60*7/ImportData!$B$8)+MOD(1+QUOTIENT(A90,24*60/ImportData!$B$8)-ImportData!$E$10,7)+TIME(0,ImportData!$B$8*A90,0)","v":"2022-05-12T14:00:00"},{"$f":"'Dir1'!C90+'Dir2'!C90","v":0},{"$f":"'Dir1'!D90+'Dir2'!D90","v":0},{"$f":"'Dir1'!E90+'Dir2'!E90","v":0},{"$f":"'Dir1'!F90+'Dir2'!F90","v":0},{"$f":"'Dir1'!G90+'Dir2'!G90","v":0},{"$f":"'Dir1'!H90+'Dir2'!H90","v":0},{"$f":"'Dir1'!I90+'Dir2'!I90","v":0},{"$f":"'Dir1'!J90+'Dir2'!J90","v":0},{"$f":"'Dir1'!K90+'Dir2'!K90","v":0},{"$f":"'Dir1'!L90+'Dir2'!L90","v":0},{"$f":"'Dir1'!M90+'Dir2'!M90","v":0},{"$f":"'Dir1'!N90+'Dir2'!N90","v":0},{"$f":"'Dir1'!O90+'Dir2'!O90","v":0},{"$f":"'Dir1'!P90+'Dir2'!P90","v":0},{"$f":"'Dir1'!Q90+'Dir2'!Q90","v":0},{"$f":"'Dir1'!R90+'Dir2'!R90","v":0},{"$f":"'Dir1'!S90+'Dir2'!S90","v":0},{"$f":"'Dir1'!T90+'Dir2'!T90","v":0},{"$f":"'Dir1'!U90+'Dir2'!U90","v":0},{"$f":"'Dir1'!V90+'Dir2'!V90","v":0},{"$f":"'Dir1'!W90+'Dir2'!W90","v":0},{"$f":"'Dir1'!X90+'Dir2'!X90","v":0},{"$f":"'Dir1'!Y90+'Dir2'!Y90","v":0},{"$f":"'Dir1'!Z90+'Dir2'!Z90","v":0},{"$f":"'Dir1'!AA90+'Dir2'!AA90","v":0},{"$f":"'Dir1'!AB90+'Dir2'!AB90","v":0},{"$f":"'Dir1'!AC90+'Dir2'!AC90","v":0},{"$f":"'Dir1'!AD90+'Dir2'!AD90","v":0},{"$f":"'Dir1'!AE90+'Dir2'!AE90","v":0},{"$f":"'Dir1'!AF90+'Dir2'!AF90","v":0},{"$f":"'Dir1'!AG90+'Dir2'!AG90","v":0},{"$f":"'Dir1'!AH90+'Dir2'!AH90","v":0},{"$f":"'Dir1'!AI90+'Dir2'!AI90","v":0},{"$f":"'Dir1'!AJ90+'Dir2'!AJ90","v":0},{"$f":"'Dir1'!AK90+'Dir2'!AK90","v":0},"-",{"$f":"IFERROR(ROUND(PERCENTILE(_xlfn._xlws.FILTER(Data_Table[Speed],(Data_Table[Period]=$B90)*(SUM(C90:N90)>=10)),0.85),2),\"-\")","v":"-"}]
[87,{"$f":"ImportData!$B$10+7*QUOTIENT(A91,24*60*7/ImportData!$B$8)+MOD(1+QUOTIENT(A91,24*60/ImportData!$B$8)-ImportData!$E$10,7)+TIME(0,ImportData!$B$8*A91,0)","v":"2022-05-12T15:00:00"},{"$f":"'Dir1'!C91+'Dir2'!C91","v":0},{"$f":"'Dir1'!D91+'Dir2'!D91","v":0},{"$f":"'Dir1'!E91+'Dir2'!E91","v":0},{"$f":"'Dir1'!F91+'Dir2'!F91","v":0},{"$f":"'Dir1'!G91+'Dir2'!G91","v":0},{"$f":"'Dir1'!H91+'Dir2'!H91","v":0},{"$f":"'Dir1'!I91+'Dir2'!I91","v":0},{"$f":"'Dir1'!J91+'Dir2'!J91","v":0},{"$f":"'Dir1'!K91+'Dir2'!K91","v":0},{"$f":"'Dir1'!L91+'Dir2'!L91","v":0},{"$f":"'Dir1'!M91+'Dir2'!M91","v":0},{"$f":"'Dir1'!N91+'Dir2'!N91","v":0},{"$f":"'Dir1'!O91+'Dir2'!O91","v":0},{"$f":"'Dir1'!P91+'Dir2'!P91","v":0},{"$f":"'Dir1'!Q91+'Dir2'!Q91","v":0},{"$f":"'Dir1'!R91+'Dir2'!R91","v":0},{"$f":"'Dir1'!S91+'Dir2'!S91","v":0},{"$f":"'Dir1'!T91+'Dir2'!T91","v":0},{"$f":"'Dir1'!U91+'Dir2'!U91","v":0},{"$f":"'Dir1'!V91+'Dir2'!V91","v":0},{"$f":"'Dir1'!W91+'Dir2'!W91","v":0},{"$f":"'Dir1'!X91+'Dir2'!X91","v":0},{"$f":"'Dir1'!Y91+'Dir2'!Y91","v":0},{"$f":"'Dir1'!Z91+'Dir2'!Z91","v":0},{"$f":"'Dir1'!AA91+'Dir2'!AA91","v":0},{"$f":"'Dir1'!AB91+'Dir2'!AB91","v":0},{"$f":"'Dir1'!AC91+'Dir2'!AC91","v":0},{"$f":"'Dir1'!AD91+'Dir2'!AD91","v":0},{"$f":"'Dir1'!AE91+'Dir2'!AE91","v":0},{"$f":"'Dir1'!AF91+'Dir2'!AF91","v":0},{"$f":"'Dir1'!AG91+'Dir2'!AG91","v":0},{"$f":"'Dir1'!AH91+'Dir2'!AH91","v":0},{"$f":"'Dir1'!AI91+'Dir2'!AI91","v":0},{"$f":"'Dir1'!AJ91+'Dir2'!AJ91","v":0},{"$f":"'Dir1'!AK91+'Dir2'!AK91","v":0},"-",{"$f":"IFERROR(ROUND(PERCENTILE(_xlfn._xlws.FILTER(Data_Table[Speed],(Data_Table[Period]=$B91)*(SUM(C91:N91)>=10)),0.85),2),\"-\")","v":"-"}]
[88,{"$f":"ImportData!$B$10+7*QUOTIENT(A92,24*60*7/ImportData!$B$8)+MOD(1+QUOTIENT(A92,24*60/ImportData!$B$8)-ImportData!$E$10,7)+TIME(0,ImportData!$B$8*A92,0)","v":"2022-05-12T16:00:00"},{"$f":"'Dir1'!C92+'Dir2'!C92","v":0},{"$f":"'Dir1'!D92+'Dir2'!D92","v":0},{"$f":"'Dir1'!E92+'Dir2'!E92","v":0},{"$f":"'Dir1'!F92+'Dir2'!F92","v":0},{"$f":"'Dir1'!G92+'Dir2'!G92","v":0},{"$f":"'Dir1'!H92+'Dir2'!H92","v":0},{"$f":"'Dir1'!I92+'Dir2'!I92","v":0},{"$f":"'Dir1'!J92+'Dir2'!J92","v":0},{"$f":"'Dir1'!K92+'Dir2'!K92","v":0},{"$f":"'Dir1'!L92+'Dir2'!L92","v":0},{"$f":"'Dir1'!M92+'Dir2'!M92","v":0},{"$f":"'Dir1'!N92+'Dir2'!N92","v":0},{"$f":"'Dir1'!O92+'Dir2'!O92","v":0},{"$f":"'Dir1'!P92+'Dir2'!P92","v":0},{"$f":"'Dir1'!Q92+'Dir2'!Q92","v":0},{"$f":"'Dir1'!R92+'Dir2'!R92","v":0},{"$f":"'Dir1'!S92+'Dir2'!S92","v":0},{"$f":"'Dir1'!T92+'Dir2'!T92","v":0},{"$f":"'Dir1'!U92+'Dir2'!U92","v":0},{"$f":"'Dir1'!V92+'Dir2'!V92","v":0},{"$f":"'Dir1'!W92+'Dir2'!W92","v":0},{"$f":"'Dir1'!X92+'Dir2'!X92","v":0},{"$f":"'Dir1'!Y92+'Dir2'!Y92","v":0},{"$f":"'Dir1'!Z92+'Dir2'!Z92","v":0},{"$f":"'Dir1'!AA92+'Dir2'!AA92","v":0},{"$f":"'Dir1'!AB92+'Dir2'!AB92","v":0},{"$f":"'Dir1'!AC92+'Dir2'!AC92","v":0},{"$f":"'Dir1'!AD92+'Dir2'!AD92","v":0},{"$f":"'Dir1'!AE92+'Dir2'!AE92","v":0},{"$f":"'Dir1'!AF92+'Dir2'!AF92","v":0},{"$f":"'Dir1'!AG92+'Dir2'!AG92","v":0},{"$f":"'Dir1'!AH92+'Dir2'!AH92","v":0},{"$f":"'Dir1'!AI92+'Dir2'!AI92","v":0},{"$f":"'Dir1'!AJ92+'Dir2'!AJ92","v":0},{"$f":"'Dir1'!AK92+'Dir2'!AK92","v":0},"-",{"$f":"IFERROR(ROUND(PERCENTILE(_xlfn._xlws.FILTER(Data_Table[Speed],(Data_Table[Period]=$B92)*(SUM(C92:N92)>=10)),0.85),2),\"-\")","v":"-"}]
[89,{"$f":"ImportData!$B$10+7*QUOTIENT(A93,24*60*7/ImportData!$B$8)+MOD(1+QUOTIENT(A93,24*60/ImportData!$B$8)-ImportData!$E$10,7)+TIME(0,ImportData!$B$8*A93,0)","v":"2022-05-12T17:00:00"},{"$f":"'Dir1'!C93+'Dir2'!C93","v":0},{"$f":"'Dir1'!D93+'Dir2'!D93","v":0},{"$f":"'Dir1'!E93+'Dir2'!E93","v":0},{"$f":"'Dir1'!F93+'Dir2'!F93","v":0},{"$f":"'Dir1'!G93+'Dir2'!G93","v":0},{"$f":"'Dir1'!H93+'Dir2'!H93","v":0},{"$f":"'Dir1'!I93+'Dir2'!I93","v":0},{"$f":"'Dir1'!J93+'Dir2'!J93","v":0},{"$f":"'Dir1'!K93+'Dir2'!K93","v":0},{"$f":"'Dir1'!L93+'Dir2'!L93","v":0},{"$f":"'Dir1'!M93+'Dir2'!M93","v":0},{"$f":"'Dir1'!N93+'Dir2'!N93","v":0},{"$f":"'Dir1'!O93+'Dir2'!O93","v":0},{"$f":"'Dir1'!P93+'Dir2'!P93","v":0},{"$f":"'Dir1'!Q93+'Dir2'!Q93","v":0},{"$f":"'Dir1'!R93+'Dir2'!R93","v":0},{"$f":"'Dir1'!S93+'Dir2'!S93","v":0},{"$f":"'Dir1'!T93+'Dir2'!T93","v":0},{"$f":"'Dir1'!U93+'Dir2'!U93","v":0},{"$f":"'Dir1'!V93+'Dir2'!V93","v":0},{"$f":"'Dir1'!W93+'Dir2'!W93","v":0},{"$f":"'Dir1'!X93+'Dir2'!X93","v":0},{"$f":"'Dir1'!Y93+'Dir2'!Y93","v":0},{"$f":"'Dir1'!Z93+'Dir2'!Z93","v":0},{"$f":"'Dir1'!AA93+'Dir2'!AA93","v":0},{"$f":"'Dir1'!AB93+'Dir2'!AB93","v":0},{"$f":"'Dir1'!AC93+'Dir2'!AC93","v":0},{"$f":"'Dir1'!AD93+'Dir2'!AD93","v":0},{"$f":"'Dir1'!AE93+'Dir2'!AE93","v":0},{"$f":"'Dir1'!AF93+'Dir2'!AF93","v":0},{"$f":"'Dir1'!AG93+'Dir2'!AG93","v":0},{"$f":"'Dir1'!AH93+'Dir2'!AH93","v":0},{"$f":"'Dir1'!AI93+'Dir2'!AI93","v":0},{"$f":"'Dir1'!AJ93+'Dir2'!AJ93","v":0},{"$f":"'Dir1'!AK93+'Dir2'!AK93","v":0},"-",{"$f":"IFERROR(ROUND(PERCENTILE(_xlfn._xlws.FILTER(Data_Table[Speed],(Data_Table[Period]=$B93)*(SUM(C93:N93)>=10)),0.85),2),\"-\")","v":"-"}]
[90,{"$f":"ImportData!$B$10+7*QUOTIENT(A94,24*60*7/ImportData!$B$8)+MOD(1+QUOTIENT(A94,24*60/ImportData!$B$8)-ImportData!$E$10,7)+TIME(0,ImportData!$B$8*A94,0)","v":"2022-05-12T18:00:00"},{"$f":"'Dir1'!C94+'Dir2'!C94","v":0},{"$f":"'Dir1'!D94+'Dir2'!D94","v":0},{"$f":"'Dir1'!E94+'Dir2'!E94","v":0},{"$f":"'Dir1'!F94+'Dir2'!F94","v":0},{"$f":"'Dir1'!G94+'Dir2'!G94","v":0},{"$f":"'Dir1'!H94+'Dir2'!H94","v":0},{"$f":"'Dir1'!I94+'Dir2'!I94","v":0},{"$f":"'Dir1'!J94+'Dir2'!J94","v":0},{"$f":"'Dir1'!K94+'Dir2'!K94","v":0},{"$f":"'Dir1'!L94+'Dir2'!L94","v":0},{"$f":"'Dir1'!M94+'Dir2'!M94","v":0},{"$f":"'Dir1'!N94+'Dir2'!N94","v":0},{"$f":"'Dir1'!O94+'Dir2'!O94","v":0},{"$f":"'Dir1'!P94+'Dir2'!P94","v":0},{"$f":"'Dir1'!Q94+'Dir2'!Q94","v":0},{"$f":"'Dir1'!R94+'Dir2'!R94","v":0},{"$f":"'Dir1'!S94+'Dir2'!S94","v":0},{"$f":"'Dir1'!T94+'Dir2'!T94","v":0},{"$f":"'Dir1'!U94+'Dir2'!U94","v":0},{"$f":"'Dir1'!V94+'Dir2'!V94","v":0},{"$f":"'Dir1'!W94+'Dir2'!W94","v":0},{"$f":"'Dir1'!X94+'Dir2'!X94","v":0},{"$f":"'Dir1'!Y94+'Dir2'!Y94","v":0},{"$f":"'Dir1'!Z94+'Dir2'!Z94","v":0},{"$f":"'Dir1'!AA94+'Dir2'!AA94","v":0},{"$f":"'Dir1'!AB94+'Dir2'!AB94","v":0},{"$f":"'Dir1'!AC94+'Dir2'!AC94","v":0},{"$f":"'Dir1'!AD94+'Dir2'!AD94","v":0},{"$f":"'Dir1'!AE94+'Dir2'!AE94","v":0},{"$f":"'Dir1'!AF94+'Dir2'!AF94","v":0},{"$f":"'Dir1'!AG94+'Dir2'!AG94","v":0},{"$f":"'Dir1'!AH94+'Dir2'!AH94","v":0},{"$f":"'Dir1'!AI94+'Dir2'!AI94","v":0},{"$f":"'Dir1'!AJ94+'Dir2'!AJ94","v":0},{"$f":"'Dir1'!AK94+'Dir2'!AK94","v":0},"-",{"$f":"IFERROR(ROUND(PERCENTILE(_xlfn._xlws.FILTER(Data_Table[Speed],(Data_Table[Period]=$B94)*(SUM(C94:N94)>=10)),0.85),2),\"-\")","v":"-"}]
[91,{"$f":"ImportData!$B$10+7*QUOTIENT(A95,24*60*7/ImportData!$B$8)+MOD(1+QUOTIENT(A95,24*60/ImportData!$B$8)-ImportData!$E$10,7)+TIME(0,ImportData!$B$8*A95,0)","v":"2022-05-12T19:00:00"},{"$f":"'Dir1'!C95+'Dir2'!C95","v":0},{"$f":"'Dir1'!D95+'Dir2'!D95","v":0},{"$f":"'Dir1'!E95+'Dir2'!E95","v":0},{"$f":"'Dir1'!F95+'Dir2'!F95","v":0},{"$f":"'Dir1'!G95+'Dir2'!G95","v":0},{"$f":"'Dir1'!H95+'Dir2'!H95","v":0},{"$f":"'Dir1'!I95+'Dir2'!I95","v":0},{"$f":"'Dir1'!J95+'Dir2'!J95","v":0},{"$f":"'Dir1'!K95+'Dir2'!K95","v":0},{"$f":"'Dir1'!L95+'Dir2'!L95","v":0},{"$f":"'Dir1'!M95+'Dir2'!M95","v":0},{"$f":"'Dir1'!N95+'Dir2'!N95","v":0},{"$f":"'Dir1'!O95+'Dir2'!O95","v":0},{"$f":"'Dir1'!P95+'Dir2'!P95","v":0},{"$f":"'Dir1'!Q95+'Dir2'!Q95","v":0},{"$f":"'Dir1'!R95+'Dir2'!R95","v":0},{"$f":"'Dir1'!S95+'Dir2'!S95","v":0},{"$f":"'Dir1'!T95+'Dir2'!T95","v":0},{"$f":"'Dir1'!U95+'Dir2'!U95","v":0},{"$f":"'Dir1'!V95+'Dir2'!V95","v":0},{"$f":"'Dir1'!W95+'Dir2'!W95","v":0},{"$f":"'Dir1'!X95+'Dir2'!X95","v":0},{"$f":"'Dir1'!Y95+'Dir2'!Y95","v":0},{"$f":"'Dir1'!Z95+'Dir2'!Z95","v":0},{"$f":"'Dir1'!AA95+'Dir2'!AA95","v":0},{"$f":"'Dir1'!AB95+'Dir2'!AB95","v":0},{"$f":"'Dir1'!AC95+'Dir2'!AC95","v":0},{"$f":"'Dir1'!AD95+'Dir2'!AD95","v":0},{"$f":"'Dir1'!AE95+'Dir2'!AE95","v":0},{"$f":"'Dir1'!AF95+'Dir2'!AF95","v":0},{"$f":"'Dir1'!AG95+'Dir2'!AG95","v":0},{"$f":"'Dir1'!AH95+'Dir2'!AH95","v":0},{"$f":"'Dir1'!AI95+'Dir2'!AI95","v":0},{"$f":"'Dir1'!AJ95+'Dir2'!AJ95","v":0},{"$f":"'Dir1'!AK95+'Dir2'!AK95","v":0},"-",{"$f":"IFERROR(ROUND(PERCENTILE(_xlfn._xlws.FILTER(Data_Table[Speed],(Data_Table[Period]=$B95)*(SUM(C95:N95)>=10)),0.85),2),\"-\")","v":"-"}]
[92,{"$f":"ImportData!$B$10+7*QUOTIENT(A96,24*60*7/ImportData!$B$8)+MOD(1+QUOTIENT(A96,24*60/ImportData!$B$8)-ImportData!$E$10,7)+TIME(0,ImportData!$B$8*A96,0)","v":"2022-05-12T20:00:00"},{"$f":"'Dir1'!C96+'Dir2'!C96","v":0},{"$f":"'Dir1'!D96+'Dir2'!D96","v":0},{"$f":"'Dir1'!E96+'Dir2'!E96","v":0},{"$f":"'Dir1'!F96+'Dir2'!F96","v":0},{"$f":"'Dir1'!G96+'Dir2'!G96","v":0},{"$f":"'Dir1'!H96+'Dir2'!H96","v":0},{"$f":"'Dir1'!I96+'Dir2'!I96","v":0},{"$f":"'Dir1'!J96+'Dir2'!J96","v":0},{"$f":"'Dir1'!K96+'Dir2'!K96","v":0},{"$f":"'Dir1'!L96+'Dir2'!L96","v":0},{"$f":"'Dir1'!M96+'Dir2'!M96","v":0},{"$f":"'Dir1'!N96+'Dir2'!N96","v":0},{"$f":"'Dir1'!O96+'Dir2'!O96","v":0},{"$f":"'Dir1'!P96+'Dir2'!P96","v":0},{"$f":"'Dir1'!Q96+'Dir2'!Q96","v":0},{"$f":"'Dir1'!R96+'Dir2'!R96","v":0},{"$f":"'Dir1'!S96+'Dir2'!S96","v":0},{"$f":"'Dir1'!T96+'Dir2'!T96","v":0},{"$f":"'Dir1'!U96+'Dir2'!U96","v":0},{"$f":"'Dir1'!V96+'Dir2'!V96","v":0},{"$f":"'Dir1'!W96+'Dir2'!W96","v":0},{"$f":"'Dir1'!X96+'Dir2'!X96","v":0},{"$f":"'Dir1'!Y96+'Dir2'!Y96","v":0},{"$f":"'Dir1'!Z96+'Dir2'!Z96","v":0},{"$f":"'Dir1'!AA96+'Dir2'!AA96","v":0},{"$f":"'Dir1'!AB96+'Dir2'!AB96","v":0},{"$f":"'Dir1'!AC96+'Dir2'!AC96","v":0},{"$f":"'Dir1'!AD96+'Dir2'!AD96","v":0},{"$f":"'Dir1'!AE96+'Dir2'!AE96","v":0},{"$f":"'Dir1'!AF96+'Dir2'!AF96","v":0},{"$f":"'Dir1'!AG96+'Dir2'!AG96","v":0},{"$f":"'Dir1'!AH96+'Dir2'!AH96","v":0},{"$f":"'Dir1'!AI96+'Dir2'!AI96","v":0},{"$f":"'Dir1'!AJ96+'Dir2'!AJ96","v":0},{"$f":"'Dir1'!AK96+'Dir2'!AK96","v":0},"-",{"$f":"IFERROR(ROUND(PERCENTILE(_xlfn._xlws.FILTER(Data_Table[Speed],(Data_Table[Period]=$B96)*(SUM(C96:N96)>=10)),0.85),2),\"-\")","v":"-"}]
[93,{"$f":"ImportData!$B$10+7*QUOTIENT(A97,24*60*7/ImportData!$B$8)+MOD(1+QUOTIENT(A97,24*60/ImportData!$B$8)-ImportData!$E$10,7)+TIME(0,ImportData!$B$8*A97,0)","v":"2022-05-12T21:00:00"},{"$f":"'Dir1'!C97+'Dir2'!C97","v":0},{"$f":"'Dir1'!D97+'Dir2'!D97","v":0},{"$f":"'Dir1'!E97+'Dir2'!E97","v":0},{"$f":"'Dir1'!F97+'Dir2'!F97","v":0},{"$f":"'Dir1'!G97+'Dir2'!G97","v":0},{"$f":"'Dir1'!H97+'Dir2'!H97","v":0},{"$f":"'Dir1'!I97+'Dir2'!I97","v":0},{"$f":"'Dir1'!J97+'Dir2'!J97","v":0},{"$f":"'Dir1'!K97+'Dir2'!K97","v":0},{"$f":"'Dir1'!L97+'Dir2'!L97","v":0},{"$f":"'Dir1'!M97+'Dir2'!M97","v":0},{"$f":"'Dir1'!N97+'Dir2'!N97","v":0},{"$f":"'Dir1'!O97+'Dir2'!O97","v":0},{"$f":"'Dir1'!P97+'Dir2'!P97","v":0},{"$f":"'Dir1'!Q97+'Dir2'!Q97","v":0},{"$f":"'Dir1'!R97+'Dir2'!R97","v":0},{"$f":"'Dir1'!S97+'Dir2'!S97","v":0},{"$f":"'Dir1'!T97+'Dir2'!T97","v":0},{"$f":"'Dir1'!U97+'Dir2'!U97","v":0},{"$f":"'Dir1'!V97+'Dir2'!V97","v":0},{"$f":"'Dir1'!W97+'Dir2'!W97","v":0},{"$f":"'Dir1'!X97+'Dir2'!X97","v":0},{"$f":"'Dir1'!Y97+'Dir2'!Y97","v":0},{"$f":"'Dir1'!Z97+'Dir2'!Z97","v":0},{"$f":"'Dir1'!AA97+'Dir2'!AA97","v":0},{"$f":"'Dir1'!AB97+'Dir2'!AB97","v":0},{"$f":"'Dir1'!AC97+'Dir2'!AC97","v":0},{"$f":"'Dir1'!AD97+'Dir2'!AD97","v":0},{"$f":"'Dir1'!AE97+'Dir2'!AE97","v":0},{"$f":"'Dir1'!AF97+'Dir2'!AF97","v":0},{"$f":"'Dir1'!AG97+'Dir2'!AG97","v":0},{"$f":"'Dir1'!AH97+'Dir2'!AH97","v":0},{"$f":"'Dir1'!AI97+'Dir2'!AI97","v":0},{"$f":"'Dir1'!AJ97+'Dir2'!AJ97","v":0},{"$f":"'Dir1'!AK97+'Dir2'!AK97","v":0},"-",{"$f":"IFERROR(ROUND(PERCENTILE(_xlfn._xlws.FILTER(Data_Table[Speed],(Data_Table[Period]=$B97)*(SUM(C97:N97)>=10)),0.85),2),\"-\")","v":"-"}]
[94,{"$f":"ImportData!$B$10+7*QUOTIENT(A98,24*60*7/ImportData!$B$8)+MOD(1+QUOTIENT(A98,24*60/ImportData!$B$8)-ImportData!$E$10,7)+TIME(0,ImportData!$B$8*A98,0)","v":"2022-05-12T22:00:00"},{"$f":"'Dir1'!C98+'Dir2'!C98","v":0},{"$f":"'Dir1'!D98+'Dir2'!D98","v":0},{"$f":"'Dir1'!E98+'Dir2'!E98","v":0},{"$f":"'Dir1'!F98+'Dir2'!F98","v":0},{"$f":"'Dir1'!G98+'Dir2'!G98","v":0},{"$f":"'Dir1'!H98+'Dir2'!H98","v":0},{"$f":"'Dir1'!I98+'Dir2'!I98","v":0},{"$f":"'Dir1'!J98+'Dir2'!J98","v":0},{"$f":"'Dir1'!K98+'Dir2'!K98","v":0},{"$f":"'Dir1'!L98+'Dir2'!L98","v":0},{"$f":"'Dir1'!M98+'Dir2'!M98","v":0},{"$f":"'Dir1'!N98+'Dir2'!N98","v":0},{"$f":"'Dir1'!O98+'Dir2'!O98","v":0},{"$f":"'Dir1'!P98+'Dir2'!P98","v":0},{"$f":"'Dir1'!Q98+'Dir2'!Q98","v":0},{"$f":"'Dir1'!R98+'Dir2'!R98","v":0},{"$f":"'Dir1'!S98+'Dir2'!S98","v":0},{"$f":"'Dir1'!T98+'Dir2'!T98","v":0},{"$f":"'Dir1'!U98+'Dir2'!U98","v":0},{"$f":"'Dir1'!V98+'Dir2'!V98","v":0},{"$f":"'Dir1'!W98+'Dir2'!W98","v":0},{"$f":"'Dir1'!X98+'Dir2'!X98","v":0},{"$f":"'Dir1'!Y98+'Dir2'!Y98","v":0},{"$f":"'Dir1'!Z98+'Dir2'!Z98","v":0},{"$f":"'Dir1'!AA98+'Dir2'!AA98","v":0},{"$f":"'Dir1'!AB98+'Dir2'!AB98","v":0},{"$f":"'Dir1'!AC98+'Dir2'!AC98","v":0},{"$f":"'Dir1'!AD98+'Dir2'!AD98","v":0},{"$f":"'Dir1'!AE98+'Dir2'!AE98","v":0},{"$f":"'Dir1'!AF98+'Dir2'!AF98","v":0},{"$f":"'Dir1'!AG98+'Dir2'!AG98","v":0},{"$f":"'Dir1'!AH98+'Dir2'!AH98","v":0},{"$f":"'Dir1'!AI98+'Dir2'!AI98","v":0},{"$f":"'Dir1'!AJ98+'Dir2'!AJ98","v":0},{"$f":"'Dir1'!AK98+'Dir2'!AK98","v":0},"-",{"$f":"IFERROR(ROUND(PERCENTILE(_xlfn._xlws.FILTER(Data_Table[Speed],(Data_Table[Period]=$B98)*(SUM(C98:N98)>=10)),0.85),2),\"-\")","v":"-"}]
[95,{"$f":"ImportData!$B$10+7*QUOTIENT(A99,24*60*7/ImportData!$B$8)+MOD(1+QUOTIENT(A99,24*60/ImportData!$B$8)-ImportData!$E$10,7)+TIME(0,ImportData!$B$8*A99,0)","v":"2022-05-12T23:00:00"},{"$f":"'Dir1'!C99+'Dir2'!C99","v":0},{"$f":"'Dir1'!D99+'Dir2'!D99","v":0},{"$f":"'Dir1'!E99+'Dir2'!E99","v":0},{"$f":"'Dir1'!F99+'Dir2'!F99","v":0},{"$f":"'Dir1'!G99+'Dir2'!G99","v":0},{"$f":"'Dir1'!H99+'Dir2'!H99","v":0},{"$f":"'Dir1'!I99+'Dir2'!I99","v":0},{"$f":"'Dir1'!J99+'Dir2'!J99","v":0},{"$f":"'Dir1'!K99+'Dir2'!K99","v":0},{"$f":"'Dir1'!L99+'Dir2'!L99","v":0},{"$f":"'Dir1'!M99+'Dir2'!M99","v":0},{"$f":"'Dir1'!N99+'Dir2'!N99","v":0},{"$f":"'Dir1'!O99+'Dir2'!O99","v":0},{"$f":"'Dir1'!P99+'Dir2'!P99","v":0},{"$f":"'Dir1'!Q99+'Dir2'!Q99","v":0},{"$f":"'Dir1'!R99+'Dir2'!R99","v":0},{"$f":"'Dir1'!S99+'Dir2'!S99","v":0},{"$f":"'Dir1'!T99+'Dir2'!T99","v":0},{"$f":"'Dir1'!U99+'Dir2'!U99","v":0},{"$f":"'Dir1'!V99+'Dir2'!V99","v":0},{"$f":"'Dir1'!W99+'Dir2'!W99","v":0},{"$f":"'Dir1'!X99+'Dir2'!X99","v":0},{"$f":"'Dir1'!Y99+'Dir2'!Y99","v":0},{"$f":"'Dir1'!Z99+'Dir2'!Z99","v":0},{"$f":"'Dir1'!AA99+'Dir2'!AA99","v":0},{"$f":"'Dir1'!AB99+'Dir2'!AB99","v":0},{"$f":"'Dir1'!AC99+'Dir2'!AC99","v":0},{"$f":"'Dir1'!AD99+'Dir2'!AD99","v":0},{"$f":"'Dir1'!AE99+'Dir2'!AE99","v":0},{"$f":"'Dir1'!AF99+'Dir2'!AF99","v":0},{"$f":"'Dir1'!AG99+'Dir2'!AG99","v":0},{"$f":"'Dir1'!AH99+'Dir2'!AH99","v":0},{"$f":"'Dir1'!AI99+'Dir2'!AI99","v":0},{"$f":"'Dir1'!AJ99+'Dir2'!AJ99","v":0},{"$f":"'Dir1'!AK99+'Dir2'!AK99","v":0},"-",{"$f":"IFERROR(ROUND(PERCENTILE(_xlfn._xlws.FILTER(Data_Table[Speed],(Data_Table[Period]=$B99)*(SUM(C99:N99)>=10)),0.85),2),\"-\")","v":"-"}]
[96,{"$f":"ImportData!$B$10+7*QUOTIENT(A100,24*60*7/ImportData!$B$8)+MOD(1+QUOTIENT(A100,24*60/ImportData!$B$8)-ImportData!$E$10,7)+TIME(0,ImportData!$B$8*A100,0)","v":"2022-05-13"},{"$f":"'Dir1'!C100+'Dir2'!C100","v":0},{"$f":"'Dir1'!D100+'Dir2'!D100","v":0},{"$f":"'Dir1'!E100+'Dir2'!E100","v":0},{"$f":"'Dir1'!F100+'Dir2'!F100","v":0},{"$f":"'Dir1'!G100+'Dir2'!G100","v":0},{"$f":"'Dir1'!H100+'Dir2'!H100","v":0},{"$f":"'Dir1'!I100+'Dir2'!I100","v":0},{"$f":"'Dir1'!J100+'Dir2'!J100","v":0},{"$f":"'Dir1'!K100+'Dir2'!K100","v":0},{"$f":"'Dir1'!L100+'Dir2'!L100","v":0},{"$f":"'Dir1'!M100+'Dir2'!M100","v":0},{"$f":"'Dir1'!N100+'Dir2'!N100","v":0},{"$f":"'Dir1'!O100+'Dir2'!O100","v":0},{"$f":"'Dir1'!P100+'Dir2'!P100","v":0},{"$f":"'Dir1'!Q100+'Dir2'!Q100","v":0},{"$f":"'Dir1'!R100+'Dir2'!R100","v":0},{"$f":"'Dir1'!S100+'Dir2'!S100","v":0},{"$f":"'Dir1'!T100+'Dir2'!T100","v":0},{"$f":"'Dir1'!U100+'Dir2'!U100","v":0},{"$f":"'Dir1'!V100+'Dir2'!V100","v":0},{"$f":"'Dir1'!W100+'Dir2'!W100","v":0},{"$f":"'Dir1'!X100+'Dir2'!X100","v":0},{"$f":"'Dir1'!Y100+'Dir2'!Y100","v":0},{"$f":"'Dir1'!Z100+'Dir2'!Z100","v":0},{"$f":"'Dir1'!AA100+'Dir2'!AA100","v":0},{"$f":"'Dir1'!AB100+'Dir2'!AB100","v":0},{"$f":"'Dir1'!AC100+'Dir2'!AC100","v":0},{"$f":"'Dir1'!AD100+'Dir2'!AD100","v":0},{"$f":"'Dir1'!AE100+'Dir2'!AE100","v":0},{"$f":"'Dir1'!AF100+'Dir2'!AF100","v":0},{"$f":"'Dir1'!AG100+'Dir2'!AG100","v":0},{"$f":"'Dir1'!AH100+'Dir2'!AH100","v":0},{"$f":"'Dir1'!AI100+'Dir2'!AI100","v":0},{"$f":"'Dir1'!AJ100+'Dir2'!AJ100","v":0},{"$f":"'Dir1'!AK100+'Dir2'!AK100","v":0},"-",{"$f":"IFERROR(ROUND(PERCENTILE(_xlfn._xlws.FILTER(Data_Table[Speed],(Data_Table[Period]=$B100)*(SUM(C100:N100)>=10)),0.85),2),\"-\")","v":"-"}]
[97,{"$f":"ImportData!$B$10+7*QUOTIENT(A101,24*60*7/ImportData!$B$8)+MOD(1+QUOTIENT(A101,24*60/ImportData!$B$8)-ImportData!$E$10,7)+TIME(0,ImportData!$B$8*A101,0)","v":"2022-05-13T01:00:00"},{"$f":"'Dir1'!C101+'Dir2'!C101","v":0},{"$f":"'Dir1'!D101+'Dir2'!D101","v":0},{"$f":"'Dir1'!E101+'Dir2'!E101","v":0},{"$f":"'Dir1'!F101+'Dir2'!F101","v":0},{"$f":"'Dir1'!G101+'Dir2'!G101","v":0},{"$f":"'Dir1'!H101+'Dir2'!H101","v":0},{"$f":"'Dir1'!I101+'Dir2'!I101","v":0},{"$f":"'Dir1'!J101+'Dir2'!J101","v":0},{"$f":"'Dir1'!K101+'Dir2'!K101","v":0},{"$f":"'Dir1'!L101+'Dir2'!L101","v":0},{"$f":"'Dir1'!M101+'Dir2'!M101","v":0},{"$f":"'Dir1'!N101+'Dir2'!N101","v":0},{"$f":"'Dir1'!O101+'Dir2'!O101","v":0},{"$f":"'Dir1'!P101+'Dir2'!P101","v":0},{"$f":"'Dir1'!Q101+'Dir2'!Q101","v":0},{"$f":"'Dir1'!R101+'Dir2'!R101","v":0},{"$f":"'Dir1'!S101+'Dir2'!S101","v":0},{"$f":"'Dir1'!T101+'Dir2'!T101","v":0},{"$f":"'Dir1'!U101+'Dir2'!U101","v":0},{"$f":"'Dir1'!V101+'Dir2'!V101","v":0},{"$f":"'Dir1'!W101+'Dir2'!W101","v":0},{"$f":"'Dir1'!X101+'Dir2'!X101","v":0},{"$f":"'Dir1'!Y101+'Dir2'!Y101","v":0},{"$f":"'Dir1'!Z101+'Dir2'!Z101","v":0},{"$f":"'Dir1'!AA101+'Dir2'!AA101","v":0},{"$f":"'Dir1'!AB101+'Dir2'!AB101","v":0},{"$f":"'Dir1'!AC101+'Dir2'!AC101","v":0},{"$f":"'Dir1'!AD101+'Dir2'!AD101","v":0},{"$f":"'Dir1'!AE101+'Dir2'!AE101","v":0},{"$f":"'Dir1'!AF101+'Dir2'!AF101","v":0},{"$f":"'Dir1'!AG101+'Dir2'!AG101","v":0},{"$f":"'Dir1'!AH101+'Dir2'!AH101","v":0},{"$f":"'Dir1'!AI101+'Dir2'!AI101","v":0},{"$f":"'Dir1'!AJ101+'Dir2'!AJ101","v":0},{"$f":"'Dir1'!AK101+'Dir2'!AK101","v":0},"-",{"$f":"IFERROR(ROUND(PERCENTILE(_xlfn._xlws.FILTER(Data_Table[Speed],(Data_Table[Period]=$B101)*(SUM(C101:N101)>=10)),0.85),2),\"-\")","v":"-"}]
[98,{"$f":"ImportData!$B$10+7*QUOTIENT(A102,24*60*7/ImportData!$B$8)+MOD(1+QUOTIENT(A102,24*60/ImportData!$B$8)-ImportData!$E$10,7)+TIME(0,ImportData!$B$8*A102,0)","v":"2022-05-13T02:00:00"},{"$f":"'Dir1'!C102+'Dir2'!C102","v":0},{"$f":"'Dir1'!D102+'Dir2'!D102","v":0},{"$f":"'Dir1'!E102+'Dir2'!E102","v":0},{"$f":"'Dir1'!F102+'Dir2'!F102","v":0},{"$f":"'Dir1'!G102+'Dir2'!G102","v":0},{"$f":"'Dir1'!H102+'Dir2'!H102","v":0},{"$f":"'Dir1'!I102+'Dir2'!I102","v":0},{"$f":"'Dir1'!J102+'Dir2'!J102","v":0},{"$f":"'Dir1'!K102+'Dir2'!K102","v":0},{"$f":"'Dir1'!L102+'Dir2'!L102","v":0},{"$f":"'Dir1'!M102+'Dir2'!M102","v":0},{"$f":"'Dir1'!N102+'Dir2'!N102","v":0},{"$f":"'Dir1'!O102+'Dir2'!O102","v":0},{"$f":"'Dir1'!P102+'Dir2'!P102","v":0},{"$f":"'Dir1'!Q102+'Dir2'!Q102","v":0},{"$f":"'Dir1'!R102+'Dir2'!R102","v":0},{"$f":"'Dir1'!S102+'Dir2'!S102","v":0},{"$f":"'Dir1'!T102+'Dir2'!T102","v":0},{"$f":"'Dir1'!U102+'Dir2'!U102","v":0},{"$f":"'Dir1'!V102+'Dir2'!V102","v":0},{"$f":"'Dir1'!W102+'Dir2'!W102","v":0},{"$f":"'Dir1'!X102+'Dir2'!X102","v":0},{"$f":"'Dir1'!Y102+'Dir2'!Y102","v":0},{"$f":"'Dir1'!Z102+'Dir2'!Z102","v":0},{"$f":"'Dir1'!AA102+'Dir2'!AA102","v":0},{"$f":"'Dir1'!AB102+'Dir2'!AB102","v":0},{"$f":"'Dir1'!AC102+'Dir2'!AC102","v":0},{"$f":"'Dir1'!AD102+'Dir2'!AD102","v":0},{"$f":"'Dir1'!AE102+'Dir2'!AE102","v":0},{"$f":"'Dir1'!AF102+'Dir2'!AF102","v":0},{"$f":"'Dir1'!AG102+'Dir2'!AG102","v":0},{"$f":"'Dir1'!AH102+'Dir2'!AH102","v":0},{"$f":"'Dir1'!AI102+'Dir2'!AI102","v":0},{"$f":"'Dir1'!AJ102+'Dir2'!AJ102","v":0},{"$f":"'Dir1'!AK102+'Dir2'!AK102","v":0},"-",{"$f":"IFERROR(ROUND(PERCENTILE(_xlfn._xlws.FILTER(Data_Table[Speed],(Data_Table[Period]=$B102)*(SUM(C102:N102)>=10)),0.85),2),\"-\")","v":"-"}]
[99,{"$f":"ImportData!$B$10+7*QUOTIENT(A103,24*60*7/ImportData!$B$8)+MOD(1+QUOTIENT(A103,24*60/ImportData!$B$8)-ImportData!$E$10,7)+TIME(0,ImportData!$B$8*A103,0)","v":"2022-05-13T03:00:00"},{"$f":"'Dir1'!C103+'Dir2'!C103","v":0},{"$f":"'Dir1'!D103+'Dir2'!D103","v":0},{"$f":"'Dir1'!E103+'Dir2'!E103","v":0},{"$f":"'Dir1'!F103+'Dir2'!F103","v":0},{"$f":"'Dir1'!G103+'Dir2'!G103","v":0},{"$f":"'Dir1'!H103+'Dir2'!H103","v":0},{"$f":"'Dir1'!I103+'Dir2'!I103","v":0},{"$f":"'Dir1'!J103+'Dir2'!J103","v":0},{"$f":"'Dir1'!K103+'Dir2'!K103","v":0},{"$f":"'Dir1'!L103+'Dir2'!L103","v":0},{"$f":"'Dir1'!M103+'Dir2'!M103","v":0},{"$f":"'Dir1'!N103+'Dir2'!N103","v":0},{"$f":"'Dir1'!O103+'Dir2'!O103","v":0},{"$f":"'Dir1'!P103+'Dir2'!P103","v":0},{"$f":"'Dir1'!Q103+'Dir2'!Q103","v":0},{"$f":"'Dir1'!R103+'Dir2'!R103","v":0},{"$f":"'Dir1'!S103+'Dir2'!S103","v":0},{"$f":"'Dir1'!T103+'Dir2'!T103","v":0},{"$f":"'Dir1'!U103+'Dir2'!U103","v":0},{"$f":"'Dir1'!V103+'Dir2'!V103","v":0},{"$f":"'Dir1'!W103+'Dir2'!W103","v":0},{"$f":"'Dir1'!X103+'Dir2'!X103","v":0},{"$f":"'Dir1'!Y103+'Dir2'!Y103","v":0},{"$f":"'Dir1'!Z103+'Dir2'!Z103","v":0},{"$f":"'Dir1'!AA103+'Dir2'!AA103","v":0},{"$f":"'Dir1'!AB103+'Dir2'!AB103","v":0},{"$f":"'Dir1'!AC103+'Dir2'!AC103","v":0},{"$f":"'Dir1'!AD103+'Dir2'!AD103","v":0},{"$f":"'Dir1'!AE103+'Dir2'!AE103","v":0},{"$f":"'Dir1'!AF103+'Dir2'!AF103","v":0},{"$f":"'Dir1'!AG103+'Dir2'!AG103","v":0},{"$f":"'Dir1'!AH103+'Dir2'!AH103","v":0},{"$f":"'Dir1'!AI103+'Dir2'!AI103","v":0},{"$f":"'Dir1'!AJ103+'Dir2'!AJ103","v":0},{"$f":"'Dir1'!AK103+'Dir2'!AK103","v":0},"-",{"$f":"IFERROR(ROUND(PERCENTILE(_xlfn._xlws.FILTER(Data_Table[Speed],(Data_Table[Period]=$B103)*(SUM(C103:N103)>=10)),0.85),2),\"-\")","v":"-"}]
[100,{"$f":"ImportData!$B$10+7*QUOTIENT(A104,24*60*7/ImportData!$B$8)+MOD(1+QUOTIENT(A104,24*60/ImportData!$B$8)-ImportData!$E$10,7)+TIME(0,ImportData!$B$8*A104,0)","v":"2022-05-13T04:00:00"},{"$f":"'Dir1'!C104+'Dir2'!C104","v":0},{"$f":"'Dir1'!D104+'Dir2'!D104","v":0},{"$f":"'Dir1'!E104+'Dir2'!E104","v":0},{"$f":"'Dir1'!F104+'Dir2'!F104","v":0},{"$f":"'Dir1'!G104+'Dir2'!G104","v":0},{"$f":"'Dir1'!H104+'Dir2'!H104","v":0},{"$f":"'Dir1'!I104+'Dir2'!I104","v":0},{"$f":"'Dir1'!J104+'Dir2'!J104","v":0},{"$f":"'Dir1'!K104+'Dir2'!K104","v":0},{"$f":"'Dir1'!L104+'Dir2'!L104","v":0},{"$f":"'Dir1'!M104+'Dir2'!M104","v":0},{"$f":"'Dir1'!N104+'Dir2'!N104","v":0},{"$f":"'Dir1'!O104+'Dir2'!O104","v":0},{"$f":"'Dir1'!P104+'Dir2'!P104","v":0},{"$f":"'Dir1'!Q104+'Dir2'!Q104","v":0},{"$f":"'Dir1'!R104+'Dir2'!R104","v":0},{"$f":"'Dir1'!S104+'Dir2'!S104","v":0},{"$f":"'Dir1'!T104+'Dir2'!T104","v":0},{"$f":"'Dir1'!U104+'Dir2'!U104","v":0},{"$f":"'Dir1'!V104+'Dir2'!V104","v":0},{"$f":"'Dir1'!W104+'Dir2'!W104","v":0},{"$f":"'Dir1'!X104+'Dir2'!X104","v":0},{"$f":"'Dir1'!Y104+'Dir2'!Y104","v":0},{"$f":"'Dir1'!Z104+'Dir2'!Z104","v":0},{"$f":"'Dir1'!AA104+'Dir2'!AA104","v":0},{"$f":"'Dir1'!AB104+'Dir2'!AB104","v":0},{"$f":"'Dir1'!AC104+'Dir2'!AC104","v":0},{"$f":"'Dir1'!AD104+'Dir2'!AD104","v":0},{"$f":"'Dir1'!AE104+'Dir2'!AE104","v":0},{"$f":"'Dir1'!AF104+'Dir2'!AF104","v":0},{"$f":"'Dir1'!AG104+'Dir2'!AG104","v":0},{"$f":"'Dir1'!AH104+'Dir2'!AH104","v":0},{"$f":"'Dir1'!AI104+'Dir2'!AI104","v":0},{"$f":"'Dir1'!AJ104+'Dir2'!AJ104","v":0},{"$f":"'Dir1'!AK104+'Dir2'!AK104","v":0},"-",{"$f":"IFERROR(ROUND(PERCENTILE(_xlfn._xlws.FILTER(Data_Table[Speed],(Data_Table[Period]=$B104)*(SUM(C104:N104)>=10)),0.85),2),\"-\")","v":"-"}]
[101,{"$f":"ImportData!$B$10+7*QUOTIENT(A105,24*60*7/ImportData!$B$8)+MOD(1+QUOTIENT(A105,24*60/ImportData!$B$8)-ImportData!$E$10,7)+TIME(0,ImportData!$B$8*A105,0)","v":"2022-05-13T05:00:00"},{"$f":"'Dir1'!C105+'Dir2'!C105","v":0},{"$f":"'Dir1'!D105+'Dir2'!D105","v":0},{"$f":"'Dir1'!E105+'Dir2'!E105","v":0},{"$f":"'Dir1'!F105+'Dir2'!F105","v":0},{"$f":"'Dir1'!G105+'Dir2'!G105","v":0},{"$f":"'Dir1'!H105+'Dir2'!H105","v":0},{"$f":"'Dir1'!I105+'Dir2'!I105","v":0},{"$f":"'Dir1'!J105+'Dir2'!J105","v":0},{"$f":"'Dir1'!K105+'Dir2'!K105","v":0},{"$f":"'Dir1'!L105+'Dir2'!L105","v":0},{"$f":"'Dir1'!M105+'Dir2'!M105","v":0},{"$f":"'Dir1'!N105+'Dir2'!N105","v":0},{"$f":"'Dir1'!O105+'Dir2'!O105","v":0},{"$f":"'Dir1'!P105+'Dir2'!P105","v":0},{"$f":"'Dir1'!Q105+'Dir2'!Q105","v":0},{"$f":"'Dir1'!R105+'Dir2'!R105","v":0},{"$f":"'Dir1'!S105+'Dir2'!S105","v":0},{"$f":"'Dir1'!T105+'Dir2'!T105","v":0},{"$f":"'Dir1'!U105+'Dir2'!U105","v":0},{"$f":"'Dir1'!V105+'Dir2'!V105","v":0},{"$f":"'Dir1'!W105+'Dir2'!W105","v":0},{"$f":"'Dir1'!X105+'Dir2'!X105","v":0},{"$f":"'Dir1'!Y105+'Dir2'!Y105","v":0},{"$f":"'Dir1'!Z105+'Dir2'!Z105","v":0},{"$f":"'Dir1'!AA105+'Dir2'!AA105","v":0},{"$f":"'Dir1'!AB105+'Dir2'!AB105","v":0},{"$f":"'Dir1'!AC105+'Dir2'!AC105","v":0},{"$f":"'Dir1'!AD105+'Dir2'!AD105","v":0},{"$f":"'Dir1'!AE105+'Dir2'!AE105","v":0},{"$f":"'Dir1'!AF105+'Dir2'!AF105","v":0},{"$f":"'Dir1'!AG105+'Dir2'!AG105","v":0},{"$f":"'Dir1'!AH105+'Dir2'!AH105","v":0},{"$f":"'Dir1'!AI105+'Dir2'!AI105","v":0},{"$f":"'Dir1'!AJ105+'Dir2'!AJ105","v":0},{"$f":"'Dir1'!AK105+'Dir2'!AK105","v":0},"-",{"$f":"IFERROR(ROUND(PERCENTILE(_xlfn._xlws.FILTER(Data_Table[Speed],(Data_Table[Period]=$B105)*(SUM(C105:N105)>=10)),0.85),2),\"-\")","v":"-"}]
[102,{"$f":"ImportData!$B$10+7*QUOTIENT(A106,24*60*7/ImportData!$B$8)+MOD(1+QUOTIENT(A106,24*60/ImportData!$B$8)-ImportData!$E$10,7)+TIME(0,ImportData!$B$8*A106,0)","v":"2022-05-13T06:00:00"},{"$f":"'Dir1'!C106+'Dir2'!C106","v":0},{"$f":"'Dir1'!D106+'Dir2'!D106","v":0},{"$f":"'Dir1'!E106+'Dir2'!E106","v":0},{"$f":"'Dir1'!F106+'Dir2'!F106","v":0},{"$f":"'Dir1'!G106+'Dir2'!G106","v":0},{"$f":"'Dir1'!H106+'Dir2'!H106","v":0},{"$f":"'Dir1'!I106+'Dir2'!I106","v":0},{"$f":"'Dir1'!J106+'Dir2'!J106","v":0},{"$f":"'Dir1'!K106+'Dir2'!K106","v":0},{"$f":"'Dir1'!L106+'Dir2'!L106","v":0},{"$f":"'Dir1'!M106+'Dir2'!M106","v":0},{"$f":"'Dir1'!N106+'Dir2'!N106","v":0},{"$f":"'Dir1'!O106+'Dir2'!O106","v":0},{"$f":"'Dir1'!P106+'Dir2'!P106","v":0},{"$f":"'Dir1'!Q106+'Dir2'!Q106","v":0},{"$f":"'Dir1'!R106+'Dir2'!R106","v":0},{"$f":"'Dir1'!S106+'Dir2'!S106","v":0},{"$f":"'Dir1'!T106+'Dir2'!T106","v":0},{"$f":"'Dir1'!U106+'Dir2'!U106","v":0},{"$f":"'Dir1'!V106+'Dir2'!V106","v":0},{"$f":"'Dir1'!W106+'Dir2'!W106","v":0},{"$f":"'Dir1'!X106+'Dir2'!X106","v":0},{"$f":"'Dir1'!Y106+'Dir2'!Y106","v":0},{"$f":"'Dir1'!Z106+'Dir2'!Z106","v":0},{"$f":"'Dir1'!AA106+'Dir2'!AA106","v":0},{"$f":"'Dir1'!AB106+'Dir2'!AB106","v":0},{"$f":"'Dir1'!AC106+'Dir2'!AC106","v":0},{"$f":"'Dir1'!AD106+'Dir2'!AD106","v":0},{"$f":"'Dir1'!AE106+'Dir2'!AE106","v":0},{"$f":"'Dir1'!AF106+'Dir2'!AF106","v":0},{"$f":"'Dir1'!AG106+'Dir2'!AG106","v":0},{"$f":"'Dir1'!AH106+'Dir2'!AH106","v":0},{"$f":"'Dir1'!AI106+'Dir2'!AI106","v":0},{"$f":"'Dir1'!AJ106+'Dir2'!AJ106","v":0},{"$f":"'Dir1'!AK106+'Dir2'!AK106","v":0},"-",{"$f":"IFERROR(ROUND(PERCENTILE(_xlfn._xlws.FILTER(Data_Table[Speed],(Data_Table[Period]=$B106)*(SUM(C106:N106)>=10)),0.85),2),\"-\")","v":"-"}]
[103,{"$f":"ImportData!$B$10+7*QUOTIENT(A107,24*60*7/ImportData!$B$8)+MOD(1+QUOTIENT(A107,24*60/ImportData!$B$8)-ImportData!$E$10,7)+TIME(0,ImportData!$B$8*A107,0)","v":"2022-05-13T07:00:00"},{"$f":"'Dir1'!C107+'Dir2'!C107","v":0},{"$f":"'Dir1'!D107+'Dir2'!D107","v":0},{"$f":"'Dir1'!E107+'Dir2'!E107","v":0},{"$f":"'Dir1'!F107+'Dir2'!F107","v":0},{"$f":"'Dir1'!G107+'Dir2'!G107","v":0},{"$f":"'Dir1'!H107+'Dir2'!H107","v":0},{"$f":"'Dir1'!I107+'Dir2'!I107","v":0},{"$f":"'Dir1'!J107+'Dir2'!J107","v":0},{"$f":"'Dir1'!K107+'Dir2'!K107","v":0},{"$f":"'Dir1'!L107+'Dir2'!L107","v":0},{"$f":"'Dir1'!M107+'Dir2'!M107","v":0},{"$f":"'Dir1'!N107+'Dir2'!N107","v":0},{"$f":"'Dir1'!O107+'Dir2'!O107","v":0},{"$f":"'Dir1'!P107+'Dir2'!P107","v":0},{"$f":"'Dir1'!Q107+'Dir2'!Q107","v":0},{"$f":"'Dir1'!R107+'Dir2'!R107","v":0},{"$f":"'Dir1'!S107+'Dir2'!S107","v":0},{"$f":"'Dir1'!T107+'Dir2'!T107","v":0},{"$f":"'Dir1'!U107+'Dir2'!U107","v":0},{"$f":"'Dir1'!V107+'Dir2'!V107","v":0},{"$f":"'Dir1'!W107+'Dir2'!W107","v":0},{"$f":"'Dir1'!X107+'Dir2'!X107","v":0},{"$f":"'Dir1'!Y107+'Dir2'!Y107","v":0},{"$f":"'Dir1'!Z107+'Dir2'!Z107","v":0},{"$f":"'Dir1'!AA107+'Dir2'!AA107","v":0},{"$f":"'Dir1'!AB107+'Dir2'!AB107","v":0},{"$f":"'Dir1'!AC107+'Dir2'!AC107","v":0},{"$f":"'Dir1'!AD107+'Dir2'!AD107","v":0},{"$f":"'Dir1'!AE107+'Dir2'!AE107","v":0},{"$f":"'Dir1'!AF107+'Dir2'!AF107","v":0},{"$f":"'Dir1'!AG107+'Dir2'!AG107","v":0},{"$f":"'Dir1'!AH107+'Dir2'!AH107","v":0},{"$f":"'Dir1'!AI107+'Dir2'!AI107","v":0},{"$f":"'Dir1'!AJ107+'Dir2'!AJ107","v":0},{"$f":"'Dir1'!AK107+'Dir2'!AK107","v":0},"-",{"$f":"IFERROR(ROUND(PERCENTILE(_xlfn._xlws.FILTER(Data_Table[Speed],(Data_Table[Period]=$B107)*(SUM(C107:N107)>=10)),0.85),2),\"-\")","v":"-"}]
[104,{"$f":"ImportData!$B$10+7*QUOTIENT(A108,24*60*7/ImportData!$B$8)+MOD(1+QUOTIENT(A108,24*60/ImportData!$B$8)-ImportData!$E$10,7)+TIME(0,ImportData!$B$8*A108,0)","v":"2022-05-13T08:00:00"},{"$f":"'Dir1'!C108+'Dir2'!C108","v":0},{"$f":"'Dir1'!D108+'Dir2'!D108","v":0},{"$f":"'Dir1'!E108+'Dir2'!E108","v":0},{"$f":"'Dir1'!F108+'Dir2'!F108","v":0},{"$f":"'Dir1'!G108+'Dir2'!G108","v":0},{"$f":"'Dir1'!H108+'Dir2'!H108","v":0},{"$f":"'Dir1'!I108+'Dir2'!I108","v":0},{"$f":"'Dir1'!J108+'Dir2'!J108","v":0},{"$f":"'Dir1'!K108+'Dir2'!K108","v":0},{"$f":"'Dir1'!L108+'Dir2'!L108","v":0},{"$f":"'Dir1'!M108+'Dir2'!M108","v":0},{"$f":"'Dir1'!N108+'Dir2'!N108","v":0},{"$f":"'Dir1'!O108+'Dir2'!O108","v":0},{"$f":"'Dir1'!P108+'Dir2'!P108","v":0},{"$f":"'Dir1'!Q108+'Dir2'!Q108","v":0},{"$f":"'Dir1'!R108+'Dir2'!R108","v":0},{"$f":"'Dir1'!S108+'Dir2'!S108","v":0},{"$f":"'Dir1'!T108+'Dir2'!T108","v":0},{"$f":"'Dir1'!U108+'Dir2'!U108","v":0},{"$f":"'Dir1'!V108+'Dir2'!V108","v":0},{"$f":"'Dir1'!W108+'Dir2'!W108","v":0},{"$f":"'Dir1'!X108+'Dir2'!X108","v":0},{"$f":"'Dir1'!Y108+'Dir2'!Y108","v":0},{"$f":"'Dir1'!Z108+'Dir2'!Z108","v":0},{"$f":"'Dir1'!AA108+'Dir2'!AA108","v":0},{"$f":"'Dir1'!AB108+'Dir2'!AB108","v":0},{"$f":"'Dir1'!AC108+'Dir2'!AC108","v":0},{"$f":"'Dir1'!AD108+'Dir2'!AD108","v":0},{"$f":"'Dir1'!AE108+'Dir2'!AE108","v":0},{"$f":"'Dir1'!AF108+'Dir2'!AF108","v":0},{"$f":"'Dir1'!AG108+'Dir2'!AG108","v":0},{"$f":"'Dir1'!AH108+'Dir2'!AH108","v":0},{"$f":"'Dir1'!AI108+'Dir2'!AI108","v":0},{"$f":"'Dir1'!AJ108+'Dir2'!AJ108","v":0},{"$f":"'Dir1'!AK108+'Dir2'!AK108","v":0},"-",{"$f":"IFERROR(ROUND(PERCENTILE(_xlfn._xlws.FILTER(Data_Table[Speed],(Data_Table[Period]=$B108)*(SUM(C108:N108)>=10)),0.85),2),\"-\")","v":"-"}]
[105,{"$f":"ImportData!$B$10+7*QUOTIENT(A109,24*60*7/ImportData!$B$8)+MOD(1+QUOTIENT(A109,24*60/ImportData!$B$8)-ImportData!$E$10,7)+TIME(0,ImportData!$B$8*A109,0)","v":"2022-05-13T09:00:00"},{"$f":"'Dir1'!C109+'Dir2'!C109","v":0},{"$f":"'Dir1'!D109+'Dir2'!D109","v":0},{"$f":"'Dir1'!E109+'Dir2'!E109","v":0},{"$f":"'Dir1'!F109+'Dir2'!F109","v":0},{"$f":"'Dir1'!G109+'Dir2'!G109","v":0},{"$f":"'Dir1'!H109+'Dir2'!H109","v":0},{"$f":"'Dir1'!I109+'Dir2'!I109","v":0},{"$f":"'Dir1'!J109+'Dir2'!J109","v":0},{"$f":"'Dir1'!K109+'Dir2'!K109","v":0},{"$f":"'Dir1'!L109+'Dir2'!L109","v":0},{"$f":"'Dir1'!M109+'Dir2'!M109","v":0},{"$f":"'Dir1'!N109+'Dir2'!N109","v":0},{"$f":"'Dir1'!O109+'Dir2'!O109","v":0},{"$f":"'Dir1'!P109+'Dir2'!P109","v":0},{"$f":"'Dir1'!Q109+'Dir2'!Q109","v":0},{"$f":"'Dir1'!R109+'Dir2'!R109","v":0},{"$f":"'Dir1'!S109+'Dir2'!S109","v":0},{"$f":"'Dir1'!T109+'Dir2'!T109","v":0},{"$f":"'Dir1'!U109+'Dir2'!U109","v":0},{"$f":"'Dir1'!V109+'Dir2'!V109","v":0},{"$f":"'Dir1'!W109+'Dir2'!W109","v":0},{"$f":"'Dir1'!X109+'Dir2'!X109","v":0},{"$f":"'Dir1'!Y109+'Dir2'!Y109","v":0},{"$f":"'Dir1'!Z109+'Dir2'!Z109","v":0},{"$f":"'Dir1'!AA109+'Dir2'!AA109","v":0},{"$f":"'Dir1'!AB109+'Dir2'!AB109","v":0},{"$f":"'Dir1'!AC109+'Dir2'!AC109","v":0},{"$f":"'Dir1'!AD109+'Dir2'!AD109","v":0},{"$f":"'Dir1'!AE109+'Dir2'!AE109","v":0},{"$f":"'Dir1'!AF109+'Dir2'!AF109","v":0},{"$f":"'Dir1'!AG109+'Dir2'!AG109","v":0},{"$f":"'Dir1'!AH109+'Dir2'!AH109","v":0},{"$f":"'Dir1'!AI109+'Dir2'!AI109","v":0},{"$f":"'Dir1'!AJ109+'Dir2'!AJ109","v":0},{"$f":"'Dir1'!AK109+'Dir2'!AK109","v":0},"-",{"$f":"IFERROR(ROUND(PERCENTILE(_xlfn._xlws.FILTER(Data_Table[Speed],(Data_Table[Period]=$B109)*(SUM(C109:N109)>=10)),0.85),2),\"-\")","v":"-"}]
[106,{"$f":"ImportData!$B$10+7*QUOTIENT(A110,24*60*7/ImportData!$B$8)+MOD(1+QUOTIENT(A110,24*60/ImportData!$B$8)-ImportData!$E$10,7)+TIME(0,ImportData!$B$8*A110,0)","v":"2022-05-13T10:00:00"},{"$f":"'Dir1'!C110+'Dir2'!C110","v":0},{"$f":"'Dir1'!D110+'Dir2'!D110","v":0},{"$f":"'Dir1'!E110+'Dir2'!E110","v":0},{"$f":"'Dir1'!F110+'Dir2'!F110","v":0},{"$f":"'Dir1'!G110+'Dir2'!G110","v":0},{"$f":"'Dir1'!H110+'Dir2'!H110","v":0},{"$f":"'Dir1'!I110+'Dir2'!I110","v":0},{"$f":"'Dir1'!J110+'Dir2'!J110","v":0},{"$f":"'Dir1'!K110+'Dir2'!K110","v":0},{"$f":"'Dir1'!L110+'Dir2'!L110","v":0},{"$f":"'Dir1'!M110+'Dir2'!M110","v":0},{"$f":"'Dir1'!N110+'Dir2'!N110","v":0},{"$f":"'Dir1'!O110+'Dir2'!O110","v":0},{"$f":"'Dir1'!P110+'Dir2'!P110","v":0},{"$f":"'Dir1'!Q110+'Dir2'!Q110","v":0},{"$f":"'Dir1'!R110+'Dir2'!R110","v":0},{"$f":"'Dir1'!S110+'Dir2'!S110","v":0},{"$f":"'Dir1'!T110+'Dir2'!T110","v":0},{"$f":"'Dir1'!U110+'Dir2'!U110","v":0},{"$f":"'Dir1'!V110+'Dir2'!V110","v":0},{"$f":"'Dir1'!W110+'Dir2'!W110","v":0},{"$f":"'Dir1'!X110+'Dir2'!X110","v":0},{"$f":"'Dir1'!Y110+'Dir2'!Y110","v":0},{"$f":"'Dir1'!Z110+'Dir2'!Z110","v":0},{"$f":"'Dir1'!AA110+'Dir2'!AA110","v":0},{"$f":"'Dir1'!AB110+'Dir2'!AB110","v":0},{"$f":"'Dir1'!AC110+'Dir2'!AC110","v":0},{"$f":"'Dir1'!AD110+'Dir2'!AD110","v":0},{"$f":"'Dir1'!AE110+'Dir2'!AE110","v":0},{"$f":"'Dir1'!AF110+'Dir2'!AF110","v":0},{"$f":"'Dir1'!AG110+'Dir2'!AG110","v":0},{"$f":"'Dir1'!AH110+'Dir2'!AH110","v":0},{"$f":"'Dir1'!AI110+'Dir2'!AI110","v":0},{"$f":"'Dir1'!AJ110+'Dir2'!AJ110","v":0},{"$f":"'Dir1'!AK110+'Dir2'!AK110","v":0},"-",{"$f":"IFERROR(ROUND(PERCENTILE(_xlfn._xlws.FILTER(Data_Table[Speed],(Data_Table[Period]=$B110)*(SUM(C110:N110)>=10)),0.85),2),\"-\")","v":"-"}]
[107,{"$f":"ImportData!$B$10+7*QUOTIENT(A111,24*60*7/ImportData!$B$8)+MOD(1+QUOTIENT(A111,24*60/ImportData!$B$8)-ImportData!$E$10,7)+TIME(0,ImportData!$B$8*A111,0)","v":"2022-05-13T11:00:00"},{"$f":"'Dir1'!C111+'Dir2'!C111","v":0},{"$f":"'Dir1'!D111+'Dir2'!D111","v":0},{"$f":"'Dir1'!E111+'Dir2'!E111","v":0},{"$f":"'Dir1'!F111+'Dir2'!F111","v":0},{"$f":"'Dir1'!G111+'Dir2'!G111","v":0},{"$f":"'Dir1'!H111+'Dir2'!H111","v":0},{"$f":"'Dir1'!I111+'Dir2'!I111","v":0},{"$f":"'Dir1'!J111+'Dir2'!J111","v":0},{"$f":"'Dir1'!K111+'Dir2'!K111","v":0},{"$f":"'Dir1'!L111+'Dir2'!L111","v":0},{"$f":"'Dir1'!M111+'Dir2'!M111","v":0},{"$f":"'Dir1'!N111+'Dir2'!N111","v":0},{"$f":"'Dir1'!O111+'Dir2'!O111","v":0},{"$f":"'Dir1'!P111+'Dir2'!P111","v":0},{"$f":"'Dir1'!Q111+'Dir2'!Q111","v":0},{"$f":"'Dir1'!R111+'Dir2'!R111","v":0},{"$f":"'Dir1'!S111+'Dir2'!S111","v":0},{"$f":"'Dir1'!T111+'Dir2'!T111","v":0},{"$f":"'Dir1'!U111+'Dir2'!U111","v":0},{"$f":"'Dir1'!V111+'Dir2'!V111","v":0},{"$f":"'Dir1'!W111+'Dir2'!W111","v":0},{"$f":"'Dir1'!X111+'Dir2'!X111","v":0},{"$f":"'Dir1'!Y111+'Dir2'!Y111","v":0},{"$f":"'Dir1'!Z111+'Dir2'!Z111","v":0},{"$f":"'Dir1'!AA111+'Dir2'!AA111","v":0},{"$f":"'Dir1'!AB111+'Dir2'!AB111","v":0},{"$f":"'Dir1'!AC111+'Dir2'!AC111","v":0},{"$f":"'Dir1'!AD111+'Dir2'!AD111","v":0},{"$f":"'Dir1'!AE111+'Dir2'!AE111","v":0},{"$f":"'Dir1'!AF111+'Dir2'!AF111","v":0},{"$f":"'Dir1'!AG111+'Dir2'!AG111","v":0},{"$f":"'Dir1'!AH111+'Dir2'!AH111","v":0},{"$f":"'Dir1'!AI111+'Dir2'!AI111","v":0},{"$f":"'Dir1'!AJ111+'Dir2'!AJ111","v":0},{"$f":"'Dir1'!AK111+'Dir2'!AK111","v":0},"-",{"$f":"IFERROR(ROUND(PERCENTILE(_xlfn._xlws.FILTER(Data_Table[Speed],(Data_Table[Period]=$B111)*(SUM(C111:N111)>=10)),0.85),2),\"-\")","v":"-"}]
[108,{"$f":"ImportData!$B$10+7*QUOTIENT(A112,24*60*7/ImportData!$B$8)+MOD(1+QUOTIENT(A112,24*60/ImportData!$B$8)-ImportData!$E$10,7)+TIME(0,ImportData!$B$8*A112,0)","v":"2022-05-13T12:00:00"},{"$f":"'Dir1'!C112+'Dir2'!C112","v":0},{"$f":"'Dir1'!D112+'Dir2'!D112","v":0},{"$f":"'Dir1'!E112+'Dir2'!E112","v":0},{"$f":"'Dir1'!F112+'Dir2'!F112","v":0},{"$f":"'Dir1'!G112+'Dir2'!G112","v":0},{"$f":"'Dir1'!H112+'Dir2'!H112","v":0},{"$f":"'Dir1'!I112+'Dir2'!I112","v":0},{"$f":"'Dir1'!J112+'Dir2'!J112","v":0},{"$f":"'Dir1'!K112+'Dir2'!K112","v":0},{"$f":"'Dir1'!L112+'Dir2'!L112","v":0},{"$f":"'Dir1'!M112+'Dir2'!M112","v":0},{"$f":"'Dir1'!N112+'Dir2'!N112","v":0},{"$f":"'Dir1'!O112+'Dir2'!O112","v":0},{"$f":"'Dir1'!P112+'Dir2'!P112","v":0},{"$f":"'Dir1'!Q112+'Dir2'!Q112","v":0},{"$f":"'Dir1'!R112+'Dir2'!R112","v":0},{"$f":"'Dir1'!S112+'Dir2'!S112","v":0},{"$f":"'Dir1'!T112+'Dir2'!T112","v":0},{"$f":"'Dir1'!U112+'Dir2'!U112","v":0},{"$f":"'Dir1'!V112+'Dir2'!V112","v":0},{"$f":"'Dir1'!W112+'Dir2'!W112","v":0},{"$f":"'Dir1'!X112+'Dir2'!X112","v":0},{"$f":"'Dir1'!Y112+'Dir2'!Y112","v":0},{"$f":"'Dir1'!Z112+'Dir2'!Z112","v":0},{"$f":"'Dir1'!AA112+'Dir2'!AA112","v":0},{"$f":"'Dir1'!AB112+'Dir2'!AB112","v":0},{"$f":"'Dir1'!AC112+'Dir2'!AC112","v":0},{"$f":"'Dir1'!AD112+'Dir2'!AD112","v":0},{"$f":"'Dir1'!AE112+'Dir2'!AE112","v":0},{"$f":"'Dir1'!AF112+'Dir2'!AF112","v":0},{"$f":"'Dir1'!AG112+'Dir2'!AG112","v":0},{"$f":"'Dir1'!AH112+'Dir2'!AH112","v":0},{"$f":"'Dir1'!AI112+'Dir2'!AI112","v":0},{"$f":"'Dir1'!AJ112+'Dir2'!AJ112","v":0},{"$f":"'Dir1'!AK112+'Dir2'!AK112","v":0},"-",{"$f":"IFERROR(ROUND(PERCENTILE(_xlfn._xlws.FILTER(Data_Table[Speed],(Data_Table[Period]=$B112)*(SUM(C112:N112)>=10)),0.85),2),\"-\")","v":"-"}]
[109,{"$f":"ImportData!$B$10+7*QUOTIENT(A113,24*60*7/ImportData!$B$8)+MOD(1+QUOTIENT(A113,24*60/ImportData!$B$8)-ImportData!$E$10,7)+TIME(0,ImportData!$B$8*A113,0)","v":"2022-05-13T13:00:00"},{"$f":"'Dir1'!C113+'Dir2'!C113","v":0},{"$f":"'Dir1'!D113+'Dir2'!D113","v":0},{"$f":"'Dir1'!E113+'Dir2'!E113","v":0},{"$f":"'Dir1'!F113+'Dir2'!F113","v":0},{"$f":"'Dir1'!G113+'Dir2'!G113","v":0},{"$f":"'Dir1'!H113+'Dir2'!H113","v":0},{"$f":"'Dir1'!I113+'Dir2'!I113","v":0},{"$f":"'Dir1'!J113+'Dir2'!J113","v":0},{"$f":"'Dir1'!K113+'Dir2'!K113","v":0},{"$f":"'Dir1'!L113+'Dir2'!L113","v":0},{"$f":"'Dir1'!M113+'Dir2'!M113","v":0},{"$f":"'Dir1'!N113+'Dir2'!N113","v":0},{"$f":"'Dir1'!O113+'Dir2'!O113","v":0},{"$f":"'Dir1'!P113+'Dir2'!P113","v":0},{"$f":"'Dir1'!Q113+'Dir2'!Q113","v":0},{"$f":"'Dir1'!R113+'Dir2'!R113","v":0},{"$f":"'Dir1'!S113+'Dir2'!S113","v":0},{"$f":"'Dir1'!T113+'Dir2'!T113","v":0},{"$f":"'Dir1'!U113+'Dir2'!U113","v":0},{"$f":"'Dir1'!V113+'Dir2'!V113","v":0},{"$f":"'Dir1'!W113+'Dir2'!W113","v":0},{"$f":"'Dir1'!X113+'Dir2'!X113","v":0},{"$f":"'Dir1'!Y113+'Dir2'!Y113","v":0},{"$f":"'Dir1'!Z113+'Dir2'!Z113","v":0},{"$f":"'Dir1'!AA113+'Dir2'!AA113","v":0},{"$f":"'Dir1'!AB113+'Dir2'!AB113","v":0},{"$f":"'Dir1'!AC113+'Dir2'!AC113","v":0},{"$f":"'Dir1'!AD113+'Dir2'!AD113","v":0},{"$f":"'Dir1'!AE113+'Dir2'!AE113","v":0},{"$f":"'Dir1'!AF113+'Dir2'!AF113","v":0},{"$f":"'Dir1'!AG113+'Dir2'!AG113","v":0},{"$f":"'Dir1'!AH113+'Dir2'!AH113","v":0},{"$f":"'Dir1'!AI113+'Dir2'!AI113","v":0},{"$f":"'Dir1'!AJ113+'Dir2'!AJ113","v":0},{"$f":"'Dir1'!AK113+'Dir2'!AK113","v":0},"-",{"$f":"IFERROR(ROUND(PERCENTILE(_xlfn._xlws.FILTER(Data_Table[Speed],(Data_Table[Period]=$B113)*(SUM(C113:N113)>=10)),0.85),2),\"-\")","v":"-"}]
[110,{"$f":"ImportData!$B$10+7*QUOTIENT(A114,24*60*7/ImportData!$B$8)+MOD(1+QUOTIENT(A114,24*60/ImportData!$B$8)-ImportData!$E$10,7)+TIME(0,ImportData!$B$8*A114,0)","v":"2022-05-13T14:00:00"},{"$f":"'Dir1'!C114+'Dir2'!C114","v":0},{"$f":"'Dir1'!D114+'Dir2'!D114","v":0},{"$f":"'Dir1'!E114+'Dir2'!E114","v":0},{"$f":"'Dir1'!F114+'Dir2'!F114","v":0},{"$f":"'Dir1'!G114+'Dir2'!G114","v":0},{"$f":"'Dir1'!H114+'Dir2'!H114","v":0},{"$f":"'Dir1'!I114+'Dir2'!I114","v":0},{"$f":"'Dir1'!J114+'Dir2'!J114","v":0},{"$f":"'Dir1'!K114+'Dir2'!K114","v":0},{"$f":"'Dir1'!L114+'Dir2'!L114","v":0},{"$f":"'Dir1'!M114+'Dir2'!M114","v":0},{"$f":"'Dir1'!N114+'Dir2'!N114","v":0},{"$f":"'Dir1'!O114+'Dir2'!O114","v":0},{"$f":"'Dir1'!P114+'Dir2'!P114","v":0},{"$f":"'Dir1'!Q114+'Dir2'!Q114","v":0},{"$f":"'Dir1'!R114+'Dir2'!R114","v":0},{"$f":"'Dir1'!S114+'Dir2'!S114","v":0},{"$f":"'Dir1'!T114+'Dir2'!T114","v":0},{"$f":"'Dir1'!U114+'Dir2'!U114","v":0},{"$f":"'Dir1'!V114+'Dir2'!V114","v":0},{"$f":"'Dir1'!W114+'Dir2'!W114","v":0},{"$f":"'Dir1'!X114+'Dir2'!X114","v":0},{"$f":"'Dir1'!Y114+'Dir2'!Y114","v":0},{"$f":"'Dir1'!Z114+'Dir2'!Z114","v":0},{"$f":"'Dir1'!AA114+'Dir2'!AA114","v":0},{"$f":"'Dir1'!AB114+'Dir2'!AB114","v":0},{"$f":"'Dir1'!AC114+'Dir2'!AC114","v":0},{"$f":"'Dir1'!AD114+'Dir2'!AD114","v":0},{"$f":"'Dir1'!AE114+'Dir2'!AE114","v":0},{"$f":"'Dir1'!AF114+'Dir2'!AF114","v":0},{"$f":"'Dir1'!AG114+'Dir2'!AG114","v":0},{"$f":"'Dir1'!AH114+'Dir2'!AH114","v":0},{"$f":"'Dir1'!AI114+'Dir2'!AI114","v":0},{"$f":"'Dir1'!AJ114+'Dir2'!AJ114","v":0},{"$f":"'Dir1'!AK114+'Dir2'!AK114","v":0},"-",{"$f":"IFERROR(ROUND(PERCENTILE(_xlfn._xlws.FILTER(Data_Table[Speed],(Data_Table[Period]=$B114)*(SUM(C114:N114)>=10)),0.85),2),\"-\")","v":"-"}]
[111,{"$f":"ImportData!$B$10+7*QUOTIENT(A115,24*60*7/ImportData!$B$8)+MOD(1+QUOTIENT(A115,24*60/ImportData!$B$8)-ImportData!$E$10,7)+TIME(0,ImportData!$B$8*A115,0)","v":"2022-05-13T15:00:00"},{"$f":"'Dir1'!C115+'Dir2'!C115","v":0},{"$f":"'Dir1'!D115+'Dir2'!D115","v":0},{"$f":"'Dir1'!E115+'Dir2'!E115","v":0},{"$f":"'Dir1'!F115+'Dir2'!F115","v":0},{"$f":"'Dir1'!G115+'Dir2'!G115","v":0},{"$f":"'Dir1'!H115+'Dir2'!H115","v":0},{"$f":"'Dir1'!I115+'Dir2'!I115","v":0},{"$f":"'Dir1'!J115+'Dir2'!J115","v":0},{"$f":"'Dir1'!K115+'Dir2'!K115","v":0},{"$f":"'Dir1'!L115+'Dir2'!L115","v":0},{"$f":"'Dir1'!M115+'Dir2'!M115","v":0},{"$f":"'Dir1'!N115+'Dir2'!N115","v":0},{"$f":"'Dir1'!O115+'Dir2'!O115","v":0},{"$f":"'Dir1'!P115+'Dir2'!P115","v":0},{"$f":"'Dir1'!Q115+'Dir2'!Q115","v":0},{"$f":"'Dir1'!R115+'Dir2'!R115","v":0},{"$f":"'Dir1'!S115+'Dir2'!S115","v":0},{"$f":"'Dir1'!T115+'Dir2'!T115","v":0},{"$f":"'Dir1'!U115+'Dir2'!U115","v":0},{"$f":"'Dir1'!V115+'Dir2'!V115","v":0},{"$f":"'Dir1'!W115+'Dir2'!W115","v":0},{"$f":"'Dir1'!X115+'Dir2'!X115","v":0},{"$f":"'Dir1'!Y115+'Dir2'!Y115","v":0},{"$f":"'Dir1'!Z115+'Dir2'!Z115","v":0},{"$f":"'Dir1'!AA115+'Dir2'!AA115","v":0},{"$f":"'Dir1'!AB115+'Dir2'!AB115","v":0},{"$f":"'Dir1'!AC115+'Dir2'!AC115","v":0},{"$f":"'Dir1'!AD115+'Dir2'!AD115","v":0},{"$f":"'Dir1'!AE115+'Dir2'!AE115","v":0},{"$f":"'Dir1'!AF115+'Dir2'!AF115","v":0},{"$f":"'Dir1'!AG115+'Dir2'!AG115","v":0},{"$f":"'Dir1'!AH115+'Dir2'!AH115","v":0},{"$f":"'Dir1'!AI115+'Dir2'!AI115","v":0},{"$f":"'Dir1'!AJ115+'Dir2'!AJ115","v":0},{"$f":"'Dir1'!AK115+'Dir2'!AK115","v":0},"-",{"$f":"IFERROR(ROUND(PERCENTILE(_xlfn._xlws.FILTER(Data_Table[Speed],(Data_Table[Period]=$B115)*(SUM(C115:N115)>=10)),0.85),2),\"-\")","v":"-"}]
[112,{"$f":"ImportData!$B$10+7*QUOTIENT(A116,24*60*7/ImportData!$B$8)+MOD(1+QUOTIENT(A116,24*60/ImportData!$B$8)-ImportData!$E$10,7)+TIME(0,ImportData!$B$8*A116,0)","v":"2022-05-13T16:00:00"},{"$f":"'Dir1'!C116+'Dir2'!C116","v":0},{"$f":"'Dir1'!D116+'Dir2'!D116","v":0},{"$f":"'Dir1'!E116+'Dir2'!E116","v":0},{"$f":"'Dir1'!F116+'Dir2'!F116","v":0},{"$f":"'Dir1'!G116+'Dir2'!G116","v":0},{"$f":"'Dir1'!H116+'Dir2'!H116","v":0},{"$f":"'Dir1'!I116+'Dir2'!I116","v":0},{"$f":"'Dir1'!J116+'Dir2'!J116","v":0},{"$f":"'Dir1'!K116+'Dir2'!K116","v":0},{"$f":"'Dir1'!L116+'Dir2'!L116","v":0},{"$f":"'Dir1'!M116+'Dir2'!M116","v":0},{"$f":"'Dir1'!N116+'Dir2'!N116","v":0},{"$f":"'Dir1'!O116+'Dir2'!O116","v":0},{"$f":"'Dir1'!P116+'Dir2'!P116","v":0},{"$f":"'Dir1'!Q116+'Dir2'!Q116","v":0},{"$f":"'Dir1'!R116+'Dir2'!R116","v":0},{"$f":"'Dir1'!S116+'Dir2'!S116","v":0},{"$f":"'Dir1'!T116+'Dir2'!T116","v":0},{"$f":"'Dir1'!U116+'Dir2'!U116","v":0},{"$f":"'Dir1'!V116+'Dir2'!V116","v":0},{"$f":"'Dir1'!W116+'Dir2'!W116","v":0},{"$f":"'Dir1'!X116+'Dir2'!X116","v":0},{"$f":"'Dir1'!Y116+'Dir2'!Y116","v":0},{"$f":"'Dir1'!Z116+'Dir2'!Z116","v":0},{"$f":"'Dir1'!AA116+'Dir2'!AA116","v":0},{"$f":"'Dir1'!AB116+'Dir2'!AB116","v":0},{"$f":"'Dir1'!AC116+'Dir2'!AC116","v":0},{"$f":"'Dir1'!AD116+'Dir2'!AD116","v":0},{"$f":"'Dir1'!AE116+'Dir2'!AE116","v":0},{"$f":"'Dir1'!AF116+'Dir2'!AF116","v":0},{"$f":"'Dir1'!AG116+'Dir2'!AG116","v":0},{"$f":"'Dir1'!AH116+'Dir2'!AH116","v":0},{"$f":"'Dir1'!AI116+'Dir2'!AI116","v":0},{"$f":"'Dir1'!AJ116+'Dir2'!AJ116","v":0},{"$f":"'Dir1'!AK116+'Dir2'!AK116","v":0},"-",{"$f":"IFERROR(ROUND(PERCENTILE(_xlfn._xlws.FILTER(Data_Table[Speed],(Data_Table[Period]=$B116)*(SUM(C116:N116)>=10)),0.85),2),\"-\")","v":"-"}]
[113,{"$f":"ImportData!$B$10+7*QUOTIENT(A117,24*60*7/ImportData!$B$8)+MOD(1+QUOTIENT(A117,24*60/ImportData!$B$8)-ImportData!$E$10,7)+TIME(0,ImportData!$B$8*A117,0)","v":"2022-05-13T17:00:00"},{"$f":"'Dir1'!C117+'Dir2'!C117","v":0},{"$f":"'Dir1'!D117+'Dir2'!D117","v":0},{"$f":"'Dir1'!E117+'Dir2'!E117","v":0},{"$f":"'Dir1'!F117+'Dir2'!F117","v":0},{"$f":"'Dir1'!G117+'Dir2'!G117","v":0},{"$f":"'Dir1'!H117+'Dir2'!H117","v":0},{"$f":"'Dir1'!I117+'Dir2'!I117","v":0},{"$f":"'Dir1'!J117+'Dir2'!J117","v":0},{"$f":"'Dir1'!K117+'Dir2'!K117","v":0},{"$f":"'Dir1'!L117+'Dir2'!L117","v":0},{"$f":"'Dir1'!M117+'Dir2'!M117","v":0},{"$f":"'Dir1'!N117+'Dir2'!N117","v":0},{"$f":"'Dir1'!O117+'Dir2'!O117","v":0},{"$f":"'Dir1'!P117+'Dir2'!P117","v":0},{"$f":"'Dir1'!Q117+'Dir2'!Q117","v":0},{"$f":"'Dir1'!R117+'Dir2'!R117","v":0},{"$f":"'Dir1'!S117+'Dir2'!S117","v":0},{"$f":"'Dir1'!T117+'Dir2'!T117","v":0},{"$f":"'Dir1'!U117+'Dir2'!U117","v":0},{"$f":"'Dir1'!V117+'Dir2'!V117","v":0},{"$f":"'Dir1'!W117+'Dir2'!W117","v":0},{"$f":"'Dir1'!X117+'Dir2'!X117","v":0},{"$f":"'Dir1'!Y117+'Dir2'!Y117","v":0},{"$f":"'Dir1'!Z117+'Dir2'!Z117","v":0},{"$f":"'Dir1'!AA117+'Dir2'!AA117","v":0},{"$f":"'Dir1'!AB117+'Dir2'!AB117","v":0},{"$f":"'Dir1'!AC117+'Dir2'!AC117","v":0},{"$f":"'Dir1'!AD117+'Dir2'!AD117","v":0},{"$f":"'Dir1'!AE117+'Dir2'!AE117","v":0},{"$f":"'Dir1'!AF117+'Dir2'!AF117","v":0},{"$f":"'Dir1'!AG117+'Dir2'!AG117","v":0},{"$f":"'Dir1'!AH117+'Dir2'!AH117","v":0},{"$f":"'Dir1'!AI117+'Dir2'!AI117","v":0},{"$f":"'Dir1'!AJ117+'Dir2'!AJ117","v":0},{"$f":"'Dir1'!AK117+'Dir2'!AK117","v":0},"-",{"$f":"IFERROR(ROUND(PERCENTILE(_xlfn._xlws.FILTER(Data_Table[Speed],(Data_Table[Period]=$B117)*(SUM(C117:N117)>=10)),0.85),2),\"-\")","v":"-"}]
[114,{"$f":"ImportData!$B$10+7*QUOTIENT(A118,24*60*7/ImportData!$B$8)+MOD(1+QUOTIENT(A118,24*60/ImportData!$B$8)-ImportData!$E$10,7)+TIME(0,ImportData!$B$8*A118,0)","v":"2022-05-13T18:00:00"},{"$f":"'Dir1'!C118+'Dir2'!C118","v":0},{"$f":"'Dir1'!D118+'Dir2'!D118","v":0},{"$f":"'Dir1'!E118+'Dir2'!E118","v":0},{"$f":"'Dir1'!F118+'Dir2'!F118","v":0},{"$f":"'Dir1'!G118+'Dir2'!G118","v":0},{"$f":"'Dir1'!H118+'Dir2'!H118","v":0},{"$f":"'Dir1'!I118+'Dir2'!I118","v":0},{"$f":"'Dir1'!J118+'Dir2'!J118","v":0},{"$f":"'Dir1'!K118+'Dir2'!K118","v":0},{"$f":"'Dir1'!L118+'Dir2'!L118","v":0},{"$f":"'Dir1'!M118+'Dir2'!M118","v":0},{"$f":"'Dir1'!N118+'Dir2'!N118","v":0},{"$f":"'Dir1'!O118+'Dir2'!O118","v":0},{"$f":"'Dir1'!P118+'Dir2'!P118","v":0},{"$f":"'Dir1'!Q118+'Dir2'!Q118","v":0},{"$f":"'Dir1'!R118+'Dir2'!R118","v":0},{"$f":"'Dir1'!S118+'Dir2'!S118","v":0},{"$f":"'Dir1'!T118+'Dir2'!T118","v":0},{"$f":"'Dir1'!U118+'Dir2'!U118","v":0},{"$f":"'Dir1'!V118+'Dir2'!V118","v":0},{"$f":"'Dir1'!W118+'Dir2'!W118","v":0},{"$f":"'Dir1'!X118+'Dir2'!X118","v":0},{"$f":"'Dir1'!Y118+'Dir2'!Y118","v":0},{"$f":"'Dir1'!Z118+'Dir2'!Z118","v":0},{"$f":"'Dir1'!AA118+'Dir2'!AA118","v":0},{"$f":"'Dir1'!AB118+'Dir2'!AB118","v":0},{"$f":"'Dir1'!AC118+'Dir2'!AC118","v":0},{"$f":"'Dir1'!AD118+'Dir2'!AD118","v":0},{"$f":"'Dir1'!AE118+'Dir2'!AE118","v":0},{"$f":"'Dir1'!AF118+'Dir2'!AF118","v":0},{"$f":"'Dir1'!AG118+'Dir2'!AG118","v":0},{"$f":"'Dir1'!AH118+'Dir2'!AH118","v":0},{"$f":"'Dir1'!AI118+'Dir2'!AI118","v":0},{"$f":"'Dir1'!AJ118+'Dir2'!AJ118","v":0},{"$f":"'Dir1'!AK118+'Dir2'!AK118","v":0},"-",{"$f":"IFERROR(ROUND(PERCENTILE(_xlfn._xlws.FILTER(Data_Table[Speed],(Data_Table[Period]=$B118)*(SUM(C118:N118)>=10)),0.85),2),\"-\")","v":"-"}]
[115,{"$f":"ImportData!$B$10+7*QUOTIENT(A119,24*60*7/ImportData!$B$8)+MOD(1+QUOTIENT(A119,24*60/ImportData!$B$8)-ImportData!$E$10,7)+TIME(0,ImportData!$B$8*A119,0)","v":"2022-05-13T19:00:00"},{"$f":"'Dir1'!C119+'Dir2'!C119","v":0},{"$f":"'Dir1'!D119+'Dir2'!D119","v":0},{"$f":"'Dir1'!E119+'Dir2'!E119","v":0},{"$f":"'Dir1'!F119+'Dir2'!F119","v":0},{"$f":"'Dir1'!G119+'Dir2'!G119","v":0},{"$f":"'Dir1'!H119+'Dir2'!H119","v":0},{"$f":"'Dir1'!I119+'Dir2'!I119","v":0},{"$f":"'Dir1'!J119+'Dir2'!J119","v":0},{"$f":"'Dir1'!K119+'Dir2'!K119","v":0},{"$f":"'Dir1'!L119+'Dir2'!L119","v":0},{"$f":"'Dir1'!M119+'Dir2'!M119","v":0},{"$f":"'Dir1'!N119+'Dir2'!N119","v":0},{"$f":"'Dir1'!O119+'Dir2'!O119","v":0},{"$f":"'Dir1'!P119+'Dir2'!P119","v":0},{"$f":"'Dir1'!Q119+'Dir2'!Q119","v":0},{"$f":"'Dir1'!R119+'Dir2'!R119","v":0},{"$f":"'Dir1'!S119+'Dir2'!S119","v":0},{"$f":"'Dir1'!T119+'Dir2'!T119","v":0},{"$f":"'Dir1'!U119+'Dir2'!U119","v":0},{"$f":"'Dir1'!V119+'Dir2'!V119","v":0},{"$f":"'Dir1'!W119+'Dir2'!W119","v":0},{"$f":"'Dir1'!X119+'Dir2'!X119","v":0},{"$f":"'Dir1'!Y119+'Dir2'!Y119","v":0},{"$f":"'Dir1'!Z119+'Dir2'!Z119","v":0},{"$f":"'Dir1'!AA119+'Dir2'!AA119","v":0},{"$f":"'Dir1'!AB119+'Dir2'!AB119","v":0},{"$f":"'Dir1'!AC119+'Dir2'!AC119","v":0},{"$f":"'Dir1'!AD119+'Dir2'!AD119","v":0},{"$f":"'Dir1'!AE119+'Dir2'!AE119","v":0},{"$f":"'Dir1'!AF119+'Dir2'!AF119","v":0},{"$f":"'Dir1'!AG119+'Dir2'!AG119","v":0},{"$f":"'Dir1'!AH119+'Dir2'!AH119","v":0},{"$f":"'Dir1'!AI119+'Dir2'!AI119","v":0},{"$f":"'Dir1'!AJ119+'Dir2'!AJ119","v":0},{"$f":"'Dir1'!AK119+'Dir2'!AK119","v":0},"-",{"$f":"IFERROR(ROUND(PERCENTILE(_xlfn._xlws.FILTER(Data_Table[Speed],(Data_Table[Period]=$B119)*(SUM(C119:N119)>=10)),0.85),2),\"-\")","v":"-"}]
[116,{"$f":"ImportData!$B$10+7*QUOTIENT(A120,24*60*7/ImportData!$B$8)+MOD(1+QUOTIENT(A120,24*60/ImportData!$B$8)-ImportData!$E$10,7)+TIME(0,ImportData!$B$8*A120,0)","v":"2022-05-13T20:00:00"},{"$f":"'Dir1'!C120+'Dir2'!C120","v":0},{"$f":"'Dir1'!D120+'Dir2'!D120","v":0},{"$f":"'Dir1'!E120+'Dir2'!E120","v":0},{"$f":"'Dir1'!F120+'Dir2'!F120","v":0},{"$f":"'Dir1'!G120+'Dir2'!G120","v":0},{"$f":"'Dir1'!H120+'Dir2'!H120","v":0},{"$f":"'Dir1'!I120+'Dir2'!I120","v":0},{"$f":"'Dir1'!J120+'Dir2'!J120","v":0},{"$f":"'Dir1'!K120+'Dir2'!K120","v":0},{"$f":"'Dir1'!L120+'Dir2'!L120","v":0},{"$f":"'Dir1'!M120+'Dir2'!M120","v":0},{"$f":"'Dir1'!N120+'Dir2'!N120","v":0},{"$f":"'Dir1'!O120+'Dir2'!O120","v":0},{"$f":"'Dir1'!P120+'Dir2'!P120","v":0},{"$f":"'Dir1'!Q120+'Dir2'!Q120","v":0},{"$f":"'Dir1'!R120+'Dir2'!R120","v":0},{"$f":"'Dir1'!S120+'Dir2'!S120","v":0},{"$f":"'Dir1'!T120+'Dir2'!T120","v":0},{"$f":"'Dir1'!U120+'Dir2'!U120","v":0},{"$f":"'Dir1'!V120+'Dir2'!V120","v":0},{"$f":"'Dir1'!W120+'Dir2'!W120","v":0},{"$f":"'Dir1'!X120+'Dir2'!X120","v":0},{"$f":"'Dir1'!Y120+'Dir2'!Y120","v":0},{"$f":"'Dir1'!Z120+'Dir2'!Z120","v":0},{"$f":"'Dir1'!AA120+'Dir2'!AA120","v":0},{"$f":"'Dir1'!AB120+'Dir2'!AB120","v":0},{"$f":"'Dir1'!AC120+'Dir2'!AC120","v":0},{"$f":"'Dir1'!AD120+'Dir2'!AD120","v":0},{"$f":"'Dir1'!AE120+'Dir2'!AE120","v":0},{"$f":"'Dir1'!AF120+'Dir2'!AF120","v":0},{"$f":"'Dir1'!AG120+'Dir2'!AG120","v":0},{"$f":"'Dir1'!AH120+'Dir2'!AH120","v":0},{"$f":"'Dir1'!AI120+'Dir2'!AI120","v":0},{"$f":"'Dir1'!AJ120+'Dir2'!AJ120","v":0},{"$f":"'Dir1'!AK120+'Dir2'!AK120","v":0},"-",{"$f":"IFERROR(ROUND(PERCENTILE(_xlfn._xlws.FILTER(Data_Table[Speed],(Data_Table[Period]=$B120)*(SUM(C120:N120)>=10)),0.85),2),\"-\")","v":"-"}]
[117,{"$f":"ImportData!$B$10+7*QUOTIENT(A121,24*60*7/ImportData!$B$8)+MOD(1+QUOTIENT(A121,24*60/ImportData!$B$8)-ImportData!$E$10,7)+TIME(0,ImportData!$B$8*A121,0)","v":"2022-05-13T21:00:00"},{"$f":"'Dir1'!C121+'Dir2'!C121","v":0},{"$f":"'Dir1'!D121+'Dir2'!D121","v":0},{"$f":"'Dir1'!E121+'Dir2'!E121","v":0},{"$f":"'Dir1'!F121+'Dir2'!F121","v":0},{"$f":"'Dir1'!G121+'Dir2'!G121","v":0},{"$f":"'Dir1'!H121+'Dir2'!H121","v":0},{"$f":"'Dir1'!I121+'Dir2'!I121","v":0},{"$f":"'Dir1'!J121+'Dir2'!J121","v":0},{"$f":"'Dir1'!K121+'Dir2'!K121","v":0},{"$f":"'Dir1'!L121+'Dir2'!L121","v":0},{"$f":"'Dir1'!M121+'Dir2'!M121","v":0},{"$f":"'Dir1'!N121+'Dir2'!N121","v":0},{"$f":"'Dir1'!O121+'Dir2'!O121","v":0},{"$f":"'Dir1'!P121+'Dir2'!P121","v":0},{"$f":"'Dir1'!Q121+'Dir2'!Q121","v":0},{"$f":"'Dir1'!R121+'Dir2'!R121","v":0},{"$f":"'Dir1'!S121+'Dir2'!S121","v":0},{"$f":"'Dir1'!T121+'Dir2'!T121","v":0},{"$f":"'Dir1'!U121+'Dir2'!U121","v":0},{"$f":"'Dir1'!V121+'Dir2'!V121","v":0},{"$f":"'Dir1'!W121+'Dir2'!W121","v":0},{"$f":"'Dir1'!X121+'Dir2'!X121","v":0},{"$f":"'Dir1'!Y121+'Dir2'!Y121","v":0},{"$f":"'Dir1'!Z121+'Dir2'!Z121","v":0},{"$f":"'Dir1'!AA121+'Dir2'!AA121","v":0},{"$f":"'Dir1'!AB121+'Dir2'!AB121","v":0},{"$f":"'Dir1'!AC121+'Dir2'!AC121","v":0},{"$f":"'Dir1'!AD121+'Dir2'!AD121","v":0},{"$f":"'Dir1'!AE121+'Dir2'!AE121","v":0},{"$f":"'Dir1'!AF121+'Dir2'!AF121","v":0},{"$f":"'Dir1'!AG121+'Dir2'!AG121","v":0},{"$f":"'Dir1'!AH121+'Dir2'!AH121","v":0},{"$f":"'Dir1'!AI121+'Dir2'!AI121","v":0},{"$f":"'Dir1'!AJ121+'Dir2'!AJ121","v":0},{"$f":"'Dir1'!AK121+'Dir2'!AK121","v":0},"-",{"$f":"IFERROR(ROUND(PERCENTILE(_xlfn._xlws.FILTER(Data_Table[Speed],(Data_Table[Period]=$B121)*(SUM(C121:N121)>=10)),0.85),2),\"-\")","v":"-"}]
[118,{"$f":"ImportData!$B$10+7*QUOTIENT(A122,24*60*7/ImportData!$B$8)+MOD(1+QUOTIENT(A122,24*60/ImportData!$B$8)-ImportData!$E$10,7)+TIME(0,ImportData!$B$8*A122,0)","v":"2022-05-13T22:00:00"},{"$f":"'Dir1'!C122+'Dir2'!C122","v":0},{"$f":"'Dir1'!D122+'Dir2'!D122","v":0},{"$f":"'Dir1'!E122+'Dir2'!E122","v":0},{"$f":"'Dir1'!F122+'Dir2'!F122","v":0},{"$f":"'Dir1'!G122+'Dir2'!G122","v":0},{"$f":"'Dir1'!H122+'Dir2'!H122","v":0},{"$f":"'Dir1'!I122+'Dir2'!I122","v":0},{"$f":"'Dir1'!J122+'Dir2'!J122","v":0},{"$f":"'Dir1'!K122+'Dir2'!K122","v":0},{"$f":"'Dir1'!L122+'Dir2'!L122","v":0},{"$f":"'Dir1'!M122+'Dir2'!M122","v":0},{"$f":"'Dir1'!N122+'Dir2'!N122","v":0},{"$f":"'Dir1'!O122+'Dir2'!O122","v":0},{"$f":"'Dir1'!P122+'Dir2'!P122","v":0},{"$f":"'Dir1'!Q122+'Dir2'!Q122","v":0},{"$f":"'Dir1'!R122+'Dir2'!R122","v":0},{"$f":"'Dir1'!S122+'Dir2'!S122","v":0},{"$f":"'Dir1'!T122+'Dir2'!T122","v":0},{"$f":"'Dir1'!U122+'Dir2'!U122","v":0},{"$f":"'Dir1'!V122+'Dir2'!V122","v":0},{"$f":"'Dir1'!W122+'Dir2'!W122","v":0},{"$f":"'Dir1'!X122+'Dir2'!X122","v":0},{"$f":"'Dir1'!Y122+'Dir2'!Y122","v":0},{"$f":"'Dir1'!Z122+'Dir2'!Z122","v":0},{"$f":"'Dir1'!AA122+'Dir2'!AA122","v":0},{"$f":"'Dir1'!AB122+'Dir2'!AB122","v":0},{"$f":"'Dir1'!AC122+'Dir2'!AC122","v":0},{"$f":"'Dir1'!AD122+'Dir2'!AD122","v":0},{"$f":"'Dir1'!AE122+'Dir2'!AE122","v":0},{"$f":"'Dir1'!AF122+'Dir2'!AF122","v":0},{"$f":"'Dir1'!AG122+'Dir2'!AG122","v":0},{"$f":"'Dir1'!AH122+'Dir2'!AH122","v":0},{"$f":"'Dir1'!AI122+'Dir2'!AI122","v":0},{"$f":"'Dir1'!AJ122+'Dir2'!AJ122","v":0},{"$f":"'Dir1'!AK122+'Dir2'!AK122","v":0},"-",{"$f":"IFERROR(ROUND(PERCENTILE(_xlfn._xlws.FILTER(Data_Table[Speed],(Data_Table[Period]=$B122)*(SUM(C122:N122)>=10)),0.85),2),\"-\")","v":"-"}]
[119,{"$f":"ImportData!$B$10+7*QUOTIENT(A123,24*60*7/ImportData!$B$8)+MOD(1+QUOTIENT(A123,24*60/ImportData!$B$8)-ImportData!$E$10,7)+TIME(0,ImportData!$B$8*A123,0)","v":"2022-05-13T23:00:00"},{"$f":"'Dir1'!C123+'Dir2'!C123","v":0},{"$f":"'Dir1'!D123+'Dir2'!D123","v":0},{"$f":"'Dir1'!E123+'Dir2'!E123","v":0},{"$f":"'Dir1'!F123+'Dir2'!F123","v":0},{"$f":"'Dir1'!G123+'Dir2'!G123","v":0},{"$f":"'Dir1'!H123+'Dir2'!H123","v":0},{"$f":"'Dir1'!I123+'Dir2'!I123","v":0},{"$f":"'Dir1'!J123+'Dir2'!J123","v":0},{"$f":"'Dir1'!K123+'Dir2'!K123","v":0},{"$f":"'Dir1'!L123+'Dir2'!L123","v":0},{"$f":"'Dir1'!M123+'Dir2'!M123","v":0},{"$f":"'Dir1'!N123+'Dir2'!N123","v":0},{"$f":"'Dir1'!O123+'Dir2'!O123","v":0},{"$f":"'Dir1'!P123+'Dir2'!P123","v":0},{"$f":"'Dir1'!Q123+'Dir2'!Q123","v":0},{"$f":"'Dir1'!R123+'Dir2'!R123","v":0},{"$f":"'Dir1'!S123+'Dir2'!S123","v":0},{"$f":"'Dir1'!T123+'Dir2'!T123","v":0},{"$f":"'Dir1'!U123+'Dir2'!U123","v":0},{"$f":"'Dir1'!V123+'Dir2'!V123","v":0},{"$f":"'Dir1'!W123+'Dir2'!W123","v":0},{"$f":"'Dir1'!X123+'Dir2'!X123","v":0},{"$f":"'Dir1'!Y123+'Dir2'!Y123","v":0},{"$f":"'Dir1'!Z123+'Dir2'!Z123","v":0},{"$f":"'Dir1'!AA123+'Dir2'!AA123","v":0},{"$f":"'Dir1'!AB123+'Dir2'!AB123","v":0},{"$f":"'Dir1'!AC123+'Dir2'!AC123","v":0},{"$f":"'Dir1'!AD123+'Dir2'!AD123","v":0},{"$f":"'Dir1'!AE123+'Dir2'!AE123","v":0},{"$f":"'Dir1'!AF123+'Dir2'!AF123","v":0},{"$f":"'Dir1'!AG123+'Dir2'!AG123","v":0},{"$f":"'Dir1'!AH123+'Dir2'!AH123","v":0},{"$f":"'Dir1'!AI123+'Dir2'!AI123","v":0},{"$f":"'Dir1'!AJ123+'Dir2'!AJ123","v":0},{"$f":"'Dir1'!AK123+'Dir2'!AK123","v":0},"-",{"$f":"IFERROR(ROUND(PERCENTILE(_xlfn._xlws.FILTER(Data_Table[Speed],(Data_Table[Period]=$B123)*(SUM(C123:N123)>=10)),0.85),2),\"-\")","v":"-"}]
[120,{"$f":"ImportData!$B$10+7*QUOTIENT(A124,24*60*7/ImportData!$B$8)+MOD(1+QUOTIENT(A124,24*60/ImportData!$B$8)-ImportData!$E$10,7)+TIME(0,ImportData!$B$8*A124,0)","v":"2022-05-14"},{"$f":"'Dir1'!C124+'Dir2'!C124","v":0},{"$f":"'Dir1'!D124+'Dir2'!D124","v":0},{"$f":"'Dir1'!E124+'Dir2'!E124","v":0},{"$f":"'Dir1'!F124+'Dir2'!F124","v":0},{"$f":"'Dir1'!G124+'Dir2'!G124","v":0},{"$f":"'Dir1'!H124+'Dir2'!H124","v":0},{"$f":"'Dir1'!I124+'Dir2'!I124","v":0},{"$f":"'Dir1'!J124+'Dir2'!J124","v":0},{"$f":"'Dir1'!K124+'Dir2'!K124","v":0},{"$f":"'Dir1'!L124+'Dir2'!L124","v":0},{"$f":"'Dir1'!M124+'Dir2'!M124","v":0},{"$f":"'Dir1'!N124+'Dir2'!N124","v":0},{"$f":"'Dir1'!O124+'Dir2'!O124","v":0},{"$f":"'Dir1'!P124+'Dir2'!P124","v":0},{"$f":"'Dir1'!Q124+'Dir2'!Q124","v":0},{"$f":"'Dir1'!R124+'Dir2'!R124","v":0},{"$f":"'Dir1'!S124+'Dir2'!S124","v":0},{"$f":"'Dir1'!T124+'Dir2'!T124","v":0},{"$f":"'Dir1'!U124+'Dir2'!U124","v":0},{"$f":"'Dir1'!V124+'Dir2'!V124","v":0},{"$f":"'Dir1'!W124+'Dir2'!W124","v":0},{"$f":"'Dir1'!X124+'Dir2'!X124","v":0},{"$f":"'Dir1'!Y124+'Dir2'!Y124","v":0},{"$f":"'Dir1'!Z124+'Dir2'!Z124","v":0},{"$f":"'Dir1'!AA124+'Dir2'!AA124","v":0},{"$f":"'Dir1'!AB124+'Dir2'!AB124","v":0},{"$f":"'Dir1'!AC124+'Dir2'!AC124","v":0},{"$f":"'Dir1'!AD124+'Dir2'!AD124","v":0},{"$f":"'Dir1'!AE124+'Dir2'!AE124","v":0},{"$f":"'Dir1'!AF124+'Dir2'!AF124","v":0},{"$f":"'Dir1'!AG124+'Dir2'!AG124","v":0},{"$f":"'Dir1'!AH124+'Dir2'!AH124","v":0},{"$f":"'Dir1'!AI124+'Dir2'!AI124","v":0},{"$f":"'Dir1'!AJ124+'Dir2'!AJ124","v":0},{"$f":"'Dir1'!AK124+'Dir2'!AK124","v":0},"-",{"$f":"IFERROR(ROUND(PERCENTILE(_xlfn._xlws.FILTER(Data_Table[Speed],(Data_Table[Period]=$B124)*(SUM(C124:N124)>=10)),0.85),2),\"-\")","v":"-"}]
[121,{"$f":"ImportData!$B$10+7*QUOTIENT(A125,24*60*7/ImportData!$B$8)+MOD(1+QUOTIENT(A125,24*60/ImportData!$B$8)-ImportData!$E$10,7)+TIME(0,ImportData!$B$8*A125,0)","v":"2022-05-14T01:00:00"},{"$f":"'Dir1'!C125+'Dir2'!C125","v":0},{"$f":"'Dir1'!D125+'Dir2'!D125","v":0},{"$f":"'Dir1'!E125+'Dir2'!E125","v":0},{"$f":"'Dir1'!F125+'Dir2'!F125","v":0},{"$f":"'Dir1'!G125+'Dir2'!G125","v":0},{"$f":"'Dir1'!H125+'Dir2'!H125","v":0},{"$f":"'Dir1'!I125+'Dir2'!I125","v":0},{"$f":"'Dir1'!J125+'Dir2'!J125","v":0},{"$f":"'Dir1'!K125+'Dir2'!K125","v":0},{"$f":"'Dir1'!L125+'Dir2'!L125","v":0},{"$f":"'Dir1'!M125+'Dir2'!M125","v":0},{"$f":"'Dir1'!N125+'Dir2'!N125","v":0},{"$f":"'Dir1'!O125+'Dir2'!O125","v":0},{"$f":"'Dir1'!P125+'Dir2'!P125","v":0},{"$f":"'Dir1'!Q125+'Dir2'!Q125","v":0},{"$f":"'Dir1'!R125+'Dir2'!R125","v":0},{"$f":"'Dir1'!S125+'Dir2'!S125","v":0},{"$f":"'Dir1'!T125+'Dir2'!T125","v":0},{"$f":"'Dir1'!U125+'Dir2'!U125","v":0},{"$f":"'Dir1'!V125+'Dir2'!V125","v":0},{"$f":"'Dir1'!W125+'Dir2'!W125","v":0},{"$f":"'Dir1'!X125+'Dir2'!X125","v":0},{"$f":"'Dir1'!Y125+'Dir2'!Y125","v":0},{"$f":"'Dir1'!Z125+'Dir2'!Z125","v":0},{"$f":"'Dir1'!AA125+'Dir2'!AA125","v":0},{"$f":"'Dir1'!AB125+'Dir2'!AB125","v":0},{"$f":"'Dir1'!AC125+'Dir2'!AC125","v":0},{"$f":"'Dir1'!AD125+'Dir2'!AD125","v":0},{"$f":"'Dir1'!AE125+'Dir2'!AE125","v":0},{"$f":"'Dir1'!AF125+'Dir2'!AF125","v":0},{"$f":"'Dir1'!AG125+'Dir2'!AG125","v":0},{"$f":"'Dir1'!AH125+'Dir2'!AH125","v":0},{"$f":"'Dir1'!AI125+'Dir2'!AI125","v":0},{"$f":"'Dir1'!AJ125+'Dir2'!AJ125","v":0},{"$f":"'Dir1'!AK125+'Dir2'!AK125","v":0},"-",{"$f":"IFERROR(ROUND(PERCENTILE(_xlfn._xlws.FILTER(Data_Table[Speed],(Data_Table[Period]=$B125)*(SUM(C125:N125)>=10)),0.85),2),\"-\")","v":"-"}]
[122,{"$f":"ImportData!$B$10+7*QUOTIENT(A126,24*60*7/ImportData!$B$8)+MOD(1+QUOTIENT(A126,24*60/ImportData!$B$8)-ImportData!$E$10,7)+TIME(0,ImportData!$B$8*A126,0)","v":"2022-05-14T02:00:00"},{"$f":"'Dir1'!C126+'Dir2'!C126","v":0},{"$f":"'Dir1'!D126+'Dir2'!D126","v":0},{"$f":"'Dir1'!E126+'Dir2'!E126","v":0},{"$f":"'Dir1'!F126+'Dir2'!F126","v":0},{"$f":"'Dir1'!G126+'Dir2'!G126","v":0},{"$f":"'Dir1'!H126+'Dir2'!H126","v":0},{"$f":"'Dir1'!I126+'Dir2'!I126","v":0},{"$f":"'Dir1'!J126+'Dir2'!J126","v":0},{"$f":"'Dir1'!K126+'Dir2'!K126","v":0},{"$f":"'Dir1'!L126+'Dir2'!L126","v":0},{"$f":"'Dir1'!M126+'Dir2'!M126","v":0},{"$f":"'Dir1'!N126+'Dir2'!N126","v":0},{"$f":"'Dir1'!O126+'Dir2'!O126","v":0},{"$f":"'Dir1'!P126+'Dir2'!P126","v":0},{"$f":"'Dir1'!Q126+'Dir2'!Q126","v":0},{"$f":"'Dir1'!R126+'Dir2'!R126","v":0},{"$f":"'Dir1'!S126+'Dir2'!S126","v":0},{"$f":"'Dir1'!T126+'Dir2'!T126","v":0},{"$f":"'Dir1'!U126+'Dir2'!U126","v":0},{"$f":"'Dir1'!V126+'Dir2'!V126","v":0},{"$f":"'Dir1'!W126+'Dir2'!W126","v":0},{"$f":"'Dir1'!X126+'Dir2'!X126","v":0},{"$f":"'Dir1'!Y126+'Dir2'!Y126","v":0},{"$f":"'Dir1'!Z126+'Dir2'!Z126","v":0},{"$f":"'Dir1'!AA126+'Dir2'!AA126","v":0},{"$f":"'Dir1'!AB126+'Dir2'!AB126","v":0},{"$f":"'Dir1'!AC126+'Dir2'!AC126","v":0},{"$f":"'Dir1'!AD126+'Dir2'!AD126","v":0},{"$f":"'Dir1'!AE126+'Dir2'!AE126","v":0},{"$f":"'Dir1'!AF126+'Dir2'!AF126","v":0},{"$f":"'Dir1'!AG126+'Dir2'!AG126","v":0},{"$f":"'Dir1'!AH126+'Dir2'!AH126","v":0},{"$f":"'Dir1'!AI126+'Dir2'!AI126","v":0},{"$f":"'Dir1'!AJ126+'Dir2'!AJ126","v":0},{"$f":"'Dir1'!AK126+'Dir2'!AK126","v":0},"-",{"$f":"IFERROR(ROUND(PERCENTILE(_xlfn._xlws.FILTER(Data_Table[Speed],(Data_Table[Period]=$B126)*(SUM(C126:N126)>=10)),0.85),2),\"-\")","v":"-"}]
[123,{"$f":"ImportData!$B$10+7*QUOTIENT(A127,24*60*7/ImportData!$B$8)+MOD(1+QUOTIENT(A127,24*60/ImportData!$B$8)-ImportData!$E$10,7)+TIME(0,ImportData!$B$8*A127,0)","v":"2022-05-14T03:00:00"},{"$f":"'Dir1'!C127+'Dir2'!C127","v":0},{"$f":"'Dir1'!D127+'Dir2'!D127","v":0},{"$f":"'Dir1'!E127+'Dir2'!E127","v":0},{"$f":"'Dir1'!F127+'Dir2'!F127","v":0},{"$f":"'Dir1'!G127+'Dir2'!G127","v":0},{"$f":"'Dir1'!H127+'Dir2'!H127","v":0},{"$f":"'Dir1'!I127+'Dir2'!I127","v":0},{"$f":"'Dir1'!J127+'Dir2'!J127","v":0},{"$f":"'Dir1'!K127+'Dir2'!K127","v":0},{"$f":"'Dir1'!L127+'Dir2'!L127","v":0},{"$f":"'Dir1'!M127+'Dir2'!M127","v":0},{"$f":"'Dir1'!N127+'Dir2'!N127","v":0},{"$f":"'Dir1'!O127+'Dir2'!O127","v":0},{"$f":"'Dir1'!P127+'Dir2'!P127","v":0},{"$f":"'Dir1'!Q127+'Dir2'!Q127","v":0},{"$f":"'Dir1'!R127+'Dir2'!R127","v":0},{"$f":"'Dir1'!S127+'Dir2'!S127","v":0},{"$f":"'Dir1'!T127+'Dir2'!T127","v":0},{"$f":"'Dir1'!U127+'Dir2'!U127","v":0},{"$f":"'Dir1'!V127+'Dir2'!V127","v":0},{"$f":"'Dir1'!W127+'Dir2'!W127","v":0},{"$f":"'Dir1'!X127+'Dir2'!X127","v":0},{"$f":"'Dir1'!Y127+'Dir2'!Y127","v":0},{"$f":"'Dir1'!Z127+'Dir2'!Z127","v":0},{"$f":"'Dir1'!AA127+'Dir2'!AA127","v":0},{"$f":"'Dir1'!AB127+'Dir2'!AB127","v":0},{"$f":"'Dir1'!AC127+'Dir2'!AC127","v":0},{"$f":"'Dir1'!AD127+'Dir2'!AD127","v":0},{"$f":"'Dir1'!AE127+'Dir2'!AE127","v":0},{"$f":"'Dir1'!AF127+'Dir2'!AF127","v":0},{"$f":"'Dir1'!AG127+'Dir2'!AG127","v":0},{"$f":"'Dir1'!AH127+'Dir2'!AH127","v":0},{"$f":"'Dir1'!AI127+'Dir2'!AI127","v":0},{"$f":"'Dir1'!AJ127+'Dir2'!AJ127","v":0},{"$f":"'Dir1'!AK127+'Dir2'!AK127","v":0},"-",{"$f":"IFERROR(ROUND(PERCENTILE(_xlfn._xlws.FILTER(Data_Table[Speed],(Data_Table[Period]=$B127)*(SUM(C127:N127)>=10)),0.85),2),\"-\")","v":"-"}]
[124,{"$f":"ImportData!$B$10+7*QUOTIENT(A128,24*60*7/ImportData!$B$8)+MOD(1+QUOTIENT(A128,24*60/ImportData!$B$8)-ImportData!$E$10,7)+TIME(0,ImportData!$B$8*A128,0)","v":"2022-05-14T04:00:00"},{"$f":"'Dir1'!C128+'Dir2'!C128","v":0},{"$f":"'Dir1'!D128+'Dir2'!D128","v":0},{"$f":"'Dir1'!E128+'Dir2'!E128","v":0},{"$f":"'Dir1'!F128+'Dir2'!F128","v":0},{"$f":"'Dir1'!G128+'Dir2'!G128","v":0},{"$f":"'Dir1'!H128+'Dir2'!H128","v":0},{"$f":"'Dir1'!I128+'Dir2'!I128","v":0},{"$f":"'Dir1'!J128+'Dir2'!J128","v":0},{"$f":"'Dir1'!K128+'Dir2'!K128","v":0},{"$f":"'Dir1'!L128+'Dir2'!L128","v":0},{"$f":"'Dir1'!M128+'Dir2'!M128","v":0},{"$f":"'Dir1'!N128+'Dir2'!N128","v":0},{"$f":"'Dir1'!O128+'Dir2'!O128","v":0},{"$f":"'Dir1'!P128+'Dir2'!P128","v":0},{"$f":"'Dir1'!Q128+'Dir2'!Q128","v":0},{"$f":"'Dir1'!R128+'Dir2'!R128","v":0},{"$f":"'Dir1'!S128+'Dir2'!S128","v":0},{"$f":"'Dir1'!T128+'Dir2'!T128","v":0},{"$f":"'Dir1'!U128+'Dir2'!U128","v":0},{"$f":"'Dir1'!V128+'Dir2'!V128","v":0},{"$f":"'Dir1'!W128+'Dir2'!W128","v":0},{"$f":"'Dir1'!X128+'Dir2'!X128","v":0},{"$f":"'Dir1'!Y128+'Dir2'!Y128","v":0},{"$f":"'Dir1'!Z128+'Dir2'!Z128","v":0},{"$f":"'Dir1'!AA128+'Dir2'!AA128","v":0},{"$f":"'Dir1'!AB128+'Dir2'!AB128","v":0},{"$f":"'Dir1'!AC128+'Dir2'!AC128","v":0},{"$f":"'Dir1'!AD128+'Dir2'!AD128","v":0},{"$f":"'Dir1'!AE128+'Dir2'!AE128","v":0},{"$f":"'Dir1'!AF128+'Dir2'!AF128","v":0},{"$f":"'Dir1'!AG128+'Dir2'!AG128","v":0},{"$f":"'Dir1'!AH128+'Dir2'!AH128","v":0},{"$f":"'Dir1'!AI128+'Dir2'!AI128","v":0},{"$f":"'Dir1'!AJ128+'Dir2'!AJ128","v":0},{"$f":"'Dir1'!AK128+'Dir2'!AK128","v":0},"-",{"$f":"IFERROR(ROUND(PERCENTILE(_xlfn._xlws.FILTER(Data_Table[Speed],(Data_Table[Period]=$B128)*(SUM(C128:N128)>=10)),0.85),2),\"-\")","v":"-"}]
[125,{"$f":"ImportData!$B$10+7*QUOTIENT(A129,24*60*7/ImportData!$B$8)+MOD(1+QUOTIENT(A129,24*60/ImportData!$B$8)-ImportData!$E$10,7)+TIME(0,ImportData!$B$8*A129,0)","v":"2022-05-14T05:00:00"},{"$f":"'Dir1'!C129+'Dir2'!C129","v":0},{"$f":"'Dir1'!D129+'Dir2'!D129","v":0},{"$f":"'Dir1'!E129+'Dir2'!E129","v":0},{"$f":"'Dir1'!F129+'Dir2'!F129","v":0},{"$f":"'Dir1'!G129+'Dir2'!G129","v":0},{"$f":"'Dir1'!H129+'Dir2'!H129","v":0},{"$f":"'Dir1'!I129+'Dir2'!I129","v":0},{"$f":"'Dir1'!J129+'Dir2'!J129","v":0},{"$f":"'Dir1'!K129+'Dir2'!K129","v":0},{"$f":"'Dir1'!L129+'Dir2'!L129","v":0},{"$f":"'Dir1'!M129+'Dir2'!M129","v":0},{"$f":"'Dir1'!N129+'Dir2'!N129","v":0},{"$f":"'Dir1'!O129+'Dir2'!O129","v":0},{"$f":"'Dir1'!P129+'Dir2'!P129","v":0},{"$f":"'Dir1'!Q129+'Dir2'!Q129","v":0},{"$f":"'Dir1'!R129+'Dir2'!R129","v":0},{"$f":"'Dir1'!S129+'Dir2'!S129","v":0},{"$f":"'Dir1'!T129+'Dir2'!T129","v":0},{"$f":"'Dir1'!U129+'Dir2'!U129","v":0},{"$f":"'Dir1'!V129+'Dir2'!V129","v":0},{"$f":"'Dir1'!W129+'Dir2'!W129","v":0},{"$f":"'Dir1'!X129+'Dir2'!X129","v":0},{"$f":"'Dir1'!Y129+'Dir2'!Y129","v":0},{"$f":"'Dir1'!Z129+'Dir2'!Z129","v":0},{"$f":"'Dir1'!AA129+'Dir2'!AA129","v":0},{"$f":"'Dir1'!AB129+'Dir2'!AB129","v":0},{"$f":"'Dir1'!AC129+'Dir2'!AC129","v":0},{"$f":"'Dir1'!AD129+'Dir2'!AD129","v":0},{"$f":"'Dir1'!AE129+'Dir2'!AE129","v":0},{"$f":"'Dir1'!AF129+'Dir2'!AF129","v":0},{"$f":"'Dir1'!AG129+'Dir2'!AG129","v":0},{"$f":"'Dir1'!AH129+'Dir2'!AH129","v":0},{"$f":"'Dir1'!AI129+'Dir2'!AI129","v":0},{"$f":"'Dir1'!AJ129+'Dir2'!AJ129","v":0},{"$f":"'Dir1'!AK129+'Dir2'!AK129","v":0},"-",{"$f":"IFERROR(ROUND(PERCENTILE(_xlfn._xlws.FILTER(Data_Table[Speed],(Data_Table[Period]=$B129)*(SUM(C129:N129)>=10)),0.85),2),\"-\")","v":"-"}]
[126,{"$f":"ImportData!$B$10+7*QUOTIENT(A130,24*60*7/ImportData!$B$8)+MOD(1+QUOTIENT(A130,24*60/ImportData!$B$8)-ImportData!$E$10,7)+TIME(0,ImportData!$B$8*A130,0)","v":"2022-05-14T06:00:00"},{"$f":"'Dir1'!C130+'Dir2'!C130","v":0},{"$f":"'Dir1'!D130+'Dir2'!D130","v":0},{"$f":"'Dir1'!E130+'Dir2'!E130","v":0},{"$f":"'Dir1'!F130+'Dir2'!F130","v":0},{"$f":"'Dir1'!G130+'Dir2'!G130","v":0},{"$f":"'Dir1'!H130+'Dir2'!H130","v":0},{"$f":"'Dir1'!I130+'Dir2'!I130","v":0},{"$f":"'Dir1'!J130+'Dir2'!J130","v":0},{"$f":"'Dir1'!K130+'Dir2'!K130","v":0},{"$f":"'Dir1'!L130+'Dir2'!L130","v":0},{"$f":"'Dir1'!M130+'Dir2'!M130","v":0},{"$f":"'Dir1'!N130+'Dir2'!N130","v":0},{"$f":"'Dir1'!O130+'Dir2'!O130","v":0},{"$f":"'Dir1'!P130+'Dir2'!P130","v":0},{"$f":"'Dir1'!Q130+'Dir2'!Q130","v":0},{"$f":"'Dir1'!R130+'Dir2'!R130","v":0},{"$f":"'Dir1'!S130+'Dir2'!S130","v":0},{"$f":"'Dir1'!T130+'Dir2'!T130","v":0},{"$f":"'Dir1'!U130+'Dir2'!U130","v":0},{"$f":"'Dir1'!V130+'Dir2'!V130","v":0},{"$f":"'Dir1'!W130+'Dir2'!W130","v":0},{"$f":"'Dir1'!X130+'Dir2'!X130","v":0},{"$f":"'Dir1'!Y130+'Dir2'!Y130","v":0},{"$f":"'Dir1'!Z130+'Dir2'!Z130","v":0},{"$f":"'Dir1'!AA130+'Dir2'!AA130","v":0},{"$f":"'Dir1'!AB130+'Dir2'!AB130","v":0},{"$f":"'Dir1'!AC130+'Dir2'!AC130","v":0},{"$f":"'Dir1'!AD130+'Dir2'!AD130","v":0},{"$f":"'Dir1'!AE130+'Dir2'!AE130","v":0},{"$f":"'Dir1'!AF130+'Dir2'!AF130","v":0},{"$f":"'Dir1'!AG130+'Dir2'!AG130","v":0},{"$f":"'Dir1'!AH130+'Dir2'!AH130","v":0},{"$f":"'Dir1'!AI130+'Dir2'!AI130","v":0},{"$f":"'Dir1'!AJ130+'Dir2'!AJ130","v":0},{"$f":"'Dir1'!AK130+'Dir2'!AK130","v":0},"-",{"$f":"IFERROR(ROUND(PERCENTILE(_xlfn._xlws.FILTER(Data_Table[Speed],(Data_Table[Period]=$B130)*(SUM(C130:N130)>=10)),0.85),2),\"-\")","v":"-"}]
[127,{"$f":"ImportData!$B$10+7*QUOTIENT(A131,24*60*7/ImportData!$B$8)+MOD(1+QUOTIENT(A131,24*60/ImportData!$B$8)-ImportData!$E$10,7)+TIME(0,ImportData!$B$8*A131,0)","v":"2022-05-14T07:00:00"},{"$f":"'Dir1'!C131+'Dir2'!C131","v":0},{"$f":"'Dir1'!D131+'Dir2'!D131","v":0},{"$f":"'Dir1'!E131+'Dir2'!E131","v":0},{"$f":"'Dir1'!F131+'Dir2'!F131","v":0},{"$f":"'Dir1'!G131+'Dir2'!G131","v":0},{"$f":"'Dir1'!H131+'Dir2'!H131","v":0},{"$f":"'Dir1'!I131+'Dir2'!I131","v":0},{"$f":"'Dir1'!J131+'Dir2'!J131","v":0},{"$f":"'Dir1'!K131+'Dir2'!K131","v":0},{"$f":"'Dir1'!L131+'Dir2'!L131","v":0},{"$f":"'Dir1'!M131+'Dir2'!M131","v":0},{"$f":"'Dir1'!N131+'Dir2'!N131","v":0},{"$f":"'Dir1'!O131+'Dir2'!O131","v":0},{"$f":"'Dir1'!P131+'Dir2'!P131","v":0},{"$f":"'Dir1'!Q131+'Dir2'!Q131","v":0},{"$f":"'Dir1'!R131+'Dir2'!R131","v":0},{"$f":"'Dir1'!S131+'Dir2'!S131","v":0},{"$f":"'Dir1'!T131+'Dir2'!T131","v":0},{"$f":"'Dir1'!U131+'Dir2'!U131","v":0},{"$f":"'Dir1'!V131+'Dir2'!V131","v":0},{"$f":"'Dir1'!W131+'Dir2'!W131","v":0},{"$f":"'Dir1'!X131+'Dir2'!X131","v":0},{"$f":"'Dir1'!Y131+'Dir2'!Y131","v":0},{"$f":"'Dir1'!Z131+'Dir2'!Z131","v":0},{"$f":"'Dir1'!AA131+'Dir2'!AA131","v":0},{"$f":"'Dir1'!AB131+'Dir2'!AB131","v":0},{"$f":"'Dir1'!AC131+'Dir2'!AC131","v":0},{"$f":"'Dir1'!AD131+'Dir2'!AD131","v":0},{"$f":"'Dir1'!AE131+'Dir2'!AE131","v":0},{"$f":"'Dir1'!AF131+'Dir2'!AF131","v":0},{"$f":"'Dir1'!AG131+'Dir2'!AG131","v":0},{"$f":"'Dir1'!AH131+'Dir2'!AH131","v":0},{"$f":"'Dir1'!AI131+'Dir2'!AI131","v":0},{"$f":"'Dir1'!AJ131+'Dir2'!AJ131","v":0},{"$f":"'Dir1'!AK131+'Dir2'!AK131","v":0},"-",{"$f":"IFERROR(ROUND(PERCENTILE(_xlfn._xlws.FILTER(Data_Table[Speed],(Data_Table[Period]=$B131)*(SUM(C131:N131)>=10)),0.85),2),\"-\")","v":"-"}]
[128,{"$f":"ImportData!$B$10+7*QUOTIENT(A132,24*60*7/ImportData!$B$8)+MOD(1+QUOTIENT(A132,24*60/ImportData!$B$8)-ImportData!$E$10,7)+TIME(0,ImportData!$B$8*A132,0)","v":"2022-05-14T08:00:00"},{"$f":"'Dir1'!C132+'Dir2'!C132","v":0},{"$f":"'Dir1'!D132+'Dir2'!D132","v":0},{"$f":"'Dir1'!E132+'Dir2'!E132","v":0},{"$f":"'Dir1'!F132+'Dir2'!F132","v":0},{"$f":"'Dir1'!G132+'Dir2'!G132","v":0},{"$f":"'Dir1'!H132+'Dir2'!H132","v":0},{"$f":"'Dir1'!I132+'Dir2'!I132","v":0},{"$f":"'Dir1'!J132+'Dir2'!J132","v":0},{"$f":"'Dir1'!K132+'Dir2'!K132","v":0},{"$f":"'Dir1'!L132+'Dir2'!L132","v":0},{"$f":"'Dir1'!M132+'Dir2'!M132","v":0},{"$f":"'Dir1'!N132+'Dir2'!N132","v":0},{"$f":"'Dir1'!O132+'Dir2'!O132","v":0},{"$f":"'Dir1'!P132+'Dir2'!P132","v":0},{"$f":"'Dir1'!Q132+'Dir2'!Q132","v":0},{"$f":"'Dir1'!R132+'Dir2'!R132","v":0},{"$f":"'Dir1'!S132+'Dir2'!S132","v":0},{"$f":"'Dir1'!T132+'Dir2'!T132","v":0},{"$f":"'Dir1'!U132+'Dir2'!U132","v":0},{"$f":"'Dir1'!V132+'Dir2'!V132","v":0},{"$f":"'Dir1'!W132+'Dir2'!W132","v":0},{"$f":"'Dir1'!X132+'Dir2'!X132","v":0},{"$f":"'Dir1'!Y132+'Dir2'!Y132","v":0},{"$f":"'Dir1'!Z132+'Dir2'!Z132","v":0},{"$f":"'Dir1'!AA132+'Dir2'!AA132","v":0},{"$f":"'Dir1'!AB132+'Dir2'!AB132","v":0},{"$f":"'Dir1'!AC132+'Dir2'!AC132","v":0},{"$f":"'Dir1'!AD132+'Dir2'!AD132","v":0},{"$f":"'Dir1'!AE132+'Dir2'!AE132","v":0},{"$f":"'Dir1'!AF132+'Dir2'!AF132","v":0},{"$f":"'Dir1'!AG132+'Dir2'!AG132","v":0},{"$f":"'Dir1'!AH132+'Dir2'!AH132","v":0},{"$f":"'Dir1'!AI132+'Dir2'!AI132","v":0},{"$f":"'Dir1'!AJ132+'Dir2'!AJ132","v":0},{"$f":"'Dir1'!AK132+'Dir2'!AK132","v":0},"-",{"$f":"IFERROR(ROUND(PERCENTILE(_xlfn._xlws.FILTER(Data_Table[Speed],(Data_Table[Period]=$B132)*(SUM(C132:N132)>=10)),0.85),2),\"-\")","v":"-"}]
[129,{"$f":"ImportData!$B$10+7*QUOTIENT(A133,24*60*7/ImportData!$B$8)+MOD(1+QUOTIENT(A133,24*60/ImportData!$B$8)-ImportData!$E$10,7)+TIME(0,ImportData!$B$8*A133,0)","v":"2022-05-14T09:00:00"},{"$f":"'Dir1'!C133+'Dir2'!C133","v":0},{"$f":"'Dir1'!D133+'Dir2'!D133","v":0},{"$f":"'Dir1'!E133+'Dir2'!E133","v":0},{"$f":"'Dir1'!F133+'Dir2'!F133","v":0},{"$f":"'Dir1'!G133+'Dir2'!G133","v":0},{"$f":"'Dir1'!H133+'Dir2'!H133","v":0},{"$f":"'Dir1'!I133+'Dir2'!I133","v":0},{"$f":"'Dir1'!J133+'Dir2'!J133","v":0},{"$f":"'Dir1'!K133+'Dir2'!K133","v":0},{"$f":"'Dir1'!L133+'Dir2'!L133","v":0},{"$f":"'Dir1'!M133+'Dir2'!M133","v":0},{"$f":"'Dir1'!N133+'Dir2'!N133","v":0},{"$f":"'Dir1'!O133+'Dir2'!O133","v":0},{"$f":"'Dir1'!P133+'Dir2'!P133","v":0},{"$f":"'Dir1'!Q133+'Dir2'!Q133","v":0},{"$f":"'Dir1'!R133+'Dir2'!R133","v":0},{"$f":"'Dir1'!S133+'Dir2'!S133","v":0},{"$f":"'Dir1'!T133+'Dir2'!T133","v":0},{"$f":"'Dir1'!U133+'Dir2'!U133","v":0},{"$f":"'Dir1'!V133+'Dir2'!V133","v":0},{"$f":"'Dir1'!W133+'Dir2'!W133","v":0},{"$f":"'Dir1'!X133+'Dir2'!X133","v":0},{"$f":"'Dir1'!Y133+'Dir2'!Y133","v":0},{"$f":"'Dir1'!Z133+'Dir2'!Z133","v":0},{"$f":"'Dir1'!AA133+'Dir2'!AA133","v":0},{"$f":"'Dir1'!AB133+'Dir2'!AB133","v":0},{"$f":"'Dir1'!AC133+'Dir2'!AC133","v":0},{"$f":"'Dir1'!AD133+'Dir2'!AD133","v":0},{"$f":"'Dir1'!AE133+'Dir2'!AE133","v":0},{"$f":"'Dir1'!AF133+'Dir2'!AF133","v":0},{"$f":"'Dir1'!AG133+'Dir2'!AG133","v":0},{"$f":"'Dir1'!AH133+'Dir2'!AH133","v":0},{"$f":"'Dir1'!AI133+'Dir2'!AI133","v":0},{"$f":"'Dir1'!AJ133+'Dir2'!AJ133","v":0},{"$f":"'Dir1'!AK133+'Dir2'!AK133","v":0},"-",{"$f":"IFERROR(ROUND(PERCENTILE(_xlfn._xlws.FILTER(Data_Table[Speed],(Data_Table[Period]=$B133)*(SUM(C133:N133)>=10)),0.85),2),\"-\")","v":"-"}]
[130,{"$f":"ImportData!$B$10+7*QUOTIENT(A134,24*60*7/ImportData!$B$8)+MOD(1+QUOTIENT(A134,24*60/ImportData!$B$8)-ImportData!$E$10,7)+TIME(0,ImportData!$B$8*A134,0)","v":"2022-05-14T10:00:00"},{"$f":"'Dir1'!C134+'Dir2'!C134","v":0},{"$f":"'Dir1'!D134+'Dir2'!D134","v":0},{"$f":"'Dir1'!E134+'Dir2'!E134","v":0},{"$f":"'Dir1'!F134+'Dir2'!F134","v":0},{"$f":"'Dir1'!G134+'Dir2'!G134","v":0},{"$f":"'Dir1'!H134+'Dir2'!H134","v":0},{"$f":"'Dir1'!I134+'Dir2'!I134","v":0},{"$f":"'Dir1'!J134+'Dir2'!J134","v":0},{"$f":"'Dir1'!K134+'Dir2'!K134","v":0},{"$f":"'Dir1'!L134+'Dir2'!L134","v":0},{"$f":"'Dir1'!M134+'Dir2'!M134","v":0},{"$f":"'Dir1'!N134+'Dir2'!N134","v":0},{"$f":"'Dir1'!O134+'Dir2'!O134","v":0},{"$f":"'Dir1'!P134+'Dir2'!P134","v":0},{"$f":"'Dir1'!Q134+'Dir2'!Q134","v":0},{"$f":"'Dir1'!R134+'Dir2'!R134","v":0},{"$f":"'Dir1'!S134+'Dir2'!S134","v":0},{"$f":"'Dir1'!T134+'Dir2'!T134","v":0},{"$f":"'Dir1'!U134+'Dir2'!U134","v":0},{"$f":"'Dir1'!V134+'Dir2'!V134","v":0},{"$f":"'Dir1'!W134+'Dir2'!W134","v":0},{"$f":"'Dir1'!X134+'Dir2'!X134","v":0},{"$f":"'Dir1'!Y134+'Dir2'!Y134","v":0},{"$f":"'Dir1'!Z134+'Dir2'!Z134","v":0},{"$f":"'Dir1'!AA134+'Dir2'!AA134","v":0},{"$f":"'Dir1'!AB134+'Dir2'!AB134","v":0},{"$f":"'Dir1'!AC134+'Dir2'!AC134","v":0},{"$f":"'Dir1'!AD134+'Dir2'!AD134","v":0},{"$f":"'Dir1'!AE134+'Dir2'!AE134","v":0},{"$f":"'Dir1'!AF134+'Dir2'!AF134","v":0},{"$f":"'Dir1'!AG134+'Dir2'!AG134","v":0},{"$f":"'Dir1'!AH134+'Dir2'!AH134","v":0},{"$f":"'Dir1'!AI134+'Dir2'!AI134","v":0},{"$f":"'Dir1'!AJ134+'Dir2'!AJ134","v":0},{"$f":"'Dir1'!AK134+'Dir2'!AK134","v":0},"-",{"$f":"IFERROR(ROUND(PERCENTILE(_xlfn._xlws.FILTER(Data_Table[Speed],(Data_Table[Period]=$B134)*(SUM(C134:N134)>=10)),0.85),2),\"-\")","v":"-"}]
[131,{"$f":"ImportData!$B$10+7*QUOTIENT(A135,24*60*7/ImportData!$B$8)+MOD(1+QUOTIENT(A135,24*60/ImportData!$B$8)-ImportData!$E$10,7)+TIME(0,ImportData!$B$8*A135,0)","v":"2022-05-14T11:00:00"},{"$f":"'Dir1'!C135+'Dir2'!C135","v":0},{"$f":"'Dir1'!D135+'Dir2'!D135","v":0},{"$f":"'Dir1'!E135+'Dir2'!E135","v":0},{"$f":"'Dir1'!F135+'Dir2'!F135","v":0},{"$f":"'Dir1'!G135+'Dir2'!G135","v":0},{"$f":"'Dir1'!H135+'Dir2'!H135","v":0},{"$f":"'Dir1'!I135+'Dir2'!I135","v":0},{"$f":"'Dir1'!J135+'Dir2'!J135","v":0},{"$f":"'Dir1'!K135+'Dir2'!K135","v":0},{"$f":"'Dir1'!L135+'Dir2'!L135","v":0},{"$f":"'Dir1'!M135+'Dir2'!M135","v":0},{"$f":"'Dir1'!N135+'Dir2'!N135","v":0},{"$f":"'Dir1'!O135+'Dir2'!O135","v":0},{"$f":"'Dir1'!P135+'Dir2'!P135","v":0},{"$f":"'Dir1'!Q135+'Dir2'!Q135","v":0},{"$f":"'Dir1'!R135+'Dir2'!R135","v":0},{"$f":"'Dir1'!S135+'Dir2'!S135","v":0},{"$f":"'Dir1'!T135+'Dir2'!T135","v":0},{"$f":"'Dir1'!U135+'Dir2'!U135","v":0},{"$f":"'Dir1'!V135+'Dir2'!V135","v":0},{"$f":"'Dir1'!W135+'Dir2'!W135","v":0},{"$f":"'Dir1'!X135+'Dir2'!X135","v":0},{"$f":"'Dir1'!Y135+'Dir2'!Y135","v":0},{"$f":"'Dir1'!Z135+'Dir2'!Z135","v":0},{"$f":"'Dir1'!AA135+'Dir2'!AA135","v":0},{"$f":"'Dir1'!AB135+'Dir2'!AB135","v":0},{"$f":"'Dir1'!AC135+'Dir2'!AC135","v":0},{"$f":"'Dir1'!AD135+'Dir2'!AD135","v":0},{"$f":"'Dir1'!AE135+'Dir2'!AE135","v":0},{"$f":"'Dir1'!AF135+'Dir2'!AF135","v":0},{"$f":"'Dir1'!AG135+'Dir2'!AG135","v":0},{"$f":"'Dir1'!AH135+'Dir2'!AH135","v":0},{"$f":"'Dir1'!AI135+'Dir2'!AI135","v":0},{"$f":"'Dir1'!AJ135+'Dir2'!AJ135","v":0},{"$f":"'Dir1'!AK135+'Dir2'!AK135","v":0},"-",{"$f":"IFERROR(ROUND(PERCENTILE(_xlfn._xlws.FILTER(Data_Table[Speed],(Data_Table[Period]=$B135)*(SUM(C135:N135)>=10)),0.85),2),\"-\")","v":"-"}]
[132,{"$f":"ImportData!$B$10+7*QUOTIENT(A136,24*60*7/ImportData!$B$8)+MOD(1+QUOTIENT(A136,24*60/ImportData!$B$8)-ImportData!$E$10,7)+TIME(0,ImportData!$B$8*A136,0)","v":"2022-05-14T12:00:00"},{"$f":"'Dir1'!C136+'Dir2'!C136","v":0},{"$f":"'Dir1'!D136+'Dir2'!D136","v":0},{"$f":"'Dir1'!E136+'Dir2'!E136","v":0},{"$f":"'Dir1'!F136+'Dir2'!F136","v":0},{"$f":"'Dir1'!G136+'Dir2'!G136","v":0},{"$f":"'Dir1'!H136+'Dir2'!H136","v":0},{"$f":"'Dir1'!I136+'Dir2'!I136","v":0},{"$f":"'Dir1'!J136+'Dir2'!J136","v":0},{"$f":"'Dir1'!K136+'Dir2'!K136","v":0},{"$f":"'Dir1'!L136+'Dir2'!L136","v":0},{"$f":"'Dir1'!M136+'Dir2'!M136","v":0},{"$f":"'Dir1'!N136+'Dir2'!N136","v":0},{"$f":"'Dir1'!O136+'Dir2'!O136","v":0},{"$f":"'Dir1'!P136+'Dir2'!P136","v":0},{"$f":"'Dir1'!Q136+'Dir2'!Q136","v":0},{"$f":"'Dir1'!R136+'Dir2'!R136","v":0},{"$f":"'Dir1'!S136+'Dir2'!S136","v":0},{"$f":"'Dir1'!T136+'Dir2'!T136","v":0},{"$f":"'Dir1'!U136+'Dir2'!U136","v":0},{"$f":"'Dir1'!V136+'Dir2'!V136","v":0},{"$f":"'Dir1'!W136+'Dir2'!W136","v":0},{"$f":"'Dir1'!X136+'Dir2'!X136","v":0},{"$f":"'Dir1'!Y136+'Dir2'!Y136","v":0},{"$f":"'Dir1'!Z136+'Dir2'!Z136","v":0},{"$f":"'Dir1'!AA136+'Dir2'!AA136","v":0},{"$f":"'Dir1'!AB136+'Dir2'!AB136","v":0},{"$f":"'Dir1'!AC136+'Dir2'!AC136","v":0},{"$f":"'Dir1'!AD136+'Dir2'!AD136","v":0},{"$f":"'Dir1'!AE136+'Dir2'!AE136","v":0},{"$f":"'Dir1'!AF136+'Dir2'!AF136","v":0},{"$f":"'Dir1'!AG136+'Dir2'!AG136","v":0},{"$f":"'Dir1'!AH136+'Dir2'!AH136","v":0},{"$f":"'Dir1'!AI136+'Dir2'!AI136","v":0},{"$f":"'Dir1'!AJ136+'Dir2'!AJ136","v":0},{"$f":"'Dir1'!AK136+'Dir2'!AK136","v":0},"-",{"$f":"IFERROR(ROUND(PERCENTILE(_xlfn._xlws.FILTER(Data_Table[Speed],(Data_Table[Period]=$B136)*(SUM(C136:N136)>=10)),0.85),2),\"-\")","v":"-"}]
[133,{"$f":"ImportData!$B$10+7*QUOTIENT(A137,24*60*7/ImportData!$B$8)+MOD(1+QUOTIENT(A137,24*60/ImportData!$B$8)-ImportData!$E$10,7)+TIME(0,ImportData!$B$8*A137,0)","v":"2022-05-14T13:00:00"},{"$f":"'Dir1'!C137+'Dir2'!C137","v":0},{"$f":"'Dir1'!D137+'Dir2'!D137","v":0},{"$f":"'Dir1'!E137+'Dir2'!E137","v":0},{"$f":"'Dir1'!F137+'Dir2'!F137","v":0},{"$f":"'Dir1'!G137+'Dir2'!G137","v":0},{"$f":"'Dir1'!H137+'Dir2'!H137","v":0},{"$f":"'Dir1'!I137+'Dir2'!I137","v":0},{"$f":"'Dir1'!J137+'Dir2'!J137","v":0},{"$f":"'Dir1'!K137+'Dir2'!K137","v":0},{"$f":"'Dir1'!L137+'Dir2'!L137","v":0},{"$f":"'Dir1'!M137+'Dir2'!M137","v":0},{"$f":"'Dir1'!N137+'Dir2'!N137","v":0},{"$f":"'Dir1'!O137+'Dir2'!O137","v":0},{"$f":"'Dir1'!P137+'Dir2'!P137","v":0},{"$f":"'Dir1'!Q137+'Dir2'!Q137","v":0},{"$f":"'Dir1'!R137+'Dir2'!R137","v":0},{"$f":"'Dir1'!S137+'Dir2'!S137","v":0},{"$f":"'Dir1'!T137+'Dir2'!T137","v":0},{"$f":"'Dir1'!U137+'Dir2'!U137","v":0},{"$f":"'Dir1'!V137+'Dir2'!V137","v":0},{"$f":"'Dir1'!W137+'Dir2'!W137","v":0},{"$f":"'Dir1'!X137+'Dir2'!X137","v":0},{"$f":"'Dir1'!Y137+'Dir2'!Y137","v":0},{"$f":"'Dir1'!Z137+'Dir2'!Z137","v":0},{"$f":"'Dir1'!AA137+'Dir2'!AA137","v":0},{"$f":"'Dir1'!AB137+'Dir2'!AB137","v":0},{"$f":"'Dir1'!AC137+'Dir2'!AC137","v":0},{"$f":"'Dir1'!AD137+'Dir2'!AD137","v":0},{"$f":"'Dir1'!AE137+'Dir2'!AE137","v":0},{"$f":"'Dir1'!AF137+'Dir2'!AF137","v":0},{"$f":"'Dir1'!AG137+'Dir2'!AG137","v":0},{"$f":"'Dir1'!AH137+'Dir2'!AH137","v":0},{"$f":"'Dir1'!AI137+'Dir2'!AI137","v":0},{"$f":"'Dir1'!AJ137+'Dir2'!AJ137","v":0},{"$f":"'Dir1'!AK137+'Dir2'!AK137","v":0},"-",{"$f":"IFERROR(ROUND(PERCENTILE(_xlfn._xlws.FILTER(Data_Table[Speed],(Data_Table[Period]=$B137)*(SUM(C137:N137)>=10)),0.85),2),\"-\")","v":"-"}]
[134,{"$f":"ImportData!$B$10+7*QUOTIENT(A138,24*60*7/ImportData!$B$8)+MOD(1+QUOTIENT(A138,24*60/ImportData!$B$8)-ImportData!$E$10,7)+TIME(0,ImportData!$B$8*A138,0)","v":"2022-05-14T14:00:00"},{"$f":"'Dir1'!C138+'Dir2'!C138","v":0},{"$f":"'Dir1'!D138+'Dir2'!D138","v":0},{"$f":"'Dir1'!E138+'Dir2'!E138","v":0},{"$f":"'Dir1'!F138+'Dir2'!F138","v":0},{"$f":"'Dir1'!G138+'Dir2'!G138","v":0},{"$f":"'Dir1'!H138+'Dir2'!H138","v":0},{"$f":"'Dir1'!I138+'Dir2'!I138","v":0},{"$f":"'Dir1'!J138+'Dir2'!J138","v":0},{"$f":"'Dir1'!K138+'Dir2'!K138","v":0},{"$f":"'Dir1'!L138+'Dir2'!L138","v":0},{"$f":"'Dir1'!M138+'Dir2'!M138","v":0},{"$f":"'Dir1'!N138+'Dir2'!N138","v":0},{"$f":"'Dir1'!O138+'Dir2'!O138","v":0},{"$f":"'Dir1'!P138+'Dir2'!P138","v":0},{"$f":"'Dir1'!Q138+'Dir2'!Q138","v":0},{"$f":"'Dir1'!R138+'Dir2'!R138","v":0},{"$f":"'Dir1'!S138+'Dir2'!S138","v":0},{"$f":"'Dir1'!T138+'Dir2'!T138","v":0},{"$f":"'Dir1'!U138+'Dir2'!U138","v":0},{"$f":"'Dir1'!V138+'Dir2'!V138","v":0},{"$f":"'Dir1'!W138+'Dir2'!W138","v":0},{"$f":"'Dir1'!X138+'Dir2'!X138","v":0},{"$f":"'Dir1'!Y138+'Dir2'!Y138","v":0},{"$f":"'Dir1'!Z138+'Dir2'!Z138","v":0},{"$f":"'Dir1'!AA138+'Dir2'!AA138","v":0},{"$f":"'Dir1'!AB138+'Dir2'!AB138","v":0},{"$f":"'Dir1'!AC138+'Dir2'!AC138","v":0},{"$f":"'Dir1'!AD138+'Dir2'!AD138","v":0},{"$f":"'Dir1'!AE138+'Dir2'!AE138","v":0},{"$f":"'Dir1'!AF138+'Dir2'!AF138","v":0},{"$f":"'Dir1'!AG138+'Dir2'!AG138","v":0},{"$f":"'Dir1'!AH138+'Dir2'!AH138","v":0},{"$f":"'Dir1'!AI138+'Dir2'!AI138","v":0},{"$f":"'Dir1'!AJ138+'Dir2'!AJ138","v":0},{"$f":"'Dir1'!AK138+'Dir2'!AK138","v":0},"-",{"$f":"IFERROR(ROUND(PERCENTILE(_xlfn._xlws.FILTER(Data_Table[Speed],(Data_Table[Period]=$B138)*(SUM(C138:N138)>=10)),0.85),2),\"-\")","v":"-"}]
[135,{"$f":"ImportData!$B$10+7*QUOTIENT(A139,24*60*7/ImportData!$B$8)+MOD(1+QUOTIENT(A139,24*60/ImportData!$B$8)-ImportData!$E$10,7)+TIME(0,ImportData!$B$8*A139,0)","v":"2022-05-14T15:00:00"},{"$f":"'Dir1'!C139+'Dir2'!C139","v":0},{"$f":"'Dir1'!D139+'Dir2'!D139","v":0},{"$f":"'Dir1'!E139+'Dir2'!E139","v":0},{"$f":"'Dir1'!F139+'Dir2'!F139","v":0},{"$f":"'Dir1'!G139+'Dir2'!G139","v":0},{"$f":"'Dir1'!H139+'Dir2'!H139","v":0},{"$f":"'Dir1'!I139+'Dir2'!I139","v":0},{"$f":"'Dir1'!J139+'Dir2'!J139","v":0},{"$f":"'Dir1'!K139+'Dir2'!K139","v":0},{"$f":"'Dir1'!L139+'Dir2'!L139","v":0},{"$f":"'Dir1'!M139+'Dir2'!M139","v":0},{"$f":"'Dir1'!N139+'Dir2'!N139","v":0},{"$f":"'Dir1'!O139+'Dir2'!O139","v":0},{"$f":"'Dir1'!P139+'Dir2'!P139","v":0},{"$f":"'Dir1'!Q139+'Dir2'!Q139","v":0},{"$f":"'Dir1'!R139+'Dir2'!R139","v":0},{"$f":"'Dir1'!S139+'Dir2'!S139","v":0},{"$f":"'Dir1'!T139+'Dir2'!T139","v":0},{"$f":"'Dir1'!U139+'Dir2'!U139","v":0},{"$f":"'Dir1'!V139+'Dir2'!V139","v":0},{"$f":"'Dir1'!W139+'Dir2'!W139","v":0},{"$f":"'Dir1'!X139+'Dir2'!X139","v":0},{"$f":"'Dir1'!Y139+'Dir2'!Y139","v":0},{"$f":"'Dir1'!Z139+'Dir2'!Z139","v":0},{"$f":"'Dir1'!AA139+'Dir2'!AA139","v":0},{"$f":"'Dir1'!AB139+'Dir2'!AB139","v":0},{"$f":"'Dir1'!AC139+'Dir2'!AC139","v":0},{"$f":"'Dir1'!AD139+'Dir2'!AD139","v":0},{"$f":"'Dir1'!AE139+'Dir2'!AE139","v":0},{"$f":"'Dir1'!AF139+'Dir2'!AF139","v":0},{"$f":"'Dir1'!AG139+'Dir2'!AG139","v":0},{"$f":"'Dir1'!AH139+'Dir2'!AH139","v":0},{"$f":"'Dir1'!AI139+'Dir2'!AI139","v":0},{"$f":"'Dir1'!AJ139+'Dir2'!AJ139","v":0},{"$f":"'Dir1'!AK139+'Dir2'!AK139","v":0},"-",{"$f":"IFERROR(ROUND(PERCENTILE(_xlfn._xlws.FILTER(Data_Table[Speed],(Data_Table[Period]=$B139)*(SUM(C139:N139)>=10)),0.85),2),\"-\")","v":"-"}]
[136,{"$f":"ImportData!$B$10+7*QUOTIENT(A140,24*60*7/ImportData!$B$8)+MOD(1+QUOTIENT(A140,24*60/ImportData!$B$8)-ImportData!$E$10,7)+TIME(0,ImportData!$B$8*A140,0)","v":"2022-05-14T16:00:00"},{"$f":"'Dir1'!C140+'Dir2'!C140","v":0},{"$f":"'Dir1'!D140+'Dir2'!D140","v":0},{"$f":"'Dir1'!E140+'Dir2'!E140","v":0},{"$f":"'Dir1'!F140+'Dir2'!F140","v":0},{"$f":"'Dir1'!G140+'Dir2'!G140","v":0},{"$f":"'Dir1'!H140+'Dir2'!H140","v":0},{"$f":"'Dir1'!I140+'Dir2'!I140","v":0},{"$f":"'Dir1'!J140+'Dir2'!J140","v":0},{"$f":"'Dir1'!K140+'Dir2'!K140","v":0},{"$f":"'Dir1'!L140+'Dir2'!L140","v":0},{"$f":"'Dir1'!M140+'Dir2'!M140","v":0},{"$f":"'Dir1'!N140+'Dir2'!N140","v":0},{"$f":"'Dir1'!O140+'Dir2'!O140","v":0},{"$f":"'Dir1'!P140+'Dir2'!P140","v":0},{"$f":"'Dir1'!Q140+'Dir2'!Q140","v":0},{"$f":"'Dir1'!R140+'Dir2'!R140","v":0},{"$f":"'Dir1'!S140+'Dir2'!S140","v":0},{"$f":"'Dir1'!T140+'Dir2'!T140","v":0},{"$f":"'Dir1'!U140+'Dir2'!U140","v":0},{"$f":"'Dir1'!V140+'Dir2'!V140","v":0},{"$f":"'Dir1'!W140+'Dir2'!W140","v":0},{"$f":"'Dir1'!X140+'Dir2'!X140","v":0},{"$f":"'Dir1'!Y140+'Dir2'!Y140","v":0},{"$f":"'Dir1'!Z140+'Dir2'!Z140","v":0},{"$f":"'Dir1'!AA140+'Dir2'!AA140","v":0},{"$f":"'Dir1'!AB140+'Dir2'!AB140","v":0},{"$f":"'Dir1'!AC140+'Dir2'!AC140","v":0},{"$f":"'Dir1'!AD140+'Dir2'!AD140","v":0},{"$f":"'Dir1'!AE140+'Dir2'!AE140","v":0},{"$f":"'Dir1'!AF140+'Dir2'!AF140","v":0},{"$f":"'Dir1'!AG140+'Dir2'!AG140","v":0},{"$f":"'Dir1'!AH140+'Dir2'!AH140","v":0},{"$f":"'Dir1'!AI140+'Dir2'!AI140","v":0},{"$f":"'Dir1'!AJ140+'Dir2'!AJ140","v":0},{"$f":"'Dir1'!AK140+'Dir2'!AK140","v":0},"-",{"$f":"IFERROR(ROUND(PERCENTILE(_xlfn._xlws.FILTER(Data_Table[Speed],(Data_Table[Period]=$B140)*(SUM(C140:N140)>=10)),0.85),2),\"-\")","v":"-"}]
[137,{"$f":"ImportData!$B$10+7*QUOTIENT(A141,24*60*7/ImportData!$B$8)+MOD(1+QUOTIENT(A141,24*60/ImportData!$B$8)-ImportData!$E$10,7)+TIME(0,ImportData!$B$8*A141,0)","v":"2022-05-14T17:00:00"},{"$f":"'Dir1'!C141+'Dir2'!C141","v":0},{"$f":"'Dir1'!D141+'Dir2'!D141","v":0},{"$f":"'Dir1'!E141+'Dir2'!E141","v":0},{"$f":"'Dir1'!F141+'Dir2'!F141","v":0},{"$f":"'Dir1'!G141+'Dir2'!G141","v":0},{"$f":"'Dir1'!H141+'Dir2'!H141","v":0},{"$f":"'Dir1'!I141+'Dir2'!I141","v":0},{"$f":"'Dir1'!J141+'Dir2'!J141","v":0},{"$f":"'Dir1'!K141+'Dir2'!K141","v":0},{"$f":"'Dir1'!L141+'Dir2'!L141","v":0},{"$f":"'Dir1'!M141+'Dir2'!M141","v":0},{"$f":"'Dir1'!N141+'Dir2'!N141","v":0},{"$f":"'Dir1'!O141+'Dir2'!O141","v":0},{"$f":"'Dir1'!P141+'Dir2'!P141","v":0},{"$f":"'Dir1'!Q141+'Dir2'!Q141","v":0},{"$f":"'Dir1'!R141+'Dir2'!R141","v":0},{"$f":"'Dir1'!S141+'Dir2'!S141","v":0},{"$f":"'Dir1'!T141+'Dir2'!T141","v":0},{"$f":"'Dir1'!U141+'Dir2'!U141","v":0},{"$f":"'Dir1'!V141+'Dir2'!V141","v":0},{"$f":"'Dir1'!W141+'Dir2'!W141","v":0},{"$f":"'Dir1'!X141+'Dir2'!X141","v":0},{"$f":"'Dir1'!Y141+'Dir2'!Y141","v":0},{"$f":"'Dir1'!Z141+'Dir2'!Z141","v":0},{"$f":"'Dir1'!AA141+'Dir2'!AA141","v":0},{"$f":"'Dir1'!AB141+'Dir2'!AB141","v":0},{"$f":"'Dir1'!AC141+'Dir2'!AC141","v":0},{"$f":"'Dir1'!AD141+'Dir2'!AD141","v":0},{"$f":"'Dir1'!AE141+'Dir2'!AE141","v":0},{"$f":"'Dir1'!AF141+'Dir2'!AF141","v":0},{"$f":"'Dir1'!AG141+'Dir2'!AG141","v":0},{"$f":"'Dir1'!AH141+'Dir2'!AH141","v":0},{"$f":"'Dir1'!AI141+'Dir2'!AI141","v":0},{"$f":"'Dir1'!AJ141+'Dir2'!AJ141","v":0},{"$f":"'Dir1'!AK141+'Dir2'!AK141","v":0},"-",{"$f":"IFERROR(ROUND(PERCENTILE(_xlfn._xlws.FILTER(Data_Table[Speed],(Data_Table[Period]=$B141)*(SUM(C141:N141)>=10)),0.85),2),\"-\")","v":"-"}]
[138,{"$f":"ImportData!$B$10+7*QUOTIENT(A142,24*60*7/ImportData!$B$8)+MOD(1+QUOTIENT(A142,24*60/ImportData!$B$8)-ImportData!$E$10,7)+TIME(0,ImportData!$B$8*A142,0)","v":"2022-05-14T18:00:00"},{"$f":"'Dir1'!C142+'Dir2'!C142","v":0},{"$f":"'Dir1'!D142+'Dir2'!D142","v":0},{"$f":"'Dir1'!E142+'Dir2'!E142","v":0},{"$f":"'Dir1'!F142+'Dir2'!F142","v":0},{"$f":"'Dir1'!G142+'Dir2'!G142","v":0},{"$f":"'Dir1'!H142+'Dir2'!H142","v":0},{"$f":"'Dir1'!I142+'Dir2'!I142","v":0},{"$f":"'Dir1'!J142+'Dir2'!J142","v":0},{"$f":"'Dir1'!K142+'Dir2'!K142","v":0},{"$f":"'Dir1'!L142+'Dir2'!L142","v":0},{"$f":"'Dir1'!M142+'Dir2'!M142","v":0},{"$f":"'Dir1'!N142+'Dir2'!N142","v":0},{"$f":"'Dir1'!O142+'Dir2'!O142","v":0},{"$f":"'Dir1'!P142+'Dir2'!P142","v":0},{"$f":"'Dir1'!Q142+'Dir2'!Q142","v":0},{"$f":"'Dir1'!R142+'Dir2'!R142","v":0},{"$f":"'Dir1'!S142+'Dir2'!S142","v":0},{"$f":"'Dir1'!T142+'Dir2'!T142","v":0},{"$f":"'Dir1'!U142+'Dir2'!U142","v":0},{"$f":"'Dir1'!V142+'Dir2'!V142","v":0},{"$f":"'Dir1'!W142+'Dir2'!W142","v":0},{"$f":"'Dir1'!X142+'Dir2'!X142","v":0},{"$f":"'Dir1'!Y142+'Dir2'!Y142","v":0},{"$f":"'Dir1'!Z142+'Dir2'!Z142","v":0},{"$f":"'Dir1'!AA142+'Dir2'!AA142","v":0},{"$f":"'Dir1'!AB142+'Dir2'!AB142","v":0},{"$f":"'Dir1'!AC142+'Dir2'!AC142","v":0},{"$f":"'Dir1'!AD142+'Dir2'!AD142","v":0},{"$f":"'Dir1'!AE142+'Dir2'!AE142","v":0},{"$f":"'Dir1'!AF142+'Dir2'!AF142","v":0},{"$f":"'Dir1'!AG142+'Dir2'!AG142","v":0},{"$f":"'Dir1'!AH142+'Dir2'!AH142","v":0},{"$f":"'Dir1'!AI142+'Dir2'!AI142","v":0},{"$f":"'Dir1'!AJ142+'Dir2'!AJ142","v":0},{"$f":"'Dir1'!AK142+'Dir2'!AK142","v":0},"-",{"$f":"IFERROR(ROUND(PERCENTILE(_xlfn._xlws.FILTER(Data_Table[Speed],(Data_Table[Period]=$B142)*(SUM(C142:N142)>=10)),0.85),2),\"-\")","v":"-"}]
[139,{"$f":"ImportData!$B$10+7*QUOTIENT(A143,24*60*7/ImportData!$B$8)+MOD(1+QUOTIENT(A143,24*60/ImportData!$B$8)-ImportData!$E$10,7)+TIME(0,ImportData!$B$8*A143,0)","v":"2022-05-14T19:00:00"},{"$f":"'Dir1'!C143+'Dir2'!C143","v":0},{"$f":"'Dir1'!D143+'Dir2'!D143","v":0},{"$f":"'Dir1'!E143+'Dir2'!E143","v":0},{"$f":"'Dir1'!F143+'Dir2'!F143","v":0},{"$f":"'Dir1'!G143+'Dir2'!G143","v":0},{"$f":"'Dir1'!H143+'Dir2'!H143","v":0},{"$f":"'Dir1'!I143+'Dir2'!I143","v":0},{"$f":"'Dir1'!J143+'Dir2'!J143","v":0},{"$f":"'Dir1'!K143+'Dir2'!K143","v":0},{"$f":"'Dir1'!L143+'Dir2'!L143","v":0},{"$f":"'Dir1'!M143+'Dir2'!M143","v":0},{"$f":"'Dir1'!N143+'Dir2'!N143","v":0},{"$f":"'Dir1'!O143+'Dir2'!O143","v":0},{"$f":"'Dir1'!P143+'Dir2'!P143","v":0},{"$f":"'Dir1'!Q143+'Dir2'!Q143","v":0},{"$f":"'Dir1'!R143+'Dir2'!R143","v":0},{"$f":"'Dir1'!S143+'Dir2'!S143","v":0},{"$f":"'Dir1'!T143+'Dir2'!T143","v":0},{"$f":"'Dir1'!U143+'Dir2'!U143","v":0},{"$f":"'Dir1'!V143+'Dir2'!V143","v":0},{"$f":"'Dir1'!W143+'Dir2'!W143","v":0},{"$f":"'Dir1'!X143+'Dir2'!X143","v":0},{"$f":"'Dir1'!Y143+'Dir2'!Y143","v":0},{"$f":"'Dir1'!Z143+'Dir2'!Z143","v":0},{"$f":"'Dir1'!AA143+'Dir2'!AA143","v":0},{"$f":"'Dir1'!AB143+'Dir2'!AB143","v":0},{"$f":"'Dir1'!AC143+'Dir2'!AC143","v":0},{"$f":"'Dir1'!AD143+'Dir2'!AD143","v":0},{"$f":"'Dir1'!AE143+'Dir2'!AE143","v":0},{"$f":"'Dir1'!AF143+'Dir2'!AF143","v":0},{"$f":"'Dir1'!AG143+'Dir2'!AG143","v":0},{"$f":"'Dir1'!AH143+'Dir2'!AH143","v":0},{"$f":"'Dir1'!AI143+'Dir2'!AI143","v":0},{"$f":"'Dir1'!AJ143+'Dir2'!AJ143","v":0},{"$f":"'Dir1'!AK143+'Dir2'!AK143","v":0},"-",{"$f":"IFERROR(ROUND(PERCENTILE(_xlfn._xlws.FILTER(Data_Table[Speed],(Data_Table[Period]=$B143)*(SUM(C143:N143)>=10)),0.85),2),\"-\")","v":"-"}]
[140,{"$f":"ImportData!$B$10+7*QUOTIENT(A144,24*60*7/ImportData!$B$8)+MOD(1+QUOTIENT(A144,24*60/ImportData!$B$8)-ImportData!$E$10,7)+TIME(0,ImportData!$B$8*A144,0)","v":"2022-05-14T20:00:00"},{"$f":"'Dir1'!C144+'Dir2'!C144","v":0},{"$f":"'Dir1'!D144+'Dir2'!D144","v":0},{"$f":"'Dir1'!E144+'Dir2'!E144","v":0},{"$f":"'Dir1'!F144+'Dir2'!F144","v":0},{"$f":"'Dir1'!G144+'Dir2'!G144","v":0},{"$f":"'Dir1'!H144+'Dir2'!H144","v":0},{"$f":"'Dir1'!I144+'Dir2'!I144","v":0},{"$f":"'Dir1'!J144+'Dir2'!J144","v":0},{"$f":"'Dir1'!K144+'Dir2'!K144","v":0},{"$f":"'Dir1'!L144+'Dir2'!L144","v":0},{"$f":"'Dir1'!M144+'Dir2'!M144","v":0},{"$f":"'Dir1'!N144+'Dir2'!N144","v":0},{"$f":"'Dir1'!O144+'Dir2'!O144","v":0},{"$f":"'Dir1'!P144+'Dir2'!P144","v":0},{"$f":"'Dir1'!Q144+'Dir2'!Q144","v":0},{"$f":"'Dir1'!R144+'Dir2'!R144","v":0},{"$f":"'Dir1'!S144+'Dir2'!S144","v":0},{"$f":"'Dir1'!T144+'Dir2'!T144","v":0},{"$f":"'Dir1'!U144+'Dir2'!U144","v":0},{"$f":"'Dir1'!V144+'Dir2'!V144","v":0},{"$f":"'Dir1'!W144+'Dir2'!W144","v":0},{"$f":"'Dir1'!X144+'Dir2'!X144","v":0},{"$f":"'Dir1'!Y144+'Dir2'!Y144","v":0},{"$f":"'Dir1'!Z144+'Dir2'!Z144","v":0},{"$f":"'Dir1'!AA144+'Dir2'!AA144","v":0},{"$f":"'Dir1'!AB144+'Dir2'!AB144","v":0},{"$f":"'Dir1'!AC144+'Dir2'!AC144","v":0},{"$f":"'Dir1'!AD144+'Dir2'!AD144","v":0},{"$f":"'Dir1'!AE144+'Dir2'!AE144","v":0},{"$f":"'Dir1'!AF144+'Dir2'!AF144","v":0},{"$f":"'Dir1'!AG144+'Dir2'!AG144","v":0},{"$f":"'Dir1'!AH144+'Dir2'!AH144","v":0},{"$f":"'Dir1'!AI144+'Dir2'!AI144","v":0},{"$f":"'Dir1'!AJ144+'Dir2'!AJ144","v":0},{"$f":"'Dir1'!AK144+'Dir2'!AK144","v":0},"-",{"$f":"IFERROR(ROUND(PERCENTILE(_xlfn._xlws.FILTER(Data_Table[Speed],(Data_Table[Period]=$B144)*(SUM(C144:N144)>=10)),0.85),2),\"-\")","v":"-"}]
[141,{"$f":"ImportData!$B$10+7*QUOTIENT(A145,24*60*7/ImportData!$B$8)+MOD(1+QUOTIENT(A145,24*60/ImportData!$B$8)-ImportData!$E$10,7)+TIME(0,ImportData!$B$8*A145,0)","v":"2022-05-14T21:00:00"},{"$f":"'Dir1'!C145+'Dir2'!C145","v":0},{"$f":"'Dir1'!D145+'Dir2'!D145","v":0},{"$f":"'Dir1'!E145+'Dir2'!E145","v":0},{"$f":"'Dir1'!F145+'Dir2'!F145","v":0},{"$f":"'Dir1'!G145+'Dir2'!G145","v":0},{"$f":"'Dir1'!H145+'Dir2'!H145","v":0},{"$f":"'Dir1'!I145+'Dir2'!I145","v":0},{"$f":"'Dir1'!J145+'Dir2'!J145","v":0},{"$f":"'Dir1'!K145+'Dir2'!K145","v":0},{"$f":"'Dir1'!L145+'Dir2'!L145","v":0},{"$f":"'Dir1'!M145+'Dir2'!M145","v":0},{"$f":"'Dir1'!N145+'Dir2'!N145","v":0},{"$f":"'Dir1'!O145+'Dir2'!O145","v":0},{"$f":"'Dir1'!P145+'Dir2'!P145","v":0},{"$f":"'Dir1'!Q145+'Dir2'!Q145","v":0},{"$f":"'Dir1'!R145+'Dir2'!R145","v":0},{"$f":"'Dir1'!S145+'Dir2'!S145","v":0},{"$f":"'Dir1'!T145+'Dir2'!T145","v":0},{"$f":"'Dir1'!U145+'Dir2'!U145","v":0},{"$f":"'Dir1'!V145+'Dir2'!V145","v":0},{"$f":"'Dir1'!W145+'Dir2'!W145","v":0},{"$f":"'Dir1'!X145+'Dir2'!X145","v":0},{"$f":"'Dir1'!Y145+'Dir2'!Y145","v":0},{"$f":"'Dir1'!Z145+'Dir2'!Z145","v":0},{"$f":"'Dir1'!AA145+'Dir2'!AA145","v":0},{"$f":"'Dir1'!AB145+'Dir2'!AB145","v":0},{"$f":"'Dir1'!AC145+'Dir2'!AC145","v":0},{"$f":"'Dir1'!AD145+'Dir2'!AD145","v":0},{"$f":"'Dir1'!AE145+'Dir2'!AE145","v":0},{"$f":"'Dir1'!AF145+'Dir2'!AF145","v":0},{"$f":"'Dir1'!AG145+'Dir2'!AG145","v":0},{"$f":"'Dir1'!AH145+'Dir2'!AH145","v":0},{"$f":"'Dir1'!AI145+'Dir2'!AI145","v":0},{"$f":"'Dir1'!AJ145+'Dir2'!AJ145","v":0},{"$f":"'Dir1'!AK145+'Dir2'!AK145","v":0},"-",{"$f":"IFERROR(ROUND(PERCENTILE(_xlfn._xlws.FILTER(Data_Table[Speed],(Data_Table[Period]=$B145)*(SUM(C145:N145)>=10)),0.85),2),\"-\")","v":"-"}]
[142,{"$f":"ImportData!$B$10+7*QUOTIENT(A146,24*60*7/ImportData!$B$8)+MOD(1+QUOTIENT(A146,24*60/ImportData!$B$8)-ImportData!$E$10,7)+TIME(0,ImportData!$B$8*A146,0)","v":"2022-05-14T22:00:00"},{"$f":"'Dir1'!C146+'Dir2'!C146","v":0},{"$f":"'Dir1'!D146+'Dir2'!D146","v":0},{"$f":"'Dir1'!E146+'Dir2'!E146","v":0},{"$f":"'Dir1'!F146+'Dir2'!F146","v":0},{"$f":"'Dir1'!G146+'Dir2'!G146","v":0},{"$f":"'Dir1'!H146+'Dir2'!H146","v":0},{"$f":"'Dir1'!I146+'Dir2'!I146","v":0},{"$f":"'Dir1'!J146+'Dir2'!J146","v":0},{"$f":"'Dir1'!K146+'Dir2'!K146","v":0},{"$f":"'Dir1'!L146+'Dir2'!L146","v":0},{"$f":"'Dir1'!M146+'Dir2'!M146","v":0},{"$f":"'Dir1'!N146+'Dir2'!N146","v":0},{"$f":"'Dir1'!O146+'Dir2'!O146","v":0},{"$f":"'Dir1'!P146+'Dir2'!P146","v":0},{"$f":"'Dir1'!Q146+'Dir2'!Q146","v":0},{"$f":"'Dir1'!R146+'Dir2'!R146","v":0},{"$f":"'Dir1'!S146+'Dir2'!S146","v":0},{"$f":"'Dir1'!T146+'Dir2'!T146","v":0},{"$f":"'Dir1'!U146+'Dir2'!U146","v":0},{"$f":"'Dir1'!V146+'Dir2'!V146","v":0},{"$f":"'Dir1'!W146+'Dir2'!W146","v":0},{"$f":"'Dir1'!X146+'Dir2'!X146","v":0},{"$f":"'Dir1'!Y146+'Dir2'!Y146","v":0},{"$f":"'Dir1'!Z146+'Dir2'!Z146","v":0},{"$f":"'Dir1'!AA146+'Dir2'!AA146","v":0},{"$f":"'Dir1'!AB146+'Dir2'!AB146","v":0},{"$f":"'Dir1'!AC146+'Dir2'!AC146","v":0},{"$f":"'Dir1'!AD146+'Dir2'!AD146","v":0},{"$f":"'Dir1'!AE146+'Dir2'!AE146","v":0},{"$f":"'Dir1'!AF146+'Dir2'!AF146","v":0},{"$f":"'Dir1'!AG146+'Dir2'!AG146","v":0},{"$f":"'Dir1'!AH146+'Dir2'!AH146","v":0},{"$f":"'Dir1'!AI146+'Dir2'!AI146","v":0},{"$f":"'Dir1'!AJ146+'Dir2'!AJ146","v":0},{"$f":"'Dir1'!AK146+'Dir2'!AK146","v":0},"-",{"$f":"IFERROR(ROUND(PERCENTILE(_xlfn._xlws.FILTER(Data_Table[Speed],(Data_Table[Period]=$B146)*(SUM(C146:N146)>=10)),0.85),2),\"-\")","v":"-"}]
[143,{"$f":"ImportData!$B$10+7*QUOTIENT(A147,24*60*7/ImportData!$B$8)+MOD(1+QUOTIENT(A147,24*60/ImportData!$B$8)-ImportData!$E$10,7)+TIME(0,ImportData!$B$8*A147,0)","v":"2022-05-14T23:00:00"},{"$f":"'Dir1'!C147+'Dir2'!C147","v":0},{"$f":"'Dir1'!D147+'Dir2'!D147","v":0},{"$f":"'Dir1'!E147+'Dir2'!E147","v":0},{"$f":"'Dir1'!F147+'Dir2'!F147","v":0},{"$f":"'Dir1'!G147+'Dir2'!G147","v":0},{"$f":"'Dir1'!H147+'Dir2'!H147","v":0},{"$f":"'Dir1'!I147+'Dir2'!I147","v":0},{"$f":"'Dir1'!J147+'Dir2'!J147","v":0},{"$f":"'Dir1'!K147+'Dir2'!K147","v":0},{"$f":"'Dir1'!L147+'Dir2'!L147","v":0},{"$f":"'Dir1'!M147+'Dir2'!M147","v":0},{"$f":"'Dir1'!N147+'Dir2'!N147","v":0},{"$f":"'Dir1'!O147+'Dir2'!O147","v":0},{"$f":"'Dir1'!P147+'Dir2'!P147","v":0},{"$f":"'Dir1'!Q147+'Dir2'!Q147","v":0},{"$f":"'Dir1'!R147+'Dir2'!R147","v":0},{"$f":"'Dir1'!S147+'Dir2'!S147","v":0},{"$f":"'Dir1'!T147+'Dir2'!T147","v":0},{"$f":"'Dir1'!U147+'Dir2'!U147","v":0},{"$f":"'Dir1'!V147+'Dir2'!V147","v":0},{"$f":"'Dir1'!W147+'Dir2'!W147","v":0},{"$f":"'Dir1'!X147+'Dir2'!X147","v":0},{"$f":"'Dir1'!Y147+'Dir2'!Y147","v":0},{"$f":"'Dir1'!Z147+'Dir2'!Z147","v":0},{"$f":"'Dir1'!AA147+'Dir2'!AA147","v":0},{"$f":"'Dir1'!AB147+'Dir2'!AB147","v":0},{"$f":"'Dir1'!AC147+'Dir2'!AC147","v":0},{"$f":"'Dir1'!AD147+'Dir2'!AD147","v":0},{"$f":"'Dir1'!AE147+'Dir2'!AE147","v":0},{"$f":"'Dir1'!AF147+'Dir2'!AF147","v":0},{"$f":"'Dir1'!AG147+'Dir2'!AG147","v":0},{"$f":"'Dir1'!AH147+'Dir2'!AH147","v":0},{"$f":"'Dir1'!AI147+'Dir2'!AI147","v":0},{"$f":"'Dir1'!AJ147+'Dir2'!AJ147","v":0},{"$f":"'Dir1'!AK147+'Dir2'!AK147","v":0},"-",{"$f":"IFERROR(ROUND(PERCENTILE(_xlfn._xlws.FILTER(Data_Table[Speed],(Data_Table[Period]=$B147)*(SUM(C147:N147)>=10)),0.85),2),\"-\")","v":"-"}]
[144,{"$f":"ImportData!$B$10+7*QUOTIENT(A148,24*60*7/ImportData!$B$8)+MOD(1+QUOTIENT(A148,24*60/ImportData!$B$8)-ImportData!$E$10,7)+TIME(0,ImportData!$B$8*A148,0)","v":"2022-05-15"},{"$f":"'Dir1'!C148+'Dir2'!C148","v":0},{"$f":"'Dir1'!D148+'Dir2'!D148","v":0},{"$f":"'Dir1'!E148+'Dir2'!E148","v":0},{"$f":"'Dir1'!F148+'Dir2'!F148","v":0},{"$f":"'Dir1'!G148+'Dir2'!G148","v":0},{"$f":"'Dir1'!H148+'Dir2'!H148","v":0},{"$f":"'Dir1'!I148+'Dir2'!I148","v":0},{"$f":"'Dir1'!J148+'Dir2'!J148","v":0},{"$f":"'Dir1'!K148+'Dir2'!K148","v":0},{"$f":"'Dir1'!L148+'Dir2'!L148","v":0},{"$f":"'Dir1'!M148+'Dir2'!M148","v":0},{"$f":"'Dir1'!N148+'Dir2'!N148","v":0},{"$f":"'Dir1'!O148+'Dir2'!O148","v":0},{"$f":"'Dir1'!P148+'Dir2'!P148","v":0},{"$f":"'Dir1'!Q148+'Dir2'!Q148","v":0},{"$f":"'Dir1'!R148+'Dir2'!R148","v":0},{"$f":"'Dir1'!S148+'Dir2'!S148","v":0},{"$f":"'Dir1'!T148+'Dir2'!T148","v":0},{"$f":"'Dir1'!U148+'Dir2'!U148","v":0},{"$f":"'Dir1'!V148+'Dir2'!V148","v":0},{"$f":"'Dir1'!W148+'Dir2'!W148","v":0},{"$f":"'Dir1'!X148+'Dir2'!X148","v":0},{"$f":"'Dir1'!Y148+'Dir2'!Y148","v":0},{"$f":"'Dir1'!Z148+'Dir2'!Z148","v":0},{"$f":"'Dir1'!AA148+'Dir2'!AA148","v":0},{"$f":"'Dir1'!AB148+'Dir2'!AB148","v":0},{"$f":"'Dir1'!AC148+'Dir2'!AC148","v":0},{"$f":"'Dir1'!AD148+'Dir2'!AD148","v":0},{"$f":"'Dir1'!AE148+'Dir2'!AE148","v":0},{"$f":"'Dir1'!AF148+'Dir2'!AF148","v":0},{"$f":"'Dir1'!AG148+'Dir2'!AG148","v":0},{"$f":"'Dir1'!AH148+'Dir2'!AH148","v":0},{"$f":"'Dir1'!AI148+'Dir2'!AI148","v":0},{"$f":"'Dir1'!AJ148+'Dir2'!AJ148","v":0},{"$f":"'Dir1'!AK148+'Dir2'!AK148","v":0},"-",{"$f":"IFERROR(ROUND(PERCENTILE(_xlfn._xlws.FILTER(Data_Table[Speed],(Data_Table[Period]=$B148)*(SUM(C148:N148)>=10)),0.85),2),\"-\")","v":"-"}]
[145,{"$f":"ImportData!$B$10+7*QUOTIENT(A149,24*60*7/ImportData!$B$8)+MOD(1+QUOTIENT(A149,24*60/ImportData!$B$8)-ImportData!$E$10,7)+TIME(0,ImportData!$B$8*A149,0)","v":"2022-05-15T01:00:00"},{"$f":"'Dir1'!C149+'Dir2'!C149","v":0},{"$f":"'Dir1'!D149+'Dir2'!D149","v":0},{"$f":"'Dir1'!E149+'Dir2'!E149","v":0},{"$f":"'Dir1'!F149+'Dir2'!F149","v":0},{"$f":"'Dir1'!G149+'Dir2'!G149","v":0},{"$f":"'Dir1'!H149+'Dir2'!H149","v":0},{"$f":"'Dir1'!I149+'Dir2'!I149","v":0},{"$f":"'Dir1'!J149+'Dir2'!J149","v":0},{"$f":"'Dir1'!K149+'Dir2'!K149","v":0},{"$f":"'Dir1'!L149+'Dir2'!L149","v":0},{"$f":"'Dir1'!M149+'Dir2'!M149","v":0},{"$f":"'Dir1'!N149+'Dir2'!N149","v":0},{"$f":"'Dir1'!O149+'Dir2'!O149","v":0},{"$f":"'Dir1'!P149+'Dir2'!P149","v":0},{"$f":"'Dir1'!Q149+'Dir2'!Q149","v":0},{"$f":"'Dir1'!R149+'Dir2'!R149","v":0},{"$f":"'Dir1'!S149+'Dir2'!S149","v":0},{"$f":"'Dir1'!T149+'Dir2'!T149","v":0},{"$f":"'Dir1'!U149+'Dir2'!U149","v":0},{"$f":"'Dir1'!V149+'Dir2'!V149","v":0},{"$f":"'Dir1'!W149+'Dir2'!W149","v":0},{"$f":"'Dir1'!X149+'Dir2'!X149","v":0},{"$f":"'Dir1'!Y149+'Dir2'!Y149","v":0},{"$f":"'Dir1'!Z149+'Dir2'!Z149","v":0},{"$f":"'Dir1'!AA149+'Dir2'!AA149","v":0},{"$f":"'Dir1'!AB149+'Dir2'!AB149","v":0},{"$f":"'Dir1'!AC149+'Dir2'!AC149","v":0},{"$f":"'Dir1'!AD149+'Dir2'!AD149","v":0},{"$f":"'Dir1'!AE149+'Dir2'!AE149","v":0},{"$f":"'Dir1'!AF149+'Dir2'!AF149","v":0},{"$f":"'Dir1'!AG149+'Dir2'!AG149","v":0},{"$f":"'Dir1'!AH149+'Dir2'!AH149","v":0},{"$f":"'Dir1'!AI149+'Dir2'!AI149","v":0},{"$f":"'Dir1'!AJ149+'Dir2'!AJ149","v":0},{"$f":"'Dir1'!AK149+'Dir2'!AK149","v":0},"-",{"$f":"IFERROR(ROUND(PERCENTILE(_xlfn._xlws.FILTER(Data_Table[Speed],(Data_Table[Period]=$B149)*(SUM(C149:N149)>=10)),0.85),2),\"-\")","v":"-"}]
[146,{"$f":"ImportData!$B$10+7*QUOTIENT(A150,24*60*7/ImportData!$B$8)+MOD(1+QUOTIENT(A150,24*60/ImportData!$B$8)-ImportData!$E$10,7)+TIME(0,ImportData!$B$8*A150,0)","v":"2022-05-15T02:00:00"},{"$f":"'Dir1'!C150+'Dir2'!C150","v":0},{"$f":"'Dir1'!D150+'Dir2'!D150","v":0},{"$f":"'Dir1'!E150+'Dir2'!E150","v":0},{"$f":"'Dir1'!F150+'Dir2'!F150","v":0},{"$f":"'Dir1'!G150+'Dir2'!G150","v":0},{"$f":"'Dir1'!H150+'Dir2'!H150","v":0},{"$f":"'Dir1'!I150+'Dir2'!I150","v":0},{"$f":"'Dir1'!J150+'Dir2'!J150","v":0},{"$f":"'Dir1'!K150+'Dir2'!K150","v":0},{"$f":"'Dir1'!L150+'Dir2'!L150","v":0},{"$f":"'Dir1'!M150+'Dir2'!M150","v":0},{"$f":"'Dir1'!N150+'Dir2'!N150","v":0},{"$f":"'Dir1'!O150+'Dir2'!O150","v":0},{"$f":"'Dir1'!P150+'Dir2'!P150","v":0},{"$f":"'Dir1'!Q150+'Dir2'!Q150","v":0},{"$f":"'Dir1'!R150+'Dir2'!R150","v":0},{"$f":"'Dir1'!S150+'Dir2'!S150","v":0},{"$f":"'Dir1'!T150+'Dir2'!T150","v":0},{"$f":"'Dir1'!U150+'Dir2'!U150","v":0},{"$f":"'Dir1'!V150+'Dir2'!V150","v":0},{"$f":"'Dir1'!W150+'Dir2'!W150","v":0},{"$f":"'Dir1'!X150+'Dir2'!X150","v":0},{"$f":"'Dir1'!Y150+'Dir2'!Y150","v":0},{"$f":"'Dir1'!Z150+'Dir2'!Z150","v":0},{"$f":"'Dir1'!AA150+'Dir2'!AA150","v":0},{"$f":"'Dir1'!AB150+'Dir2'!AB150","v":0},{"$f":"'Dir1'!AC150+'Dir2'!AC150","v":0},{"$f":"'Dir1'!AD150+'Dir2'!AD150","v":0},{"$f":"'Dir1'!AE150+'Dir2'!AE150","v":0},{"$f":"'Dir1'!AF150+'Dir2'!AF150","v":0},{"$f":"'Dir1'!AG150+'Dir2'!AG150","v":0},{"$f":"'Dir1'!AH150+'Dir2'!AH150","v":0},{"$f":"'Dir1'!AI150+'Dir2'!AI150","v":0},{"$f":"'Dir1'!AJ150+'Dir2'!AJ150","v":0},{"$f":"'Dir1'!AK150+'Dir2'!AK150","v":0},"-",{"$f":"IFERROR(ROUND(PERCENTILE(_xlfn._xlws.FILTER(Data_Table[Speed],(Data_Table[Period]=$B150)*(SUM(C150:N150)>=10)),0.85),2),\"-\")","v":"-"}]
[147,{"$f":"ImportData!$B$10+7*QUOTIENT(A151,24*60*7/ImportData!$B$8)+MOD(1+QUOTIENT(A151,24*60/ImportData!$B$8)-ImportData!$E$10,7)+TIME(0,ImportData!$B$8*A151,0)","v":"2022-05-15T03:00:00"},{"$f":"'Dir1'!C151+'Dir2'!C151","v":0},{"$f":"'Dir1'!D151+'Dir2'!D151","v":0},{"$f":"'Dir1'!E151+'Dir2'!E151","v":0},{"$f":"'Dir1'!F151+'Dir2'!F151","v":0},{"$f":"'Dir1'!G151+'Dir2'!G151","v":0},{"$f":"'Dir1'!H151+'Dir2'!H151","v":0},{"$f":"'Dir1'!I151+'Dir2'!I151","v":0},{"$f":"'Dir1'!J151+'Dir2'!J151","v":0},{"$f":"'Dir1'!K151+'Dir2'!K151","v":0},{"$f":"'Dir1'!L151+'Dir2'!L151","v":0},{"$f":"'Dir1'!M151+'Dir2'!M151","v":0},{"$f":"'Dir1'!N151+'Dir2'!N151","v":0},{"$f":"'Dir1'!O151+'Dir2'!O151","v":0},{"$f":"'Dir1'!P151+'Dir2'!P151","v":0},{"$f":"'Dir1'!Q151+'Dir2'!Q151","v":0},{"$f":"'Dir1'!R151+'Dir2'!R151","v":0},{"$f":"'Dir1'!S151+'Dir2'!S151","v":0},{"$f":"'Dir1'!T151+'Dir2'!T151","v":0},{"$f":"'Dir1'!U151+'Dir2'!U151","v":0},{"$f":"'Dir1'!V151+'Dir2'!V151","v":0},{"$f":"'Dir1'!W151+'Dir2'!W151","v":0},{"$f":"'Dir1'!X151+'Dir2'!X151","v":0},{"$f":"'Dir1'!Y151+'Dir2'!Y151","v":0},{"$f":"'Dir1'!Z151+'Dir2'!Z151","v":0},{"$f":"'Dir1'!AA151+'Dir2'!AA151","v":0},{"$f":"'Dir1'!AB151+'Dir2'!AB151","v":0},{"$f":"'Dir1'!AC151+'Dir2'!AC151","v":0},{"$f":"'Dir1'!AD151+'Dir2'!AD151","v":0},{"$f":"'Dir1'!AE151+'Dir2'!AE151","v":0},{"$f":"'Dir1'!AF151+'Dir2'!AF151","v":0},{"$f":"'Dir1'!AG151+'Dir2'!AG151","v":0},{"$f":"'Dir1'!AH151+'Dir2'!AH151","v":0},{"$f":"'Dir1'!AI151+'Dir2'!AI151","v":0},{"$f":"'Dir1'!AJ151+'Dir2'!AJ151","v":0},{"$f":"'Dir1'!AK151+'Dir2'!AK151","v":0},"-",{"$f":"IFERROR(ROUND(PERCENTILE(_xlfn._xlws.FILTER(Data_Table[Speed],(Data_Table[Period]=$B151)*(SUM(C151:N151)>=10)),0.85),2),\"-\")","v":"-"}]
[148,{"$f":"ImportData!$B$10+7*QUOTIENT(A152,24*60*7/ImportData!$B$8)+MOD(1+QUOTIENT(A152,24*60/ImportData!$B$8)-ImportData!$E$10,7)+TIME(0,ImportData!$B$8*A152,0)","v":"2022-05-15T04:00:00"},{"$f":"'Dir1'!C152+'Dir2'!C152","v":0},{"$f":"'Dir1'!D152+'Dir2'!D152","v":0},{"$f":"'Dir1'!E152+'Dir2'!E152","v":0},{"$f":"'Dir1'!F152+'Dir2'!F152","v":0},{"$f":"'Dir1'!G152+'Dir2'!G152","v":0},{"$f":"'Dir1'!H152+'Dir2'!H152","v":0},{"$f":"'Dir1'!I152+'Dir2'!I152","v":0},{"$f":"'Dir1'!J152+'Dir2'!J152","v":0},{"$f":"'Dir1'!K152+'Dir2'!K152","v":0},{"$f":"'Dir1'!L152+'Dir2'!L152","v":0},{"$f":"'Dir1'!M152+'Dir2'!M152","v":0},{"$f":"'Dir1'!N152+'Dir2'!N152","v":0},{"$f":"'Dir1'!O152+'Dir2'!O152","v":0},{"$f":"'Dir1'!P152+'Dir2'!P152","v":0},{"$f":"'Dir1'!Q152+'Dir2'!Q152","v":0},{"$f":"'Dir1'!R152+'Dir2'!R152","v":0},{"$f":"'Dir1'!S152+'Dir2'!S152","v":0},{"$f":"'Dir1'!T152+'Dir2'!T152","v":0},{"$f":"'Dir1'!U152+'Dir2'!U152","v":0},{"$f":"'Dir1'!V152+'Dir2'!V152","v":0},{"$f":"'Dir1'!W152+'Dir2'!W152","v":0},{"$f":"'Dir1'!X152+'Dir2'!X152","v":0},{"$f":"'Dir1'!Y152+'Dir2'!Y152","v":0},{"$f":"'Dir1'!Z152+'Dir2'!Z152","v":0},{"$f":"'Dir1'!AA152+'Dir2'!AA152","v":0},{"$f":"'Dir1'!AB152+'Dir2'!AB152","v":0},{"$f":"'Dir1'!AC152+'Dir2'!AC152","v":0},{"$f":"'Dir1'!AD152+'Dir2'!AD152","v":0},{"$f":"'Dir1'!AE152+'Dir2'!AE152","v":0},{"$f":"'Dir1'!AF152+'Dir2'!AF152","v":0},{"$f":"'Dir1'!AG152+'Dir2'!AG152","v":0},{"$f":"'Dir1'!AH152+'Dir2'!AH152","v":0},{"$f":"'Dir1'!AI152+'Dir2'!AI152","v":0},{"$f":"'Dir1'!AJ152+'Dir2'!AJ152","v":0},{"$f":"'Dir1'!AK152+'Dir2'!AK152","v":0},"-",{"$f":"IFERROR(ROUND(PERCENTILE(_xlfn._xlws.FILTER(Data_Table[Speed],(Data_Table[Period]=$B152)*(SUM(C152:N152)>=10)),0.85),2),\"-\")","v":"-"}]
[149,{"$f":"ImportData!$B$10+7*QUOTIENT(A153,24*60*7/ImportData!$B$8)+MOD(1+QUOTIENT(A153,24*60/ImportData!$B$8)-ImportData!$E$10,7)+TIME(0,ImportData!$B$8*A153,0)","v":"2022-05-15T05:00:00"},{"$f":"'Dir1'!C153+'Dir2'!C153","v":0},{"$f":"'Dir1'!D153+'Dir2'!D153","v":0},{"$f":"'Dir1'!E153+'Dir2'!E153","v":0},{"$f":"'Dir1'!F153+'Dir2'!F153","v":0},{"$f":"'Dir1'!G153+'Dir2'!G153","v":0},{"$f":"'Dir1'!H153+'Dir2'!H153","v":0},{"$f":"'Dir1'!I153+'Dir2'!I153","v":0},{"$f":"'Dir1'!J153+'Dir2'!J153","v":0},{"$f":"'Dir1'!K153+'Dir2'!K153","v":0},{"$f":"'Dir1'!L153+'Dir2'!L153","v":0},{"$f":"'Dir1'!M153+'Dir2'!M153","v":0},{"$f":"'Dir1'!N153+'Dir2'!N153","v":0},{"$f":"'Dir1'!O153+'Dir2'!O153","v":0},{"$f":"'Dir1'!P153+'Dir2'!P153","v":0},{"$f":"'Dir1'!Q153+'Dir2'!Q153","v":0},{"$f":"'Dir1'!R153+'Dir2'!R153","v":0},{"$f":"'Dir1'!S153+'Dir2'!S153","v":0},{"$f":"'Dir1'!T153+'Dir2'!T153","v":0},{"$f":"'Dir1'!U153+'Dir2'!U153","v":0},{"$f":"'Dir1'!V153+'Dir2'!V153","v":0},{"$f":"'Dir1'!W153+'Dir2'!W153","v":0},{"$f":"'Dir1'!X153+'Dir2'!X153","v":0},{"$f":"'Dir1'!Y153+'Dir2'!Y153","v":0},{"$f":"'Dir1'!Z153+'Dir2'!Z153","v":0},{"$f":"'Dir1'!AA153+'Dir2'!AA153","v":0},{"$f":"'Dir1'!AB153+'Dir2'!AB153","v":0},{"$f":"'Dir1'!AC153+'Dir2'!AC153","v":0},{"$f":"'Dir1'!AD153+'Dir2'!AD153","v":0},{"$f":"'Dir1'!AE153+'Dir2'!AE153","v":0},{"$f":"'Dir1'!AF153+'Dir2'!AF153","v":0},{"$f":"'Dir1'!AG153+'Dir2'!AG153","v":0},{"$f":"'Dir1'!AH153+'Dir2'!AH153","v":0},{"$f":"'Dir1'!AI153+'Dir2'!AI153","v":0},{"$f":"'Dir1'!AJ153+'Dir2'!AJ153","v":0},{"$f":"'Dir1'!AK153+'Dir2'!AK153","v":0},"-",{"$f":"IFERROR(ROUND(PERCENTILE(_xlfn._xlws.FILTER(Data_Table[Speed],(Data_Table[Period]=$B153)*(SUM(C153:N153)>=10)),0.85),2),\"-\")","v":"-"}]
[150,{"$f":"ImportData!$B$10+7*QUOTIENT(A154,24*60*7/ImportData!$B$8)+MOD(1+QUOTIENT(A154,24*60/ImportData!$B$8)-ImportData!$E$10,7)+TIME(0,ImportData!$B$8*A154,0)","v":"2022-05-15T06:00:00"},{"$f":"'Dir1'!C154+'Dir2'!C154","v":0},{"$f":"'Dir1'!D154+'Dir2'!D154","v":0},{"$f":"'Dir1'!E154+'Dir2'!E154","v":0},{"$f":"'Dir1'!F154+'Dir2'!F154","v":0},{"$f":"'Dir1'!G154+'Dir2'!G154","v":0},{"$f":"'Dir1'!H154+'Dir2'!H154","v":0},{"$f":"'Dir1'!I154+'Dir2'!I154","v":0},{"$f":"'Dir1'!J154+'Dir2'!J154","v":0},{"$f":"'Dir1'!K154+'Dir2'!K154","v":0},{"$f":"'Dir1'!L154+'Dir2'!L154","v":0},{"$f":"'Dir1'!M154+'Dir2'!M154","v":0},{"$f":"'Dir1'!N154+'Dir2'!N154","v":0},{"$f":"'Dir1'!O154+'Dir2'!O154","v":0},{"$f":"'Dir1'!P154+'Dir2'!P154","v":0},{"$f":"'Dir1'!Q154+'Dir2'!Q154","v":0},{"$f":"'Dir1'!R154+'Dir2'!R154","v":0},{"$f":"'Dir1'!S154+'Dir2'!S154","v":0},{"$f":"'Dir1'!T154+'Dir2'!T154","v":0},{"$f":"'Dir1'!U154+'Dir2'!U154","v":0},{"$f":"'Dir1'!V154+'Dir2'!V154","v":0},{"$f":"'Dir1'!W154+'Dir2'!W154","v":0},{"$f":"'Dir1'!X154+'Dir2'!X154","v":0},{"$f":"'Dir1'!Y154+'Dir2'!Y154","v":0},{"$f":"'Dir1'!Z154+'Dir2'!Z154","v":0},{"$f":"'Dir1'!AA154+'Dir2'!AA154","v":0},{"$f":"'Dir1'!AB154+'Dir2'!AB154","v":0},{"$f":"'Dir1'!AC154+'Dir2'!AC154","v":0},{"$f":"'Dir1'!AD154+'Dir2'!AD154","v":0},{"$f":"'Dir1'!AE154+'Dir2'!AE154","v":0},{"$f":"'Dir1'!AF154+'Dir2'!AF154","v":0},{"$f":"'Dir1'!AG154+'Dir2'!AG154","v":0},{"$f":"'Dir1'!AH154+'Dir2'!AH154","v":0},{"$f":"'Dir1'!AI154+'Dir2'!AI154","v":0},{"$f":"'Dir1'!AJ154+'Dir2'!AJ154","v":0},{"$f":"'Dir1'!AK154+'Dir2'!AK154","v":0},"-",{"$f":"IFERROR(ROUND(PERCENTILE(_xlfn._xlws.FILTER(Data_Table[Speed],(Data_Table[Period]=$B154)*(SUM(C154:N154)>=10)),0.85),2),\"-\")","v":"-"}]
[151,{"$f":"ImportData!$B$10+7*QUOTIENT(A155,24*60*7/ImportData!$B$8)+MOD(1+QUOTIENT(A155,24*60/ImportData!$B$8)-ImportData!$E$10,7)+TIME(0,ImportData!$B$8*A155,0)","v":"2022-05-15T07:00:00"},{"$f":"'Dir1'!C155+'Dir2'!C155","v":0},{"$f":"'Dir1'!D155+'Dir2'!D155","v":0},{"$f":"'Dir1'!E155+'Dir2'!E155","v":0},{"$f":"'Dir1'!F155+'Dir2'!F155","v":0},{"$f":"'Dir1'!G155+'Dir2'!G155","v":0},{"$f":"'Dir1'!H155+'Dir2'!H155","v":0},{"$f":"'Dir1'!I155+'Dir2'!I155","v":0},{"$f":"'Dir1'!J155+'Dir2'!J155","v":0},{"$f":"'Dir1'!K155+'Dir2'!K155","v":0},{"$f":"'Dir1'!L155+'Dir2'!L155","v":0},{"$f":"'Dir1'!M155+'Dir2'!M155","v":0},{"$f":"'Dir1'!N155+'Dir2'!N155","v":0},{"$f":"'Dir1'!O155+'Dir2'!O155","v":0},{"$f":"'Dir1'!P155+'Dir2'!P155","v":0},{"$f":"'Dir1'!Q155+'Dir2'!Q155","v":0},{"$f":"'Dir1'!R155+'Dir2'!R155","v":0},{"$f":"'Dir1'!S155+'Dir2'!S155","v":0},{"$f":"'Dir1'!T155+'Dir2'!T155","v":0},{"$f":"'Dir1'!U155+'Dir2'!U155","v":0},{"$f":"'Dir1'!V155+'Dir2'!V155","v":0},{"$f":"'Dir1'!W155+'Dir2'!W155","v":0},{"$f":"'Dir1'!X155+'Dir2'!X155","v":0},{"$f":"'Dir1'!Y155+'Dir2'!Y155","v":0},{"$f":"'Dir1'!Z155+'Dir2'!Z155","v":0},{"$f":"'Dir1'!AA155+'Dir2'!AA155","v":0},{"$f":"'Dir1'!AB155+'Dir2'!AB155","v":0},{"$f":"'Dir1'!AC155+'Dir2'!AC155","v":0},{"$f":"'Dir1'!AD155+'Dir2'!AD155","v":0},{"$f":"'Dir1'!AE155+'Dir2'!AE155","v":0},{"$f":"'Dir1'!AF155+'Dir2'!AF155","v":0},{"$f":"'Dir1'!AG155+'Dir2'!AG155","v":0},{"$f":"'Dir1'!AH155+'Dir2'!AH155","v":0},{"$f":"'Dir1'!AI155+'Dir2'!AI155","v":0},{"$f":"'Dir1'!AJ155+'Dir2'!AJ155","v":0},{"$f":"'Dir1'!AK155+'Dir2'!AK155","v":0},"-",{"$f":"IFERROR(ROUND(PERCENTILE(_xlfn._xlws.FILTER(Data_Table[Speed],(Data_Table[Period]=$B155)*(SUM(C155:N155)>=10)),0.85),2),\"-\")","v":"-"}]
[152,{"$f":"ImportData!$B$10+7*QUOTIENT(A156,24*60*7/ImportData!$B$8)+MOD(1+QUOTIENT(A156,24*60/ImportData!$B$8)-ImportData!$E$10,7)+TIME(0,ImportData!$B$8*A156,0)","v":"2022-05-15T08:00:00"},{"$f":"'Dir1'!C156+'Dir2'!C156","v":0},{"$f":"'Dir1'!D156+'Dir2'!D156","v":0},{"$f":"'Dir1'!E156+'Dir2'!E156","v":0},{"$f":"'Dir1'!F156+'Dir2'!F156","v":0},{"$f":"'Dir1'!G156+'Dir2'!G156","v":0},{"$f":"'Dir1'!H156+'Dir2'!H156","v":0},{"$f":"'Dir1'!I156+'Dir2'!I156","v":0},{"$f":"'Dir1'!J156+'Dir2'!J156","v":0},{"$f":"'Dir1'!K156+'Dir2'!K156","v":0},{"$f":"'Dir1'!L156+'Dir2'!L156","v":0},{"$f":"'Dir1'!M156+'Dir2'!M156","v":0},{"$f":"'Dir1'!N156+'Dir2'!N156","v":0},{"$f":"'Dir1'!O156+'Dir2'!O156","v":0},{"$f":"'Dir1'!P156+'Dir2'!P156","v":0},{"$f":"'Dir1'!Q156+'Dir2'!Q156","v":0},{"$f":"'Dir1'!R156+'Dir2'!R156","v":0},{"$f":"'Dir1'!S156+'Dir2'!S156","v":0},{"$f":"'Dir1'!T156+'Dir2'!T156","v":0},{"$f":"'Dir1'!U156+'Dir2'!U156","v":0},{"$f":"'Dir1'!V156+'Dir2'!V156","v":0},{"$f":"'Dir1'!W156+'Dir2'!W156","v":0},{"$f":"'Dir1'!X156+'Dir2'!X156","v":0},{"$f":"'Dir1'!Y156+'Dir2'!Y156","v":0},{"$f":"'Dir1'!Z156+'Dir2'!Z156","v":0},{"$f":"'Dir1'!AA156+'Dir2'!AA156","v":0},{"$f":"'Dir1'!AB156+'Dir2'!AB156","v":0},{"$f":"'Dir1'!AC156+'Dir2'!AC156","v":0},{"$f":"'Dir1'!AD156+'Dir2'!AD156","v":0},{"$f":"'Dir1'!AE156+'Dir2'!AE156","v":0},{"$f":"'Dir1'!AF156+'Dir2'!AF156","v":0},{"$f":"'Dir1'!AG156+'Dir2'!AG156","v":0},{"$f":"'Dir1'!AH156+'Dir2'!AH156","v":0},{"$f":"'Dir1'!AI156+'Dir2'!AI156","v":0},{"$f":"'Dir1'!AJ156+'Dir2'!AJ156","v":0},{"$f":"'Dir1'!AK156+'Dir2'!AK156","v":0},"-",{"$f":"IFERROR(ROUND(PERCENTILE(_xlfn._xlws.FILTER(Data_Table[Speed],(Data_Table[Period]=$B156)*(SUM(C156:N156)>=10)),0.85),2),\"-\")","v":"-"}]
[153,{"$f":"ImportData!$B$10+7*QUOTIENT(A157,24*60*7/ImportData!$B$8)+MOD(1+QUOTIENT(A157,24*60/ImportData!$B$8)-ImportData!$E$10,7)+TIME(0,ImportData!$B$8*A157,0)","v":"2022-05-15T09:00:00"},{"$f":"'Dir1'!C157+'Dir2'!C157","v":0},{"$f":"'Dir1'!D157+'Dir2'!D157","v":0},{"$f":"'Dir1'!E157+'Dir2'!E157","v":0},{"$f":"'Dir1'!F157+'Dir2'!F157","v":0},{"$f":"'Dir1'!G157+'Dir2'!G157","v":0},{"$f":"'Dir1'!H157+'Dir2'!H157","v":0},{"$f":"'Dir1'!I157+'Dir2'!I157","v":0},{"$f":"'Dir1'!J157+'Dir2'!J157","v":0},{"$f":"'Dir1'!K157+'Dir2'!K157","v":0},{"$f":"'Dir1'!L157+'Dir2'!L157","v":0},{"$f":"'Dir1'!M157+'Dir2'!M157","v":0},{"$f":"'Dir1'!N157+'Dir2'!N157","v":0},{"$f":"'Dir1'!O157+'Dir2'!O157","v":0},{"$f":"'Dir1'!P157+'Dir2'!P157","v":0},{"$f":"'Dir1'!Q157+'Dir2'!Q157","v":0},{"$f":"'Dir1'!R157+'Dir2'!R157","v":0},{"$f":"'Dir1'!S157+'Dir2'!S157","v":0},{"$f":"'Dir1'!T157+'Dir2'!T157","v":0},{"$f":"'Dir1'!U157+'Dir2'!U157","v":0},{"$f":"'Dir1'!V157+'Dir2'!V157","v":0},{"$f":"'Dir1'!W157+'Dir2'!W157","v":0},{"$f":"'Dir1'!X157+'Dir2'!X157","v":0},{"$f":"'Dir1'!Y157+'Dir2'!Y157","v":0},{"$f":"'Dir1'!Z157+'Dir2'!Z157","v":0},{"$f":"'Dir1'!AA157+'Dir2'!AA157","v":0},{"$f":"'Dir1'!AB157+'Dir2'!AB157","v":0},{"$f":"'Dir1'!AC157+'Dir2'!AC157","v":0},{"$f":"'Dir1'!AD157+'Dir2'!AD157","v":0},{"$f":"'Dir1'!AE157+'Dir2'!AE157","v":0},{"$f":"'Dir1'!AF157+'Dir2'!AF157","v":0},{"$f":"'Dir1'!AG157+'Dir2'!AG157","v":0},{"$f":"'Dir1'!AH157+'Dir2'!AH157","v":0},{"$f":"'Dir1'!AI157+'Dir2'!AI157","v":0},{"$f":"'Dir1'!AJ157+'Dir2'!AJ157","v":0},{"$f":"'Dir1'!AK157+'Dir2'!AK157","v":0},"-",{"$f":"IFERROR(ROUND(PERCENTILE(_xlfn._xlws.FILTER(Data_Table[Speed],(Data_Table[Period]=$B157)*(SUM(C157:N157)>=10)),0.85),2),\"-\")","v":"-"}]
[154,{"$f":"ImportData!$B$10+7*QUOTIENT(A158,24*60*7/ImportData!$B$8)+MOD(1+QUOTIENT(A158,24*60/ImportData!$B$8)-ImportData!$E$10,7)+TIME(0,ImportData!$B$8*A158,0)","v":"2022-05-15T10:00:00"},{"$f":"'Dir1'!C158+'Dir2'!C158","v":0},{"$f":"'Dir1'!D158+'Dir2'!D158","v":0},{"$f":"'Dir1'!E158+'Dir2'!E158","v":0},{"$f":"'Dir1'!F158+'Dir2'!F158","v":0},{"$f":"'Dir1'!G158+'Dir2'!G158","v":0},{"$f":"'Dir1'!H158+'Dir2'!H158","v":0},{"$f":"'Dir1'!I158+'Dir2'!I158","v":0},{"$f":"'Dir1'!J158+'Dir2'!J158","v":0},{"$f":"'Dir1'!K158+'Dir2'!K158","v":0},{"$f":"'Dir1'!L158+'Dir2'!L158","v":0},{"$f":"'Dir1'!M158+'Dir2'!M158","v":0},{"$f":"'Dir1'!N158+'Dir2'!N158","v":0},{"$f":"'Dir1'!O158+'Dir2'!O158","v":0},{"$f":"'Dir1'!P158+'Dir2'!P158","v":0},{"$f":"'Dir1'!Q158+'Dir2'!Q158","v":0},{"$f":"'Dir1'!R158+'Dir2'!R158","v":0},{"$f":"'Dir1'!S158+'Dir2'!S158","v":0},{"$f":"'Dir1'!T158+'Dir2'!T158","v":0},{"$f":"'Dir1'!U158+'Dir2'!U158","v":0},{"$f":"'Dir1'!V158+'Dir2'!V158","v":0},{"$f":"'Dir1'!W158+'Dir2'!W158","v":0},{"$f":"'Dir1'!X158+'Dir2'!X158","v":0},{"$f":"'Dir1'!Y158+'Dir2'!Y158","v":0},{"$f":"'Dir1'!Z158+'Dir2'!Z158","v":0},{"$f":"'Dir1'!AA158+'Dir2'!AA158","v":0},{"$f":"'Dir1'!AB158+'Dir2'!AB158","v":0},{"$f":"'Dir1'!AC158+'Dir2'!AC158","v":0},{"$f":"'Dir1'!AD158+'Dir2'!AD158","v":0},{"$f":"'Dir1'!AE158+'Dir2'!AE158","v":0},{"$f":"'Dir1'!AF158+'Dir2'!AF158","v":0},{"$f":"'Dir1'!AG158+'Dir2'!AG158","v":0},{"$f":"'Dir1'!AH158+'Dir2'!AH158","v":0},{"$f":"'Dir1'!AI158+'Dir2'!AI158","v":0},{"$f":"'Dir1'!AJ158+'Dir2'!AJ158","v":0},{"$f":"'Dir1'!AK158+'Dir2'!AK158","v":0},"-",{"$f":"IFERROR(ROUND(PERCENTILE(_xlfn._xlws.FILTER(Data_Table[Speed],(Data_Table[Period]=$B158)*(SUM(C158:N158)>=10)),0.85),2),\"-\")","v":"-"}]
[155,{"$f":"ImportData!$B$10+7*QUOTIENT(A159,24*60*7/ImportData!$B$8)+MOD(1+QUOTIENT(A159,24*60/ImportData!$B$8)-ImportData!$E$10,7)+TIME(0,ImportData!$B$8*A159,0)","v":"2022-05-15T11:00:00"},{"$f":"'Dir1'!C159+'Dir2'!C159","v":0},{"$f":"'Dir1'!D159+'Dir2'!D159","v":0},{"$f":"'Dir1'!E159+'Dir2'!E159","v":0},{"$f":"'Dir1'!F159+'Dir2'!F159","v":0},{"$f":"'Dir1'!G159+'Dir2'!G159","v":0},{"$f":"'Dir1'!H159+'Dir2'!H159","v":0},{"$f":"'Dir1'!I159+'Dir2'!I159","v":0},{"$f":"'Dir1'!J159+'Dir2'!J159","v":0},{"$f":"'Dir1'!K159+'Dir2'!K159","v":0},{"$f":"'Dir1'!L159+'Dir2'!L159","v":0},{"$f":"'Dir1'!M159+'Dir2'!M159","v":0},{"$f":"'Dir1'!N159+'Dir2'!N159","v":0},{"$f":"'Dir1'!O159+'Dir2'!O159","v":0},{"$f":"'Dir1'!P159+'Dir2'!P159","v":0},{"$f":"'Dir1'!Q159+'Dir2'!Q159","v":0},{"$f":"'Dir1'!R159+'Dir2'!R159","v":0},{"$f":"'Dir1'!S159+'Dir2'!S159","v":0},{"$f":"'Dir1'!T159+'Dir2'!T159","v":0},{"$f":"'Dir1'!U159+'Dir2'!U159","v":0},{"$f":"'Dir1'!V159+'Dir2'!V159","v":0},{"$f":"'Dir1'!W159+'Dir2'!W159","v":0},{"$f":"'Dir1'!X159+'Dir2'!X159","v":0},{"$f":"'Dir1'!Y159+'Dir2'!Y159","v":0},{"$f":"'Dir1'!Z159+'Dir2'!Z159","v":0},{"$f":"'Dir1'!AA159+'Dir2'!AA159","v":0},{"$f":"'Dir1'!AB159+'Dir2'!AB159","v":0},{"$f":"'Dir1'!AC159+'Dir2'!AC159","v":0},{"$f":"'Dir1'!AD159+'Dir2'!AD159","v":0},{"$f":"'Dir1'!AE159+'Dir2'!AE159","v":0},{"$f":"'Dir1'!AF159+'Dir2'!AF159","v":0},{"$f":"'Dir1'!AG159+'Dir2'!AG159","v":0},{"$f":"'Dir1'!AH159+'Dir2'!AH159","v":0},{"$f":"'Dir1'!AI159+'Dir2'!AI159","v":0},{"$f":"'Dir1'!AJ159+'Dir2'!AJ159","v":0},{"$f":"'Dir1'!AK159+'Dir2'!AK159","v":0},"-",{"$f":"IFERROR(ROUND(PERCENTILE(_xlfn._xlws.FILTER(Data_Table[Speed],(Data_Table[Period]=$B159)*(SUM(C159:N159)>=10)),0.85),2),\"-\")","v":"-"}]
[156,{"$f":"ImportData!$B$10+7*QUOTIENT(A160,24*60*7/ImportData!$B$8)+MOD(1+QUOTIENT(A160,24*60/ImportData!$B$8)-ImportData!$E$10,7)+TIME(0,ImportData!$B$8*A160,0)","v":"2022-05-15T12:00:00"},{"$f":"'Dir1'!C160+'Dir2'!C160","v":0},{"$f":"'Dir1'!D160+'Dir2'!D160","v":0},{"$f":"'Dir1'!E160+'Dir2'!E160","v":0},{"$f":"'Dir1'!F160+'Dir2'!F160","v":0},{"$f":"'Dir1'!G160+'Dir2'!G160","v":0},{"$f":"'Dir1'!H160+'Dir2'!H160","v":0},{"$f":"'Dir1'!I160+'Dir2'!I160","v":0},{"$f":"'Dir1'!J160+'Dir2'!J160","v":0},{"$f":"'Dir1'!K160+'Dir2'!K160","v":0},{"$f":"'Dir1'!L160+'Dir2'!L160","v":0},{"$f":"'Dir1'!M160+'Dir2'!M160","v":0},{"$f":"'Dir1'!N160+'Dir2'!N160","v":0},{"$f":"'Dir1'!O160+'Dir2'!O160","v":0},{"$f":"'Dir1'!P160+'Dir2'!P160","v":0},{"$f":"'Dir1'!Q160+'Dir2'!Q160","v":0},{"$f":"'Dir1'!R160+'Dir2'!R160","v":0},{"$f":"'Dir1'!S160+'Dir2'!S160","v":0},{"$f":"'Dir1'!T160+'Dir2'!T160","v":0},{"$f":"'Dir1'!U160+'Dir2'!U160","v":0},{"$f":"'Dir1'!V160+'Dir2'!V160","v":0},{"$f":"'Dir1'!W160+'Dir2'!W160","v":0},{"$f":"'Dir1'!X160+'Dir2'!X160","v":0},{"$f":"'Dir1'!Y160+'Dir2'!Y160","v":0},{"$f":"'Dir1'!Z160+'Dir2'!Z160","v":0},{"$f":"'Dir1'!AA160+'Dir2'!AA160","v":0},{"$f":"'Dir1'!AB160+'Dir2'!AB160","v":0},{"$f":"'Dir1'!AC160+'Dir2'!AC160","v":0},{"$f":"'Dir1'!AD160+'Dir2'!AD160","v":0},{"$f":"'Dir1'!AE160+'Dir2'!AE160","v":0},{"$f":"'Dir1'!AF160+'Dir2'!AF160","v":0},{"$f":"'Dir1'!AG160+'Dir2'!AG160","v":0},{"$f":"'Dir1'!AH160+'Dir2'!AH160","v":0},{"$f":"'Dir1'!AI160+'Dir2'!AI160","v":0},{"$f":"'Dir1'!AJ160+'Dir2'!AJ160","v":0},{"$f":"'Dir1'!AK160+'Dir2'!AK160","v":0},"-",{"$f":"IFERROR(ROUND(PERCENTILE(_xlfn._xlws.FILTER(Data_Table[Speed],(Data_Table[Period]=$B160)*(SUM(C160:N160)>=10)),0.85),2),\"-\")","v":"-"}]
[157,{"$f":"ImportData!$B$10+7*QUOTIENT(A161,24*60*7/ImportData!$B$8)+MOD(1+QUOTIENT(A161,24*60/ImportData!$B$8)-ImportData!$E$10,7)+TIME(0,ImportData!$B$8*A161,0)","v":"2022-05-15T13:00:00"},{"$f":"'Dir1'!C161+'Dir2'!C161","v":0},{"$f":"'Dir1'!D161+'Dir2'!D161","v":0},{"$f":"'Dir1'!E161+'Dir2'!E161","v":0},{"$f":"'Dir1'!F161+'Dir2'!F161","v":0},{"$f":"'Dir1'!G161+'Dir2'!G161","v":0},{"$f":"'Dir1'!H161+'Dir2'!H161","v":0},{"$f":"'Dir1'!I161+'Dir2'!I161","v":0},{"$f":"'Dir1'!J161+'Dir2'!J161","v":0},{"$f":"'Dir1'!K161+'Dir2'!K161","v":0},{"$f":"'Dir1'!L161+'Dir2'!L161","v":0},{"$f":"'Dir1'!M161+'Dir2'!M161","v":0},{"$f":"'Dir1'!N161+'Dir2'!N161","v":0},{"$f":"'Dir1'!O161+'Dir2'!O161","v":0},{"$f":"'Dir1'!P161+'Dir2'!P161","v":0},{"$f":"'Dir1'!Q161+'Dir2'!Q161","v":0},{"$f":"'Dir1'!R161+'Dir2'!R161","v":0},{"$f":"'Dir1'!S161+'Dir2'!S161","v":0},{"$f":"'Dir1'!T161+'Dir2'!T161","v":0},{"$f":"'Dir1'!U161+'Dir2'!U161","v":0},{"$f":"'Dir1'!V161+'Dir2'!V161","v":0},{"$f":"'Dir1'!W161+'Dir2'!W161","v":0},{"$f":"'Dir1'!X161+'Dir2'!X161","v":0},{"$f":"'Dir1'!Y161+'Dir2'!Y161","v":0},{"$f":"'Dir1'!Z161+'Dir2'!Z161","v":0},{"$f":"'Dir1'!AA161+'Dir2'!AA161","v":0},{"$f":"'Dir1'!AB161+'Dir2'!AB161","v":0},{"$f":"'Dir1'!AC161+'Dir2'!AC161","v":0},{"$f":"'Dir1'!AD161+'Dir2'!AD161","v":0},{"$f":"'Dir1'!AE161+'Dir2'!AE161","v":0},{"$f":"'Dir1'!AF161+'Dir2'!AF161","v":0},{"$f":"'Dir1'!AG161+'Dir2'!AG161","v":0},{"$f":"'Dir1'!AH161+'Dir2'!AH161","v":0},{"$f":"'Dir1'!AI161+'Dir2'!AI161","v":0},{"$f":"'Dir1'!AJ161+'Dir2'!AJ161","v":0},{"$f":"'Dir1'!AK161+'Dir2'!AK161","v":0},"-",{"$f":"IFERROR(ROUND(PERCENTILE(_xlfn._xlws.FILTER(Data_Table[Speed],(Data_Table[Period]=$B161)*(SUM(C161:N161)>=10)),0.85),2),\"-\")","v":"-"}]
[158,{"$f":"ImportData!$B$10+7*QUOTIENT(A162,24*60*7/ImportData!$B$8)+MOD(1+QUOTIENT(A162,24*60/ImportData!$B$8)-ImportData!$E$10,7)+TIME(0,ImportData!$B$8*A162,0)","v":"2022-05-15T14:00:00"},{"$f":"'Dir1'!C162+'Dir2'!C162","v":0},{"$f":"'Dir1'!D162+'Dir2'!D162","v":0},{"$f":"'Dir1'!E162+'Dir2'!E162","v":0},{"$f":"'Dir1'!F162+'Dir2'!F162","v":0},{"$f":"'Dir1'!G162+'Dir2'!G162","v":0},{"$f":"'Dir1'!H162+'Dir2'!H162","v":0},{"$f":"'Dir1'!I162+'Dir2'!I162","v":0},{"$f":"'Dir1'!J162+'Dir2'!J162","v":0},{"$f":"'Dir1'!K162+'Dir2'!K162","v":0},{"$f":"'Dir1'!L162+'Dir2'!L162","v":0},{"$f":"'Dir1'!M162+'Dir2'!M162","v":0},{"$f":"'Dir1'!N162+'Dir2'!N162","v":0},{"$f":"'Dir1'!O162+'Dir2'!O162","v":0},{"$f":"'Dir1'!P162+'Dir2'!P162","v":0},{"$f":"'Dir1'!Q162+'Dir2'!Q162","v":0},{"$f":"'Dir1'!R162+'Dir2'!R162","v":0},{"$f":"'Dir1'!S162+'Dir2'!S162","v":0},{"$f":"'Dir1'!T162+'Dir2'!T162","v":0},{"$f":"'Dir1'!U162+'Dir2'!U162","v":0},{"$f":"'Dir1'!V162+'Dir2'!V162","v":0},{"$f":"'Dir1'!W162+'Dir2'!W162","v":0},{"$f":"'Dir1'!X162+'Dir2'!X162","v":0},{"$f":"'Dir1'!Y162+'Dir2'!Y162","v":0},{"$f":"'Dir1'!Z162+'Dir2'!Z162","v":0},{"$f":"'Dir1'!AA162+'Dir2'!AA162","v":0},{"$f":"'Dir1'!AB162+'Dir2'!AB162","v":0},{"$f":"'Dir1'!AC162+'Dir2'!AC162","v":0},{"$f":"'Dir1'!AD162+'Dir2'!AD162","v":0},{"$f":"'Dir1'!AE162+'Dir2'!AE162","v":0},{"$f":"'Dir1'!AF162+'Dir2'!AF162","v":0},{"$f":"'Dir1'!AG162+'Dir2'!AG162","v":0},{"$f":"'Dir1'!AH162+'Dir2'!AH162","v":0},{"$f":"'Dir1'!AI162+'Dir2'!AI162","v":0},{"$f":"'Dir1'!AJ162+'Dir2'!AJ162","v":0},{"$f":"'Dir1'!AK162+'Dir2'!AK162","v":0},"-",{"$f":"IFERROR(ROUND(PERCENTILE(_xlfn._xlws.FILTER(Data_Table[Speed],(Data_Table[Period]=$B162)*(SUM(C162:N162)>=10)),0.85),2),\"-\")","v":"-"}]
[159,{"$f":"ImportData!$B$10+7*QUOTIENT(A163,24*60*7/ImportData!$B$8)+MOD(1+QUOTIENT(A163,24*60/ImportData!$B$8)-ImportData!$E$10,7)+TIME(0,ImportData!$B$8*A163,0)","v":"2022-05-15T15:00:00"},{"$f":"'Dir1'!C163+'Dir2'!C163","v":0},{"$f":"'Dir1'!D163+'Dir2'!D163","v":0},{"$f":"'Dir1'!E163+'Dir2'!E163","v":0},{"$f":"'Dir1'!F163+'Dir2'!F163","v":0},{"$f":"'Dir1'!G163+'Dir2'!G163","v":0},{"$f":"'Dir1'!H163+'Dir2'!H163","v":0},{"$f":"'Dir1'!I163+'Dir2'!I163","v":0},{"$f":"'Dir1'!J163+'Dir2'!J163","v":0},{"$f":"'Dir1'!K163+'Dir2'!K163","v":0},{"$f":"'Dir1'!L163+'Dir2'!L163","v":0},{"$f":"'Dir1'!M163+'Dir2'!M163","v":0},{"$f":"'Dir1'!N163+'Dir2'!N163","v":0},{"$f":"'Dir1'!O163+'Dir2'!O163","v":0},{"$f":"'Dir1'!P163+'Dir2'!P163","v":0},{"$f":"'Dir1'!Q163+'Dir2'!Q163","v":0},{"$f":"'Dir1'!R163+'Dir2'!R163","v":0},{"$f":"'Dir1'!S163+'Dir2'!S163","v":0},{"$f":"'Dir1'!T163+'Dir2'!T163","v":0},{"$f":"'Dir1'!U163+'Dir2'!U163","v":0},{"$f":"'Dir1'!V163+'Dir2'!V163","v":0},{"$f":"'Dir1'!W163+'Dir2'!W163","v":0},{"$f":"'Dir1'!X163+'Dir2'!X163","v":0},{"$f":"'Dir1'!Y163+'Dir2'!Y163","v":0},{"$f":"'Dir1'!Z163+'Dir2'!Z163","v":0},{"$f":"'Dir1'!AA163+'Dir2'!AA163","v":0},{"$f":"'Dir1'!AB163+'Dir2'!AB163","v":0},{"$f":"'Dir1'!AC163+'Dir2'!AC163","v":0},{"$f":"'Dir1'!AD163+'Dir2'!AD163","v":0},{"$f":"'Dir1'!AE163+'Dir2'!AE163","v":0},{"$f":"'Dir1'!AF163+'Dir2'!AF163","v":0},{"$f":"'Dir1'!AG163+'Dir2'!AG163","v":0},{"$f":"'Dir1'!AH163+'Dir2'!AH163","v":0},{"$f":"'Dir1'!AI163+'Dir2'!AI163","v":0},{"$f":"'Dir1'!AJ163+'Dir2'!AJ163","v":0},{"$f":"'Dir1'!AK163+'Dir2'!AK163","v":0},"-",{"$f":"IFERROR(ROUND(PERCENTILE(_xlfn._xlws.FILTER(Data_Table[Speed],(Data_Table[Period]=$B163)*(SUM(C163:N163)>=10)),0.85),2),\"-\")","v":"-"}]
[160,{"$f":"ImportData!$B$10+7*QUOTIENT(A164,24*60*7/ImportData!$B$8)+MOD(1+QUOTIENT(A164,24*60/ImportData!$B$8)-ImportData!$E$10,7)+TIME(0,ImportData!$B$8*A164,0)","v":"2022-05-15T16:00:00"},{"$f":"'Dir1'!C164+'Dir2'!C164","v":0},{"$f":"'Dir1'!D164+'Dir2'!D164","v":0},{"$f":"'Dir1'!E164+'Dir2'!E164","v":0},{"$f":"'Dir1'!F164+'Dir2'!F164","v":0},{"$f":"'Dir1'!G164+'Dir2'!G164","v":0},{"$f":"'Dir1'!H164+'Dir2'!H164","v":0},{"$f":"'Dir1'!I164+'Dir2'!I164","v":0},{"$f":"'Dir1'!J164+'Dir2'!J164","v":0},{"$f":"'Dir1'!K164+'Dir2'!K164","v":0},{"$f":"'Dir1'!L164+'Dir2'!L164","v":0},{"$f":"'Dir1'!M164+'Dir2'!M164","v":0},{"$f":"'Dir1'!N164+'Dir2'!N164","v":0},{"$f":"'Dir1'!O164+'Dir2'!O164","v":0},{"$f":"'Dir1'!P164+'Dir2'!P164","v":0},{"$f":"'Dir1'!Q164+'Dir2'!Q164","v":0},{"$f":"'Dir1'!R164+'Dir2'!R164","v":0},{"$f":"'Dir1'!S164+'Dir2'!S164","v":0},{"$f":"'Dir1'!T164+'Dir2'!T164","v":0},{"$f":"'Dir1'!U164+'Dir2'!U164","v":0},{"$f":"'Dir1'!V164+'Dir2'!V164","v":0},{"$f":"'Dir1'!W164+'Dir2'!W164","v":0},{"$f":"'Dir1'!X164+'Dir2'!X164","v":0},{"$f":"'Dir1'!Y164+'Dir2'!Y164","v":0},{"$f":"'Dir1'!Z164+'Dir2'!Z164","v":0},{"$f":"'Dir1'!AA164+'Dir2'!AA164","v":0},{"$f":"'Dir1'!AB164+'Dir2'!AB164","v":0},{"$f":"'Dir1'!AC164+'Dir2'!AC164","v":0},{"$f":"'Dir1'!AD164+'Dir2'!AD164","v":0},{"$f":"'Dir1'!AE164+'Dir2'!AE164","v":0},{"$f":"'Dir1'!AF164+'Dir2'!AF164","v":0},{"$f":"'Dir1'!AG164+'Dir2'!AG164","v":0},{"$f":"'Dir1'!AH164+'Dir2'!AH164","v":0},{"$f":"'Dir1'!AI164+'Dir2'!AI164","v":0},{"$f":"'Dir1'!AJ164+'Dir2'!AJ164","v":0},{"$f":"'Dir1'!AK164+'Dir2'!AK164","v":0},"-",{"$f":"IFERROR(ROUND(PERCENTILE(_xlfn._xlws.FILTER(Data_Table[Speed],(Data_Table[Period]=$B164)*(SUM(C164:N164)>=10)),0.85),2),\"-\")","v":"-"}]
[161,{"$f":"ImportData!$B$10+7*QUOTIENT(A165,24*60*7/ImportData!$B$8)+MOD(1+QUOTIENT(A165,24*60/ImportData!$B$8)-ImportData!$E$10,7)+TIME(0,ImportData!$B$8*A165,0)","v":"2022-05-15T17:00:00"},{"$f":"'Dir1'!C165+'Dir2'!C165","v":0},{"$f":"'Dir1'!D165+'Dir2'!D165","v":0},{"$f":"'Dir1'!E165+'Dir2'!E165","v":0},{"$f":"'Dir1'!F165+'Dir2'!F165","v":0},{"$f":"'Dir1'!G165+'Dir2'!G165","v":0},{"$f":"'Dir1'!H165+'Dir2'!H165","v":0},{"$f":"'Dir1'!I165+'Dir2'!I165","v":0},{"$f":"'Dir1'!J165+'Dir2'!J165","v":0},{"$f":"'Dir1'!K165+'Dir2'!K165","v":0},{"$f":"'Dir1'!L165+'Dir2'!L165","v":0},{"$f":"'Dir1'!M165+'Dir2'!M165","v":0},{"$f":"'Dir1'!N165+'Dir2'!N165","v":0},{"$f":"'Dir1'!O165+'Dir2'!O165","v":0},{"$f":"'Dir1'!P165+'Dir2'!P165","v":0},{"$f":"'Dir1'!Q165+'Dir2'!Q165","v":0},{"$f":"'Dir1'!R165+'Dir2'!R165","v":0},{"$f":"'Dir1'!S165+'Dir2'!S165","v":0},{"$f":"'Dir1'!T165+'Dir2'!T165","v":0},{"$f":"'Dir1'!U165+'Dir2'!U165","v":0},{"$f":"'Dir1'!V165+'Dir2'!V165","v":0},{"$f":"'Dir1'!W165+'Dir2'!W165","v":0},{"$f":"'Dir1'!X165+'Dir2'!X165","v":0},{"$f":"'Dir1'!Y165+'Dir2'!Y165","v":0},{"$f":"'Dir1'!Z165+'Dir2'!Z165","v":0},{"$f":"'Dir1'!AA165+'Dir2'!AA165","v":0},{"$f":"'Dir1'!AB165+'Dir2'!AB165","v":0},{"$f":"'Dir1'!AC165+'Dir2'!AC165","v":0},{"$f":"'Dir1'!AD165+'Dir2'!AD165","v":0},{"$f":"'Dir1'!AE165+'Dir2'!AE165","v":0},{"$f":"'Dir1'!AF165+'Dir2'!AF165","v":0},{"$f":"'Dir1'!AG165+'Dir2'!AG165","v":0},{"$f":"'Dir1'!AH165+'Dir2'!AH165","v":0},{"$f":"'Dir1'!AI165+'Dir2'!AI165","v":0},{"$f":"'Dir1'!AJ165+'Dir2'!AJ165","v":0},{"$f":"'Dir1'!AK165+'Dir2'!AK165","v":0},"-",{"$f":"IFERROR(ROUND(PERCENTILE(_xlfn._xlws.FILTER(Data_Table[Speed],(Data_Table[Period]=$B165)*(SUM(C165:N165)>=10)),0.85),2),\"-\")","v":"-"}]
[162,{"$f":"ImportData!$B$10+7*QUOTIENT(A166,24*60*7/ImportData!$B$8)+MOD(1+QUOTIENT(A166,24*60/ImportData!$B$8)-ImportData!$E$10,7)+TIME(0,ImportData!$B$8*A166,0)","v":"2022-05-15T18:00:00"},{"$f":"'Dir1'!C166+'Dir2'!C166","v":0},{"$f":"'Dir1'!D166+'Dir2'!D166","v":0},{"$f":"'Dir1'!E166+'Dir2'!E166","v":0},{"$f":"'Dir1'!F166+'Dir2'!F166","v":0},{"$f":"'Dir1'!G166+'Dir2'!G166","v":0},{"$f":"'Dir1'!H166+'Dir2'!H166","v":0},{"$f":"'Dir1'!I166+'Dir2'!I166","v":0},{"$f":"'Dir1'!J166+'Dir2'!J166","v":0},{"$f":"'Dir1'!K166+'Dir2'!K166","v":0},{"$f":"'Dir1'!L166+'Dir2'!L166","v":0},{"$f":"'Dir1'!M166+'Dir2'!M166","v":0},{"$f":"'Dir1'!N166+'Dir2'!N166","v":0},{"$f":"'Dir1'!O166+'Dir2'!O166","v":0},{"$f":"'Dir1'!P166+'Dir2'!P166","v":0},{"$f":"'Dir1'!Q166+'Dir2'!Q166","v":0},{"$f":"'Dir1'!R166+'Dir2'!R166","v":0},{"$f":"'Dir1'!S166+'Dir2'!S166","v":0},{"$f":"'Dir1'!T166+'Dir2'!T166","v":0},{"$f":"'Dir1'!U166+'Dir2'!U166","v":0},{"$f":"'Dir1'!V166+'Dir2'!V166","v":0},{"$f":"'Dir1'!W166+'Dir2'!W166","v":0},{"$f":"'Dir1'!X166+'Dir2'!X166","v":0},{"$f":"'Dir1'!Y166+'Dir2'!Y166","v":0},{"$f":"'Dir1'!Z166+'Dir2'!Z166","v":0},{"$f":"'Dir1'!AA166+'Dir2'!AA166","v":0},{"$f":"'Dir1'!AB166+'Dir2'!AB166","v":0},{"$f":"'Dir1'!AC166+'Dir2'!AC166","v":0},{"$f":"'Dir1'!AD166+'Dir2'!AD166","v":0},{"$f":"'Dir1'!AE166+'Dir2'!AE166","v":0},{"$f":"'Dir1'!AF166+'Dir2'!AF166","v":0},{"$f":"'Dir1'!AG166+'Dir2'!AG166","v":0},{"$f":"'Dir1'!AH166+'Dir2'!AH166","v":0},{"$f":"'Dir1'!AI166+'Dir2'!AI166","v":0},{"$f":"'Dir1'!AJ166+'Dir2'!AJ166","v":0},{"$f":"'Dir1'!AK166+'Dir2'!AK166","v":0},"-",{"$f":"IFERROR(ROUND(PERCENTILE(_xlfn._xlws.FILTER(Data_Table[Speed],(Data_Table[Period]=$B166)*(SUM(C166:N166)>=10)),0.85),2),\"-\")","v":"-"}]
[163,{"$f":"ImportData!$B$10+7*QUOTIENT(A167,24*60*7/ImportData!$B$8)+MOD(1+QUOTIENT(A167,24*60/ImportData!$B$8)-ImportData!$E$10,7)+TIME(0,ImportData!$B$8*A167,0)","v":"2022-05-15T19:00:00"},{"$f":"'Dir1'!C167+'Dir2'!C167","v":0},{"$f":"'Dir1'!D167+'Dir2'!D167","v":0},{"$f":"'Dir1'!E167+'Dir2'!E167","v":0},{"$f":"'Dir1'!F167+'Dir2'!F167","v":0},{"$f":"'Dir1'!G167+'Dir2'!G167","v":0},{"$f":"'Dir1'!H167+'Dir2'!H167","v":0},{"$f":"'Dir1'!I167+'Dir2'!I167","v":0},{"$f":"'Dir1'!J167+'Dir2'!J167","v":0},{"$f":"'Dir1'!K167+'Dir2'!K167","v":0},{"$f":"'Dir1'!L167+'Dir2'!L167","v":0},{"$f":"'Dir1'!M167+'Dir2'!M167","v":0},{"$f":"'Dir1'!N167+'Dir2'!N167","v":0},{"$f":"'Dir1'!O167+'Dir2'!O167","v":0},{"$f":"'Dir1'!P167+'Dir2'!P167","v":0},{"$f":"'Dir1'!Q167+'Dir2'!Q167","v":0},{"$f":"'Dir1'!R167+'Dir2'!R167","v":0},{"$f":"'Dir1'!S167+'Dir2'!S167","v":0},{"$f":"'Dir1'!T167+'Dir2'!T167","v":0},{"$f":"'Dir1'!U167+'Dir2'!U167","v":0},{"$f":"'Dir1'!V167+'Dir2'!V167","v":0},{"$f":"'Dir1'!W167+'Dir2'!W167","v":0},{"$f":"'Dir1'!X167+'Dir2'!X167","v":0},{"$f":"'Dir1'!Y167+'Dir2'!Y167","v":0},{"$f":"'Dir1'!Z167+'Dir2'!Z167","v":0},{"$f":"'Dir1'!AA167+'Dir2'!AA167","v":0},{"$f":"'Dir1'!AB167+'Dir2'!AB167","v":0},{"$f":"'Dir1'!AC167+'Dir2'!AC167","v":0},{"$f":"'Dir1'!AD167+'Dir2'!AD167","v":0},{"$f":"'Dir1'!AE167+'Dir2'!AE167","v":0},{"$f":"'Dir1'!AF167+'Dir2'!AF167","v":0},{"$f":"'Dir1'!AG167+'Dir2'!AG167","v":0},{"$f":"'Dir1'!AH167+'Dir2'!AH167","v":0},{"$f":"'Dir1'!AI167+'Dir2'!AI167","v":0},{"$f":"'Dir1'!AJ167+'Dir2'!AJ167","v":0},{"$f":"'Dir1'!AK167+'Dir2'!AK167","v":0},"-",{"$f":"IFERROR(ROUND(PERCENTILE(_xlfn._xlws.FILTER(Data_Table[Speed],(Data_Table[Period]=$B167)*(SUM(C167:N167)>=10)),0.85),2),\"-\")","v":"-"}]
[164,{"$f":"ImportData!$B$10+7*QUOTIENT(A168,24*60*7/ImportData!$B$8)+MOD(1+QUOTIENT(A168,24*60/ImportData!$B$8)-ImportData!$E$10,7)+TIME(0,ImportData!$B$8*A168,0)","v":"2022-05-15T20:00:00"},{"$f":"'Dir1'!C168+'Dir2'!C168","v":0},{"$f":"'Dir1'!D168+'Dir2'!D168","v":0},{"$f":"'Dir1'!E168+'Dir2'!E168","v":0},{"$f":"'Dir1'!F168+'Dir2'!F168","v":0},{"$f":"'Dir1'!G168+'Dir2'!G168","v":0},{"$f":"'Dir1'!H168+'Dir2'!H168","v":0},{"$f":"'Dir1'!I168+'Dir2'!I168","v":0},{"$f":"'Dir1'!J168+'Dir2'!J168","v":0},{"$f":"'Dir1'!K168+'Dir2'!K168","v":0},{"$f":"'Dir1'!L168+'Dir2'!L168","v":0},{"$f":"'Dir1'!M168+'Dir2'!M168","v":0},{"$f":"'Dir1'!N168+'Dir2'!N168","v":0},{"$f":"'Dir1'!O168+'Dir2'!O168","v":0},{"$f":"'Dir1'!P168+'Dir2'!P168","v":0},{"$f":"'Dir1'!Q168+'Dir2'!Q168","v":0},{"$f":"'Dir1'!R168+'Dir2'!R168","v":0},{"$f":"'Dir1'!S168+'Dir2'!S168","v":0},{"$f":"'Dir1'!T168+'Dir2'!T168","v":0},{"$f":"'Dir1'!U168+'Dir2'!U168","v":0},{"$f":"'Dir1'!V168+'Dir2'!V168","v":0},{"$f":"'Dir1'!W168+'Dir2'!W168","v":0},{"$f":"'Dir1'!X168+'Dir2'!X168","v":0},{"$f":"'Dir1'!Y168+'Dir2'!Y168","v":0},{"$f":"'Dir1'!Z168+'Dir2'!Z168","v":0},{"$f":"'Dir1'!AA168+'Dir2'!AA168","v":0},{"$f":"'Dir1'!AB168+'Dir2'!AB168","v":0},{"$f":"'Dir1'!AC168+'Dir2'!AC168","v":0},{"$f":"'Dir1'!AD168+'Dir2'!AD168","v":0},{"$f":"'Dir1'!AE168+'Dir2'!AE168","v":0},{"$f":"'Dir1'!AF168+'Dir2'!AF168","v":0},{"$f":"'Dir1'!AG168+'Dir2'!AG168","v":0},{"$f":"'Dir1'!AH168+'Dir2'!AH168","v":0},{"$f":"'Dir1'!AI168+'Dir2'!AI168","v":0},{"$f":"'Dir1'!AJ168+'Dir2'!AJ168","v":0},{"$f":"'Dir1'!AK168+'Dir2'!AK168","v":0},"-",{"$f":"IFERROR(ROUND(PERCENTILE(_xlfn._xlws.FILTER(Data_Table[Speed],(Data_Table[Period]=$B168)*(SUM(C168:N168)>=10)),0.85),2),\"-\")","v":"-"}]
[165,{"$f":"ImportData!$B$10+7*QUOTIENT(A169,24*60*7/ImportData!$B$8)+MOD(1+QUOTIENT(A169,24*60/ImportData!$B$8)-ImportData!$E$10,7)+TIME(0,ImportData!$B$8*A169,0)","v":"2022-05-15T21:00:00"},{"$f":"'Dir1'!C169+'Dir2'!C169","v":0},{"$f":"'Dir1'!D169+'Dir2'!D169","v":0},{"$f":"'Dir1'!E169+'Dir2'!E169","v":0},{"$f":"'Dir1'!F169+'Dir2'!F169","v":0},{"$f":"'Dir1'!G169+'Dir2'!G169","v":0},{"$f":"'Dir1'!H169+'Dir2'!H169","v":0},{"$f":"'Dir1'!I169+'Dir2'!I169","v":0},{"$f":"'Dir1'!J169+'Dir2'!J169","v":0},{"$f":"'Dir1'!K169+'Dir2'!K169","v":0},{"$f":"'Dir1'!L169+'Dir2'!L169","v":0},{"$f":"'Dir1'!M169+'Dir2'!M169","v":0},{"$f":"'Dir1'!N169+'Dir2'!N169","v":0},{"$f":"'Dir1'!O169+'Dir2'!O169","v":0},{"$f":"'Dir1'!P169+'Dir2'!P169","v":0},{"$f":"'Dir1'!Q169+'Dir2'!Q169","v":0},{"$f":"'Dir1'!R169+'Dir2'!R169","v":0},{"$f":"'Dir1'!S169+'Dir2'!S169","v":0},{"$f":"'Dir1'!T169+'Dir2'!T169","v":0},{"$f":"'Dir1'!U169+'Dir2'!U169","v":0},{"$f":"'Dir1'!V169+'Dir2'!V169","v":0},{"$f":"'Dir1'!W169+'Dir2'!W169","v":0},{"$f":"'Dir1'!X169+'Dir2'!X169","v":0},{"$f":"'Dir1'!Y169+'Dir2'!Y169","v":0},{"$f":"'Dir1'!Z169+'Dir2'!Z169","v":0},{"$f":"'Dir1'!AA169+'Dir2'!AA169","v":0},{"$f":"'Dir1'!AB169+'Dir2'!AB169","v":0},{"$f":"'Dir1'!AC169+'Dir2'!AC169","v":0},{"$f":"'Dir1'!AD169+'Dir2'!AD169","v":0},{"$f":"'Dir1'!AE169+'Dir2'!AE169","v":0},{"$f":"'Dir1'!AF169+'Dir2'!AF169","v":0},{"$f":"'Dir1'!AG169+'Dir2'!AG169","v":0},{"$f":"'Dir1'!AH169+'Dir2'!AH169","v":0},{"$f":"'Dir1'!AI169+'Dir2'!AI169","v":0},{"$f":"'Dir1'!AJ169+'Dir2'!AJ169","v":0},{"$f":"'Dir1'!AK169+'Dir2'!AK169","v":0},"-",{"$f":"IFERROR(ROUND(PERCENTILE(_xlfn._xlws.FILTER(Data_Table[Speed],(Data_Table[Period]=$B169)*(SUM(C169:N169)>=10)),0.85),2),\"-\")","v":"-"}]
[166,{"$f":"ImportData!$B$10+7*QUOTIENT(A170,24*60*7/ImportData!$B$8)+MOD(1+QUOTIENT(A170,24*60/ImportData!$B$8)-ImportData!$E$10,7)+TIME(0,ImportData!$B$8*A170,0)","v":"2022-05-15T22:00:00"},{"$f":"'Dir1'!C170+'Dir2'!C170","v":0},{"$f":"'Dir1'!D170+'Dir2'!D170","v":0},{"$f":"'Dir1'!E170+'Dir2'!E170","v":0},{"$f":"'Dir1'!F170+'Dir2'!F170","v":0},{"$f":"'Dir1'!G170+'Dir2'!G170","v":0},{"$f":"'Dir1'!H170+'Dir2'!H170","v":0},{"$f":"'Dir1'!I170+'Dir2'!I170","v":0},{"$f":"'Dir1'!J170+'Dir2'!J170","v":0},{"$f":"'Dir1'!K170+'Dir2'!K170","v":0},{"$f":"'Dir1'!L170+'Dir2'!L170","v":0},{"$f":"'Dir1'!M170+'Dir2'!M170","v":0},{"$f":"'Dir1'!N170+'Dir2'!N170","v":0},{"$f":"'Dir1'!O170+'Dir2'!O170","v":0},{"$f":"'Dir1'!P170+'Dir2'!P170","v":0},{"$f":"'Dir1'!Q170+'Dir2'!Q170","v":0},{"$f":"'Dir1'!R170+'Dir2'!R170","v":0},{"$f":"'Dir1'!S170+'Dir2'!S170","v":0},{"$f":"'Dir1'!T170+'Dir2'!T170","v":0},{"$f":"'Dir1'!U170+'Dir2'!U170","v":0},{"$f":"'Dir1'!V170+'Dir2'!V170","v":0},{"$f":"'Dir1'!W170+'Dir2'!W170","v":0},{"$f":"'Dir1'!X170+'Dir2'!X170","v":0},{"$f":"'Dir1'!Y170+'Dir2'!Y170","v":0},{"$f":"'Dir1'!Z170+'Dir2'!Z170","v":0},{"$f":"'Dir1'!AA170+'Dir2'!AA170","v":0},{"$f":"'Dir1'!AB170+'Dir2'!AB170","v":0},{"$f":"'Dir1'!AC170+'Dir2'!AC170","v":0},{"$f":"'Dir1'!AD170+'Dir2'!AD170","v":0},{"$f":"'Dir1'!AE170+'Dir2'!AE170","v":0},{"$f":"'Dir1'!AF170+'Dir2'!AF170","v":0},{"$f":"'Dir1'!AG170+'Dir2'!AG170","v":0},{"$f":"'Dir1'!AH170+'Dir2'!AH170","v":0},{"$f":"'Dir1'!AI170+'Dir2'!AI170","v":0},{"$f":"'Dir1'!AJ170+'Dir2'!AJ170","v":0},{"$f":"'Dir1'!AK170+'Dir2'!AK170","v":0},"-",{"$f":"IFERROR(ROUND(PERCENTILE(_xlfn._xlws.FILTER(Data_Table[Speed],(Data_Table[Period]=$B170)*(SUM(C170:N170)>=10)),0.85),2),\"-\")","v":"-"}]
[167,{"$f":"ImportData!$B$10+7*QUOTIENT(A171,24*60*7/ImportData!$B$8)+MOD(1+QUOTIENT(A171,24*60/ImportData!$B$8)-ImportData!$E$10,7)+TIME(0,ImportData!$B$8*A171,0)","v":"2022-05-15T23:00:00"},{"$f":"'Dir1'!C171+'Dir2'!C171","v":0},{"$f":"'Dir1'!D171+'Dir2'!D171","v":0},{"$f":"'Dir1'!E171+'Dir2'!E171","v":0},{"$f":"'Dir1'!F171+'Dir2'!F171","v":0},{"$f":"'Dir1'!G171+'Dir2'!G171","v":0},{"$f":"'Dir1'!H171+'Dir2'!H171","v":0},{"$f":"'Dir1'!I171+'Dir2'!I171","v":0},{"$f":"'Dir1'!J171+'Dir2'!J171","v":0},{"$f":"'Dir1'!K171+'Dir2'!K171","v":0},{"$f":"'Dir1'!L171+'Dir2'!L171","v":0},{"$f":"'Dir1'!M171+'Dir2'!M171","v":0},{"$f":"'Dir1'!N171+'Dir2'!N171","v":0},{"$f":"'Dir1'!O171+'Dir2'!O171","v":0},{"$f":"'Dir1'!P171+'Dir2'!P171","v":0},{"$f":"'Dir1'!Q171+'Dir2'!Q171","v":0},{"$f":"'Dir1'!R171+'Dir2'!R171","v":0},{"$f":"'Dir1'!S171+'Dir2'!S171","v":0},{"$f":"'Dir1'!T171+'Dir2'!T171","v":0},{"$f":"'Dir1'!U171+'Dir2'!U171","v":0},{"$f":"'Dir1'!V171+'Dir2'!V171","v":0},{"$f":"'Dir1'!W171+'Dir2'!W171","v":0},{"$f":"'Dir1'!X171+'Dir2'!X171","v":0},{"$f":"'Dir1'!Y171+'Dir2'!Y171","v":0},{"$f":"'Dir1'!Z171+'Dir2'!Z171","v":0},{"$f":"'Dir1'!AA171+'Dir2'!AA171","v":0},{"$f":"'Dir1'!AB171+'Dir2'!AB171","v":0},{"$f":"'Dir1'!AC171+'Dir2'!AC171","v":0},{"$f":"'Dir1'!AD171+'Dir2'!AD171","v":0},{"$f":"'Dir1'!AE171+'Dir2'!AE171","v":0},{"$f":"'Dir1'!AF171+'Dir2'!AF171","v":0},{"$f":"'Dir1'!AG171+'Dir2'!AG171","v":0},{"$f":"'Dir1'!AH171+'Dir2'!AH171","v":0},{"$f":"'Dir1'!AI171+'Dir2'!AI171","v":0},{"$f":"'Dir1'!AJ171+'Dir2'!AJ171","v":0},{"$f":"'Dir1'!AK171+'Dir2'!AK171","v":0},"-",{"$f":"IFERROR(ROUND(PERCENTILE(_xlfn._xlws.FILTER(Data_Table[Speed],(Data_Table[Period]=$B171)*(SUM(C171:N171)>=10)),0.85),2),\"-\")","v":"-"}]
[null,"00:00:00",{"$f":"'Dir1'!C172+'Dir2'!C172","v":0},{"$f":"'Dir1'!D172+'Dir2'!D172","v":0},{"$f":"'Dir1'!E172+'Dir2'!E172","v":0},{"$f":"'Dir1'!F172+'Dir2'!F172","v":0},{"$f":"'Dir1'!G172+'Dir2'!G172","v":0},{"$f":"'Dir1'!H172+'Dir2'!H172","v":0},{"$f":"'Dir1'!I172+'Dir2'!I172","v":0},{"$f":"'Dir1'!J172+'Dir2'!J172","v":0},{"$f":"'Dir1'!K172+'Dir2'!K172","v":0},{"$f":"'Dir1'!L172+'Dir2'!L172","v":0},{"$f":"'Dir1'!M172+'Dir2'!M172","v":0},{"$f":"'Dir1'!N172+'Dir2'!N172","v":0},{"$f":"'Dir1'!O172+'Dir2'!O172","v":0},{"$f":"'Dir1'!P172+'Dir2'!P172","v":0},{"$f":"'Dir1'!Q172+'Dir2'!Q172","v":0},{"$f":"'Dir1'!R172+'Dir2'!R172","v":0},{"$f":"'Dir1'!S172+'Dir2'!S172","v":0},{"$f":"'Dir1'!T172+'Dir2'!T172","v":0},{"$f":"'Dir1'!U172+'Dir2'!U172","v":0},{"$f":"'Dir1'!V172+'Dir2'!V172","v":0},{"$f":"'Dir1'!W172+'Dir2'!W172","v":0},{"$f":"'Dir1'!X172+'Dir2'!X172","v":0},{"$f":"'Dir1'!Y172+'Dir2'!Y172","v":0},{"$f":"'Dir1'!Z172+'Dir2'!Z172","v":0},{"$f":"'Dir1'!AA172+'Dir2'!AA172","v":0},{"$f":"'Dir1'!AB172+'Dir2'!AB172","v":0},{"$f":"'Dir1'!AC172+'Dir2'!AC172","v":0},{"$f":"'Dir1'!AD172+'Dir2'!AD172","v":0},{"$f":"'Dir1'!AE172+'Dir2'!AE172","v":0},{"$f":"'Dir1'!AF172+'Dir2'!AF172","v":0},{"$f":"'Dir1'!AG172+'Dir2'!AG172","v":0},{"$f":"'Dir1'!AH172+'Dir2'!AH172","v":0},{"$f":"'Dir1'!AI172+'Dir2'!AI172","v":0},{"$f":"'Dir1'!AJ172+'Dir2'!AJ172","v":0},{"$f":"'Dir1'!AK172+'Dir2'!AK172","v":0},{"$f":"IFERROR(ROUND(AVERAGE(_xlfn._xlws.FILTER(Data_Table[Speed],(Data_Table[Period]-INT(Data_Table[Period])=B172)*(Data_Table[Weekday]<6))),2),\"-\")","v":"-"},{"$f":"IFERROR(ROUND(PERCENTILE(_xlfn._xlws.FILTER(Data_Table[Speed],(Data_Table[Period]-INT(Data_Table[Period])=B172)*(Data_Table[Weekday]<6)*(SUM(C172:N172)>=10)),0.85),2),\"-\")","v":"-"}]
[null,"01:00:00",{"$f":"'Dir1'!C173+'Dir2'!C173","v":0},{"$f":"'Dir1'!D173+'Dir2'!D173","v":0},{"$f":"'Dir1'!E173+'Dir2'!E173","v":0},{"$f":"'Dir1'!F173+'Dir2'!F173","v":0},{"$f":"'Dir1'!G173+'Dir2'!G173","v":0},{"$f":"'Dir1'!H173+'Dir2'!H173","v":0},{"$f":"'Dir1'!I173+'Dir2'!I173","v":0},{"$f":"'Dir1'!J173+'Dir2'!J173","v":0},{"$f":"'Dir1'!K173+'Dir2'!K173","v":0},{"$f":"'Dir1'!L173+'Dir2'!L173","v":0},{"$f":"'Dir1'!M173+'Dir2'!M173","v":0},{"$f":"'Dir1'!N173+'Dir2'!N173","v":0},{"$f":"'Dir1'!O173+'Dir2'!O173","v":0},{"$f":"'Dir1'!P173+'Dir2'!P173","v":0},{"$f":"'Dir1'!Q173+'Dir2'!Q173","v":0},{"$f":"'Dir1'!R173+'Dir2'!R173","v":0},{"$f":"'Dir1'!S173+'Dir2'!S173","v":0},{"$f":"'Dir1'!T173+'Dir2'!T173","v":0},{"$f":"'Dir1'!U173+'Dir2'!U173","v":0},{"$f":"'Dir1'!V173+'Dir2'!V173","v":0},{"$f":"'Dir1'!W173+'Dir2'!W173","v":0},{"$f":"'Dir1'!X173+'Dir2'!X173","v":0},{"$f":"'Dir1'!Y173+'Dir2'!Y173","v":0},{"$f":"'Dir1'!Z173+'Dir2'!Z173","v":0},{"$f":"'Dir1'!AA173+'Dir2'!AA173","v":0},{"$f":"'Dir1'!AB173+'Dir2'!AB173","v":0},{"$f":"'Dir1'!AC173+'Dir2'!AC173","v":0},{"$f":"'Dir1'!AD173+'Dir2'!AD173","v":0},{"$f":"'Dir1'!AE173+'Dir2'!AE173","v":0},{"$f":"'Dir1'!AF173+'Dir2'!AF173","v":0},{"$f":"'Dir1'!AG173+'Dir2'!AG173","v":0},{"$f":"'Dir1'!AH173+'Dir2'!AH173","v":0},{"$f":"'Dir1'!AI173+'Dir2'!AI173","v":0},{"$f":"'Dir1'!AJ173+'Dir2'!AJ173","v":0},{"$f":"'Dir1'!AK173+'Dir2'!AK173","v":0},{"$f":"IFERROR(ROUND(AVERAGE(_xlfn._xlws.FILTER(Data_Table[Speed],(Data_Table[Period]-INT(Data_Table[Period])=B173)*(Data_Table[Weekday]<6))),2),\"-\")","v":"-"},{"$f":"IFERROR(ROUND(PERCENTILE(_xlfn._xlws.FILTER(Data_Table[Speed],(Data_Table[Period]-INT(Data_Table[Period])=B173)*(Data_Table[Weekday]<6)*(SUM(C173:N173)>=10)),0.85),2),\"-\")","v":"-"}]
[null,"02:00:00",{"$f":"'Dir1'!C174+'Dir2'!C174","v":0},{"$f":"'Dir1'!D174+'Dir2'!D174","v":0},{"$f":"'Dir1'!E174+'Dir2'!E174","v":0},{"$f":"'Dir1'!F174+'Dir2'!F174","v":0},{"$f":"'Dir1'!G174+'Dir2'!G174","v":0},{"$f":"'Dir1'!H174+'Dir2'!H174","v":0},{"$f":"'Dir1'!I174+'Dir2'!I174","v":0},{"$f":"'Dir1'!J174+'Dir2'!J174","v":0},{"$f":"'Dir1'!K174+'Dir2'!K174","v":0},{"$f":"'Dir1'!L174+'Dir2'!L174","v":0},{"$f":"'Dir1'!M174+'Dir2'!M174","v":0},{"$f":"'Dir1'!N174+'Dir2'!N174","v":0},{"$f":"'Dir1'!O174+'Dir2'!O174","v":0},{"$f":"'Dir1'!P174+'Dir2'!P174","v":0},{"$f":"'Dir1'!Q174+'Dir2'!Q174","v":0},{"$f":"'Dir1'!R174+'Dir2'!R174","v":0},{"$f":"'Dir1'!S174+'Dir2'!S174","v":0},{"$f":"'Dir1'!T174+'Dir2'!T174","v":0},{"$f":"'Dir1'!U174+'Dir2'!U174","v":0},{"$f":"'Dir1'!V174+'Dir2'!V174","v":0},{"$f":"'Dir1'!W174+'Dir2'!W174","v":0},{"$f":"'Dir1'!X174+'Dir2'!X174","v":0},{"$f":"'Dir1'!Y174+'Dir2'!Y174","v":0},{"$f":"'Dir1'!Z174+'Dir2'!Z174","v":0},{"$f":"'Dir1'!AA174+'Dir2'!AA174","v":0},{"$f":"'Dir1'!AB174+'Dir2'!AB174","v":0},{"$f":"'Dir1'!AC174+'Dir2'!AC174","v":0},{"$f":"'Dir1'!AD174+'Dir2'!AD174","v":0},{"$f":"'Dir1'!AE174+'Dir2'!AE174","v":0},{"$f":"'Dir1'!AF174+'Dir2'!AF174","v":0},{"$f":"'Dir1'!AG174+'Dir2'!AG174","v":0},{"$f":"'Dir1'!AH174+'Dir2'!AH174","v":0},{"$f":"'Dir1'!AI174+'Dir2'!AI174","v":0},{"$f":"'Dir1'!AJ174+'Dir2'!AJ174","v":0},{"$f":"'Dir1'!AK174+'Dir2'!AK174","v":0},{"$f":"IFERROR(ROUND(AVERAGE(_xlfn._xlws.FILTER(Data_Table[Speed],(Data_Table[Period]-INT(Data_Table[Period])=B174)*(Data_Table[Weekday]<6))),2),\"-\")","v":"-"},{"$f":"IFERROR(ROUND(PERCENTILE(_xlfn._xlws.FILTER(Data_Table[Speed],(Data_Table[Period]-INT(Data_Table[Period])=B174)*(Data_Table[Weekday]<6)*(SUM(C174:N174)>=10)),0.85),2),\"-\")","v":"-"}]
[null,"03:00:00",{"$f":"'Dir1'!C175+'Dir2'!C175","v":0},{"$f":"'Dir1'!D175+'Dir2'!D175","v":0},{"$f":"'Dir1'!E175+'Dir2'!E175","v":0},{"$f":"'Dir1'!F175+'Dir2'!F175","v":0},{"$f":"'Dir1'!G175+'Dir2'!G175","v":0},{"$f":"'Dir1'!H175+'Dir2'!H175","v":0},{"$f":"'Dir1'!I175+'Dir2'!I175","v":0},{"$f":"'Dir1'!J175+'Dir2'!J175","v":0},{"$f":"'Dir1'!K175+'Dir2'!K175","v":0},{"$f":"'Dir1'!L175+'Dir2'!L175","v":0},{"$f":"'Dir1'!M175+'Dir2'!M175","v":0},{"$f":"'Dir1'!N175+'Dir2'!N175","v":0},{"$f":"'Dir1'!O175+'Dir2'!O175","v":0},{"$f":"'Dir1'!P175+'Dir2'!P175","v":0},{"$f":"'Dir1'!Q175+'Dir2'!Q175","v":0},{"$f":"'Dir1'!R175+'Dir2'!R175","v":0},{"$f":"'Dir1'!S175+'Dir2'!S175","v":0},{"$f":"'Dir1'!T175+'Dir2'!T175","v":0},{"$f":"'Dir1'!U175+'Dir2'!U175","v":0},{"$f":"'Dir1'!V175+'Dir2'!V175","v":0},{"$f":"'Dir1'!W175+'Dir2'!W175","v":0},{"$f":"'Dir1'!X175+'Dir2'!X175","v":0},{"$f":"'Dir1'!Y175+'Dir2'!Y175","v":0},{"$f":"'Dir1'!Z175+'Dir2'!Z175","v":0},{"$f":"'Dir1'!AA175+'Dir2'!AA175","v":0},{"$f":"'Dir1'!AB175+'Dir2'!AB175","v":0},{"$f":"'Dir1'!AC175+'Dir2'!AC175","v":0},{"$f":"'Dir1'!AD175+'Dir2'!AD175","v":0},{"$f":"'Dir1'!AE175+'Dir2'!AE175","v":0},{"$f":"'Dir1'!AF175+'Dir2'!AF175","v":0},{"$f":"'Dir1'!AG175+'Dir2'!AG175","v":0},{"$f":"'Dir1'!AH175+'Dir2'!AH175","v":0},{"$f":"'Dir1'!AI175+'Dir2'!AI175","v":0},{"$f":"'Dir1'!AJ175+'Dir2'!AJ175","v":0},{"$f":"'Dir1'!AK175+'Dir2'!AK175","v":0},{"$f":"IFERROR(ROUND(AVERAGE(_xlfn._xlws.FILTER(Data_Table[Speed],(Data_Table[Period]-INT(Data_Table[Period])=B175)*(Data_Table[Weekday]<6))),2),\"-\")","v":"-"},{"$f":"IFERROR(ROUND(PERCENTILE(_xlfn._xlws.FILTER(Data_Table[Speed],(Data_Table[Period]-INT(Data_Table[Period])=B175)*(Data_Table[Weekday]<6)*(SUM(C175:N175)>=10)),0.85),2),\"-\")","v":"-"}]
[null,"04:00:00",{"$f":"'Dir1'!C176+'Dir2'!C176","v":0},{"$f":"'Dir1'!D176+'Dir2'!D176","v":0},{"$f":"'Dir1'!E176+'Dir2'!E176","v":0},{"$f":"'Dir1'!F176+'Dir2'!F176","v":0},{"$f":"'Dir1'!G176+'Dir2'!G176","v":0},{"$f":"'Dir1'!H176+'Dir2'!H176","v":0},{"$f":"'Dir1'!I176+'Dir2'!I176","v":0},{"$f":"'Dir1'!J176+'Dir2'!J176","v":0},{"$f":"'Dir1'!K176+'Dir2'!K176","v":0},{"$f":"'Dir1'!L176+'Dir2'!L176","v":0},{"$f":"'Dir1'!M176+'Dir2'!M176","v":0},{"$f":"'Dir1'!N176+'Dir2'!N176","v":0},{"$f":"'Dir1'!O176+'Dir2'!O176","v":0},{"$f":"'Dir1'!P176+'Dir2'!P176","v":0},{"$f":"'Dir1'!Q176+'Dir2'!Q176","v":0},{"$f":"'Dir1'!R176+'Dir2'!R176","v":0},{"$f":"'Dir1'!S176+'Dir2'!S176","v":0},{"$f":"'Dir1'!T176+'Dir2'!T176","v":0},{"$f":"'Dir1'!U176+'Dir2'!U176","v":0},{"$f":"'Dir1'!V176+'Dir2'!V176","v":0},{"$f":"'Dir1'!W176+'Dir2'!W176","v":0},{"$f":"'Dir1'!X176+'Dir2'!X176","v":0},{"$f":"'Dir1'!Y176+'Dir2'!Y176","v":0},{"$f":"'Dir1'!Z176+'Dir2'!Z176","v":0},{"$f":"'Dir1'!AA176+'Dir2'!AA176","v":0},{"$f":"'Dir1'!AB176+'Dir2'!AB176","v":0},{"$f":"'Dir1'!AC176+'Dir2'!AC176","v":0},{"$f":"'Dir1'!AD176+'Dir2'!AD176","v":0},{"$f":"'Dir1'!AE176+'Dir2'!AE176","v":0},{"$f":"'Dir1'!AF176+'Dir2'!AF176","v":0},{"$f":"'Dir1'!AG176+'Dir2'!AG176","v":0},{"$f":"'Dir1'!AH176+'Dir2'!AH176","v":0},{"$f":"'Dir1'!AI176+'Dir2'!AI176","v":0},{"$f":"'Dir1'!AJ176+'Dir2'!AJ176","v":0},{"$f":"'Dir1'!AK176+'Dir2'!AK176","v":0},{"$f":"IFERROR(ROUND(AVERAGE(_xlfn._xlws.FILTER(Data_Table[Speed],(Data_Table[Period]-INT(Data_Table[Period])=B176)*(Data_Table[Weekday]<6))),2),\"-\")","v":"-"},{"$f":"IFERROR(ROUND(PERCENTILE(_xlfn._xlws.FILTER(Data_Table[Speed],(Data_Table[Period]-INT(Data_Table[Period])=B176)*(Data_Table[Weekday]<6)*(SUM(C176:N176)>=10)),0.85),2),\"-\")","v":"-"}]
[null,"05:00:00",{"$f":"'Dir1'!C177+'Dir2'!C177","v":0},{"$f":"'Dir1'!D177+'Dir2'!D177","v":0},{"$f":"'Dir1'!E177+'Dir2'!E177","v":0},{"$f":"'Dir1'!F177+'Dir2'!F177","v":0},{"$f":"'Dir1'!G177+'Dir2'!G177","v":0},{"$f":"'Dir1'!H177+'Dir2'!H177","v":0},{"$f":"'Dir1'!I177+'Dir2'!I177","v":0},{"$f":"'Dir1'!J177+'Dir2'!J177","v":0},{"$f":"'Dir1'!K177+'Dir2'!K177","v":0},{"$f":"'Dir1'!L177+'Dir2'!L177","v":0},{"$f":"'Dir1'!M177+'Dir2'!M177","v":0},{"$f":"'Dir1'!N177+'Dir2'!N177","v":0},{"$f":"'Dir1'!O177+'Dir2'!O177","v":0},{"$f":"'Dir1'!P177+'Dir2'!P177","v":0},{"$f":"'Dir1'!Q177+'Dir2'!Q177","v":0},{"$f":"'Dir1'!R177+'Dir2'!R177","v":0},{"$f":"'Dir1'!S177+'Dir2'!S177","v":0},{"$f":"'Dir1'!T177+'Dir2'!T177","v":0},{"$f":"'Dir1'!U177+'Dir2'!U177","v":0},{"$f":"'Dir1'!V177+'Dir2'!V177","v":0},{"$f":"'Dir1'!W177+'Dir2'!W177","v":0},{"$f":"'Dir1'!X177+'Dir2'!X177","v":0},{"$f":"'Dir1'!Y177+'Dir2'!Y177","v":0},{"$f":"'Dir1'!Z177+'Dir2'!Z177","v":0},{"$f":"'Dir1'!AA177+'Dir2'!AA177","v":0},{"$f":"'Dir1'!AB177+'Dir2'!AB177","v":0},{"$f":"'Dir1'!AC177+'Dir2'!AC177","v":0},{"$f":"'Dir1'!AD177+'Dir2'!AD177","v":0},{"$f":"'Dir1'!AE177+'Dir2'!AE177","v":0},{"$f":"'Dir1'!AF177+'Dir2'!AF177","v":0},{"$f":"'Dir1'!AG177+'Dir2'!AG177","v":0},{"$f":"'Dir1'!AH177+'Dir2'!AH177","v":0},{"$f":"'Dir1'!AI177+'Dir2'!AI177","v":0},{"$f":"'Dir1'!AJ177+'Dir2'!AJ177","v":0},{"$f":"'Dir1'!AK177+'Dir2'!AK177","v":0},{"$f":"IFERROR(ROUND(AVERAGE(_xlfn._xlws.FILTER(Data_Table[Speed],(Data_Table[Period]-INT(Data_Table[Period])=B177)*(Data_Table[Weekday]<6))),2),\"-\")","v":"-"},{"$f":"IFERROR(ROUND(PERCENTILE(_xlfn._xlws.FILTER(Data_Table[Speed],(Data_Table[Period]-INT(Data_Table[Period])=B177)*(Data_Table[Weekday]<6)*(SUM(C177:N177)>=10)),0.85),2),\"-\")","v":"-"}]
[null,"06:00:00",{"$f":"'Dir1'!C178+'Dir2'!C178","v":0},{"$f":"'Dir1'!D178+'Dir2'!D178","v":0},{"$f":"'Dir1'!E178+'Dir2'!E178","v":0},{"$f":"'Dir1'!F178+'Dir2'!F178","v":0},{"$f":"'Dir1'!G178+'Dir2'!G178","v":0},{"$f":"'Dir1'!H178+'Dir2'!H178","v":0},{"$f":"'Dir1'!I178+'Dir2'!I178","v":0},{"$f":"'Dir1'!J178+'Dir2'!J178","v":0},{"$f":"'Dir1'!K178+'Dir2'!K178","v":0},{"$f":"'Dir1'!L178+'Dir2'!L178","v":0},{"$f":"'Dir1'!M178+'Dir2'!M178","v":0},{"$f":"'Dir1'!N178+'Dir2'!N178","v":0},{"$f":"'Dir1'!O178+'Dir2'!O178","v":0},{"$f":"'Dir1'!P178+'Dir2'!P178","v":0},{"$f":"'Dir1'!Q178+'Dir2'!Q178","v":0},{"$f":"'Dir1'!R178+'Dir2'!R178","v":0},{"$f":"'Dir1'!S178+'Dir2'!S178","v":0},{"$f":"'Dir1'!T178+'Dir2'!T178","v":0},{"$f":"'Dir1'!U178+'Dir2'!U178","v":0},{"$f":"'Dir1'!V178+'Dir2'!V178","v":0},{"$f":"'Dir1'!W178+'Dir2'!W178","v":0},{"$f":"'Dir1'!X178+'Dir2'!X178","v":0},{"$f":"'Dir1'!Y178+'Dir2'!Y178","v":0},{"$f":"'Dir1'!Z178+'Dir2'!Z178","v":0},{"$f":"'Dir1'!AA178+'Dir2'!AA178","v":0},{"$f":"'Dir1'!AB178+'Dir2'!AB178","v":0},{"$f":"'Dir1'!AC178+'Dir2'!AC178","v":0},{"$f":"'Dir1'!AD178+'Dir2'!AD178","v":0},{"$f":"'Dir1'!AE178+'Dir2'!AE178","v":0},{"$f":"'Dir1'!AF178+'Dir2'!AF178","v":0},{"$f":"'Dir1'!AG178+'Dir2'!AG178","v":0},{"$f":"'Dir1'!AH178+'Dir2'!AH178","v":0},{"$f":"'Dir1'!AI178+'Dir2'!AI178","v":0},{"$f":"'Dir1'!AJ178+'Dir2'!AJ178","v":0},{"$f":"'Dir1'!AK178+'Dir2'!AK178","v":0},{"$f":"IFERROR(ROUND(AVERAGE(_xlfn._xlws.FILTER(Data_Table[Speed],(Data_Table[Period]-INT(Data_Table[Period])=B178)*(Data_Table[Weekday]<6))),2),\"-\")","v":"-"},{"$f":"IFERROR(ROUND(PERCENTILE(_xlfn._xlws.FILTER(Data_Table[Speed],(Data_Table[Period]-INT(Data_Table[Period])=B178)*(Data_Table[Weekday]<6)*(SUM(C178:N178)>=10)),0.85),2),\"-\")","v":"-"}]
[null,"07:00:00",{"$f":"'Dir1'!C179+'Dir2'!C179","v":0},{"$f":"'Dir1'!D179+'Dir2'!D179","v":0},{"$f":"'Dir1'!E179+'Dir2'!E179","v":0},{"$f":"'Dir1'!F179+'Dir2'!F179","v":0},{"$f":"'Dir1'!G179+'Dir2'!G179","v":0},{"$f":"'Dir1'!H179+'Dir2'!H179","v":0},{"$f":"'Dir1'!I179+'Dir2'!I179","v":0},{"$f":"'Dir1'!J179+'Dir2'!J179","v":0},{"$f":"'Dir1'!K179+'Dir2'!K179","v":0},{"$f":"'Dir1'!L179+'Dir2'!L179","v":0},{"$f":"'Dir1'!M179+'Dir2'!M179","v":0},{"$f":"'Dir1'!N179+'Dir2'!N179","v":0},{"$f":"'Dir1'!O179+'Dir2'!O179","v":0},{"$f":"'Dir1'!P179+'Dir2'!P179","v":0},{"$f":"'Dir1'!Q179+'Dir2'!Q179","v":0},{"$f":"'Dir1'!R179+'Dir2'!R179","v":0},{"$f":"'Dir1'!S179+'Dir2'!S179","v":0},{"$f":"'Dir1'!T179+'Dir2'!T179","v":0},{"$f":"'Dir1'!U179+'Dir2'!U179","v":0},{"$f":"'Dir1'!V179+'Dir2'!V179","v":0},{"$f":"'Dir1'!W179+'Dir2'!W179","v":0},{"$f":"'Dir1'!X179+'Dir2'!X179","v":0},{"$f":"'Dir1'!Y179+'Dir2'!Y179","v":0},{"$f":"'Dir1'!Z179+'Dir2'!Z179","v":0},{"$f":"'Dir1'!AA179+'Dir2'!AA179","v":0},{"$f":"'Dir1'!AB179+'Dir2'!AB179","v":0},{"$f":"'Dir1'!AC179+'Dir2'!AC179","v":0},{"$f":"'Dir1'!AD179+'Dir2'!AD179","v":0},{"$f":"'Dir1'!AE179+'Dir2'!AE179","v":0},{"$f":"'Dir1'!AF179+'Dir2'!AF179","v":0},{"$f":"'Dir1'!AG179+'Dir2'!AG179","v":0},{"$f":"'Dir1'!AH179+'Dir2'!AH179","v":0},{"$f":"'Dir1'!AI179+'Dir2'!AI179","v":0},{"$f":"'Dir1'!AJ179+'Dir2'!AJ179","v":0},{"$f":"'Dir1'!AK179+'Dir2'!AK179","v":0},{"$f":"IFERROR(ROUND(AVERAGE(_xlfn._xlws.FILTER(Data_Table[Speed],(Data_Table[Period]-INT(Data_Table[Period])=B179)*(Data_Table[Weekday]<6))),2),\"-\")","v":"-"},{"$f":"IFERROR(ROUND(PERCENTILE(_xlfn._xlws.FILTER(Data_Table[Speed],(Data_Table[Period]-INT(Data_Table[Period])=B179)*(Data_Table[Weekday]<6)*(SUM(C179:N179)>=10)),0.85),2),\"-\")","v":"-"}]
[null,"08:00:00",{"$f":"'Dir1'!C180+'Dir2'!C180","v":0},{"$f":"'Dir1'!D180+'Dir2'!D180","v":0},{"$f":"'Dir1'!E180+'Dir2'!E180","v":0},{"$f":"'Dir1'!F180+'Dir2'!F180","v":0},{"$f":"'Dir1'!G180+'Dir2'!G180","v":0},{"$f":"'Dir1'!H180+'Dir2'!H180","v":0},{"$f":"'Dir1'!I180+'Dir2'!I180","v":0},{"$f":"'Dir1'!J180+'Dir2'!J180","v":0},{"$f":"'Dir1'!K180+'Dir2'!K180","v":0},{"$f":"'Dir1'!L180+'Dir2'!L180","v":0},{"$f":"'Dir1'!M180+'Dir2'!M180","v":0},{"$f":"'Dir1'!N180+'Dir2'!N180","v":0},{"$f":"'Dir1'!O180+'Dir2'!O180","v":0},{"$f":"'Dir1'!P180+'Dir2'!P180","v":0},{"$f":"'Dir1'!Q180+'Dir2'!Q180","v":0},{"$f":"'Dir1'!R180+'Dir2'!R180","v":0},{"$f":"'Dir1'!S180+'Dir2'!S180","v":0},{"$f":"'Dir1'!T180+'Dir2'!T180","v":0},{"$f":"'Dir1'!U180+'Dir2'!U180","v":0},{"$f":"'Dir1'!V180+'Dir2'!V180","v":0},{"$f":"'Dir1'!W180+'Dir2'!W180","v":0},{"$f":"'Dir1'!X180+'Dir2'!X180","v":0},{"$f":"'Dir1'!Y180+'Dir2'!Y180","v":0},{"$f":"'Dir1'!Z180+'Dir2'!Z180","v":0},{"$f":"'Dir1'!AA180+'Dir2'!AA180","v":0},{"$f":"'Dir1'!AB180+'Dir2'!AB180","v":0},{"$f":"'Dir1'!AC180+'Dir2'!AC180","v":0},{"$f":"'Dir1'!AD180+'Dir2'!AD180","v":0},{"$f":"'Dir1'!AE180+'Dir2'!AE180","v":0},{"$f":"'Dir1'!AF180+'Dir2'!AF180","v":0},{"$f":"'Dir1'!AG180+'Dir2'!AG180","v":0},{"$f":"'Dir1'!AH180+'Dir2'!AH180","v":0},{"$f":"'Dir1'!AI180+'Dir2'!AI180","v":0},{"$f":"'Dir1'!AJ180+'Dir2'!AJ180","v":0},{"$f":"'Dir1'!AK180+'Dir2'!AK180","v":0},{"$f":"IFERROR(ROUND(AVERAGE(_xlfn._xlws.FILTER(Data_Table[Speed],(Data_Table[Period]-INT(Data_Table[Period])=B180)*(Data_Table[Weekday]<6))),2),\"-\")","v":"-"},{"$f":"IFERROR(ROUND(PERCENTILE(_xlfn._xlws.FILTER(Data_Table[Speed],(Data_Table[Period]-INT(Data_Table[Period])=B180)*(Data_Table[Weekday]<6)*(SUM(C180:N180)>=10)),0.85),2),\"-\")","v":"-"}]
[null,"09:00:00",{"$f":"'Dir1'!C181+'Dir2'!C181","v":0},{"$f":"'Dir1'!D181+'Dir2'!D181","v":0},{"$f":"'Dir1'!E181+'Dir2'!E181","v":0},{"$f":"'Dir1'!F181+'Dir2'!F181","v":0},{"$f":"'Dir1'!G181+'Dir2'!G181","v":0},{"$f":"'Dir1'!H181+'Dir2'!H181","v":0},{"$f":"'Dir1'!I181+'Dir2'!I181","v":0},{"$f":"'Dir1'!J181+'Dir2'!J181","v":0},{"$f":"'Dir1'!K181+'Dir2'!K181","v":0},{"$f":"'Dir1'!L181+'Dir2'!L181","v":0},{"$f":"'Dir1'!M181+'Dir2'!M181","v":0},{"$f":"'Dir1'!N181+'Dir2'!N181","v":0},{"$f":"'Dir1'!O181+'Dir2'!O181","v":0},{"$f":"'Dir1'!P181+'Dir2'!P181","v":0},{"$f":"'Dir1'!Q181+'Dir2'!Q181","v":0},{"$f":"'Dir1'!R181+'Dir2'!R181","v":0},{"$f":"'Dir1'!S181+'Dir2'!S181","v":0},{"$f":"'Dir1'!T181+'Dir2'!T181","v":0},{"$f":"'Dir1'!U181+'Dir2'!U181","v":0},{"$f":"'Dir1'!V181+'Dir2'!V181","v":0},{"$f":"'Dir1'!W181+'Dir2'!W181","v":0},{"$f":"'Dir1'!X181+'Dir2'!X181","v":0},{"$f":"'Dir1'!Y181+'Dir2'!Y181","v":0},{"$f":"'Dir1'!Z181+'Dir2'!Z181","v":0},{"$f":"'Dir1'!AA181+'Dir2'!AA181","v":0},{"$f":"'Dir1'!AB181+'Dir2'!AB181","v":0},{"$f":"'Dir1'!AC181+'Dir2'!AC181","v":0},{"$f":"'Dir1'!AD181+'Dir2'!AD181","v":0},{"$f":"'Dir1'!AE181+'Dir2'!AE181","v":0},{"$f":"'Dir1'!AF181+'Dir2'!AF181","v":0},{"$f":"'Dir1'!AG181+'Dir2'!AG181","v":0},{"$f":"'Dir1'!AH181+'Dir2'!AH181","v":0},{"$f":"'Dir1'!AI181+'Dir2'!AI181","v":0},{"$f":"'Dir1'!AJ181+'Dir2'!AJ181","v":0},{"$f":"'Dir1'!AK181+'Dir2'!AK181","v":0},{"$f":"IFERROR(ROUND(AVERAGE(_xlfn._xlws.FILTER(Data_Table[Speed],(Data_Table[Period]-INT(Data_Table[Period])=B181)*(Data_Table[Weekday]<6))),2),\"-\")","v":"-"},{"$f":"IFERROR(ROUND(PERCENTILE(_xlfn._xlws.FILTER(Data_Table[Speed],(Data_Table[Period]-INT(Data_Table[Period])=B181)*(Data_Table[Weekday]<6)*(SUM(C181:N181)>=10)),0.85),2),\"-\")","v":"-"}]
[null,"10:00:00",{"$f":"'Dir1'!C182+'Dir2'!C182","v":0},{"$f":"'Dir1'!D182+'Dir2'!D182","v":0},{"$f":"'Dir1'!E182+'Dir2'!E182","v":0},{"$f":"'Dir1'!F182+'Dir2'!F182","v":0},{"$f":"'Dir1'!G182+'Dir2'!G182","v":0},{"$f":"'Dir1'!H182+'Dir2'!H182","v":0},{"$f":"'Dir1'!I182+'Dir2'!I182","v":0},{"$f":"'Dir1'!J182+'Dir2'!J182","v":0},{"$f":"'Dir1'!K182+'Dir2'!K182","v":0},{"$f":"'Dir1'!L182+'Dir2'!L182","v":0},{"$f":"'Dir1'!M182+'Dir2'!M182","v":0},{"$f":"'Dir1'!N182+'Dir2'!N182","v":0},{"$f":"'Dir1'!O182+'Dir2'!O182","v":0},{"$f":"'Dir1'!P182+'Dir2'!P182","v":0},{"$f":"'Dir1'!Q182+'Dir2'!Q182","v":0},{"$f":"'Dir1'!R182+'Dir2'!R182","v":0},{"$f":"'Dir1'!S182+'Dir2'!S182","v":0},{"$f":"'Dir1'!T182+'Dir2'!T182","v":0},{"$f":"'Dir1'!U182+'Dir2'!U182","v":0},{"$f":"'Dir1'!V182+'Dir2'!V182","v":0},{"$f":"'Dir1'!W182+'Dir2'!W182","v":0},{"$f":"'Dir1'!X182+'Dir2'!X182","v":0},{"$f":"'Dir1'!Y182+'Dir2'!Y182","v":0},{"$f":"'Dir1'!Z182+'Dir2'!Z182","v":0},{"$f":"'Dir1'!AA182+'Dir2'!AA182","v":0},{"$f":"'Dir1'!AB182+'Dir2'!AB182","v":0},{"$f":"'Dir1'!AC182+'Dir2'!AC182","v":0},{"$f":"'Dir1'!AD182+'Dir2'!AD182","v":0},{"$f":"'Dir1'!AE182+'Dir2'!AE182","v":0},{"$f":"'Dir1'!AF182+'Dir2'!AF182","v":0},{"$f":"'Dir1'!AG182+'Dir2'!AG182","v":0},{"$f":"'Dir1'!AH182+'Dir2'!AH182","v":0},{"$f":"'Dir1'!AI182+'Dir2'!AI182","v":0},{"$f":"'Dir1'!AJ182+'Dir2'!AJ182","v":0},{"$f":"'Dir1'!AK182+'Dir2'!AK182","v":0},{"$f":"IFERROR(ROUND(AVERAGE(_xlfn._xlws.FILTER(Data_Table[Speed],(Data_Table[Period]-INT(Data_Table[Period])=B182)*(Data_Table[Weekday]<6))),2),\"-\")","v":"-"},{"$f":"IFERROR(ROUND(PERCENTILE(_xlfn._xlws.FILTER(Data_Table[Speed],(Data_Table[Period]-INT(Data_Table[Period])=B182)*(Data_Table[Weekday]<6)*(SUM(C182:N182)>=10)),0.85),2),\"-\")","v":"-"}]
[null,"11:00:00",{"$f":"'Dir1'!C183+'Dir2'!C183","v":0},{"$f":"'Dir1'!D183+'Dir2'!D183","v":0},{"$f":"'Dir1'!E183+'Dir2'!E183","v":0},{"$f":"'Dir1'!F183+'Dir2'!F183","v":0},{"$f":"'Dir1'!G183+'Dir2'!G183","v":0},{"$f":"'Dir1'!H183+'Dir2'!H183","v":0},{"$f":"'Dir1'!I183+'Dir2'!I183","v":0},{"$f":"'Dir1'!J183+'Dir2'!J183","v":0},{"$f":"'Dir1'!K183+'Dir2'!K183","v":0},{"$f":"'Dir1'!L183+'Dir2'!L183","v":0},{"$f":"'Dir1'!M183+'Dir2'!M183","v":0},{"$f":"'Dir1'!N183+'Dir2'!N183","v":0},{"$f":"'Dir1'!O183+'Dir2'!O183","v":0},{"$f":"'Dir1'!P183+'Dir2'!P183","v":0},{"$f":"'Dir1'!Q183+'Dir2'!Q183","v":0},{"$f":"'Dir1'!R183+'Dir2'!R183","v":0},{"$f":"'Dir1'!S183+'Dir2'!S183","v":0},{"$f":"'Dir1'!T183+'Dir2'!T183","v":0},{"$f":"'Dir1'!U183+'Dir2'!U183","v":0},{"$f":"'Dir1'!V183+'Dir2'!V183","v":0},{"$f":"'Dir1'!W183+'Dir2'!W183","v":0},{"$f":"'Dir1'!X183+'Dir2'!X183","v":0},{"$f":"'Dir1'!Y183+'Dir2'!Y183","v":0},{"$f":"'Dir1'!Z183+'Dir2'!Z183","v":0},{"$f":"'Dir1'!AA183+'Dir2'!AA183","v":0},{"$f":"'Dir1'!AB183+'Dir2'!AB183","v":0},{"$f":"'Dir1'!AC183+'Dir2'!AC183","v":0},{"$f":"'Dir1'!AD183+'Dir2'!AD183","v":0},{"$f":"'Dir1'!AE183+'Dir2'!AE183","v":0},{"$f":"'Dir1'!AF183+'Dir2'!AF183","v":0},{"$f":"'Dir1'!AG183+'Dir2'!AG183","v":0},{"$f":"'Dir1'!AH183+'Dir2'!AH183","v":0},{"$f":"'Dir1'!AI183+'Dir2'!AI183","v":0},{"$f":"'Dir1'!AJ183+'Dir2'!AJ183","v":0},{"$f":"'Dir1'!AK183+'Dir2'!AK183","v":0},{"$f":"IFERROR(ROUND(AVERAGE(_xlfn._xlws.FILTER(Data_Table[Speed],(Data_Table[Period]-INT(Data_Table[Period])=B183)*(Data_Table[Weekday]<6))),2),\"-\")","v":"-"},{"$f":"IFERROR(ROUND(PERCENTILE(_xlfn._xlws.FILTER(Data_Table[Speed],(Data_Table[Period]-INT(Data_Table[Period])=B183)*(Data_Table[Weekday]<6)*(SUM(C183:N183)>=10)),0.85),2),\"-\")","v":"-"}]
[null,"12:00:00",{"$f":"'Dir1'!C184+'Dir2'!C184","v":0},{"$f":"'Dir1'!D184+'Dir2'!D184","v":0},{"$f":"'Dir1'!E184+'Dir2'!E184","v":0},{"$f":"'Dir1'!F184+'Dir2'!F184","v":0},{"$f":"'Dir1'!G184+'Dir2'!G184","v":0},{"$f":"'Dir1'!H184+'Dir2'!H184","v":0},{"$f":"'Dir1'!I184+'Dir2'!I184","v":0},{"$f":"'Dir1'!J184+'Dir2'!J184","v":0},{"$f":"'Dir1'!K184+'Dir2'!K184","v":0},{"$f":"'Dir1'!L184+'Dir2'!L184","v":0},{"$f":"'Dir1'!M184+'Dir2'!M184","v":0},{"$f":"'Dir1'!N184+'Dir2'!N184","v":0},{"$f":"'Dir1'!O184+'Dir2'!O184","v":0},{"$f":"'Dir1'!P184+'Dir2'!P184","v":0},{"$f":"'Dir1'!Q184+'Dir2'!Q184","v":0},{"$f":"'Dir1'!R184+'Dir2'!R184","v":0},{"$f":"'Dir1'!S184+'Dir2'!S184","v":0},{"$f":"'Dir1'!T184+'Dir2'!T184","v":0},{"$f":"'Dir1'!U184+'Dir2'!U184","v":0},{"$f":"'Dir1'!V184+'Dir2'!V184","v":0},{"$f":"'Dir1'!W184+'Dir2'!W184","v":0},{"$f":"'Dir1'!X184+'Dir2'!X184","v":0},{"$f":"'Dir1'!Y184+'Dir2'!Y184","v":0},{"$f":"'Dir1'!Z184+'Dir2'!Z184","v":0},{"$f":"'Dir1'!AA184+'Dir2'!AA184","v":0},{"$f":"'Dir1'!AB184+'Dir2'!AB184","v":0},{"$f":"'Dir1'!AC184+'Dir2'!AC184","v":0},{"$f":"'Dir1'!AD184+'Dir2'!AD184","v":0},{"$f":"'Dir1'!AE184+'Dir2'!AE184","v":0},{"$f":"'Dir1'!AF184+'Dir2'!AF184","v":0},{"$f":"'Dir1'!AG184+'Dir2'!AG184","v":0},{"$f":"'Dir1'!AH184+'Dir2'!AH184","v":0},{"$f":"'Dir1'!AI184+'Dir2'!AI184","v":0},{"$f":"'Dir1'!AJ184+'Dir2'!AJ184","v":0},{"$f":"'Dir1'!AK184+'Dir2'!AK184","v":0},{"$f":"IFERROR(ROUND(AVERAGE(_xlfn._xlws.FILTER(Data_Table[Speed],(Data_Table[Period]-INT(Data_Table[Period])=B184)*(Data_Table[Weekday]<6))),2),\"-\")","v":"-"},{"$f":"IFERROR(ROUND(PERCENTILE(_xlfn._xlws.FILTER(Data_Table[Speed],(Data_Table[Period]-INT(Data_Table[Period])=B184)*(Data_Table[Weekday]<6)*(SUM(C184:N184)>=10)),0.85),2),\"-\")","v":"-"}]
[null,"13:00:00",{"$f":"'Dir1'!C185+'Dir2'!C185","v":0},{"$f":"'Dir1'!D185+'Dir2'!D185","v":0},{"$f":"'Dir1'!E185+'Dir2'!E185","v":0},{"$f":"'Dir1'!F185+'Dir2'!F185","v":0},{"$f":"'Dir1'!G185+'Dir2'!G185","v":0},{"$f":"'Dir1'!H185+'Dir2'!H185","v":0},{"$f":"'Dir1'!I185+'Dir2'!I185","v":0},{"$f":"'Dir1'!J185+'Dir2'!J185","v":0},{"$f":"'Dir1'!K185+'Dir2'!K185","v":0},{"$f":"'Dir1'!L185+'Dir2'!L185","v":0},{"$f":"'Dir1'!M185+'Dir2'!M185","v":0},{"$f":"'Dir1'!N185+'Dir2'!N185","v":0},{"$f":"'Dir1'!O185+'Dir2'!O185","v":0},{"$f":"'Dir1'!P185+'Dir2'!P185","v":0},{"$f":"'Dir1'!Q185+'Dir2'!Q185","v":0},{"$f":"'Dir1'!R185+'Dir2'!R185","v":0},{"$f":"'Dir1'!S185+'Dir2'!S185","v":0},{"$f":"'Dir1'!T185+'Dir2'!T185","v":0},{"$f":"'Dir1'!U185+'Dir2'!U185","v":0},{"$f":"'Dir1'!V185+'Dir2'!V185","v":0},{"$f":"'Dir1'!W185+'Dir2'!W185","v":0},{"$f":"'Dir1'!X185+'Dir2'!X185","v":0},{"$f":"'Dir1'!Y185+'Dir2'!Y185","v":0},{"$f":"'Dir1'!Z185+'Dir2'!Z185","v":0},{"$f":"'Dir1'!AA185+'Dir2'!AA185","v":0},{"$f":"'Dir1'!AB185+'Dir2'!AB185","v":0},{"$f":"'Dir1'!AC185+'Dir2'!AC185","v":0},{"$f":"'Dir1'!AD185+'Dir2'!AD185","v":0},{"$f":"'Dir1'!AE185+'Dir2'!AE185","v":0},{"$f":"'Dir1'!AF185+'Dir2'!AF185","v":0},{"$f":"'Dir1'!AG185+'Dir2'!AG185","v":0},{"$f":"'Dir1'!AH185+'Dir2'!AH185","v":0},{"$f":"'Dir1'!AI185+'Dir2'!AI185","v":0},{"$f":"'Dir1'!AJ185+'Dir2'!AJ185","v":0},{"$f":"'Dir1'!AK185+'Dir2'!AK185","v":0},{"$f":"IFERROR(ROUND(AVERAGE(_xlfn._xlws.FILTER(Data_Table[Speed],(Data_Table[Period]-INT(Data_Table[Period])=B185)*(Data_Table[Weekday]<6))),2),\"-\")","v":"-"},{"$f":"IFERROR(ROUND(PERCENTILE(_xlfn._xlws.FILTER(Data_Table[Speed],(Data_Table[Period]-INT(Data_Table[Period])=B185)*(Data_Table[Weekday]<6)*(SUM(C185:N185)>=10)),0.85),2),\"-\")","v":"-"}]
[null,"14:00:00",{"$f":"'Dir1'!C186+'Dir2'!C186","v":0},{"$f":"'Dir1'!D186+'Dir2'!D186","v":0},{"$f":"'Dir1'!E186+'Dir2'!E186","v":0},{"$f":"'Dir1'!F186+'Dir2'!F186","v":0},{"$f":"'Dir1'!G186+'Dir2'!G186","v":0},{"$f":"'Dir1'!H186+'Dir2'!H186","v":0},{"$f":"'Dir1'!I186+'Dir2'!I186","v":0},{"$f":"'Dir1'!J186+'Dir2'!J186","v":0},{"$f":"'Dir1'!K186+'Dir2'!K186","v":0},{"$f":"'Dir1'!L186+'Dir2'!L186","v":0},{"$f":"'Dir1'!M186+'Dir2'!M186","v":0},{"$f":"'Dir1'!N186+'Dir2'!N186","v":0},{"$f":"'Dir1'!O186+'Dir2'!O186","v":0},{"$f":"'Dir1'!P186+'Dir2'!P186","v":0},{"$f":"'Dir1'!Q186+'Dir2'!Q186","v":0},{"$f":"'Dir1'!R186+'Dir2'!R186","v":0},{"$f":"'Dir1'!S186+'Dir2'!S186","v":0},{"$f":"'Dir1'!T186+'Dir2'!T186","v":0},{"$f":"'Dir1'!U186+'Dir2'!U186","v":0},{"$f":"'Dir1'!V186+'Dir2'!V186","v":0},{"$f":"'Dir1'!W186+'Dir2'!W186","v":0},{"$f":"'Dir1'!X186+'Dir2'!X186","v":0},{"$f":"'Dir1'!Y186+'Dir2'!Y186","v":0},{"$f":"'Dir1'!Z186+'Dir2'!Z186","v":0},{"$f":"'Dir1'!AA186+'Dir2'!AA186","v":0},{"$f":"'Dir1'!AB186+'Dir2'!AB186","v":0},{"$f":"'Dir1'!AC186+'Dir2'!AC186","v":0},{"$f":"'Dir1'!AD186+'Dir2'!AD186","v":0},{"$f":"'Dir1'!AE186+'Dir2'!AE186","v":0},{"$f":"'Dir1'!AF186+'Dir2'!AF186","v":0},{"$f":"'Dir1'!AG186+'Dir2'!AG186","v":0},{"$f":"'Dir1'!AH186+'Dir2'!AH186","v":0},{"$f":"'Dir1'!AI186+'Dir2'!AI186","v":0},{"$f":"'Dir1'!AJ186+'Dir2'!AJ186","v":0},{"$f":"'Dir1'!AK186+'Dir2'!AK186","v":0},{"$f":"IFERROR(ROUND(AVERAGE(_xlfn._xlws.FILTER(Data_Table[Speed],(Data_Table[Period]-INT(Data_Table[Period])=B186)*(Data_Table[Weekday]<6))),2),\"-\")","v":"-"},{"$f":"IFERROR(ROUND(PERCENTILE(_xlfn._xlws.FILTER(Data_Table[Speed],(Data_Table[Period]-INT(Data_Table[Period])=B186)*(Data_Table[Weekday]<6)*(SUM(C186:N186)>=10)),0.85),2),\"-\")","v":"-"}]
[null,"15:00:00",{"$f":"'Dir1'!C187+'Dir2'!C187","v":0},{"$f":"'Dir1'!D187+'Dir2'!D187","v":0},{"$f":"'Dir1'!E187+'Dir2'!E187","v":0},{"$f":"'Dir1'!F187+'Dir2'!F187","v":0},{"$f":"'Dir1'!G187+'Dir2'!G187","v":0},{"$f":"'Dir1'!H187+'Dir2'!H187","v":0},{"$f":"'Dir1'!I187+'Dir2'!I187","v":0},{"$f":"'Dir1'!J187+'Dir2'!J187","v":0},{"$f":"'Dir1'!K187+'Dir2'!K187","v":0},{"$f":"'Dir1'!L187+'Dir2'!L187","v":0},{"$f":"'Dir1'!M187+'Dir2'!M187","v":0},{"$f":"'Dir1'!N187+'Dir2'!N187","v":0},{"$f":"'Dir1'!O187+'Dir2'!O187","v":0},{"$f":"'Dir1'!P187+'Dir2'!P187","v":0},{"$f":"'Dir1'!Q187+'Dir2'!Q187","v":0},{"$f":"'Dir1'!R187+'Dir2'!R187","v":0},{"$f":"'Dir1'!S187+'Dir2'!S187","v":0},{"$f":"'Dir1'!T187+'Dir2'!T187","v":0},{"$f":"'Dir1'!U187+'Dir2'!U187","v":0},{"$f":"'Dir1'!V187+'Dir2'!V187","v":0},{"$f":"'Dir1'!W187+'Dir2'!W187","v":0},{"$f":"'Dir1'!X187+'Dir2'!X187","v":0},{"$f":"'Dir1'!Y187+'Dir2'!Y187","v":0},{"$f":"'Dir1'!Z187+'Dir2'!Z187","v":0},{"$f":"'Dir1'!AA187+'Dir2'!AA187","v":0},{"$f":"'Dir1'!AB187+'Dir2'!AB187","v":0},{"$f":"'Dir1'!AC187+'Dir2'!AC187","v":0},{"$f":"'Dir1'!AD187+'Dir2'!AD187","v":0},{"$f":"'Dir1'!AE187+'Dir2'!AE187","v":0},{"$f":"'Dir1'!AF187+'Dir2'!AF187","v":0},{"$f":"'Dir1'!AG187+'Dir2'!AG187","v":0},{"$f":"'Dir1'!AH187+'Dir2'!AH187","v":0},{"$f":"'Dir1'!AI187+'Dir2'!AI187","v":0},{"$f":"'Dir1'!AJ187+'Dir2'!AJ187","v":0},{"$f":"'Dir1'!AK187+'Dir2'!AK187","v":0},{"$f":"IFERROR(ROUND(AVERAGE(_xlfn._xlws.FILTER(Data_Table[Speed],(Data_Table[Period]-INT(Data_Table[Period])=B187)*(Data_Table[Weekday]<6))),2),\"-\")","v":"-"},{"$f":"IFERROR(ROUND(PERCENTILE(_xlfn._xlws.FILTER(Data_Table[Speed],(Data_Table[Period]-INT(Data_Table[Period])=B187)*(Data_Table[Weekday]<6)*(SUM(C187:N187)>=10)),0.85),2),\"-\")","v":"-"}]
[null,"16:00:00",{"$f":"'Dir1'!C188+'Dir2'!C188","v":0},{"$f":"'Dir1'!D188+'Dir2'!D188","v":0},{"$f":"'Dir1'!E188+'Dir2'!E188","v":0},{"$f":"'Dir1'!F188+'Dir2'!F188","v":0},{"$f":"'Dir1'!G188+'Dir2'!G188","v":0},{"$f":"'Dir1'!H188+'Dir2'!H188","v":0},{"$f":"'Dir1'!I188+'Dir2'!I188","v":0},{"$f":"'Dir1'!J188+'Dir2'!J188","v":0},{"$f":"'Dir1'!K188+'Dir2'!K188","v":0},{"$f":"'Dir1'!L188+'Dir2'!L188","v":0},{"$f":"'Dir1'!M188+'Dir2'!M188","v":0},{"$f":"'Dir1'!N188+'Dir2'!N188","v":0},{"$f":"'Dir1'!O188+'Dir2'!O188","v":0},{"$f":"'Dir1'!P188+'Dir2'!P188","v":0},{"$f":"'Dir1'!Q188+'Dir2'!Q188","v":0},{"$f":"'Dir1'!R188+'Dir2'!R188","v":0},{"$f":"'Dir1'!S188+'Dir2'!S188","v":0},{"$f":"'Dir1'!T188+'Dir2'!T188","v":0},{"$f":"'Dir1'!U188+'Dir2'!U188","v":0},{"$f":"'Dir1'!V188+'Dir2'!V188","v":0},{"$f":"'Dir1'!W188+'Dir2'!W188","v":0},{"$f":"'Dir1'!X188+'Dir2'!X188","v":0},{"$f":"'Dir1'!Y188+'Dir2'!Y188","v":0},{"$f":"'Dir1'!Z188+'Dir2'!Z188","v":0},{"$f":"'Dir1'!AA188+'Dir2'!AA188","v":0},{"$f":"'Dir1'!AB188+'Dir2'!AB188","v":0},{"$f":"'Dir1'!AC188+'Dir2'!AC188","v":0},{"$f":"'Dir1'!AD188+'Dir2'!AD188","v":0},{"$f":"'Dir1'!AE188+'Dir2'!AE188","v":0},{"$f":"'Dir1'!AF188+'Dir2'!AF188","v":0},{"$f":"'Dir1'!AG188+'Dir2'!AG188","v":0},{"$f":"'Dir1'!AH188+'Dir2'!AH188","v":0},{"$f":"'Dir1'!AI188+'Dir2'!AI188","v":0},{"$f":"'Dir1'!AJ188+'Dir2'!AJ188","v":0},{"$f":"'Dir1'!AK188+'Dir2'!AK188","v":0},{"$f":"IFERROR(ROUND(AVERAGE(_xlfn._xlws.FILTER(Data_Table[Speed],(Data_Table[Period]-INT(Data_Table[Period])=B188)*(Data_Table[Weekday]<6))),2),\"-\")","v":"-"},{"$f":"IFERROR(ROUND(PERCENTILE(_xlfn._xlws.FILTER(Data_Table[Speed],(Data_Table[Period]-INT(Data_Table[Period])=B188)*(Data_Table[Weekday]<6)*(SUM(C188:N188)>=10)),0.85),2),\"-\")","v":"-"}]
[null,"17:00:00",{"$f":"'Dir1'!C189+'Dir2'!C189","v":0},{"$f":"'Dir1'!D189+'Dir2'!D189","v":0},{"$f":"'Dir1'!E189+'Dir2'!E189","v":0},{"$f":"'Dir1'!F189+'Dir2'!F189","v":0},{"$f":"'Dir1'!G189+'Dir2'!G189","v":0},{"$f":"'Dir1'!H189+'Dir2'!H189","v":0},{"$f":"'Dir1'!I189+'Dir2'!I189","v":0},{"$f":"'Dir1'!J189+'Dir2'!J189","v":0},{"$f":"'Dir1'!K189+'Dir2'!K189","v":0},{"$f":"'Dir1'!L189+'Dir2'!L189","v":0},{"$f":"'Dir1'!M189+'Dir2'!M189","v":0},{"$f":"'Dir1'!N189+'Dir2'!N189","v":0},{"$f":"'Dir1'!O189+'Dir2'!O189","v":0},{"$f":"'Dir1'!P189+'Dir2'!P189","v":0},{"$f":"'Dir1'!Q189+'Dir2'!Q189","v":0},{"$f":"'Dir1'!R189+'Dir2'!R189","v":0},{"$f":"'Dir1'!S189+'Dir2'!S189","v":0},{"$f":"'Dir1'!T189+'Dir2'!T189","v":0},{"$f":"'Dir1'!U189+'Dir2'!U189","v":0},{"$f":"'Dir1'!V189+'Dir2'!V189","v":0},{"$f":"'Dir1'!W189+'Dir2'!W189","v":0},{"$f":"'Dir1'!X189+'Dir2'!X189","v":0},{"$f":"'Dir1'!Y189+'Dir2'!Y189","v":0},{"$f":"'Dir1'!Z189+'Dir2'!Z189","v":0},{"$f":"'Dir1'!AA189+'Dir2'!AA189","v":0},{"$f":"'Dir1'!AB189+'Dir2'!AB189","v":0},{"$f":"'Dir1'!AC189+'Dir2'!AC189","v":0},{"$f":"'Dir1'!AD189+'Dir2'!AD189","v":0},{"$f":"'Dir1'!AE189+'Dir2'!AE189","v":0},{"$f":"'Dir1'!AF189+'Dir2'!AF189","v":0},{"$f":"'Dir1'!AG189+'Dir2'!AG189","v":0},{"$f":"'Dir1'!AH189+'Dir2'!AH189","v":0},{"$f":"'Dir1'!AI189+'Dir2'!AI189","v":0},{"$f":"'Dir1'!AJ189+'Dir2'!AJ189","v":0},{"$f":"'Dir1'!AK189+'Dir2'!AK189","v":0},{"$f":"IFERROR(ROUND(AVERAGE(_xlfn._xlws.FILTER(Data_Table[Speed],(Data_Table[Period]-INT(Data_Table[Period])=B189)*(Data_Table[Weekday]<6))),2),\"-\")","v":"-"},{"$f":"IFERROR(ROUND(PERCENTILE(_xlfn._xlws.FILTER(Data_Table[Speed],(Data_Table[Period]-INT(Data_Table[Period])=B189)*(Data_Table[Weekday]<6)*(SUM(C189:N189)>=10)),0.85),2),\"-\")","v":"-"}]
[null,"18:00:00",{"$f":"'Dir1'!C190+'Dir2'!C190","v":0},{"$f":"'Dir1'!D190+'Dir2'!D190","v":0},{"$f":"'Dir1'!E190+'Dir2'!E190","v":0},{"$f":"'Dir1'!F190+'Dir2'!F190","v":0},{"$f":"'Dir1'!G190+'Dir2'!G190","v":0},{"$f":"'Dir1'!H190+'Dir2'!H190","v":0},{"$f":"'Dir1'!I190+'Dir2'!I190","v":0},{"$f":"'Dir1'!J190+'Dir2'!J190","v":0},{"$f":"'Dir1'!K190+'Dir2'!K190","v":0},{"$f":"'Dir1'!L190+'Dir2'!L190","v":0},{"$f":"'Dir1'!M190+'Dir2'!M190","v":0},{"$f":"'Dir1'!N190+'Dir2'!N190","v":0},{"$f":"'Dir1'!O190+'Dir2'!O190","v":0},{"$f":"'Dir1'!P190+'Dir2'!P190","v":0},{"$f":"'Dir1'!Q190+'Dir2'!Q190","v":0},{"$f":"'Dir1'!R190+'Dir2'!R190","v":0},{"$f":"'Dir1'!S190+'Dir2'!S190","v":0},{"$f":"'Dir1'!T190+'Dir2'!T190","v":0},{"$f":"'Dir1'!U190+'Dir2'!U190","v":0},{"$f":"'Dir1'!V190+'Dir2'!V190","v":0},{"$f":"'Dir1'!W190+'Dir2'!W190","v":0},{"$f":"'Dir1'!X190+'Dir2'!X190","v":0},{"$f":"'Dir1'!Y190+'Dir2'!Y190","v":0},{"$f":"'Dir1'!Z190+'Dir2'!Z190","v":0},{"$f":"'Dir1'!AA190+'Dir2'!AA190","v":0},{"$f":"'Dir1'!AB190+'Dir2'!AB190","v":0},{"$f":"'Dir1'!AC190+'Dir2'!AC190","v":0},{"$f":"'Dir1'!AD190+'Dir2'!AD190","v":0},{"$f":"'Dir1'!AE190+'Dir2'!AE190","v":0},{"$f":"'Dir1'!AF190+'Dir2'!AF190","v":0},{"$f":"'Dir1'!AG190+'Dir2'!AG190","v":0},{"$f":"'Dir1'!AH190+'Dir2'!AH190","v":0},{"$f":"'Dir1'!AI190+'Dir2'!AI190","v":0},{"$f":"'Dir1'!AJ190+'Dir2'!AJ190","v":0},{"$f":"'Dir1'!AK190+'Dir2'!AK190","v":0},{"$f":"IFERROR(ROUND(AVERAGE(_xlfn._xlws.FILTER(Data_Table[Speed],(Data_Table[Period]-INT(Data_Table[Period])=B190)*(Data_Table[Weekday]<6))),2),\"-\")","v":"-"},{"$f":"IFERROR(ROUND(PERCENTILE(_xlfn._xlws.FILTER(Data_Table[Speed],(Data_Table[Period]-INT(Data_Table[Period])=B190)*(Data_Table[Weekday]<6)*(SUM(C190:N190)>=10)),0.85),2),\"-\")","v":"-"}]
[null,"19:00:00",{"$f":"'Dir1'!C191+'Dir2'!C191","v":0},{"$f":"'Dir1'!D191+'Dir2'!D191","v":0},{"$f":"'Dir1'!E191+'Dir2'!E191","v":0},{"$f":"'Dir1'!F191+'Dir2'!F191","v":0},{"$f":"'Dir1'!G191+'Dir2'!G191","v":0},{"$f":"'Dir1'!H191+'Dir2'!H191","v":0},{"$f":"'Dir1'!I191+'Dir2'!I191","v":0},{"$f":"'Dir1'!J191+'Dir2'!J191","v":0},{"$f":"'Dir1'!K191+'Dir2'!K191","v":0},{"$f":"'Dir1'!L191+'Dir2'!L191","v":0},{"$f":"'Dir1'!M191+'Dir2'!M191","v":0},{"$f":"'Dir1'!N191+'Dir2'!N191","v":0},{"$f":"'Dir1'!O191+'Dir2'!O191","v":0},{"$f":"'Dir1'!P191+'Dir2'!P191","v":0},{"$f":"'Dir1'!Q191+'Dir2'!Q191","v":0},{"$f":"'Dir1'!R191+'Dir2'!R191","v":0},{"$f":"'Dir1'!S191+'Dir2'!S191","v":0},{"$f":"'Dir1'!T191+'Dir2'!T191","v":0},{"$f":"'Dir1'!U191+'Dir2'!U191","v":0},{"$f":"'Dir1'!V191+'Dir2'!V191","v":0},{"$f":"'Dir1'!W191+'Dir2'!W191","v":0},{"$f":"'Dir1'!X191+'Dir2'!X191","v":0},{"$f":"'Dir1'!Y191+'Dir2'!Y191","v":0},{"$f":"'Dir1'!Z191+'Dir2'!Z191","v":0},{"$f":"'Dir1'!AA191+'Dir2'!AA191","v":0},{"$f":"'Dir1'!AB191+'Dir2'!AB191","v":0},{"$f":"'Dir1'!AC191+'Dir2'!AC191","v":0},{"$f":"'Dir1'!AD191+'Dir2'!AD191","v":0},{"$f":"'Dir1'!AE191+'Dir2'!AE191","v":0},{"$f":"'Dir1'!AF191+'Dir2'!AF191","v":0},{"$f":"'Dir1'!AG191+'Dir2'!AG191","v":0},{"$f":"'Dir1'!AH191+'Dir2'!AH191","v":0},{"$f":"'Dir1'!AI191+'Dir2'!AI191","v":0},{"$f":"'Dir1'!AJ191+'Dir2'!AJ191","v":0},{"$f":"'Dir1'!AK191+'Dir2'!AK191","v":0},{"$f":"IFERROR(ROUND(AVERAGE(_xlfn._xlws.FILTER(Data_Table[Speed],(Data_Table[Period]-INT(Data_Table[Period])=B191)*(Data_Table[Weekday]<6))),2),\"-\")","v":"-"},{"$f":"IFERROR(ROUND(PERCENTILE(_xlfn._xlws.FILTER(Data_Table[Speed],(Data_Table[Period]-INT(Data_Table[Period])=B191)*(Data_Table[Weekday]<6)*(SUM(C191:N191)>=10)),0.85),2),\"-\")","v":"-"}]
[null,"20:00:00",{"$f":"'Dir1'!C192+'Dir2'!C192","v":0},{"$f":"'Dir1'!D192+'Dir2'!D192","v":0},{"$f":"'Dir1'!E192+'Dir2'!E192","v":0},{"$f":"'Dir1'!F192+'Dir2'!F192","v":0},{"$f":"'Dir1'!G192+'Dir2'!G192","v":0},{"$f":"'Dir1'!H192+'Dir2'!H192","v":0},{"$f":"'Dir1'!I192+'Dir2'!I192","v":0},{"$f":"'Dir1'!J192+'Dir2'!J192","v":0},{"$f":"'Dir1'!K192+'Dir2'!K192","v":0},{"$f":"'Dir1'!L192+'Dir2'!L192","v":0},{"$f":"'Dir1'!M192+'Dir2'!M192","v":0},{"$f":"'Dir1'!N192+'Dir2'!N192","v":0},{"$f":"'Dir1'!O192+'Dir2'!O192","v":0},{"$f":"'Dir1'!P192+'Dir2'!P192","v":0},{"$f":"'Dir1'!Q192+'Dir2'!Q192","v":0},{"$f":"'Dir1'!R192+'Dir2'!R192","v":0},{"$f":"'Dir1'!S192+'Dir2'!S192","v":0},{"$f":"'Dir1'!T192+'Dir2'!T192","v":0},{"$f":"'Dir1'!U192+'Dir2'!U192","v":0},{"$f":"'Dir1'!V192+'Dir2'!V192","v":0},{"$f":"'Dir1'!W192+'Dir2'!W192","v":0},{"$f":"'Dir1'!X192+'Dir2'!X192","v":0},{"$f":"'Dir1'!Y192+'Dir2'!Y192","v":0},{"$f":"'Dir1'!Z192+'Dir2'!Z192","v":0},{"$f":"'Dir1'!AA192+'Dir2'!AA192","v":0},{"$f":"'Dir1'!AB192+'Dir2'!AB192","v":0},{"$f":"'Dir1'!AC192+'Dir2'!AC192","v":0},{"$f":"'Dir1'!AD192+'Dir2'!AD192","v":0},{"$f":"'Dir1'!AE192+'Dir2'!AE192","v":0},{"$f":"'Dir1'!AF192+'Dir2'!AF192","v":0},{"$f":"'Dir1'!AG192+'Dir2'!AG192","v":0},{"$f":"'Dir1'!AH192+'Dir2'!AH192","v":0},{"$f":"'Dir1'!AI192+'Dir2'!AI192","v":0},{"$f":"'Dir1'!AJ192+'Dir2'!AJ192","v":0},{"$f":"'Dir1'!AK192+'Dir2'!AK192","v":0},{"$f":"IFERROR(ROUND(AVERAGE(_xlfn._xlws.FILTER(Data_Table[Speed],(Data_Table[Period]-INT(Data_Table[Period])=B192)*(Data_Table[Weekday]<6))),2),\"-\")","v":"-"},{"$f":"IFERROR(ROUND(PERCENTILE(_xlfn._xlws.FILTER(Data_Table[Speed],(Data_Table[Period]-INT(Data_Table[Period])=B192)*(Data_Table[Weekday]<6)*(SUM(C192:N192)>=10)),0.85),2),\"-\")","v":"-"}]
[null,"21:00:00",{"$f":"'Dir1'!C193+'Dir2'!C193","v":0},{"$f":"'Dir1'!D193+'Dir2'!D193","v":0},{"$f":"'Dir1'!E193+'Dir2'!E193","v":0},{"$f":"'Dir1'!F193+'Dir2'!F193","v":0},{"$f":"'Dir1'!G193+'Dir2'!G193","v":0},{"$f":"'Dir1'!H193+'Dir2'!H193","v":0},{"$f":"'Dir1'!I193+'Dir2'!I193","v":0},{"$f":"'Dir1'!J193+'Dir2'!J193","v":0},{"$f":"'Dir1'!K193+'Dir2'!K193","v":0},{"$f":"'Dir1'!L193+'Dir2'!L193","v":0},{"$f":"'Dir1'!M193+'Dir2'!M193","v":0},{"$f":"'Dir1'!N193+'Dir2'!N193","v":0},{"$f":"'Dir1'!O193+'Dir2'!O193","v":0},{"$f":"'Dir1'!P193+'Dir2'!P193","v":0},{"$f":"'Dir1'!Q193+'Dir2'!Q193","v":0},{"$f":"'Dir1'!R193+'Dir2'!R193","v":0},{"$f":"'Dir1'!S193+'Dir2'!S193","v":0},{"$f":"'Dir1'!T193+'Dir2'!T193","v":0},{"$f":"'Dir1'!U193+'Dir2'!U193","v":0},{"$f":"'Dir1'!V193+'Dir2'!V193","v":0},{"$f":"'Dir1'!W193+'Dir2'!W193","v":0},{"$f":"'Dir1'!X193+'Dir2'!X193","v":0},{"$f":"'Dir1'!Y193+'Dir2'!Y193","v":0},{"$f":"'Dir1'!Z193+'Dir2'!Z193","v":0},{"$f":"'Dir1'!AA193+'Dir2'!AA193","v":0},{"$f":"'Dir1'!AB193+'Dir2'!AB193","v":0},{"$f":"'Dir1'!AC193+'Dir2'!AC193","v":0},{"$f":"'Dir1'!AD193+'Dir2'!AD193","v":0},{"$f":"'Dir1'!AE193+'Dir2'!AE193","v":0},{"$f":"'Dir1'!AF193+'Dir2'!AF193","v":0},{"$f":"'Dir1'!AG193+'Dir2'!AG193","v":0},{"$f":"'Dir1'!AH193+'Dir2'!AH193","v":0},{"$f":"'Dir1'!AI193+'Dir2'!AI193","v":0},{"$f":"'Dir1'!AJ193+'Dir2'!AJ193","v":0},{"$f":"'Dir1'!AK193+'Dir2'!AK193","v":0},{"$f":"IFERROR(ROUND(AVERAGE(_xlfn._xlws.FILTER(Data_Table[Speed],(Data_Table[Period]-INT(Data_Table[Period])=B193)*(Data_Table[Weekday]<6))),2),\"-\")","v":"-"},{"$f":"IFERROR(ROUND(PERCENTILE(_xlfn._xlws.FILTER(Data_Table[Speed],(Data_Table[Period]-INT(Data_Table[Period])=B193)*(Data_Table[Weekday]<6)*(SUM(C193:N193)>=10)),0.85),2),\"-\")","v":"-"}]
[null,"22:00:00",{"$f":"'Dir1'!C194+'Dir2'!C194","v":0},{"$f":"'Dir1'!D194+'Dir2'!D194","v":0},{"$f":"'Dir1'!E194+'Dir2'!E194","v":0},{"$f":"'Dir1'!F194+'Dir2'!F194","v":0},{"$f":"'Dir1'!G194+'Dir2'!G194","v":0},{"$f":"'Dir1'!H194+'Dir2'!H194","v":0},{"$f":"'Dir1'!I194+'Dir2'!I194","v":0},{"$f":"'Dir1'!J194+'Dir2'!J194","v":0},{"$f":"'Dir1'!K194+'Dir2'!K194","v":0},{"$f":"'Dir1'!L194+'Dir2'!L194","v":0},{"$f":"'Dir1'!M194+'Dir2'!M194","v":0},{"$f":"'Dir1'!N194+'Dir2'!N194","v":0},{"$f":"'Dir1'!O194+'Dir2'!O194","v":0},{"$f":"'Dir1'!P194+'Dir2'!P194","v":0},{"$f":"'Dir1'!Q194+'Dir2'!Q194","v":0},{"$f":"'Dir1'!R194+'Dir2'!R194","v":0},{"$f":"'Dir1'!S194+'Dir2'!S194","v":0},{"$f":"'Dir1'!T194+'Dir2'!T194","v":0},{"$f":"'Dir1'!U194+'Dir2'!U194","v":0},{"$f":"'Dir1'!V194+'Dir2'!V194","v":0},{"$f":"'Dir1'!W194+'Dir2'!W194","v":0},{"$f":"'Dir1'!X194+'Dir2'!X194","v":0},{"$f":"'Dir1'!Y194+'Dir2'!Y194","v":0},{"$f":"'Dir1'!Z194+'Dir2'!Z194","v":0},{"$f":"'Dir1'!AA194+'Dir2'!AA194","v":0},{"$f":"'Dir1'!AB194+'Dir2'!AB194","v":0},{"$f":"'Dir1'!AC194+'Dir2'!AC194","v":0},{"$f":"'Dir1'!AD194+'Dir2'!AD194","v":0},{"$f":"'Dir1'!AE194+'Dir2'!AE194","v":0},{"$f":"'Dir1'!AF194+'Dir2'!AF194","v":0},{"$f":"'Dir1'!AG194+'Dir2'!AG194","v":0},{"$f":"'Dir1'!AH194+'Dir2'!AH194","v":0},{"$f":"'Dir1'!AI194+'Dir2'!AI194","v":0},{"$f":"'Dir1'!AJ194+'Dir2'!AJ194","v":0},{"$f":"'Dir1'!AK194+'Dir2'!AK194","v":0},{"$f":"IFERROR(ROUND(AVERAGE(_xlfn._xlws.FILTER(Data_Table[Speed],(Data_Table[Period]-INT(Data_Table[Period])=B194)*(Data_Table[Weekday]<6))),2),\"-\")","v":"-"},{"$f":"IFERROR(ROUND(PERCENTILE(_xlfn._xlws.FILTER(Data_Table[Speed],(Data_Table[Period]-INT(Data_Table[Period])=B194)*(Data_Table[Weekday]<6)*(SUM(C194:N194)>=10)),0.85),2),\"-\")","v":"-"}]
[null,"23:00:00",{"$f":"'Dir1'!C195+'Dir2'!C195","v":0},{"$f":"'Dir1'!D195+'Dir2'!D195","v":0},{"$f":"'Dir1'!E195+'Dir2'!E195","v":0},{"$f":"'Dir1'!F195+'Dir2'!F195","v":0},{"$f":"'Dir1'!G195+'Dir2'!G195","v":0},{"$f":"'Dir1'!H195+'Dir2'!H195","v":0},{"$f":"'Dir1'!I195+'Dir2'!I195","v":0},{"$f":"'Dir1'!J195+'Dir2'!J195","v":0},{"$f":"'Dir1'!K195+'Dir2'!K195","v":0},{"$f":"'Dir1'!L195+'Dir2'!L195","v":0},{"$f":"'Dir1'!M195+'Dir2'!M195","v":0},{"$f":"'Dir1'!N195+'Dir2'!N195","v":0},{"$f":"'Dir1'!O195+'Dir2'!O195","v":0},{"$f":"'Dir1'!P195+'Dir2'!P195","v":0},{"$f":"'Dir1'!Q195+'Dir2'!Q195","v":0},{"$f":"'Dir1'!R195+'Dir2'!R195","v":0},{"$f":"'Dir1'!S195+'Dir2'!S195","v":0},{"$f":"'Dir1'!T195+'Dir2'!T195","v":0},{"$f":"'Dir1'!U195+'Dir2'!U195","v":0},{"$f":"'Dir1'!V195+'Dir2'!V195","v":0},{"$f":"'Dir1'!W195+'Dir2'!W195","v":0},{"$f":"'Dir1'!X195+'Dir2'!X195","v":0},{"$f":"'Dir1'!Y195+'Dir2'!Y195","v":0},{"$f":"'Dir1'!Z195+'Dir2'!Z195","v":0},{"$f":"'Dir1'!AA195+'Dir2'!AA195","v":0},{"$f":"'Dir1'!AB195+'Dir2'!AB195","v":0},{"$f":"'Dir1'!AC195+'Dir2'!AC195","v":0},{"$f":"'Dir1'!AD195+'Dir2'!AD195","v":0},{"$f":"'Dir1'!AE195+'Dir2'!AE195","v":0},{"$f":"'Dir1'!AF195+'Dir2'!AF195","v":0},{"$f":"'Dir1'!AG195+'Dir2'!AG195","v":0},{"$f":"'Dir1'!AH195+'Dir2'!AH195","v":0},{"$f":"'Dir1'!AI195+'Dir2'!AI195","v":0},{"$f":"'Dir1'!AJ195+'Dir2'!AJ195","v":0},{"$f":"'Dir1'!AK195+'Dir2'!AK195","v":0},{"$f":"IFERROR(ROUND(AVERAGE(_xlfn._xlws.FILTER(Data_Table[Speed],(Data_Table[Period]-INT(Data_Table[Period])=B195)*(Data_Table[Weekday]<6))),2),\"-\")","v":"-"},{"$f":"IFERROR(ROUND(PERCENTILE(_xlfn._xlws.FILTER(Data_Table[Speed],(Data_Table[Period]-INT(Data_Table[Period])=B195)*(Data_Table[Weekday]<6)*(SUM(C195:N195)>=10)),0.85),2),\"-\")","v":"-"}]
[null,"00:00:00",{"$f":"'Dir1'!C196+'Dir2'!C196","v":0},{"$f":"'Dir1'!D196+'Dir2'!D196","v":0},{"$f":"'Dir1'!E196+'Dir2'!E196","v":0},{"$f":"'Dir1'!F196+'Dir2'!F196","v":0},{"$f":"'Dir1'!G196+'Dir2'!G196","v":0},{"$f":"'Dir1'!H196+'Dir2'!H196","v":0},{"$f":"'Dir1'!I196+'Dir2'!I196","v":0},{"$f":"'Dir1'!J196+'Dir2'!J196","v":0},{"$f":"'Dir1'!K196+'Dir2'!K196","v":0},{"$f":"'Dir1'!L196+'Dir2'!L196","v":0},{"$f":"'Dir1'!M196+'Dir2'!M196","v":0},{"$f":"'Dir1'!N196+'Dir2'!N196","v":0},{"$f":"'Dir1'!O196+'Dir2'!O196","v":0},{"$f":"'Dir1'!P196+'Dir2'!P196","v":0},{"$f":"'Dir1'!Q196+'Dir2'!Q196","v":0},{"$f":"'Dir1'!R196+'Dir2'!R196","v":0},{"$f":"'Dir1'!S196+'Dir2'!S196","v":0},{"$f":"'Dir1'!T196+'Dir2'!T196","v":0},{"$f":"'Dir1'!U196+'Dir2'!U196","v":0},{"$f":"'Dir1'!V196+'Dir2'!V196","v":0},{"$f":"'Dir1'!W196+'Dir2'!W196","v":0},{"$f":"'Dir1'!X196+'Dir2'!X196","v":0},{"$f":"'Dir1'!Y196+'Dir2'!Y196","v":0},{"$f":"'Dir1'!Z196+'Dir2'!Z196","v":0},{"$f":"'Dir1'!AA196+'Dir2'!AA196","v":0},{"$f":"'Dir1'!AB196+'Dir2'!AB196","v":0},{"$f":"'Dir1'!AC196+'Dir2'!AC196","v":0},{"$f":"'Dir1'!AD196+'Dir2'!AD196","v":0},{"$f":"'Dir1'!AE196+'Dir2'!AE196","v":0},{"$f":"'Dir1'!AF196+'Dir2'!AF196","v":0},{"$f":"'Dir1'!AG196+'Dir2'!AG196","v":0},{"$f":"'Dir1'!AH196+'Dir2'!AH196","v":0},{"$f":"'Dir1'!AI196+'Dir2'!AI196","v":0},{"$f":"'Dir1'!AJ196+'Dir2'!AJ196","v":0},{"$f":"'Dir1'!AK196+'Dir2'!AK196","v":0},{"$f":"IFERROR(ROUND(AVERAGE(_xlfn._xlws.FILTER(Data_Table[Speed],(Data_Table[Period]-INT(Data_Table[Period])=B196))),2),\"-\")","v":"-"},{"$f":"IFERROR(ROUND(PERCENTILE(_xlfn._xlws.FILTER(Data_Table[Speed],(Data_Table[Period]-INT(Data_Table[Period])=B196)*(SUM(C196:N196)>=10)),0.85),2),\"-\")","v":"-"}]
[null,"01:00:00",{"$f":"'Dir1'!C197+'Dir2'!C197","v":0},{"$f":"'Dir1'!D197+'Dir2'!D197","v":0},{"$f":"'Dir1'!E197+'Dir2'!E197","v":0},{"$f":"'Dir1'!F197+'Dir2'!F197","v":0},{"$f":"'Dir1'!G197+'Dir2'!G197","v":0},{"$f":"'Dir1'!H197+'Dir2'!H197","v":0},{"$f":"'Dir1'!I197+'Dir2'!I197","v":0},{"$f":"'Dir1'!J197+'Dir2'!J197","v":0},{"$f":"'Dir1'!K197+'Dir2'!K197","v":0},{"$f":"'Dir1'!L197+'Dir2'!L197","v":0},{"$f":"'Dir1'!M197+'Dir2'!M197","v":0},{"$f":"'Dir1'!N197+'Dir2'!N197","v":0},{"$f":"'Dir1'!O197+'Dir2'!O197","v":0},{"$f":"'Dir1'!P197+'Dir2'!P197","v":0},{"$f":"'Dir1'!Q197+'Dir2'!Q197","v":0},{"$f":"'Dir1'!R197+'Dir2'!R197","v":0},{"$f":"'Dir1'!S197+'Dir2'!S197","v":0},{"$f":"'Dir1'!T197+'Dir2'!T197","v":0},{"$f":"'Dir1'!U197+'Dir2'!U197","v":0},{"$f":"'Dir1'!V197+'Dir2'!V197","v":0},{"$f":"'Dir1'!W197+'Dir2'!W197","v":0},{"$f":"'Dir1'!X197+'Dir2'!X197","v":0},{"$f":"'Dir1'!Y197+'Dir2'!Y197","v":0},{"$f":"'Dir1'!Z197+'Dir2'!Z197","v":0},{"$f":"'Dir1'!AA197+'Dir2'!AA197","v":0},{"$f":"'Dir1'!AB197+'Dir2'!AB197","v":0},{"$f":"'Dir1'!AC197+'Dir2'!AC197","v":0},{"$f":"'Dir1'!AD197+'Dir2'!AD197","v":0},{"$f":"'Dir1'!AE197+'Dir2'!AE197","v":0},{"$f":"'Dir1'!AF197+'Dir2'!AF197","v":0},{"$f":"'Dir1'!AG197+'Dir2'!AG197","v":0},{"$f":"'Dir1'!AH197+'Dir2'!AH197","v":0},{"$f":"'Dir1'!AI197+'Dir2'!AI197","v":0},{"$f":"'Dir1'!AJ197+'Dir2'!AJ197","v":0},{"$f":"'Dir1'!AK197+'Dir2'!AK197","v":0},{"$f":"IFERROR(ROUND(AVERAGE(_xlfn._xlws.FILTER(Data_Table[Speed],(Data_Table[Period]-INT(Data_Table[Period])=B197))),2),\"-\")","v":"-"},{"$f":"IFERROR(ROUND(PERCENTILE(_xlfn._xlws.FILTER(Data_Table[Speed],(Data_Table[Period]-INT(Data_Table[Period])=B197)*(SUM(C197:N197)>=10)),0.85),2),\"-\")","v":"-"}]
[null,"02:00:00",{"$f":"'Dir1'!C198+'Dir2'!C198","v":0},{"$f":"'Dir1'!D198+'Dir2'!D198","v":0},{"$f":"'Dir1'!E198+'Dir2'!E198","v":0},{"$f":"'Dir1'!F198+'Dir2'!F198","v":0},{"$f":"'Dir1'!G198+'Dir2'!G198","v":0},{"$f":"'Dir1'!H198+'Dir2'!H198","v":0},{"$f":"'Dir1'!I198+'Dir2'!I198","v":0},{"$f":"'Dir1'!J198+'Dir2'!J198","v":0},{"$f":"'Dir1'!K198+'Dir2'!K198","v":0},{"$f":"'Dir1'!L198+'Dir2'!L198","v":0},{"$f":"'Dir1'!M198+'Dir2'!M198","v":0},{"$f":"'Dir1'!N198+'Dir2'!N198","v":0},{"$f":"'Dir1'!O198+'Dir2'!O198","v":0},{"$f":"'Dir1'!P198+'Dir2'!P198","v":0},{"$f":"'Dir1'!Q198+'Dir2'!Q198","v":0},{"$f":"'Dir1'!R198+'Dir2'!R198","v":0},{"$f":"'Dir1'!S198+'Dir2'!S198","v":0},{"$f":"'Dir1'!T198+'Dir2'!T198","v":0},{"$f":"'Dir1'!U198+'Dir2'!U198","v":0},{"$f":"'Dir1'!V198+'Dir2'!V198","v":0},{"$f":"'Dir1'!W198+'Dir2'!W198","v":0},{"$f":"'Dir1'!X198+'Dir2'!X198","v":0},{"$f":"'Dir1'!Y198+'Dir2'!Y198","v":0},{"$f":"'Dir1'!Z198+'Dir2'!Z198","v":0},{"$f":"'Dir1'!AA198+'Dir2'!AA198","v":0},{"$f":"'Dir1'!AB198+'Dir2'!AB198","v":0},{"$f":"'Dir1'!AC198+'Dir2'!AC198","v":0},{"$f":"'Dir1'!AD198+'Dir2'!AD198","v":0},{"$f":"'Dir1'!AE198+'Dir2'!AE198","v":0},{"$f":"'Dir1'!AF198+'Dir2'!AF198","v":0},{"$f":"'Dir1'!AG198+'Dir2'!AG198","v":0},{"$f":"'Dir1'!AH198+'Dir2'!AH198","v":0},{"$f":"'Dir1'!AI198+'Dir2'!AI198","v":0},{"$f":"'Dir1'!AJ198+'Dir2'!AJ198","v":0},{"$f":"'Dir1'!AK198+'Dir2'!AK198","v":0},{"$f":"IFERROR(ROUND(AVERAGE(_xlfn._xlws.FILTER(Data_Table[Speed],(Data_Table[Period]-INT(Data_Table[Period])=B198))),2),\"-\")","v":"-"},{"$f":"IFERROR(ROUND(PERCENTILE(_xlfn._xlws.FILTER(Data_Table[Speed],(Data_Table[Period]-INT(Data_Table[Period])=B198)*(SUM(C198:N198)>=10)),0.85),2),\"-\")","v":"-"}]
[null,"03:00:00",{"$f":"'Dir1'!C199+'Dir2'!C199","v":0},{"$f":"'Dir1'!D199+'Dir2'!D199","v":0},{"$f":"'Dir1'!E199+'Dir2'!E199","v":0},{"$f":"'Dir1'!F199+'Dir2'!F199","v":0},{"$f":"'Dir1'!G199+'Dir2'!G199","v":0},{"$f":"'Dir1'!H199+'Dir2'!H199","v":0},{"$f":"'Dir1'!I199+'Dir2'!I199","v":0},{"$f":"'Dir1'!J199+'Dir2'!J199","v":0},{"$f":"'Dir1'!K199+'Dir2'!K199","v":0},{"$f":"'Dir1'!L199+'Dir2'!L199","v":0},{"$f":"'Dir1'!M199+'Dir2'!M199","v":0},{"$f":"'Dir1'!N199+'Dir2'!N199","v":0},{"$f":"'Dir1'!O199+'Dir2'!O199","v":0},{"$f":"'Dir1'!P199+'Dir2'!P199","v":0},{"$f":"'Dir1'!Q199+'Dir2'!Q199","v":0},{"$f":"'Dir1'!R199+'Dir2'!R199","v":0},{"$f":"'Dir1'!S199+'Dir2'!S199","v":0},{"$f":"'Dir1'!T199+'Dir2'!T199","v":0},{"$f":"'Dir1'!U199+'Dir2'!U199","v":0},{"$f":"'Dir1'!V199+'Dir2'!V199","v":0},{"$f":"'Dir1'!W199+'Dir2'!W199","v":0},{"$f":"'Dir1'!X199+'Dir2'!X199","v":0},{"$f":"'Dir1'!Y199+'Dir2'!Y199","v":0},{"$f":"'Dir1'!Z199+'Dir2'!Z199","v":0},{"$f":"'Dir1'!AA199+'Dir2'!AA199","v":0},{"$f":"'Dir1'!AB199+'Dir2'!AB199","v":0},{"$f":"'Dir1'!AC199+'Dir2'!AC199","v":0},{"$f":"'Dir1'!AD199+'Dir2'!AD199","v":0},{"$f":"'Dir1'!AE199+'Dir2'!AE199","v":0},{"$f":"'Dir1'!AF199+'Dir2'!AF199","v":0},{"$f":"'Dir1'!AG199+'Dir2'!AG199","v":0},{"$f":"'Dir1'!AH199+'Dir2'!AH199","v":0},{"$f":"'Dir1'!AI199+'Dir2'!AI199","v":0},{"$f":"'Dir1'!AJ199+'Dir2'!AJ199","v":0},{"$f":"'Dir1'!AK199+'Dir2'!AK199","v":0},{"$f":"IFERROR(ROUND(AVERAGE(_xlfn._xlws.FILTER(Data_Table[Speed],(Data_Table[Period]-INT(Data_Table[Period])=B199))),2),\"-\")","v":"-"},{"$f":"IFERROR(ROUND(PERCENTILE(_xlfn._xlws.FILTER(Data_Table[Speed],(Data_Table[Period]-INT(Data_Table[Period])=B199)*(SUM(C199:N199)>=10)),0.85),2),\"-\")","v":"-"}]
[null,"04:00:00",{"$f":"'Dir1'!C200+'Dir2'!C200","v":0},{"$f":"'Dir1'!D200+'Dir2'!D200","v":0},{"$f":"'Dir1'!E200+'Dir2'!E200","v":0},{"$f":"'Dir1'!F200+'Dir2'!F200","v":0},{"$f":"'Dir1'!G200+'Dir2'!G200","v":0},{"$f":"'Dir1'!H200+'Dir2'!H200","v":0},{"$f":"'Dir1'!I200+'Dir2'!I200","v":0},{"$f":"'Dir1'!J200+'Dir2'!J200","v":0},{"$f":"'Dir1'!K200+'Dir2'!K200","v":0},{"$f":"'Dir1'!L200+'Dir2'!L200","v":0},{"$f":"'Dir1'!M200+'Dir2'!M200","v":0},{"$f":"'Dir1'!N200+'Dir2'!N200","v":0},{"$f":"'Dir1'!O200+'Dir2'!O200","v":0},{"$f":"'Dir1'!P200+'Dir2'!P200","v":0},{"$f":"'Dir1'!Q200+'Dir2'!Q200","v":0},{"$f":"'Dir1'!R200+'Dir2'!R200","v":0},{"$f":"'Dir1'!S200+'Dir2'!S200","v":0},{"$f":"'Dir1'!T200+'Dir2'!T200","v":0},{"$f":"'Dir1'!U200+'Dir2'!U200","v":0},{"$f":"'Dir1'!V200+'Dir2'!V200","v":0},{"$f":"'Dir1'!W200+'Dir2'!W200","v":0},{"$f":"'Dir1'!X200+'Dir2'!X200","v":0},{"$f":"'Dir1'!Y200+'Dir2'!Y200","v":0},{"$f":"'Dir1'!Z200+'Dir2'!Z200","v":0},{"$f":"'Dir1'!AA200+'Dir2'!AA200","v":0},{"$f":"'Dir1'!AB200+'Dir2'!AB200","v":0},{"$f":"'Dir1'!AC200+'Dir2'!AC200","v":0},{"$f":"'Dir1'!AD200+'Dir2'!AD200","v":0},{"$f":"'Dir1'!AE200+'Dir2'!AE200","v":0},{"$f":"'Dir1'!AF200+'Dir2'!AF200","v":0},{"$f":"'Dir1'!AG200+'Dir2'!AG200","v":0},{"$f":"'Dir1'!AH200+'Dir2'!AH200","v":0},{"$f":"'Dir1'!AI200+'Dir2'!AI200","v":0},{"$f":"'Dir1'!AJ200+'Dir2'!AJ200","v":0},{"$f":"'Dir1'!AK200+'Dir2'!AK200","v":0},{"$f":"IFERROR(ROUND(AVERAGE(_xlfn._xlws.FILTER(Data_Table[Speed],(Data_Table[Period]-INT(Data_Table[Period])=B200))),2),\"-\")","v":"-"},{"$f":"IFERROR(ROUND(PERCENTILE(_xlfn._xlws.FILTER(Data_Table[Speed],(Data_Table[Period]-INT(Data_Table[Period])=B200)*(SUM(C200:N200)>=10)),0.85),2),\"-\")","v":"-"}]
[null,"05:00:00",{"$f":"'Dir1'!C201+'Dir2'!C201","v":0},{"$f":"'Dir1'!D201+'Dir2'!D201","v":0},{"$f":"'Dir1'!E201+'Dir2'!E201","v":0},{"$f":"'Dir1'!F201+'Dir2'!F201","v":0},{"$f":"'Dir1'!G201+'Dir2'!G201","v":0},{"$f":"'Dir1'!H201+'Dir2'!H201","v":0},{"$f":"'Dir1'!I201+'Dir2'!I201","v":0},{"$f":"'Dir1'!J201+'Dir2'!J201","v":0},{"$f":"'Dir1'!K201+'Dir2'!K201","v":0},{"$f":"'Dir1'!L201+'Dir2'!L201","v":0},{"$f":"'Dir1'!M201+'Dir2'!M201","v":0},{"$f":"'Dir1'!N201+'Dir2'!N201","v":0},{"$f":"'Dir1'!O201+'Dir2'!O201","v":0},{"$f":"'Dir1'!P201+'Dir2'!P201","v":0},{"$f":"'Dir1'!Q201+'Dir2'!Q201","v":0},{"$f":"'Dir1'!R201+'Dir2'!R201","v":0},{"$f":"'Dir1'!S201+'Dir2'!S201","v":0},{"$f":"'Dir1'!T201+'Dir2'!T201","v":0},{"$f":"'Dir1'!U201+'Dir2'!U201","v":0},{"$f":"'Dir1'!V201+'Dir2'!V201","v":0},{"$f":"'Dir1'!W201+'Dir2'!W201","v":0},{"$f":"'Dir1'!X201+'Dir2'!X201","v":0},{"$f":"'Dir1'!Y201+'Dir2'!Y201","v":0},{"$f":"'Dir1'!Z201+'Dir2'!Z201","v":0},{"$f":"'Dir1'!AA201+'Dir2'!AA201","v":0},{"$f":"'Dir1'!AB201+'Dir2'!AB201","v":0},{"$f":"'Dir1'!AC201+'Dir2'!AC201","v":0},{"$f":"'Dir1'!AD201+'Dir2'!AD201","v":0},{"$f":"'Dir1'!AE201+'Dir2'!AE201","v":0},{"$f":"'Dir1'!AF201+'Dir2'!AF201","v":0},{"$f":"'Dir1'!AG201+'Dir2'!AG201","v":0},{"$f":"'Dir1'!AH201+'Dir2'!AH201","v":0},{"$f":"'Dir1'!AI201+'Dir2'!AI201","v":0},{"$f":"'Dir1'!AJ201+'Dir2'!AJ201","v":0},{"$f":"'Dir1'!AK201+'Dir2'!AK201","v":0},{"$f":"IFERROR(ROUND(AVERAGE(_xlfn._xlws.FILTER(Data_Table[Speed],(Data_Table[Period]-INT(Data_Table[Period])=B201))),2),\"-\")","v":"-"},{"$f":"IFERROR(ROUND(PERCENTILE(_xlfn._xlws.FILTER(Data_Table[Speed],(Data_Table[Period]-INT(Data_Table[Period])=B201)*(SUM(C201:N201)>=10)),0.85),2),\"-\")","v":"-"}]
[null,"06:00:00",{"$f":"'Dir1'!C202+'Dir2'!C202","v":0},{"$f":"'Dir1'!D202+'Dir2'!D202","v":0},{"$f":"'Dir1'!E202+'Dir2'!E202","v":0},{"$f":"'Dir1'!F202+'Dir2'!F202","v":0},{"$f":"'Dir1'!G202+'Dir2'!G202","v":0},{"$f":"'Dir1'!H202+'Dir2'!H202","v":0},{"$f":"'Dir1'!I202+'Dir2'!I202","v":0},{"$f":"'Dir1'!J202+'Dir2'!J202","v":0},{"$f":"'Dir1'!K202+'Dir2'!K202","v":0},{"$f":"'Dir1'!L202+'Dir2'!L202","v":0},{"$f":"'Dir1'!M202+'Dir2'!M202","v":0},{"$f":"'Dir1'!N202+'Dir2'!N202","v":0},{"$f":"'Dir1'!O202+'Dir2'!O202","v":0},{"$f":"'Dir1'!P202+'Dir2'!P202","v":0},{"$f":"'Dir1'!Q202+'Dir2'!Q202","v":0},{"$f":"'Dir1'!R202+'Dir2'!R202","v":0},{"$f":"'Dir1'!S202+'Dir2'!S202","v":0},{"$f":"'Dir1'!T202+'Dir2'!T202","v":0},{"$f":"'Dir1'!U202+'Dir2'!U202","v":0},{"$f":"'Dir1'!V202+'Dir2'!V202","v":0},{"$f":"'Dir1'!W202+'Dir2'!W202","v":0},{"$f":"'Dir1'!X202+'Dir2'!X202","v":0},{"$f":"'Dir1'!Y202+'Dir2'!Y202","v":0},{"$f":"'Dir1'!Z202+'Dir2'!Z202","v":0},{"$f":"'Dir1'!AA202+'Dir2'!AA202","v":0},{"$f":"'Dir1'!AB202+'Dir2'!AB202","v":0},{"$f":"'Dir1'!AC202+'Dir2'!AC202","v":0},{"$f":"'Dir1'!AD202+'Dir2'!AD202","v":0},{"$f":"'Dir1'!AE202+'Dir2'!AE202","v":0},{"$f":"'Dir1'!AF202+'Dir2'!AF202","v":0},{"$f":"'Dir1'!AG202+'Dir2'!AG202","v":0},{"$f":"'Dir1'!AH202+'Dir2'!AH202","v":0},{"$f":"'Dir1'!AI202+'Dir2'!AI202","v":0},{"$f":"'Dir1'!AJ202+'Dir2'!AJ202","v":0},{"$f":"'Dir1'!AK202+'Dir2'!AK202","v":0},{"$f":"IFERROR(ROUND(AVERAGE(_xlfn._xlws.FILTER(Data_Table[Speed],(Data_Table[Period]-INT(Data_Table[Period])=B202))),2),\"-\")","v":"-"},{"$f":"IFERROR(ROUND(PERCENTILE(_xlfn._xlws.FILTER(Data_Table[Speed],(Data_Table[Period]-INT(Data_Table[Period])=B202)*(SUM(C202:N202)>=10)),0.85),2),\"-\")","v":"-"}]
[null,"07:00:00",{"$f":"'Dir1'!C203+'Dir2'!C203","v":0},{"$f":"'Dir1'!D203+'Dir2'!D203","v":0},{"$f":"'Dir1'!E203+'Dir2'!E203","v":0},{"$f":"'Dir1'!F203+'Dir2'!F203","v":0},{"$f":"'Dir1'!G203+'Dir2'!G203","v":0},{"$f":"'Dir1'!H203+'Dir2'!H203","v":0},{"$f":"'Dir1'!I203+'Dir2'!I203","v":0},{"$f":"'Dir1'!J203+'Dir2'!J203","v":0},{"$f":"'Dir1'!K203+'Dir2'!K203","v":0},{"$f":"'Dir1'!L203+'Dir2'!L203","v":0},{"$f":"'Dir1'!M203+'Dir2'!M203","v":0},{"$f":"'Dir1'!N203+'Dir2'!N203","v":0},{"$f":"'Dir1'!O203+'Dir2'!O203","v":0},{"$f":"'Dir1'!P203+'Dir2'!P203","v":0},{"$f":"'Dir1'!Q203+'Dir2'!Q203","v":0},{"$f":"'Dir1'!R203+'Dir2'!R203","v":0},{"$f":"'Dir1'!S203+'Dir2'!S203","v":0},{"$f":"'Dir1'!T203+'Dir2'!T203","v":0},{"$f":"'Dir1'!U203+'Dir2'!U203","v":0},{"$f":"'Dir1'!V203+'Dir2'!V203","v":0},{"$f":"'Dir1'!W203+'Dir2'!W203","v":0},{"$f":"'Dir1'!X203+'Dir2'!X203","v":0},{"$f":"'Dir1'!Y203+'Dir2'!Y203","v":0},{"$f":"'Dir1'!Z203+'Dir2'!Z203","v":0},{"$f":"'Dir1'!AA203+'Dir2'!AA203","v":0},{"$f":"'Dir1'!AB203+'Dir2'!AB203","v":0},{"$f":"'Dir1'!AC203+'Dir2'!AC203","v":0},{"$f":"'Dir1'!AD203+'Dir2'!AD203","v":0},{"$f":"'Dir1'!AE203+'Dir2'!AE203","v":0},{"$f":"'Dir1'!AF203+'Dir2'!AF203","v":0},{"$f":"'Dir1'!AG203+'Dir2'!AG203","v":0},{"$f":"'Dir1'!AH203+'Dir2'!AH203","v":0},{"$f":"'Dir1'!AI203+'Dir2'!AI203","v":0},{"$f":"'Dir1'!AJ203+'Dir2'!AJ203","v":0},{"$f":"'Dir1'!AK203+'Dir2'!AK203","v":0},{"$f":"IFERROR(ROUND(AVERAGE(_xlfn._xlws.FILTER(Data_Table[Speed],(Data_Table[Period]-INT(Data_Table[Period])=B203))),2),\"-\")","v":"-"},{"$f":"IFERROR(ROUND(PERCENTILE(_xlfn._xlws.FILTER(Data_Table[Speed],(Data_Table[Period]-INT(Data_Table[Period])=B203)*(SUM(C203:N203)>=10)),0.85),2),\"-\")","v":"-"}]
[null,"08:00:00",{"$f":"'Dir1'!C204+'Dir2'!C204","v":0},{"$f":"'Dir1'!D204+'Dir2'!D204","v":0},{"$f":"'Dir1'!E204+'Dir2'!E204","v":0},{"$f":"'Dir1'!F204+'Dir2'!F204","v":0},{"$f":"'Dir1'!G204+'Dir2'!G204","v":0},{"$f":"'Dir1'!H204+'Dir2'!H204","v":0},{"$f":"'Dir1'!I204+'Dir2'!I204","v":0},{"$f":"'Dir1'!J204+'Dir2'!J204","v":0},{"$f":"'Dir1'!K204+'Dir2'!K204","v":0},{"$f":"'Dir1'!L204+'Dir2'!L204","v":0},{"$f":"'Dir1'!M204+'Dir2'!M204","v":0},{"$f":"'Dir1'!N204+'Dir2'!N204","v":0},{"$f":"'Dir1'!O204+'Dir2'!O204","v":0},{"$f":"'Dir1'!P204+'Dir2'!P204","v":0},{"$f":"'Dir1'!Q204+'Dir2'!Q204","v":0},{"$f":"'Dir1'!R204+'Dir2'!R204","v":0},{"$f":"'Dir1'!S204+'Dir2'!S204","v":0},{"$f":"'Dir1'!T204+'Dir2'!T204","v":0},{"$f":"'Dir1'!U204+'Dir2'!U204","v":0},{"$f":"'Dir1'!V204+'Dir2'!V204","v":0},{"$f":"'Dir1'!W204+'Dir2'!W204","v":0},{"$f":"'Dir1'!X204+'Dir2'!X204","v":0},{"$f":"'Dir1'!Y204+'Dir2'!Y204","v":0},{"$f":"'Dir1'!Z204+'Dir2'!Z204","v":0},{"$f":"'Dir1'!AA204+'Dir2'!AA204","v":0},{"$f":"'Dir1'!AB204+'Dir2'!AB204","v":0},{"$f":"'Dir1'!AC204+'Dir2'!AC204","v":0},{"$f":"'Dir1'!AD204+'Dir2'!AD204","v":0},{"$f":"'Dir1'!AE204+'Dir2'!AE204","v":0},{"$f":"'Dir1'!AF204+'Dir2'!AF204","v":0},{"$f":"'Dir1'!AG204+'Dir2'!AG204","v":0},{"$f":"'Dir1'!AH204+'Dir2'!AH204","v":0},{"$f":"'Dir1'!AI204+'Dir2'!AI204","v":0},{"$f":"'Dir1'!AJ204+'Dir2'!AJ204","v":0},{"$f":"'Dir1'!AK204+'Dir2'!AK204","v":0},{"$f":"IFERROR(ROUND(AVERAGE(_xlfn._xlws.FILTER(Data_Table[Speed],(Data_Table[Period]-INT(Data_Table[Period])=B204))),2),\"-\")","v":"-"},{"$f":"IFERROR(ROUND(PERCENTILE(_xlfn._xlws.FILTER(Data_Table[Speed],(Data_Table[Period]-INT(Data_Table[Period])=B204)*(SUM(C204:N204)>=10)),0.85),2),\"-\")","v":"-"}]
[null,"09:00:00",{"$f":"'Dir1'!C205+'Dir2'!C205","v":0},{"$f":"'Dir1'!D205+'Dir2'!D205","v":0},{"$f":"'Dir1'!E205+'Dir2'!E205","v":0},{"$f":"'Dir1'!F205+'Dir2'!F205","v":0},{"$f":"'Dir1'!G205+'Dir2'!G205","v":0},{"$f":"'Dir1'!H205+'Dir2'!H205","v":0},{"$f":"'Dir1'!I205+'Dir2'!I205","v":0},{"$f":"'Dir1'!J205+'Dir2'!J205","v":0},{"$f":"'Dir1'!K205+'Dir2'!K205","v":0},{"$f":"'Dir1'!L205+'Dir2'!L205","v":0},{"$f":"'Dir1'!M205+'Dir2'!M205","v":0},{"$f":"'Dir1'!N205+'Dir2'!N205","v":0},{"$f":"'Dir1'!O205+'Dir2'!O205","v":0},{"$f":"'Dir1'!P205+'Dir2'!P205","v":0},{"$f":"'Dir1'!Q205+'Dir2'!Q205","v":0},{"$f":"'Dir1'!R205+'Dir2'!R205","v":0},{"$f":"'Dir1'!S205+'Dir2'!S205","v":0},{"$f":"'Dir1'!T205+'Dir2'!T205","v":0},{"$f":"'Dir1'!U205+'Dir2'!U205","v":0},{"$f":"'Dir1'!V205+'Dir2'!V205","v":0},{"$f":"'Dir1'!W205+'Dir2'!W205","v":0},{"$f":"'Dir1'!X205+'Dir2'!X205","v":0},{"$f":"'Dir1'!Y205+'Dir2'!Y205","v":0},{"$f":"'Dir1'!Z205+'Dir2'!Z205","v":0},{"$f":"'Dir1'!AA205+'Dir2'!AA205","v":0},{"$f":"'Dir1'!AB205+'Dir2'!AB205","v":0},{"$f":"'Dir1'!AC205+'Dir2'!AC205","v":0},{"$f":"'Dir1'!AD205+'Dir2'!AD205","v":0},{"$f":"'Dir1'!AE205+'Dir2'!AE205","v":0},{"$f":"'Dir1'!AF205+'Dir2'!AF205","v":0},{"$f":"'Dir1'!AG205+'Dir2'!AG205","v":0},{"$f":"'Dir1'!AH205+'Dir2'!AH205","v":0},{"$f":"'Dir1'!AI205+'Dir2'!AI205","v":0},{"$f":"'Dir1'!AJ205+'Dir2'!AJ205","v":0},{"$f":"'Dir1'!AK205+'Dir2'!AK205","v":0},{"$f":"IFERROR(ROUND(AVERAGE(_xlfn._xlws.FILTER(Data_Table[Speed],(Data_Table[Period]-INT(Data_Table[Period])=B205))),2),\"-\")","v":"-"},{"$f":"IFERROR(ROUND(PERCENTILE(_xlfn._xlws.FILTER(Data_Table[Speed],(Data_Table[Period]-INT(Data_Table[Period])=B205)*(SUM(C205:N205)>=10)),0.85),2),\"-\")","v":"-"}]
[null,"10:00:00",{"$f":"'Dir1'!C206+'Dir2'!C206","v":0},{"$f":"'Dir1'!D206+'Dir2'!D206","v":0},{"$f":"'Dir1'!E206+'Dir2'!E206","v":0},{"$f":"'Dir1'!F206+'Dir2'!F206","v":0},{"$f":"'Dir1'!G206+'Dir2'!G206","v":0},{"$f":"'Dir1'!H206+'Dir2'!H206","v":0},{"$f":"'Dir1'!I206+'Dir2'!I206","v":0},{"$f":"'Dir1'!J206+'Dir2'!J206","v":0},{"$f":"'Dir1'!K206+'Dir2'!K206","v":0},{"$f":"'Dir1'!L206+'Dir2'!L206","v":0},{"$f":"'Dir1'!M206+'Dir2'!M206","v":0},{"$f":"'Dir1'!N206+'Dir2'!N206","v":0},{"$f":"'Dir1'!O206+'Dir2'!O206","v":0},{"$f":"'Dir1'!P206+'Dir2'!P206","v":0},{"$f":"'Dir1'!Q206+'Dir2'!Q206","v":0},{"$f":"'Dir1'!R206+'Dir2'!R206","v":0},{"$f":"'Dir1'!S206+'Dir2'!S206","v":0},{"$f":"'Dir1'!T206+'Dir2'!T206","v":0},{"$f":"'Dir1'!U206+'Dir2'!U206","v":0},{"$f":"'Dir1'!V206+'Dir2'!V206","v":0},{"$f":"'Dir1'!W206+'Dir2'!W206","v":0},{"$f":"'Dir1'!X206+'Dir2'!X206","v":0},{"$f":"'Dir1'!Y206+'Dir2'!Y206","v":0},{"$f":"'Dir1'!Z206+'Dir2'!Z206","v":0},{"$f":"'Dir1'!AA206+'Dir2'!AA206","v":0},{"$f":"'Dir1'!AB206+'Dir2'!AB206","v":0},{"$f":"'Dir1'!AC206+'Dir2'!AC206","v":0},{"$f":"'Dir1'!AD206+'Dir2'!AD206","v":0},{"$f":"'Dir1'!AE206+'Dir2'!AE206","v":0},{"$f":"'Dir1'!AF206+'Dir2'!AF206","v":0},{"$f":"'Dir1'!AG206+'Dir2'!AG206","v":0},{"$f":"'Dir1'!AH206+'Dir2'!AH206","v":0},{"$f":"'Dir1'!AI206+'Dir2'!AI206","v":0},{"$f":"'Dir1'!AJ206+'Dir2'!AJ206","v":0},{"$f":"'Dir1'!AK206+'Dir2'!AK206","v":0},{"$f":"IFERROR(ROUND(AVERAGE(_xlfn._xlws.FILTER(Data_Table[Speed],(Data_Table[Period]-INT(Data_Table[Period])=B206))),2),\"-\")","v":"-"},{"$f":"IFERROR(ROUND(PERCENTILE(_xlfn._xlws.FILTER(Data_Table[Speed],(Data_Table[Period]-INT(Data_Table[Period])=B206)*(SUM(C206:N206)>=10)),0.85),2),\"-\")","v":"-"}]
[null,"11:00:00",{"$f":"'Dir1'!C207+'Dir2'!C207","v":0},{"$f":"'Dir1'!D207+'Dir2'!D207","v":0},{"$f":"'Dir1'!E207+'Dir2'!E207","v":0},{"$f":"'Dir1'!F207+'Dir2'!F207","v":0},{"$f":"'Dir1'!G207+'Dir2'!G207","v":0},{"$f":"'Dir1'!H207+'Dir2'!H207","v":0},{"$f":"'Dir1'!I207+'Dir2'!I207","v":0},{"$f":"'Dir1'!J207+'Dir2'!J207","v":0},{"$f":"'Dir1'!K207+'Dir2'!K207","v":0},{"$f":"'Dir1'!L207+'Dir2'!L207","v":0},{"$f":"'Dir1'!M207+'Dir2'!M207","v":0},{"$f":"'Dir1'!N207+'Dir2'!N207","v":0},{"$f":"'Dir1'!O207+'Dir2'!O207","v":0},{"$f":"'Dir1'!P207+'Dir2'!P207","v":0},{"$f":"'Dir1'!Q207+'Dir2'!Q207","v":0},{"$f":"'Dir1'!R207+'Dir2'!R207","v":0},{"$f":"'Dir1'!S207+'Dir2'!S207","v":0},{"$f":"'Dir1'!T207+'Dir2'!T207","v":0},{"$f":"'Dir1'!U207+'Dir2'!U207","v":0},{"$f":"'Dir1'!V207+'Dir2'!V207","v":0},{"$f":"'Dir1'!W207+'Dir2'!W207","v":0},{"$f":"'Dir1'!X207+'Dir2'!X207","v":0},{"$f":"'Dir1'!Y207+'Dir2'!Y207","v":0},{"$f":"'Dir1'!Z207+'Dir2'!Z207","v":0},{"$f":"'Dir1'!AA207+'Dir2'!AA207","v":0},{"$f":"'Dir1'!AB207+'Dir2'!AB207","v":0},{"$f":"'Dir1'!AC207+'Dir2'!AC207","v":0},{"$f":"'Dir1'!AD207+'Dir2'!AD207","v":0},{"$f":"'Dir1'!AE207+'Dir2'!AE207","v":0},{"$f":"'Dir1'!AF207+'Dir2'!AF207","v":0},{"$f":"'Dir1'!AG207+'Dir2'!AG207","v":0},{"$f":"'Dir1'!AH207+'Dir2'!AH207","v":0},{"$f":"'Dir1'!AI207+'Dir2'!AI207","v":0},{"$f":"'Dir1'!AJ207+'Dir2'!AJ207","v":0},{"$f":"'Dir1'!AK207+'Dir2'!AK207","v":0},{"$f":"IFERROR(ROUND(AVERAGE(_xlfn._xlws.FILTER(Data_Table[Speed],(Data_Table[Period]-INT(Data_Table[Period])=B207))),2),\"-\")","v":"-"},{"$f":"IFERROR(ROUND(PERCENTILE(_xlfn._xlws.FILTER(Data_Table[Speed],(Data_Table[Period]-INT(Data_Table[Period])=B207)*(SUM(C207:N207)>=10)),0.85),2),\"-\")","v":"-"}]
[null,"12:00:00",{"$f":"'Dir1'!C208+'Dir2'!C208","v":0},{"$f":"'Dir1'!D208+'Dir2'!D208","v":0},{"$f":"'Dir1'!E208+'Dir2'!E208","v":0},{"$f":"'Dir1'!F208+'Dir2'!F208","v":0},{"$f":"'Dir1'!G208+'Dir2'!G208","v":0},{"$f":"'Dir1'!H208+'Dir2'!H208","v":0},{"$f":"'Dir1'!I208+'Dir2'!I208","v":0},{"$f":"'Dir1'!J208+'Dir2'!J208","v":0},{"$f":"'Dir1'!K208+'Dir2'!K208","v":0},{"$f":"'Dir1'!L208+'Dir2'!L208","v":0},{"$f":"'Dir1'!M208+'Dir2'!M208","v":0},{"$f":"'Dir1'!N208+'Dir2'!N208","v":0},{"$f":"'Dir1'!O208+'Dir2'!O208","v":0},{"$f":"'Dir1'!P208+'Dir2'!P208","v":0},{"$f":"'Dir1'!Q208+'Dir2'!Q208","v":0},{"$f":"'Dir1'!R208+'Dir2'!R208","v":0},{"$f":"'Dir1'!S208+'Dir2'!S208","v":0},{"$f":"'Dir1'!T208+'Dir2'!T208","v":0},{"$f":"'Dir1'!U208+'Dir2'!U208","v":0},{"$f":"'Dir1'!V208+'Dir2'!V208","v":0},{"$f":"'Dir1'!W208+'Dir2'!W208","v":0},{"$f":"'Dir1'!X208+'Dir2'!X208","v":0},{"$f":"'Dir1'!Y208+'Dir2'!Y208","v":0},{"$f":"'Dir1'!Z208+'Dir2'!Z208","v":0},{"$f":"'Dir1'!AA208+'Dir2'!AA208","v":0},{"$f":"'Dir1'!AB208+'Dir2'!AB208","v":0},{"$f":"'Dir1'!AC208+'Dir2'!AC208","v":0},{"$f":"'Dir1'!AD208+'Dir2'!AD208","v":0},{"$f":"'Dir1'!AE208+'Dir2'!AE208","v":0},{"$f":"'Dir1'!AF208+'Dir2'!AF208","v":0},{"$f":"'Dir1'!AG208+'Dir2'!AG208","v":0},{"$f":"'Dir1'!AH208+'Dir2'!AH208","v":0},{"$f":"'Dir1'!AI208+'Dir2'!AI208","v":0},{"$f":"'Dir1'!AJ208+'Dir2'!AJ208","v":0},{"$f":"'Dir1'!AK208+'Dir2'!AK208","v":0},{"$f":"IFERROR(ROUND(AVERAGE(_xlfn._xlws.FILTER(Data_Table[Speed],(Data_Table[Period]-INT(Data_Table[Period])=B208))),2),\"-\")","v":"-"},{"$f":"IFERROR(ROUND(PERCENTILE(_xlfn._xlws.FILTER(Data_Table[Speed],(Data_Table[Period]-INT(Data_Table[Period])=B208)*(SUM(C208:N208)>=10)),0.85),2),\"-\")","v":"-"}]
[null,"13:00:00",{"$f":"'Dir1'!C209+'Dir2'!C209","v":0},{"$f":"'Dir1'!D209+'Dir2'!D209","v":0},{"$f":"'Dir1'!E209+'Dir2'!E209","v":0},{"$f":"'Dir1'!F209+'Dir2'!F209","v":0},{"$f":"'Dir1'!G209+'Dir2'!G209","v":0},{"$f":"'Dir1'!H209+'Dir2'!H209","v":0},{"$f":"'Dir1'!I209+'Dir2'!I209","v":0},{"$f":"'Dir1'!J209+'Dir2'!J209","v":0},{"$f":"'Dir1'!K209+'Dir2'!K209","v":0},{"$f":"'Dir1'!L209+'Dir2'!L209","v":0},{"$f":"'Dir1'!M209+'Dir2'!M209","v":0},{"$f":"'Dir1'!N209+'Dir2'!N209","v":0},{"$f":"'Dir1'!O209+'Dir2'!O209","v":0},{"$f":"'Dir1'!P209+'Dir2'!P209","v":0},{"$f":"'Dir1'!Q209+'Dir2'!Q209","v":0},{"$f":"'Dir1'!R209+'Dir2'!R209","v":0},{"$f":"'Dir1'!S209+'Dir2'!S209","v":0},{"$f":"'Dir1'!T209+'Dir2'!T209","v":0},{"$f":"'Dir1'!U209+'Dir2'!U209","v":0},{"$f":"'Dir1'!V209+'Dir2'!V209","v":0},{"$f":"'Dir1'!W209+'Dir2'!W209","v":0},{"$f":"'Dir1'!X209+'Dir2'!X209","v":0},{"$f":"'Dir1'!Y209+'Dir2'!Y209","v":0},{"$f":"'Dir1'!Z209+'Dir2'!Z209","v":0},{"$f":"'Dir1'!AA209+'Dir2'!AA209","v":0},{"$f":"'Dir1'!AB209+'Dir2'!AB209","v":0},{"$f":"'Dir1'!AC209+'Dir2'!AC209","v":0},{"$f":"'Dir1'!AD209+'Dir2'!AD209","v":0},{"$f":"'Dir1'!AE209+'Dir2'!AE209","v":0},{"$f":"'Dir1'!AF209+'Dir2'!AF209","v":0},{"$f":"'Dir1'!AG209+'Dir2'!AG209","v":0},{"$f":"'Dir1'!AH209+'Dir2'!AH209","v":0},{"$f":"'Dir1'!AI209+'Dir2'!AI209","v":0},{"$f":"'Dir1'!AJ209+'Dir2'!AJ209","v":0},{"$f":"'Dir1'!AK209+'Dir2'!AK209","v":0},{"$f":"IFERROR(ROUND(AVERAGE(_xlfn._xlws.FILTER(Data_Table[Speed],(Data_Table[Period]-INT(Data_Table[Period])=B209))),2),\"-\")","v":"-"},{"$f":"IFERROR(ROUND(PERCENTILE(_xlfn._xlws.FILTER(Data_Table[Speed],(Data_Table[Period]-INT(Data_Table[Period])=B209)*(SUM(C209:N209)>=10)),0.85),2),\"-\")","v":"-"}]
[null,"14:00:00",{"$f":"'Dir1'!C210+'Dir2'!C210","v":0},{"$f":"'Dir1'!D210+'Dir2'!D210","v":0},{"$f":"'Dir1'!E210+'Dir2'!E210","v":0},{"$f":"'Dir1'!F210+'Dir2'!F210","v":0},{"$f":"'Dir1'!G210+'Dir2'!G210","v":0},{"$f":"'Dir1'!H210+'Dir2'!H210","v":0},{"$f":"'Dir1'!I210+'Dir2'!I210","v":0},{"$f":"'Dir1'!J210+'Dir2'!J210","v":0},{"$f":"'Dir1'!K210+'Dir2'!K210","v":0},{"$f":"'Dir1'!L210+'Dir2'!L210","v":0},{"$f":"'Dir1'!M210+'Dir2'!M210","v":0},{"$f":"'Dir1'!N210+'Dir2'!N210","v":0},{"$f":"'Dir1'!O210+'Dir2'!O210","v":0},{"$f":"'Dir1'!P210+'Dir2'!P210","v":0},{"$f":"'Dir1'!Q210+'Dir2'!Q210","v":0},{"$f":"'Dir1'!R210+'Dir2'!R210","v":0},{"$f":"'Dir1'!S210+'Dir2'!S210","v":0},{"$f":"'Dir1'!T210+'Dir2'!T210","v":0},{"$f":"'Dir1'!U210+'Dir2'!U210","v":0},{"$f":"'Dir1'!V210+'Dir2'!V210","v":0},{"$f":"'Dir1'!W210+'Dir2'!W210","v":0},{"$f":"'Dir1'!X210+'Dir2'!X210","v":0},{"$f":"'Dir1'!Y210+'Dir2'!Y210","v":0},{"$f":"'Dir1'!Z210+'Dir2'!Z210","v":0},{"$f":"'Dir1'!AA210+'Dir2'!AA210","v":0},{"$f":"'Dir1'!AB210+'Dir2'!AB210","v":0},{"$f":"'Dir1'!AC210+'Dir2'!AC210","v":0},{"$f":"'Dir1'!AD210+'Dir2'!AD210","v":0},{"$f":"'Dir1'!AE210+'Dir2'!AE210","v":0},{"$f":"'Dir1'!AF210+'Dir2'!AF210","v":0},{"$f":"'Dir1'!AG210+'Dir2'!AG210","v":0},{"$f":"'Dir1'!AH210+'Dir2'!AH210","v":0},{"$f":"'Dir1'!AI210+'Dir2'!AI210","v":0},{"$f":"'Dir1'!AJ210+'Dir2'!AJ210","v":0},{"$f":"'Dir1'!AK210+'Dir2'!AK210","v":0},{"$f":"IFERROR(ROUND(AVERAGE(_xlfn._xlws.FILTER(Data_Table[Speed],(Data_Table[Period]-INT(Data_Table[Period])=B210))),2),\"-\")","v":"-"},{"$f":"IFERROR(ROUND(PERCENTILE(_xlfn._xlws.FILTER(Data_Table[Speed],(Data_Table[Period]-INT(Data_Table[Period])=B210)*(SUM(C210:N210)>=10)),0.85),2),\"-\")","v":"-"}]
[null,"15:00:00",{"$f":"'Dir1'!C211+'Dir2'!C211","v":0},{"$f":"'Dir1'!D211+'Dir2'!D211","v":0},{"$f":"'Dir1'!E211+'Dir2'!E211","v":0},{"$f":"'Dir1'!F211+'Dir2'!F211","v":0},{"$f":"'Dir1'!G211+'Dir2'!G211","v":0},{"$f":"'Dir1'!H211+'Dir2'!H211","v":0},{"$f":"'Dir1'!I211+'Dir2'!I211","v":0},{"$f":"'Dir1'!J211+'Dir2'!J211","v":0},{"$f":"'Dir1'!K211+'Dir2'!K211","v":0},{"$f":"'Dir1'!L211+'Dir2'!L211","v":0},{"$f":"'Dir1'!M211+'Dir2'!M211","v":0},{"$f":"'Dir1'!N211+'Dir2'!N211","v":0},{"$f":"'Dir1'!O211+'Dir2'!O211","v":0},{"$f":"'Dir1'!P211+'Dir2'!P211","v":0},{"$f":"'Dir1'!Q211+'Dir2'!Q211","v":0},{"$f":"'Dir1'!R211+'Dir2'!R211","v":0},{"$f":"'Dir1'!S211+'Dir2'!S211","v":0},{"$f":"'Dir1'!T211+'Dir2'!T211","v":0},{"$f":"'Dir1'!U211+'Dir2'!U211","v":0},{"$f":"'Dir1'!V211+'Dir2'!V211","v":0},{"$f":"'Dir1'!W211+'Dir2'!W211","v":0},{"$f":"'Dir1'!X211+'Dir2'!X211","v":0},{"$f":"'Dir1'!Y211+'Dir2'!Y211","v":0},{"$f":"'Dir1'!Z211+'Dir2'!Z211","v":0},{"$f":"'Dir1'!AA211+'Dir2'!AA211","v":0},{"$f":"'Dir1'!AB211+'Dir2'!AB211","v":0},{"$f":"'Dir1'!AC211+'Dir2'!AC211","v":0},{"$f":"'Dir1'!AD211+'Dir2'!AD211","v":0},{"$f":"'Dir1'!AE211+'Dir2'!AE211","v":0},{"$f":"'Dir1'!AF211+'Dir2'!AF211","v":0},{"$f":"'Dir1'!AG211+'Dir2'!AG211","v":0},{"$f":"'Dir1'!AH211+'Dir2'!AH211","v":0},{"$f":"'Dir1'!AI211+'Dir2'!AI211","v":0},{"$f":"'Dir1'!AJ211+'Dir2'!AJ211","v":0},{"$f":"'Dir1'!AK211+'Dir2'!AK211","v":0},{"$f":"IFERROR(ROUND(AVERAGE(_xlfn._xlws.FILTER(Data_Table[Speed],(Data_Table[Period]-INT(Data_Table[Period])=B211))),2),\"-\")","v":"-"},{"$f":"IFERROR(ROUND(PERCENTILE(_xlfn._xlws.FILTER(Data_Table[Speed],(Data_Table[Period]-INT(Data_Table[Period])=B211)*(SUM(C211:N211)>=10)),0.85),2),\"-\")","v":"-"}]
[null,"16:00:00",{"$f":"'Dir1'!C212+'Dir2'!C212","v":0},{"$f":"'Dir1'!D212+'Dir2'!D212","v":0},{"$f":"'Dir1'!E212+'Dir2'!E212","v":0},{"$f":"'Dir1'!F212+'Dir2'!F212","v":0},{"$f":"'Dir1'!G212+'Dir2'!G212","v":0},{"$f":"'Dir1'!H212+'Dir2'!H212","v":0},{"$f":"'Dir1'!I212+'Dir2'!I212","v":0},{"$f":"'Dir1'!J212+'Dir2'!J212","v":0},{"$f":"'Dir1'!K212+'Dir2'!K212","v":0},{"$f":"'Dir1'!L212+'Dir2'!L212","v":0},{"$f":"'Dir1'!M212+'Dir2'!M212","v":0},{"$f":"'Dir1'!N212+'Dir2'!N212","v":0},{"$f":"'Dir1'!O212+'Dir2'!O212","v":0},{"$f":"'Dir1'!P212+'Dir2'!P212","v":0},{"$f":"'Dir1'!Q212+'Dir2'!Q212","v":0},{"$f":"'Dir1'!R212+'Dir2'!R212","v":0},{"$f":"'Dir1'!S212+'Dir2'!S212","v":0},{"$f":"'Dir1'!T212+'Dir2'!T212","v":0},{"$f":"'Dir1'!U212+'Dir2'!U212","v":0},{"$f":"'Dir1'!V212+'Dir2'!V212","v":0},{"$f":"'Dir1'!W212+'Dir2'!W212","v":0},{"$f":"'Dir1'!X212+'Dir2'!X212","v":0},{"$f":"'Dir1'!Y212+'Dir2'!Y212","v":0},{"$f":"'Dir1'!Z212+'Dir2'!Z212","v":0},{"$f":"'Dir1'!AA212+'Dir2'!AA212","v":0},{"$f":"'Dir1'!AB212+'Dir2'!AB212","v":0},{"$f":"'Dir1'!AC212+'Dir2'!AC212","v":0},{"$f":"'Dir1'!AD212+'Dir2'!AD212","v":0},{"$f":"'Dir1'!AE212+'Dir2'!AE212","v":0},{"$f":"'Dir1'!AF212+'Dir2'!AF212","v":0},{"$f":"'Dir1'!AG212+'Dir2'!AG212","v":0},{"$f":"'Dir1'!AH212+'Dir2'!AH212","v":0},{"$f":"'Dir1'!AI212+'Dir2'!AI212","v":0},{"$f":"'Dir1'!AJ212+'Dir2'!AJ212","v":0},{"$f":"'Dir1'!AK212+'Dir2'!AK212","v":0},{"$f":"IFERROR(ROUND(AVERAGE(_xlfn._xlws.FILTER(Data_Table[Speed],(Data_Table[Period]-INT(Data_Table[Period])=B212))),2),\"-\")","v":"-"},{"$f":"IFERROR(ROUND(PERCENTILE(_xlfn._xlws.FILTER(Data_Table[Speed],(Data_Table[Period]-INT(Data_Table[Period])=B212)*(SUM(C212:N212)>=10)),0.85),2),\"-\")","v":"-"}]
[null,"17:00:00",{"$f":"'Dir1'!C213+'Dir2'!C213","v":0},{"$f":"'Dir1'!D213+'Dir2'!D213","v":0},{"$f":"'Dir1'!E213+'Dir2'!E213","v":0},{"$f":"'Dir1'!F213+'Dir2'!F213","v":0},{"$f":"'Dir1'!G213+'Dir2'!G213","v":0},{"$f":"'Dir1'!H213+'Dir2'!H213","v":0},{"$f":"'Dir1'!I213+'Dir2'!I213","v":0},{"$f":"'Dir1'!J213+'Dir2'!J213","v":0},{"$f":"'Dir1'!K213+'Dir2'!K213","v":0},{"$f":"'Dir1'!L213+'Dir2'!L213","v":0},{"$f":"'Dir1'!M213+'Dir2'!M213","v":0},{"$f":"'Dir1'!N213+'Dir2'!N213","v":0},{"$f":"'Dir1'!O213+'Dir2'!O213","v":0},{"$f":"'Dir1'!P213+'Dir2'!P213","v":0},{"$f":"'Dir1'!Q213+'Dir2'!Q213","v":0},{"$f":"'Dir1'!R213+'Dir2'!R213","v":0},{"$f":"'Dir1'!S213+'Dir2'!S213","v":0},{"$f":"'Dir1'!T213+'Dir2'!T213","v":0},{"$f":"'Dir1'!U213+'Dir2'!U213","v":0},{"$f":"'Dir1'!V213+'Dir2'!V213","v":0},{"$f":"'Dir1'!W213+'Dir2'!W213","v":0},{"$f":"'Dir1'!X213+'Dir2'!X213","v":0},{"$f":"'Dir1'!Y213+'Dir2'!Y213","v":0},{"$f":"'Dir1'!Z213+'Dir2'!Z213","v":0},{"$f":"'Dir1'!AA213+'Dir2'!AA213","v":0},{"$f":"'Dir1'!AB213+'Dir2'!AB213","v":0},{"$f":"'Dir1'!AC213+'Dir2'!AC213","v":0},{"$f":"'Dir1'!AD213+'Dir2'!AD213","v":0},{"$f":"'Dir1'!AE213+'Dir2'!AE213","v":0},{"$f":"'Dir1'!AF213+'Dir2'!AF213","v":0},{"$f":"'Dir1'!AG213+'Dir2'!AG213","v":0},{"$f":"'Dir1'!AH213+'Dir2'!AH213","v":0},{"$f":"'Dir1'!AI213+'Dir2'!AI213","v":0},{"$f":"'Dir1'!AJ213+'Dir2'!AJ213","v":0},{"$f":"'Dir1'!AK213+'Dir2'!AK213","v":0},{"$f":"IFERROR(ROUND(AVERAGE(_xlfn._xlws.FILTER(Data_Table[Speed],(Data_Table[Period]-INT(Data_Table[Period])=B213))),2),\"-\")","v":"-"},{"$f":"IFERROR(ROUND(PERCENTILE(_xlfn._xlws.FILTER(Data_Table[Speed],(Data_Table[Period]-INT(Data_Table[Period])=B213)*(SUM(C213:N213)>=10)),0.85),2),\"-\")","v":"-"}]
[null,"18:00:00",{"$f":"'Dir1'!C214+'Dir2'!C214","v":0},{"$f":"'Dir1'!D214+'Dir2'!D214","v":0},{"$f":"'Dir1'!E214+'Dir2'!E214","v":0},{"$f":"'Dir1'!F214+'Dir2'!F214","v":0},{"$f":"'Dir1'!G214+'Dir2'!G214","v":0},{"$f":"'Dir1'!H214+'Dir2'!H214","v":0},{"$f":"'Dir1'!I214+'Dir2'!I214","v":0},{"$f":"'Dir1'!J214+'Dir2'!J214","v":0},{"$f":"'Dir1'!K214+'Dir2'!K214","v":0},{"$f":"'Dir1'!L214+'Dir2'!L214","v":0},{"$f":"'Dir1'!M214+'Dir2'!M214","v":0},{"$f":"'Dir1'!N214+'Dir2'!N214","v":0},{"$f":"'Dir1'!O214+'Dir2'!O214","v":0},{"$f":"'Dir1'!P214+'Dir2'!P214","v":0},{"$f":"'Dir1'!Q214+'Dir2'!Q214","v":0},{"$f":"'Dir1'!R214+'Dir2'!R214","v":0},{"$f":"'Dir1'!S214+'Dir2'!S214","v":0},{"$f":"'Dir1'!T214+'Dir2'!T214","v":0},{"$f":"'Dir1'!U214+'Dir2'!U214","v":0},{"$f":"'Dir1'!V214+'Dir2'!V214","v":0},{"$f":"'Dir1'!W214+'Dir2'!W214","v":0},{"$f":"'Dir1'!X214+'Dir2'!X214","v":0},{"$f":"'Dir1'!Y214+'Dir2'!Y214","v":0},{"$f":"'Dir1'!Z214+'Dir2'!Z214","v":0},{"$f":"'Dir1'!AA214+'Dir2'!AA214","v":0},{"$f":"'Dir1'!AB214+'Dir2'!AB214","v":0},{"$f":"'Dir1'!AC214+'Dir2'!AC214","v":0},{"$f":"'Dir1'!AD214+'Dir2'!AD214","v":0},{"$f":"'Dir1'!AE214+'Dir2'!AE214","v":0},{"$f":"'Dir1'!AF214+'Dir2'!AF214","v":0},{"$f":"'Dir1'!AG214+'Dir2'!AG214","v":0},{"$f":"'Dir1'!AH214+'Dir2'!AH214","v":0},{"$f":"'Dir1'!AI214+'Dir2'!AI214","v":0},{"$f":"'Dir1'!AJ214+'Dir2'!AJ214","v":0},{"$f":"'Dir1'!AK214+'Dir2'!AK214","v":0},{"$f":"IFERROR(ROUND(AVERAGE(_xlfn._xlws.FILTER(Data_Table[Speed],(Data_Table[Period]-INT(Data_Table[Period])=B214))),2),\"-\")","v":"-"},{"$f":"IFERROR(ROUND(PERCENTILE(_xlfn._xlws.FILTER(Data_Table[Speed],(Data_Table[Period]-INT(Data_Table[Period])=B214)*(SUM(C214:N214)>=10)),0.85),2),\"-\")","v":"-"}]
[null,"19:00:00",{"$f":"'Dir1'!C215+'Dir2'!C215","v":0},{"$f":"'Dir1'!D215+'Dir2'!D215","v":0},{"$f":"'Dir1'!E215+'Dir2'!E215","v":0},{"$f":"'Dir1'!F215+'Dir2'!F215","v":0},{"$f":"'Dir1'!G215+'Dir2'!G215","v":0},{"$f":"'Dir1'!H215+'Dir2'!H215","v":0},{"$f":"'Dir1'!I215+'Dir2'!I215","v":0},{"$f":"'Dir1'!J215+'Dir2'!J215","v":0},{"$f":"'Dir1'!K215+'Dir2'!K215","v":0},{"$f":"'Dir1'!L215+'Dir2'!L215","v":0},{"$f":"'Dir1'!M215+'Dir2'!M215","v":0},{"$f":"'Dir1'!N215+'Dir2'!N215","v":0},{"$f":"'Dir1'!O215+'Dir2'!O215","v":0},{"$f":"'Dir1'!P215+'Dir2'!P215","v":0},{"$f":"'Dir1'!Q215+'Dir2'!Q215","v":0},{"$f":"'Dir1'!R215+'Dir2'!R215","v":0},{"$f":"'Dir1'!S215+'Dir2'!S215","v":0},{"$f":"'Dir1'!T215+'Dir2'!T215","v":0},{"$f":"'Dir1'!U215+'Dir2'!U215","v":0},{"$f":"'Dir1'!V215+'Dir2'!V215","v":0},{"$f":"'Dir1'!W215+'Dir2'!W215","v":0},{"$f":"'Dir1'!X215+'Dir2'!X215","v":0},{"$f":"'Dir1'!Y215+'Dir2'!Y215","v":0},{"$f":"'Dir1'!Z215+'Dir2'!Z215","v":0},{"$f":"'Dir1'!AA215+'Dir2'!AA215","v":0},{"$f":"'Dir1'!AB215+'Dir2'!AB215","v":0},{"$f":"'Dir1'!AC215+'Dir2'!AC215","v":0},{"$f":"'Dir1'!AD215+'Dir2'!AD215","v":0},{"$f":"'Dir1'!AE215+'Dir2'!AE215","v":0},{"$f":"'Dir1'!AF215+'Dir2'!AF215","v":0},{"$f":"'Dir1'!AG215+'Dir2'!AG215","v":0},{"$f":"'Dir1'!AH215+'Dir2'!AH215","v":0},{"$f":"'Dir1'!AI215+'Dir2'!AI215","v":0},{"$f":"'Dir1'!AJ215+'Dir2'!AJ215","v":0},{"$f":"'Dir1'!AK215+'Dir2'!AK215","v":0},{"$f":"IFERROR(ROUND(AVERAGE(_xlfn._xlws.FILTER(Data_Table[Speed],(Data_Table[Period]-INT(Data_Table[Period])=B215))),2),\"-\")","v":"-"},{"$f":"IFERROR(ROUND(PERCENTILE(_xlfn._xlws.FILTER(Data_Table[Speed],(Data_Table[Period]-INT(Data_Table[Period])=B215)*(SUM(C215:N215)>=10)),0.85),2),\"-\")","v":"-"}]
[null,"20:00:00",{"$f":"'Dir1'!C216+'Dir2'!C216","v":0},{"$f":"'Dir1'!D216+'Dir2'!D216","v":0},{"$f":"'Dir1'!E216+'Dir2'!E216","v":0},{"$f":"'Dir1'!F216+'Dir2'!F216","v":0},{"$f":"'Dir1'!G216+'Dir2'!G216","v":0},{"$f":"'Dir1'!H216+'Dir2'!H216","v":0},{"$f":"'Dir1'!I216+'Dir2'!I216","v":0},{"$f":"'Dir1'!J216+'Dir2'!J216","v":0},{"$f":"'Dir1'!K216+'Dir2'!K216","v":0},{"$f":"'Dir1'!L216+'Dir2'!L216","v":0},{"$f":"'Dir1'!M216+'Dir2'!M216","v":0},{"$f":"'Dir1'!N216+'Dir2'!N216","v":0},{"$f":"'Dir1'!O216+'Dir2'!O216","v":0},{"$f":"'Dir1'!P216+'Dir2'!P216","v":0},{"$f":"'Dir1'!Q216+'Dir2'!Q216","v":0},{"$f":"'Dir1'!R216+'Dir2'!R216","v":0},{"$f":"'Dir1'!S216+'Dir2'!S216","v":0},{"$f":"'Dir1'!T216+'Dir2'!T216","v":0},{"$f":"'Dir1'!U216+'Dir2'!U216","v":0},{"$f":"'Dir1'!V216+'Dir2'!V216","v":0},{"$f":"'Dir1'!W216+'Dir2'!W216","v":0},{"$f":"'Dir1'!X216+'Dir2'!X216","v":0},{"$f":"'Dir1'!Y216+'Dir2'!Y216","v":0},{"$f":"'Dir1'!Z216+'Dir2'!Z216","v":0},{"$f":"'Dir1'!AA216+'Dir2'!AA216","v":0},{"$f":"'Dir1'!AB216+'Dir2'!AB216","v":0},{"$f":"'Dir1'!AC216+'Dir2'!AC216","v":0},{"$f":"'Dir1'!AD216+'Dir2'!AD216","v":0},{"$f":"'Dir1'!AE216+'Dir2'!AE216","v":0},{"$f":"'Dir1'!AF216+'Dir2'!AF216","v":0},{"$f":"'Dir1'!AG216+'Dir2'!AG216","v":0},{"$f":"'Dir1'!AH216+'Dir2'!AH216","v":0},{"$f":"'Dir1'!AI216+'Dir2'!AI216","v":0},{"$f":"'Dir1'!AJ216+'Dir2'!AJ216","v":0},{"$f":"'Dir1'!AK216+'Dir2'!AK216","v":0},{"$f":"IFERROR(ROUND(AVERAGE(_xlfn._xlws.FILTER(Data_Table[Speed],(Data_Table[Period]-INT(Data_Table[Period])=B216))),2),\"-\")","v":"-"},{"$f":"IFERROR(ROUND(PERCENTILE(_xlfn._xlws.FILTER(Data_Table[Speed],(Data_Table[Period]-INT(Data_Table[Period])=B216)*(SUM(C216:N216)>=10)),0.85),2),\"-\")","v":"-"}]
[null,"21:00:00",{"$f":"'Dir1'!C217+'Dir2'!C217","v":0},{"$f":"'Dir1'!D217+'Dir2'!D217","v":0},{"$f":"'Dir1'!E217+'Dir2'!E217","v":0},{"$f":"'Dir1'!F217+'Dir2'!F217","v":0},{"$f":"'Dir1'!G217+'Dir2'!G217","v":0},{"$f":"'Dir1'!H217+'Dir2'!H217","v":0},{"$f":"'Dir1'!I217+'Dir2'!I217","v":0},{"$f":"'Dir1'!J217+'Dir2'!J217","v":0},{"$f":"'Dir1'!K217+'Dir2'!K217","v":0},{"$f":"'Dir1'!L217+'Dir2'!L217","v":0},{"$f":"'Dir1'!M217+'Dir2'!M217","v":0},{"$f":"'Dir1'!N217+'Dir2'!N217","v":0},{"$f":"'Dir1'!O217+'Dir2'!O217","v":0},{"$f":"'Dir1'!P217+'Dir2'!P217","v":0},{"$f":"'Dir1'!Q217+'Dir2'!Q217","v":0},{"$f":"'Dir1'!R217+'Dir2'!R217","v":0},{"$f":"'Dir1'!S217+'Dir2'!S217","v":0},{"$f":"'Dir1'!T217+'Dir2'!T217","v":0},{"$f":"'Dir1'!U217+'Dir2'!U217","v":0},{"$f":"'Dir1'!V217+'Dir2'!V217","v":0},{"$f":"'Dir1'!W217+'Dir2'!W217","v":0},{"$f":"'Dir1'!X217+'Dir2'!X217","v":0},{"$f":"'Dir1'!Y217+'Dir2'!Y217","v":0},{"$f":"'Dir1'!Z217+'Dir2'!Z217","v":0},{"$f":"'Dir1'!AA217+'Dir2'!AA217","v":0},{"$f":"'Dir1'!AB217+'Dir2'!AB217","v":0},{"$f":"'Dir1'!AC217+'Dir2'!AC217","v":0},{"$f":"'Dir1'!AD217+'Dir2'!AD217","v":0},{"$f":"'Dir1'!AE217+'Dir2'!AE217","v":0},{"$f":"'Dir1'!AF217+'Dir2'!AF217","v":0},{"$f":"'Dir1'!AG217+'Dir2'!AG217","v":0},{"$f":"'Dir1'!AH217+'Dir2'!AH217","v":0},{"$f":"'Dir1'!AI217+'Dir2'!AI217","v":0},{"$f":"'Dir1'!AJ217+'Dir2'!AJ217","v":0},{"$f":"'Dir1'!AK217+'Dir2'!AK217","v":0},{"$f":"IFERROR(ROUND(AVERAGE(_xlfn._xlws.FILTER(Data_Table[Speed],(Data_Table[Period]-INT(Data_Table[Period])=B217))),2),\"-\")","v":"-"},{"$f":"IFERROR(ROUND(PERCENTILE(_xlfn._xlws.FILTER(Data_Table[Speed],(Data_Table[Period]-INT(Data_Table[Period])=B217)*(SUM(C217:N217)>=10)),0.85),2),\"-\")","v":"-"}]
[null,"22:00:00",{"$f":"'Dir1'!C218+'Dir2'!C218","v":0},{"$f":"'Dir1'!D218+'Dir2'!D218","v":0},{"$f":"'Dir1'!E218+'Dir2'!E218","v":0},{"$f":"'Dir1'!F218+'Dir2'!F218","v":0},{"$f":"'Dir1'!G218+'Dir2'!G218","v":0},{"$f":"'Dir1'!H218+'Dir2'!H218","v":0},{"$f":"'Dir1'!I218+'Dir2'!I218","v":0},{"$f":"'Dir1'!J218+'Dir2'!J218","v":0},{"$f":"'Dir1'!K218+'Dir2'!K218","v":0},{"$f":"'Dir1'!L218+'Dir2'!L218","v":0},{"$f":"'Dir1'!M218+'Dir2'!M218","v":0},{"$f":"'Dir1'!N218+'Dir2'!N218","v":0},{"$f":"'Dir1'!O218+'Dir2'!O218","v":0},{"$f":"'Dir1'!P218+'Dir2'!P218","v":0},{"$f":"'Dir1'!Q218+'Dir2'!Q218","v":0},{"$f":"'Dir1'!R218+'Dir2'!R218","v":0},{"$f":"'Dir1'!S218+'Dir2'!S218","v":0},{"$f":"'Dir1'!T218+'Dir2'!T218","v":0},{"$f":"'Dir1'!U218+'Dir2'!U218","v":0},{"$f":"'Dir1'!V218+'Dir2'!V218","v":0},{"$f":"'Dir1'!W218+'Dir2'!W218","v":0},{"$f":"'Dir1'!X218+'Dir2'!X218","v":0},{"$f":"'Dir1'!Y218+'Dir2'!Y218","v":0},{"$f":"'Dir1'!Z218+'Dir2'!Z218","v":0},{"$f":"'Dir1'!AA218+'Dir2'!AA218","v":0},{"$f":"'Dir1'!AB218+'Dir2'!AB218","v":0},{"$f":"'Dir1'!AC218+'Dir2'!AC218","v":0},{"$f":"'Dir1'!AD218+'Dir2'!AD218","v":0},{"$f":"'Dir1'!AE218+'Dir2'!AE218","v":0},{"$f":"'Dir1'!AF218+'Dir2'!AF218","v":0},{"$f":"'Dir1'!AG218+'Dir2'!AG218","v":0},{"$f":"'Dir1'!AH218+'Dir2'!AH218","v":0},{"$f":"'Dir1'!AI218+'Dir2'!AI218","v":0},{"$f":"'Dir1'!AJ218+'Dir2'!AJ218","v":0},{"$f":"'Dir1'!AK218+'Dir2'!AK218","v":0},{"$f":"IFERROR(ROUND(AVERAGE(_xlfn._xlws.FILTER(Data_Table[Speed],(Data_Table[Period]-INT(Data_Table[Period])=B218))),2),\"-\")","v":"-"},{"$f":"IFERROR(ROUND(PERCENTILE(_xlfn._xlws.FILTER(Data_Table[Speed],(Data_Table[Period]-INT(Data_Table[Period])=B218)*(SUM(C218:N218)>=10)),0.85),2),\"-\")","v":"-"}]
[null,"23:00:00",{"$f":"'Dir1'!C219+'Dir2'!C219","v":0},{"$f":"'Dir1'!D219+'Dir2'!D219","v":0},{"$f":"'Dir1'!E219+'Dir2'!E219","v":0},{"$f":"'Dir1'!F219+'Dir2'!F219","v":0},{"$f":"'Dir1'!G219+'Dir2'!G219","v":0},{"$f":"'Dir1'!H219+'Dir2'!H219","v":0},{"$f":"'Dir1'!I219+'Dir2'!I219","v":0},{"$f":"'Dir1'!J219+'Dir2'!J219","v":0},{"$f":"'Dir1'!K219+'Dir2'!K219","v":0},{"$f":"'Dir1'!L219+'Dir2'!L219","v":0},{"$f":"'Dir1'!M219+'Dir2'!M219","v":0},{"$f":"'Dir1'!N219+'Dir2'!N219","v":0},{"$f":"'Dir1'!O219+'Dir2'!O219","v":0},{"$f":"'Dir1'!P219+'Dir2'!P219","v":0},{"$f":"'Dir1'!Q219+'Dir2'!Q219","v":0},{"$f":"'Dir1'!R219+'Dir2'!R219","v":0},{"$f":"'Dir1'!S219+'Dir2'!S219","v":0},{"$f":"'Dir1'!T219+'Dir2'!T219","v":0},{"$f":"'Dir1'!U219+'Dir2'!U219","v":0},{"$f":"'Dir1'!V219+'Dir2'!V219","v":0},{"$f":"'Dir1'!W219+'Dir2'!W219","v":0},{"$f":"'Dir1'!X219+'Dir2'!X219","v":0},{"$f":"'Dir1'!Y219+'Dir2'!Y219","v":0},{"$f":"'Dir1'!Z219+'Dir2'!Z219","v":0},{"$f":"'Dir1'!AA219+'Dir2'!AA219","v":0},{"$f":"'Dir1'!AB219+'Dir2'!AB219","v":0},{"$f":"'Dir1'!AC219+'Dir2'!AC219","v":0},{"$f":"'Dir1'!AD219+'Dir2'!AD219","v":0},{"$f":"'Dir1'!AE219+'Dir2'!AE219","v":0},{"$f":"'Dir1'!AF219+'Dir2'!AF219","v":0},{"$f":"'Dir1'!AG219+'Dir2'!AG219","v":0},{"$f":"'Dir1'!AH219+'Dir2'!AH219","v":0},{"$f":"'Dir1'!AI219+'Dir2'!AI219","v":0},{"$f":"'Dir1'!AJ219+'Dir2'!AJ219","v":0},{"$f":"'Dir1'!AK219+'Dir2'!AK219","v":0},{"$f":"IFERROR(ROUND(AVERAGE(_xlfn._xlws.FILTER(Data_Table[Speed],(Data_Table[Period]-INT(Data_Table[Period])=B219))),2),\"-\")","v":"-"},{"$f":"IFERROR(ROUND(PERCENTILE(_xlfn._xlws.FILTER(Data_Table[Speed],(Data_Table[Period]-INT(Data_Table[Period])=B219)*(SUM(C219:N219)>=10)),0.85),2),\"-\")","v":"-"}]